Workbook
Name collection: OFFSET(BDD!$I$1:$K$1,,,COUNTIF(BDD!$K:$K,"><"))
Name collieu: OFFSET(colmois,,1,)
Name colmois: OFFSET(BDD!$I$1,,,ROWS(collection))
Name colsite: OFFSET(colmois,,2,)
Name listemois: BDD!$E$2:$E$13

Sheet Booking
A1: Date | B1: Ville
A2: 43470 | B2: Lyon
A3: 43480 | B3: Lyon
A4: 43486 | B4: Lyon
A5: 43498 | B5: Lyon
A6: 43500 | B6: Lyon
A7: 43501 | B7: Lyon
A8: 43506 | B8: Paris
A9: 43512 | B9: Paris
A10: 43514 | B10: Nantes
A11: 43516 | B11: Nantes
A12: 43519 | B12: Nantes
A13: 43526 | B13: Nantes
A14: 43539 | B14: Nantes

Sheet Lastminute
A1: Date | B1: Ville
A2: 43469 | B2: Nantes
A3: 43481 | B3: Nancy
A4: 43491 | B4: Nancy
A5: 43499 | B5: Nancy
A6: 43503 | B6: Nancy
A7: 43504 | B7: Nancy
A8: 43508 | B8: Lyon
A9: 43511 | B9: Bordeaux
A10: 43515 | B10: Bordeaux
A11: 43518 | B11: Lyon
A12: 43523 | B12: Lyon
A13: 43529 | B13: Lyon
A14: 43550 | B14: Lyon

Sheet Calculs
A1: Mois | B1: Février | C1: =VLOOKUP(B1,BDD!E2:F13,2,FALSE) -> 2
A3: tulipe
A4: Site | B4: Ville | D4: liste de choix
A5: {=IFERROR(INDEX(colsite,SMALL(IFERROR(IF(IF(colmois=$C$1,FREQUENCY(MATCH(colmois&collieu&colsite,colmois&collieu&colsite,0),ROW(collection)),0)>0,ROW(collection),""),""),ROW($A1))),"")} -> Booking | B5: {=IFERROR(INDEX(collieu,SMALL(IFERROR(IF(IF(colmois=$C$1,FREQUENCY(MATCH(colmois&collieu&colsite,colmois&collieu&colsite,0),ROW(collection)),0)>0,ROW(collection),""),""),ROW($A1))),"")} -> Lyon
A6: {=IFERROR(INDEX(colsite,SMALL(IFERROR(IF(IF(colmois=$C$1,FREQUENCY(MATCH(colmois&collieu&colsite,colmois&collieu&colsite,0),ROW(collection)),0)>0,ROW(collection),""),""),ROW($A2))),"")} -> Booking | B6: {=IFERROR(INDEX(collieu,SMALL(IFERROR(IF(IF(colmois=$C$1,FREQUENCY(MATCH(colmois&collieu&colsite,colmois&collieu&colsite,0),ROW(collection)),0)>0,ROW(collection),""),""),ROW($A2))),"")} -> Paris
A7: {=IFERROR(INDEX(colsite,SMALL(IFERROR(IF(IF(colmois=$C$1,FREQUENCY(MATCH(colmois&collieu&colsite,colmois&collieu&colsite,0),ROW(collection)),0)>0,ROW(collection),""),""),ROW($A3))),"")} -> Booking | B7: {=IFERROR(INDEX(collieu,SMALL(IFERROR(IF(IF(colmois=$C$1,FREQUENCY(MATCH(colmois&collieu&colsite,colmois&collieu&colsite,0),ROW(collection)),0)>0,ROW(collection),""),""),ROW($A3))),"")} -> Nantes
A8: {=IFERROR(INDEX(colsite,SMALL(IFERROR(IF(IF(colmois=$C$1,FREQUENCY(MATCH(colmois&collieu&colsite,colmois&collieu&colsite,0),ROW(collection)),0)>0,ROW(collection),""),""),ROW($A4))),"")} -> Lastminute | B8: {=IFERROR(INDEX(collieu,SMALL(IFERROR(IF(IF(colmois=$C$1,FREQUENCY(MATCH(colmois&collieu&colsite,colmois&collieu&colsite,0),ROW(collection)),0)>0,ROW(collection),""),""),ROW($A4))),"")} -> Nancy
A9: {=IFERROR(INDEX(colsite,SMALL(IFERROR(IF(IF(colmois=$C$1,FREQUENCY(MATCH(colmois&collieu&colsite,colmois&collieu&colsite,0),ROW(collection)),0)>0,ROW(collection),""),""),ROW($A5))),"")} -> Lastminute | B9: {=IFERROR(INDEX(collieu,SMALL(IFERROR(IF(IF(colmois=$C$1,FREQUENCY(MATCH(colmois&collieu&colsite,colmois&collieu&colsite,0),ROW(collection)),0)>0,ROW(collection),""),""),ROW($A5))),"")} -> Lyon
A10: {=IFERROR(INDEX(colsite,SMALL(IFERROR(IF(IF(colmois=$C$1,FREQUENCY(MATCH(colmois&collieu&colsite,colmois&collieu&colsite,0),ROW(collection)),0)>0,ROW(collection),""),""),ROW($A6))),"")} -> Lastminute | B10: {=IFERROR(INDEX(collieu,SMALL(IFERROR(IF(IF(colmois=$C$1,FREQUENCY(MATCH(colmois&collieu&colsite,colmois&collieu&colsite,0),ROW(collection)),0)>0,ROW(collection),""),""),ROW($A6))),"")} -> Bordeaux
A11: {=IFERROR(INDEX(colsite,SMALL(IFERROR(IF(IF(colmois=$C$1,FREQUENCY(MATCH(colmois&collieu&colsite,colmois&collieu&colsite,0),ROW(collection)),0)>0,ROW(collection),""),""),ROW($A7))),"")} | B11: {=IFERROR(INDEX(collieu,SMALL(IFERROR(IF(IF(colmois=$C$1,FREQUENCY(MATCH(colmois&collieu&colsite,colmois&collieu&colsite,0),ROW(collection)),0)>0,ROW(collection),""),""),ROW($A7))),"")}
A12: {=IFERROR(INDEX(colsite,SMALL(IFERROR(IF(IF(colmois=$C$1,FREQUENCY(MATCH(colmois&collieu&colsite,colmois&collieu&colsite,0),ROW(collection)),0)>0,ROW(collection),""),""),ROW($A8))),"")} | B12: {=IFERROR(INDEX(collieu,SMALL(IFERROR(IF(IF(colmois=$C$1,FREQUENCY(MATCH(colmois&collieu&colsite,colmois&collieu&colsite,0),ROW(collection)),0)>0,ROW(collection),""),""),ROW($A8))),"")}
A13: {=IFERROR(INDEX(colsite,SMALL(IFERROR(IF(IF(colmois=$C$1,FREQUENCY(MATCH(colmois&collieu&colsite,colmois&collieu&colsite,0),ROW(collection)),0)>0,ROW(collection),""),""),ROW($A9))),"")} | B13: {=IFERROR(INDEX(collieu,SMALL(IFERROR(IF(IF(colmois=$C$1,FREQUENCY(MATCH(colmois&collieu&colsite,colmois&collieu&colsite,0),ROW(collection)),0)>0,ROW(collection),""),""),ROW($A9))),"")}
A14: {=IFERROR(INDEX(colsite,SMALL(IFERROR(IF(IF(colmois=$C$1,FREQUENCY(MATCH(colmois&collieu&colsite,colmois&collieu&colsite,0),ROW(collection)),0)>0,ROW(collection),""),""),ROW($A10))),"")} | B14: {=IFERROR(INDEX(collieu,SMALL(IFERROR(IF(IF(colmois=$C$1,FREQUENCY(MATCH(colmois&collieu&colsite,colmois&collieu&colsite,0),ROW(collection)),0)>0,ROW(collection),""),""),ROW($A10))),"")}
A15: {=IFERROR(INDEX(colsite,SMALL(IFERROR(IF(IF(colmois=$C$1,FREQUENCY(MATCH(colmois&collieu&colsite,colmois&collieu&colsite,0),ROW(collection)),0)>0,ROW(collection),""),""),ROW($A11))),"")} | B15: {=IFERROR(INDEX(collieu,SMALL(IFERROR(IF(IF(colmois=$C$1,FREQUENCY(MATCH(colmois&collieu&colsite,colmois&collieu&colsite,0),ROW(collection)),0)>0,ROW(collection),""),""),ROW($A11))),"")}
A16: {=IFERROR(INDEX(colsite,SMALL(IFERROR(IF(IF(colmois=$C$1,FREQUENCY(MATCH(colmois&collieu&colsite,colmois&collieu&colsite,0),ROW(collection)),0)>0,ROW(collection),""),""),ROW($A12))),"")} | B16: {=IFERROR(INDEX(collieu,SMALL(IFERROR(IF(IF(colmois=$C$1,FREQUENCY(MATCH(colmois&collieu&colsite,colmois&collieu&colsite,0),ROW(collection)),0)>0,ROW(collection),""),""),ROW($A12))),"")}
... A27: {=IFERROR(INDEX(colsite,SMALL(IFERROR(IF(IF(colmois=$C$1,FREQUENCY(MATCH(colmois&collieu&colsite,colmois&collieu&colsite,0),ROW(collection)),0)>0,ROW(collection),""),""),ROW($A23))),"")} | B27: {=IFERROR(INDEX(collieu,SMALL(IFERROR(IF(IF(colmois=$C$1,FREQUENCY(MATCH(colmois&collieu&colsite,colmois&collieu&colsite,0),ROW(collection)),0)>0,ROW(collection),""),""),ROW($A23))),"")}

Sheet BDD
A1: Lyon | E1: Mois | F1: N° mois | I1: =IF(DAY(IF(Booking!A2="",INDIRECT("Lastminute!A"&ROW()-COUNTA(Booking!A:A)+2),Booking!A2))=0,"",MONTH(IF(Booking!A2="",INDIRECT("Lastminute!A"&ROW()-COUNTA(Booking!A:A)+2),Booking!A2))) -> 1 | J1: =IF(Booking!$B2="",INDIRECT("Lastminute!b"&ROW()-COUNTA(Booking!B:B)+2),Booking!B2) -> Lyon | K1: =IF(I1="","",IF(Booking!$B2="","Lastminute","Booking")) -> Booking
A2: Marseille | E2: Janvier | F2: 1 | I2: =IF(DAY(IF(Booking!A3="",INDIRECT("Lastminute!A"&ROW()-COUNTA(Booking!A:A)+2),Booking!A3))=0,"",MONTH(IF(Booking!A3="",INDIRECT("Lastminute!A"&ROW()-COUNTA(Booking!A:A)+2),Booking!A3))) -> 1 | J2: =IF(Booking!B3="",INDIRECT("Lastminute!b"&ROW()-COUNTA(Booking!B:B)+2),Booking!B3) -> Lyon | K2: =IF(I2="","",IF(Booking!$B3="","Lastminute","Booking")) -> Booking | M2: en vert c'est le rapatriement automatisé des
A3: Paris | E3: Février | F3: 2 | I3: =IF(DAY(IF(Booking!A4="",INDIRECT("Lastminute!A"&ROW()-COUNTA(Booking!A:A)+2),Booking!A4))=0,"",MONTH(IF(Booking!A4="",INDIRECT("Lastminute!A"&ROW()-COUNTA(Booking!A:A)+2),Booking!A4))) -> 1 | J3: =IF(Booking!B4="",INDIRECT("Lastminute!b"&ROW()-COUNTA(Booking!B:B)+2),Booking!B4) -> Lyon | K3: =IF(I3="","",IF(Booking!$B4="","Lastminute","Booking")) -> Booking | M3: 2 feuilles
A4: Nancy | E4: Mars | F4: 3 | I4: =IF(DAY(IF(Booking!A5="",INDIRECT("Lastminute!A"&ROW()-COUNTA(Booking!A:A)+2),Booking!A5))=0,"",MONTH(IF(Booking!A5="",INDIRECT("Lastminute!A"&ROW()-COUNTA(Booking!A:A)+2),Booking!A5))) -> 2 | J4: =IF(Booking!B5="",INDIRECT("Lastminute!b"&ROW()-COUNTA(Booking!B:B)+2),Booking!B5) -> Lyon | K4: =IF(I4="","",IF(Booking!$B5="","Lastminute","Booking")) -> Booking | M4: prevu pour 150 lignes
A5: Nantes | E5: Avril | F5: 4 | I5: =IF(DAY(IF(Booking!A6="",INDIRECT("Lastminute!A"&ROW()-COUNTA(Booking!A:A)+2),Booking!A6))=0,"",MONTH(IF(Booking!A6="",INDIRECT("Lastminute!A"&ROW()-COUNTA(Booking!A:A)+2),Booking!A6))) -> 2 | J5: =IF(Booking!B6="",INDIRECT("Lastminute!b"&ROW()-COUNTA(Booking!B:B)+2),Booking!B6) -> Lyon | K5: =IF(I5="","",IF(Booking!$B6="","Lastminute","Booking")) -> Booking
A6: Bordeaux | E6: Mai | F6: 5 | I6: =IF(DAY(IF(Booking!A7="",INDIRECT("Lastminute!A"&ROW()-COUNTA(Booking!A:A)+2),Booking!A7))=0,"",MONTH(IF(Booking!A7="",INDIRECT("Lastminute!A"&ROW()-COUNTA(Booking!A:A)+2),Booking!A7))) -> 2 | J6: =IF(Booking!B7="",INDIRECT("Lastminute!b"&ROW()-COUNTA(Booking!B:B)+2),Booking!B7) -> Lyon | K6: =IF(I6="","",IF(Booking!$B7="","Lastminute","Booking")) -> Booking
E7: Juin | F7: 6 | I7: =IF(DAY(IF(Booking!A8="",INDIRECT("Lastminute!A"&ROW()-COUNTA(Booking!A:A)+2),Booking!A8))=0,"",MONTH(IF(Booking!A8="",INDIRECT("Lastminute!A"&ROW()-COUNTA(Booking!A:A)+2),Booking!A8))) -> 2 | J7: =IF(Booking!B8="",INDIRECT("Lastminute!b"&ROW()-COUNTA(Booking!B:B)+2),Booking!B8) -> Paris | K7: =IF(I7="","",IF(Booking!$B8="","Lastminute","Booking")) -> Booking
E8: Juillet | F8: 7 | I8: =IF(DAY(IF(Booking!A9="",INDIRECT("Lastminute!A"&ROW()-COUNTA(Booking!A:A)+2),Booking!A9))=0,"",MONTH(IF(Booking!A9="",INDIRECT("Lastminute!A"&ROW()-COUNTA(Booking!A:A)+2),Booking!A9))) -> 2 | J8: =IF(Booking!B9="",INDIRECT("Lastminute!b"&ROW()-COUNTA(Booking!B:B)+2),Booking!B9) -> Paris | K8: =IF(I8="","",IF(Booking!$B9="","Lastminute","Booking")) -> Booking
E9: Août | F9: 8 | I9: =IF(DAY(IF(Booking!A10="",INDIRECT("Lastminute!A"&ROW()-COUNTA(Booking!A:A)+2),Booking!A10))=0,"",MONTH(IF(Booking!A10="",INDIRECT("Lastminute!A"&ROW()-COUNTA(Booking!A:A)+2),Booking!A10))) -> 2 | J9: =IF(Booking!B10="",INDIRECT("Lastminute!b"&ROW()-COUNTA(Booking!B:B)+2),Booking!B10) -> Nantes | K9: =IF(I9="","",IF(Booking!$B10="","Lastminute","Booking")) -> Booking
E10: Septembre | F10: 9 | I10: =IF(DAY(IF(Booking!A11="",INDIRECT("Lastminute!A"&ROW()-COUNTA(Booking!A:A)+2),Booking!A11))=0,"",MONTH(IF(Booking!A11="",INDIRECT("Lastminute!A"&ROW()-COUNTA(Booking!A:A)+2),Booking!A11))) -> 2 | J10: =IF(Booking!B11="",INDIRECT("Lastminute!b"&ROW()-COUNTA(Booking!B:B)+2),Booking!B11) -> Nantes | K10: =IF(I10="","",IF(Booking!$B11="","Lastminute","Booking")) -> Booking
E11: Octobre | F11: 10 | I11: =IF(DAY(IF(Booking!A12="",INDIRECT("Lastminute!A"&ROW()-COUNTA(Booking!A:A)+2),Booking!A12))=0,"",MONTH(IF(Booking!A12="",INDIRECT("Lastminute!A"&ROW()-COUNTA(Booking!A:A)+2),Booking!A12))) -> 2 | J11: =IF(Booking!B12="",INDIRECT("Lastminute!b"&ROW()-COUNTA(Booking!B:B)+2),Booking!B12) -> Nantes | K11: =IF(I11="","",IF(Booking!$B12="","Lastminute","Booking")) -> Booking
E12: Novembre | F12: 11 | I12: =IF(DAY(IF(Booking!A13="",INDIRECT("Lastminute!A"&ROW()-COUNTA(Booking!A:A)+2),Booking!A13))=0,"",MONTH(IF(Booking!A13="",INDIRECT("Lastminute!A"&ROW()-COUNTA(Booking!A:A)+2),Booking!A13))) -> 3 | J12: =IF(Booking!B13="",INDIRECT("Lastminute!b"&ROW()-COUNTA(Booking!B:B)+2),Booking!B13) -> Nantes | K12: =IF(I12="","",IF(Booking!$B13="","Lastminute","Booking")) -> Booking
E13: Décembre | F13: 12 | I13: =IF(DAY(IF(Booking!A14="",INDIRECT("Lastminute!A"&ROW()-COUNTA(Booking!A:A)+2),Booking!A14))=0,"",MONTH(IF(Booking!A14="",INDIRECT("Lastminute!A"&ROW()-COUNTA(Booking!A:A)+2),Booking!A14))) -> 3 | J13: =IF(Booking!B14="",INDIRECT("Lastminute!b"&ROW()-COUNTA(Booking!B:B)+2),Booking!B14) -> Nantes | K13: =IF(I13="","",IF(Booking!$B14="","Lastminute","Booking")) -> Booking
I14: =IF(DAY(IF(Booking!A15="",INDIRECT("Lastminute!A"&ROW()-COUNTA(Booking!A:A)+2),Booking!A15))=0,"",MONTH(IF(Booking!A15="",INDIRECT("Lastminute!A"&ROW()-COUNTA(Booking!A:A)+2),Booking!A15))) -> 1 | J14: =IF(Booking!B15="",INDIRECT("Lastminute!b"&ROW()-COUNTA(Booking!B:B)+2),Booking!B15) -> Nantes | K14: =IF(I14="","",IF(Booking!$B15="","Lastminute","Booking")) -> Lastminute
I15: =IF(DAY(IF(Booking!A16="",INDIRECT("Lastminute!A"&ROW()-COUNTA(Booking!A:A)+2),Booking!A16))=0,"",MONTH(IF(Booking!A16="",INDIRECT("Lastminute!A"&ROW()-COUNTA(Booking!A:A)+2),Booking!A16))) -> 1 | J15: =IF(Booking!B16="",INDIRECT("Lastminute!b"&ROW()-COUNTA(Booking!B:B)+2),Booking!B16) -> Nancy | K15: =IF(I15="","",IF(Booking!$B16="","Lastminute","Booking")) -> Lastminute
I16: =IF(DAY(IF(Booking!A17="",INDIRECT("Lastminute!A"&ROW()-COUNTA(Booking!A:A)+2),Booking!A17))=0,"",MONTH(IF(Booking!A17="",INDIRECT("Lastminute!A"&ROW()-COUNTA(Booking!A:A)+2),Booking!A17))) -> 1 | J16: =IF(Booking!B17="",INDIRECT("Lastminute!b"&ROW()-COUNTA(Booking!B:B)+2),Booking!B17) -> Nancy | K16: =IF(I16="","",IF(Booking!$B17="","Lastminute","Booking")) -> Lastminute
I17: =IF(DAY(IF(Booking!A18="",INDIRECT("Lastminute!A"&ROW()-COUNTA(Booking!A:A)+2),Booking!A18))=0,"",MONTH(IF(Booking!A18="",INDIRECT("Lastminute!A"&ROW()-COUNTA(Booking!A:A)+2),Booking!A18))) -> 2 | J17: =IF(Booking!B18="",INDIRECT("Lastminute!b"&ROW()-COUNTA(Booking!B:B)+2),Booking!B18) -> Nancy | K17: =IF(I17="","",IF(Booking!$B18="","Lastminute","Booking")) -> Lastminute
I18: =IF(DAY(IF(Booking!A19="",INDIRECT("Lastminute!A"&ROW()-COUNTA(Booking!A:A)+2),Booking!A19))=0,"",MONTH(IF(Booking!A19="",INDIRECT("Lastminute!A"&ROW()-COUNTA(Booking!A:A)+2),Booking!A19))) -> 2 | J18: =IF(Booking!B19="",INDIRECT("Lastminute!b"&ROW()-COUNTA(Booking!B:B)+2),Booking!B19) -> Nancy | K18: =IF(I18="","",IF(Booking!$B19="","Lastminute","Booking")) -> Lastminute
I19: =IF(DAY(IF(Booking!A20="",INDIRECT("Lastminute!A"&ROW()-COUNTA(Booking!A:A)+2),Booking!A20))=0,"",MONTH(IF(Booking!A20="",INDIRECT("Lastminute!A"&ROW()-COUNTA(Booking!A:A)+2),Booking!A20))) -> 2 | J19: =IF(Booking!B20="",INDIRECT("Lastminute!b"&ROW()-COUNTA(Booking!B:B)+2),Booking!B20) -> Nancy | K19: =IF(I19="","",IF(Booking!$B20="","Lastminute","Booking")) -> Lastminute
I20: =IF(DAY(IF(Booking!A21="",INDIRECT("Lastminute!A"&ROW()-COUNTA(Booking!A:A)+2),Booking!A21))=0,"",MONTH(IF(Booking!A21="",INDIRECT("Lastminute!A"&ROW()-COUNTA(Booking!A:A)+2),Booking!A21))) -> 2 | J20: =IF(Booking!B21="",INDIRECT("Lastminute!b"&ROW()-COUNTA(Booking!B:B)+2),Booking!B21) -> Lyon | K20: =IF(I20="","",IF(Booking!$B21="","Lastminute","Booking")) -> Lastminute
I21: =IF(DAY(IF(Booking!A22="",INDIRECT("Lastminute!A"&ROW()-COUNTA(Booking!A:A)+2),Booking!A22))=0,"",MONTH(IF(Booking!A22="",INDIRECT("Lastminute!A"&ROW()-COUNTA(Booking!A:A)+2),Booking!A22))) -> 2 | J21: =IF(Booking!B22="",INDIRECT("Lastminute!b"&ROW()-COUNTA(Booking!B:B)+2),Booking!B22) -> Bordeaux | K21: =IF(I21="","",IF(Booking!$B22="","Lastminute","Booking")) -> Lastminute
I22: =IF(DAY(IF(Booking!A23="",INDIRECT("Lastminute!A"&ROW()-COUNTA(Booking!A:A)+2),Booking!A23))=0,"",MONTH(IF(Booking!A23="",INDIRECT("Lastminute!A"&ROW()-COUNTA(Booking!A:A)+2),Booking!A23))) -> 2 | J22: =IF(Booking!B23="",INDIRECT("Lastminute!b"&ROW()-COUNTA(Booking!B:B)+2),Booking!B23) -> Bordeaux | K22: =IF(I22="","",IF(Booking!$B23="","Lastminute","Booking")) -> Lastminute
I23: =IF(DAY(IF(Booking!A24="",INDIRECT("Lastminute!A"&ROW()-COUNTA(Booking!A:A)+2),Booking!A24))=0,"",MONTH(IF(Booking!A24="",INDIRECT("Lastminute!A"&ROW()-COUNTA(Booking!A:A)+2),Booking!A24))) -> 2 | J23: =IF(Booking!B24="",INDIRECT("Lastminute!b"&ROW()-COUNTA(Booking!B:B)+2),Booking!B24) -> Lyon | K23: =IF(I23="","",IF(Booking!$B24="","Lastminute","Booking")) -> Lastminute
I24: =IF(DAY(IF(Booking!A25="",INDIRECT("Lastminute!A"&ROW()-COUNTA(Booking!A:A)+2),Booking!A25))=0,"",MONTH(IF(Booking!A25="",INDIRECT("Lastminute!A"&ROW()-COUNTA(Booking!A:A)+2),Booking!A25))) -> 2 | J24: =IF(Booking!B25="",INDIRECT("Lastminute!b"&ROW()-COUNTA(Booking!B:B)+2),Booking!B25) -> Lyon | K24: =IF(I24="","",IF(Booking!$B25="","Lastminute","Booking")) -> Lastminute
I25: =IF(DAY(IF(Booking!A26="",INDIRECT("Lastminute!A"&ROW()-COUNTA(Booking!A:A)+2),Booking!A26))=0,"",MONTH(IF(Booking!A26="",INDIRECT("Lastminute!A"&ROW()-COUNTA(Booking!A:A)+2),Booking!A26))) -> 3 | J25: =IF(Booking!B26="",INDIRECT("Lastminute!b"&ROW()-COUNTA(Booking!B:B)+2),Booking!B26) -> Lyon | K25: =IF(I25="","",IF(Booking!$B26="","Lastminute","Booking")) -> Lastminute
... I150: =IF(DAY(IF(Booking!A151="",INDIRECT("Lastminute!A"&ROW()-COUNTA(Booking!A:A)+2),Booking!A151))=0,"",MONTH(IF(Booking!A151="",INDIRECT("Lastminute!A"&ROW()-COUNTA(Booking!A:A)+2),Booking!A151))) | J150: =IF(Booking!B151="",INDIRECT("Lastminute!b"&ROW()-COUNTA(Booking!B:B)+2),Booking!B151) -> 0 | K150: =IF(I150="","",IF(Booking!$B151="","Lastminute","Booking"))
