Workbook

Sheet Feuil1
B1: PRODUITS | C1: COMPOSITION | D1: QUANTITE ( g/ml/pc ) | E1: PRIX QUANTITE | F1: PAIN | G1: PRIX DE REVIENT | H1: COEF. MAR. BENEF. | I1: PRIX DE VENTE ( htva) | J1: PRIX DE VENTE ( tvac ) | L1: Ancien prix
A2: formule
A3: {=IF(C3="","",INDEX(B$3:B$250,MAX(IF(B$3:B3<>"",ROW(B$3:B3)-2))))} -> Dagobert | B3: Dagobert | C3: MAYONNAISE | D3: 200 | E3: =(INDEX(Ingrédients!$B$3:$B$22,MATCH(C3,Ingrédients!$A$3:$A$22,0))/1000)*D3 -> 1 | F3: BLANC | G3: =IF(F3="","",SUMPRODUCT((A$3:A$460=A3)*(E$3:E$460))+IF(F3="blanc",0.1,0.2)) -> 2.70033 | H3: 3 | I3: =IF(F3="","",G3*H3) -> 8.10099 | J3: =IF(F3="","",I3*1.06) -> 8.5870494
A4: {=IF(C4="","",INDEX(B$3:B$250,MAX(IF(B$3:B4<>"",ROW(B$3:B4)-2))))} -> Dagobert | C4: JAMBON | D4: 100 | E4: =(INDEX(Ingrédients!$B$3:$B$22,MATCH(C4,Ingrédients!$A$3:$A$22,0))/1000)*D4 -> 1 | F4: GRIS | G4: =IF(F4="","",SUMPRODUCT((A$3:A$460=A4)*(E$3:E$460))+IF(F4="blanc",0.1,0.2)) -> 2.80033 | H4: 3 | I4: =IF(F4="","",G4*H4) -> 8.40099 | J4: =IF(F4="","",I4*1.06) -> 8.9050494
A5: {=IF(C5="","",INDEX(B$3:B$250,MAX(IF(B$3:B5<>"",ROW(B$3:B5)-2))))} -> Dagobert | C5: FROMAGE | D5: 50 | E5: =(INDEX(Ingrédients!$B$3:$B$22,MATCH(C5,Ingrédients!$A$3:$A$22,0))/1000)*D5 -> 0.25 | G5: =IF(F5="","",SUMPRODUCT((A$3:A$460=A5)*(E$3:E$460))+IF(F5="blanc",0.1,0.2)) | I5: =IF(F5="","",G5*H5) | J5: =IF(F5="","",I5*1.06)
A6: {=IF(C6="","",INDEX(B$3:B$250,MAX(IF(B$3:B6<>"",ROW(B$3:B6)-2))))} -> Dagobert | C6: OEUFS | D6: 3 | E6: =(INDEX(Ingrédients!$B$3:$B$22,MATCH(C6,Ingrédients!$A$3:$A$22,0))/1000)*D6 -> 0.00033 | G6: =IF(F6="","",SUMPRODUCT((A$3:A$460=A6)*(E$3:E$460))+IF(F6="blanc",0.1,0.2)) | I6: =IF(F6="","",G6*H6) | J6: =IF(F6="","",I6*1.06)
A7: {=IF(C7="","",INDEX(B$3:B$250,MAX(IF(B$3:B7<>"",ROW(B$3:B7)-2))))} -> Dagobert | C7: CORNICHONS | D7: 25 | E7: =(INDEX(Ingrédients!$B$3:$B$22,MATCH(C7,Ingrédients!$A$3:$A$22,0))/1000)*D7 -> 0.25 | G7: =IF(F7="","",SUMPRODUCT((A$3:A$460=A7)*(E$3:E$460))+IF(F7="blanc",0.1,0.2)) | I7: =IF(F7="","",G7*H7) | J7: =IF(F7="","",I7*1.06)
A8: {=IF(C8="","",INDEX(B$3:B$250,MAX(IF(B$3:B8<>"",ROW(B$3:B8)-2))))} -> Dagobert | C8: CRUDITES | D8: 100 | E8: =(INDEX(Ingrédients!$B$3:$B$22,MATCH(C8,Ingrédients!$A$3:$A$22,0))/1000)*D8 -> 0.1 | G8: =IF(F8="","",SUMPRODUCT((A$3:A$460=A8)*(E$3:E$460))+IF(F8="blanc",0.1,0.2)) | I8: =IF(F8="","",G8*H8) | J8: =IF(F8="","",I8*1.06)
A9: {=IF(C9="","",INDEX(B$3:B$250,MAX(IF(B$3:B9<>"",ROW(B$3:B9)-2))))} | G9: =IF(F9="","",SUMPRODUCT((A$3:A$460=A9)*(E$3:E$460))+IF(F9="blanc",0.1,0.2)) | I9: =IF(F9="","",G9*H9) | J9: =IF(F9="","",I9*1.06)
A10: {=IF(C10="","",INDEX(B$3:B$250,MAX(IF(B$3:B10<>"",ROW(B$3:B10)-2))))} | G10: =IF(F10="","",SUMPRODUCT((A$3:A$460=A10)*(E$3:E$460))+IF(F10="blanc",0.1,0.2)) | I10: =IF(F10="","",G10*H10) | J10: =IF(F10="","",I10*1.06)
A11: {=IF(C11="","",INDEX(B$3:B$250,MAX(IF(B$3:B11<>"",ROW(B$3:B11)-2))))} | G11: =IF(F11="","",SUMPRODUCT((A$3:A$460=A11)*(E$3:E$460))+IF(F11="blanc",0.1,0.2)) | I11: =IF(F11="","",G11*H11) | J11: =IF(F11="","",I11*1.06)
A12: {=IF(C12="","",INDEX(B$3:B$250,MAX(IF(B$3:B12<>"",ROW(B$3:B12)-2))))} -> ITALIEN | B12: ITALIEN | C12: HUILE D’OLIVE | D12: 20 | E12: =(INDEX(Ingrédients!$B$3:$B$22,MATCH(C12,Ingrédients!$A$3:$A$22,0))/1000)*D12 -> 0.44 | F12: BLANC | G12: =IF(F12="","",SUMPRODUCT((A$3:A$460=A12)*(E$3:E$460))+IF(F12="blanc",0.1,0.2)) -> 2.53 | H12: 2 | I12: =IF(F12="","",G12*H12) -> 5.06 | J12: =IF(F12="","",I12*1.06) -> 5.3636
A13: {=IF(C13="","",INDEX(B$3:B$250,MAX(IF(B$3:B13<>"",ROW(B$3:B13)-2))))} -> ITALIEN | C13: JAMBON DE PARME | D13: 100 | E13: =(INDEX(Ingrédients!$B$3:$B$22,MATCH(C13,Ingrédients!$A$3:$A$22,0))/1000)*D13 -> 1 | F13: GRIS | G13: =IF(F13="","",SUMPRODUCT((A$3:A$460=A13)*(E$3:E$460))+IF(F13="blanc",0.1,0.2)) -> 2.63 | H13: 2 | I13: =IF(F13="","",G13*H13) -> 5.26 | J13: =IF(F13="","",I13*1.06) -> 5.5756
A14: {=IF(C14="","",INDEX(B$3:B$250,MAX(IF(B$3:B14<>"",ROW(B$3:B14)-2))))} -> ITALIEN | C14: MOZZARELLA TRANCHE | D14: 50 | E14: =(INDEX(Ingrédients!$B$3:$B$22,MATCH(C14,Ingrédients!$A$3:$A$22,0))/1000)*D14 -> 0.5 | G14: =IF(F14="","",SUMPRODUCT((A$3:A$460=A14)*(E$3:E$460))+IF(F14="blanc",0.1,0.2)) | I14: =IF(F14="","",G14*H14) | J14: =IF(F14="","",I14*1.06)
A15: {=IF(C15="","",INDEX(B$3:B$250,MAX(IF(B$3:B15<>"",ROW(B$3:B15)-2))))} -> ITALIEN | C15: TOMATES | D15: 30 | E15: =(INDEX(Ingrédients!$B$3:$B$22,MATCH(C15,Ingrédients!$A$3:$A$22,0))/1000)*D15 -> 0.09 | G15: =IF(F15="","",SUMPRODUCT((A$3:A$460=A15)*(E$3:E$460))+IF(F15="blanc",0.1,0.2)) | I15: =IF(F15="","",G15*H15) | J15: =IF(F15="","",I15*1.06)
A16: {=IF(C16="","",INDEX(B$3:B$250,MAX(IF(B$3:B16<>"",ROW(B$3:B16)-2))))} -> ITALIEN | C16: SALADE | D16: 100 | E16: =(INDEX(Ingrédients!$B$3:$B$22,MATCH(C16,Ingrédients!$A$3:$A$22,0))/1000)*D16 -> 0.4 | G16: =IF(F16="","",SUMPRODUCT((A$3:A$460=A16)*(E$3:E$460))+IF(F16="blanc",0.1,0.2)) | I16: =IF(F16="","",G16*H16) | J16: =IF(F16="","",I16*1.06)
A17: {=IF(C17="","",INDEX(B$3:B$250,MAX(IF(B$3:B17<>"",ROW(B$3:B17)-2))))} | G17: =IF(F17="","",SUMPRODUCT((A$3:A$460=A17)*(E$3:E$460))+IF(F17="blanc",0.1,0.2)) | I17: =IF(F17="","",G17*H17) | J17: =IF(F17="","",I17*1.06)
A18: {=IF(C18="","",INDEX(B$3:B$250,MAX(IF(B$3:B18<>"",ROW(B$3:B18)-2))))} | G18: =IF(F18="","",SUMPRODUCT((A$3:A$460=A18)*(E$3:E$460))+IF(F18="blanc",0.1,0.2)) | I18: =IF(F18="","",G18*H18) | J18: =IF(F18="","",I18*1.06)
A19: {=IF(C19="","",INDEX(B$3:B$250,MAX(IF(B$3:B19<>"",ROW(B$3:B19)-2))))} -> MARTINO | B19: MARTINO | C19: SAUCE MARTINO | D19: 15 | E19: =(INDEX(Ingrédients!$B$3:$B$22,MATCH(C19,Ingrédients!$A$3:$A$22,0))/1000)*D19 -> 0.15 | F19: BLANC | G19: =IF(F19="","",SUMPRODUCT((A$3:A$460=A19)*(E$3:E$460))+IF(F19="blanc",0.1,0.2)) -> 2.84 | H19: 3 | I19: =IF(F19="","",G19*H19) -> 8.52 | J19: =IF(F19="","",I19*1.06) -> 9.0312
A20: {=IF(C20="","",INDEX(B$3:B$250,MAX(IF(B$3:B20<>"",ROW(B$3:B20)-2))))} -> MARTINO | C20: AMERICAIN | D20: 150 | E20: =(INDEX(Ingrédients!$B$3:$B$22,MATCH(C20,Ingrédients!$A$3:$A$22,0))/1000)*D20 -> 1.5 | F20: GRIS | G20: =IF(F20="","",SUMPRODUCT((A$3:A$460=A20)*(E$3:E$460))+IF(F20="blanc",0.1,0.2)) -> 2.94 | H20: 3 | I20: =IF(F20="","",G20*H20) -> 8.82 | J20: =IF(F20="","",I20*1.06) -> 9.3492
A21: {=IF(C21="","",INDEX(B$3:B$250,MAX(IF(B$3:B21<>"",ROW(B$3:B21)-2))))} -> MARTINO | C21: OIGNONS | D21: 30 | E21: =(INDEX(Ingrédients!$B$3:$B$22,MATCH(C21,Ingrédients!$A$3:$A$22,0))/1000)*D21 -> 0.3 | G21: =IF(F21="","",SUMPRODUCT((A$3:A$460=A21)*(E$3:E$460))+IF(F21="blanc",0.1,0.2)) | I21: =IF(F21="","",G21*H21) | J21: =IF(F21="","",I21*1.06)
A22: {=IF(C22="","",INDEX(B$3:B$250,MAX(IF(B$3:B22<>"",ROW(B$3:B22)-2))))} -> MARTINO | C22: CORNICHONS | D22: 30 | E22: =(INDEX(Ingrédients!$B$3:$B$22,MATCH(C22,Ingrédients!$A$3:$A$22,0))/1000)*D22 -> 0.3 | G22: =IF(F22="","",SUMPRODUCT((A$3:A$460=A22)*(E$3:E$460))+IF(F22="blanc",0.1,0.2)) | I22: =IF(F22="","",G22*H22) | J22: =IF(F22="","",I22*1.06)
A23: {=IF(C23="","",INDEX(B$3:B$250,MAX(IF(B$3:B23<>"",ROW(B$3:B23)-2))))} -> MARTINO | C23: TOMATES | D23: 30 | E23: =(INDEX(Ingrédients!$B$3:$B$22,MATCH(C23,Ingrédients!$A$3:$A$22,0))/1000)*D23 -> 0.09 | G23: =IF(F23="","",SUMPRODUCT((A$3:A$460=A23)*(E$3:E$460))+IF(F23="blanc",0.1,0.2)) | I23: =IF(F23="","",G23*H23) | J23: =IF(F23="","",I23*1.06)
A24: {=IF(C24="","",INDEX(B$3:B$250,MAX(IF(B$3:B24<>"",ROW(B$3:B24)-2))))} -> MARTINO | C24: SALADE | D24: 100 | E24: =(INDEX(Ingrédients!$B$3:$B$22,MATCH(C24,Ingrédients!$A$3:$A$22,0))/1000)*D24 -> 0.4 | G24: =IF(F24="","",SUMPRODUCT((A$3:A$460=A24)*(E$3:E$460))+IF(F24="blanc",0.1,0.2)) | I24: =IF(F24="","",G24*H24) | J24: =IF(F24="","",I24*1.06)
A25: {=IF(C25="","",INDEX(B$3:B$250,MAX(IF(B$3:B25<>"",ROW(B$3:B25)-2))))} | G25: =IF(F25="","",SUMPRODUCT((A$3:A$460=A25)*(E$3:E$460))+IF(F25="blanc",0.1,0.2)) | I25: =IF(F25="","",G25*H25) | J25: =IF(F25="","",I25*1.06)
A26: {=IF(C26="","",INDEX(B$3:B$250,MAX(IF(B$3:B26<>"",ROW(B$3:B26)-2))))} | G26: =IF(F26="","",SUMPRODUCT((A$3:A$460=A26)*(E$3:E$460))+IF(F26="blanc",0.1,0.2)) | I26: =IF(F26="","",G26*H26) | J26: =IF(F26="","",I26*1.06)
A27: {=IF(C27="","",INDEX(B$3:B$250,MAX(IF(B$3:B27<>"",ROW(B$3:B27)-2))))} | G27: =IF(F27="","",SUMPRODUCT((A$3:A$460=A27)*(E$3:E$460))+IF(F27="blanc",0.1,0.2)) | I27: =IF(F27="","",G27*H27) | J27: =IF(F27="","",I27*1.06)
A28: {=IF(C28="","",INDEX(B$3:B$250,MAX(IF(B$3:B28<>"",ROW(B$3:B28)-2))))} | G28: =IF(F28="","",SUMPRODUCT((A$3:A$460=A28)*(E$3:E$460))+IF(F28="blanc",0.1,0.2)) | I28: =IF(F28="","",G28*H28) | J28: =IF(F28="","",I28*1.06)
A29: {=IF(C29="","",INDEX(B$3:B$250,MAX(IF(B$3:B29<>"",ROW(B$3:B29)-2))))} | G29: =IF(F29="","",SUMPRODUCT((A$3:A$460=A29)*(E$3:E$460))+IF(F29="blanc",0.1,0.2)) | I29: =IF(F29="","",G29*H29) | J29: =IF(F29="","",I29*1.06)
A30: {=IF(C30="","",INDEX(B$3:B$250,MAX(IF(B$3:B30<>"",ROW(B$3:B30)-2))))} | G30: =IF(F30="","",SUMPRODUCT((A$3:A$460=A30)*(E$3:E$460))+IF(F30="blanc",0.1,0.2)) | I30: =IF(F30="","",G30*H30) | J30: =IF(F30="","",I30*1.06)
A31: {=IF(C31="","",INDEX(B$3:B$250,MAX(IF(B$3:B31<>"",ROW(B$3:B31)-2))))} | G31: =IF(F31="","",SUMPRODUCT((A$3:A$460=A31)*(E$3:E$460))+IF(F31="blanc",0.1,0.2)) | I31: =IF(F31="","",G31*H31) | J31: =IF(F31="","",I31*1.06)
A32: {=IF(C32="","",INDEX(B$3:B$250,MAX(IF(B$3:B32<>"",ROW(B$3:B32)-2))))} | G32: =IF(F32="","",SUMPRODUCT((A$3:A$460=A32)*(E$3:E$460))+IF(F32="blanc",0.1,0.2)) | I32: =IF(F32="","",G32*H32) | J32: =IF(F32="","",I32*1.06)
A33: {=IF(C33="","",INDEX(B$3:B$250,MAX(IF(B$3:B33<>"",ROW(B$3:B33)-2))))} | G33: =IF(F33="","",SUMPRODUCT((A$3:A$460=A33)*(E$3:E$460))+IF(F33="blanc",0.1,0.2)) | I33: =IF(F33="","",G33*H33) | J33: =IF(F33="","",I33*1.06)
A34: {=IF(C34="","",INDEX(B$3:B$250,MAX(IF(B$3:B34<>"",ROW(B$3:B34)-2))))} | G34: =IF(F34="","",SUMPRODUCT((A$3:A$460=A34)*(E$3:E$460))+IF(F34="blanc",0.1,0.2)) | I34: =IF(F34="","",G34*H34) | J34: =IF(F34="","",I34*1.06)
A35: {=IF(C35="","",INDEX(B$3:B$250,MAX(IF(B$3:B35<>"",ROW(B$3:B35)-2))))} | G35: =IF(F35="","",SUMPRODUCT((A$3:A$460=A35)*(E$3:E$460))+IF(F35="blanc",0.1,0.2)) | I35: =IF(F35="","",G35*H35) | J35: =IF(F35="","",I35*1.06)
A36: {=IF(C36="","",INDEX(B$3:B$250,MAX(IF(B$3:B36<>"",ROW(B$3:B36)-2))))} | G36: =IF(F36="","",SUMPRODUCT((A$3:A$460=A36)*(E$3:E$460))+IF(F36="blanc",0.1,0.2)) | I36: =IF(F36="","",G36*H36) | J36: =IF(F36="","",I36*1.06)
... A426: {=IF(C426="","",INDEX(B$3:B$250,MAX(IF(B$3:B426<>"",ROW(B$3:B426)-2))))} | G426: =IF(F426="","",SUMPRODUCT((A$3:A$460=A426)*(E$3:E$460))+IF(F426="blanc",0.1,0.2)) | I426: =IF(F426="","",G426*H426) | J426: =IF(F426="","",I426*1.06)
A427: {=IF(C427="","",INDEX(B$3:B$250,MAX(IF(B$3:B427<>"",ROW(B$3:B427)-2))))}
A428: {=IF(C428="","",INDEX(B$3:B$250,MAX(IF(B$3:B428<>"",ROW(B$3:B428)-2))))}
A429: {=IF(C429="","",INDEX(B$3:B$250,MAX(IF(B$3:B429<>"",ROW(B$3:B429)-2))))}
...

Sheet Ingrédients
A1: Produits | B1: Prix / kg / L
A3: MAYONNAISE | B3: 5
A4: JAMBON | B4: 10
A5: FROMAGE | B5: 5
A6: OEUFS | B6: 0.11
A7: CRUDITES | B7: 1
A8: HUILE D’OLIVE | B8: 22
A9: JAMBON DE PARME | B9: 10
A10: MOZZARELLA TRANCHE | B10: 10
A11: TOMATES | B11: 3
A12: SALADE | B12: 4
A13: SAUCE MARTINO | B13: 10
A14: AMERICAIN | B14: 10
... A17: TOMATES | B17: 10
