Workbook
Name colh: Feuil1!$H$4:$H$9
Name coli: OFFSET(Feuil1!$I$4,,,ROWS(outil))
Name colj: OFFSET(Feuil1!$J$4,,,ROWS(Maçonnerie))
Name epi: Feuil1!$B$4:$B$9
Name Maçonnerie: OFFSET(Feuil1!$B$13,,,COUNTIF(Feuil1!$B$13:$B$36,"><"))
Name outil: OFFSET(Feuil1!$E$4,,,COUNTIF(Feuil1!$E$4:$E$48,"><"))

Sheet Feuil1
A2: EPI | D2: outil
H3: epi | I3: outil | J3: maçonnerie
B4: chaussure sécu | E4: marteau | H4: TRUE | I4: TRUE | J4: TRUE
B5: Casque de chantier | E5: burin | H5: FALSE | I5: TRUE | J5: TRUE
B6: Gand | E6: perfo | H6: TRUE | I6: TRUE | J6: TRUE
B7: lunette | H7: TRUE | J7: TRUE
B8: protection oreille | H8: TRUE | J8: TRUE
B9: pantalon, veste | H9: TRUE | J9: TRUE
J10: TRUE
A11: Maçonnerie | J11: FALSE
J12: FALSE
B13: Aspirateur | J13: FALSE
B14: rallonge
B15: sac de prélèvement
B16: béton
B17: Mortier
B18: truelle
B19: balais
B20: seaux

Sheet Feuil2
B2: Liste des affaires Chantier
B3: epi | E3: outil | G3: maçonnerie
B4: {=IFERROR(INDEX(epi,SMALL(IF(colh*1=1,ROW(colh)-3,""),ROW(A1))),"")} -> chaussure sécu | E4: {=IFERROR(INDEX(outil,SMALL(IF(coli*1=1,ROW(coli)-3,""),ROW(D1))),"")} -> marteau | G4: {=IFERROR(INDEX(Maçonnerie,SMALL(IF(colj*1=1,ROW(colj)-3,""),ROW(F1))),"")} -> Aspirateur
B5: {=IFERROR(INDEX(epi,SMALL(IF(colh*1=1,ROW(colh)-3,""),ROW(A2))),"")} -> Gand | E5: {=IFERROR(INDEX(outil,SMALL(IF(coli*1=1,ROW(coli)-3,""),ROW(D2))),"")} -> burin | G5: {=IFERROR(INDEX(Maçonnerie,SMALL(IF(colj*1=1,ROW(colj)-3,""),ROW(F2))),"")} -> rallonge
B6: {=IFERROR(INDEX(epi,SMALL(IF(colh*1=1,ROW(colh)-3,""),ROW(A3))),"")} -> lunette | E6: {=IFERROR(INDEX(outil,SMALL(IF(coli*1=1,ROW(coli)-3,""),ROW(D3))),"")} -> perfo | G6: {=IFERROR(INDEX(Maçonnerie,SMALL(IF(colj*1=1,ROW(colj)-3,""),ROW(F3))),"")} -> sac de prélèvement
B7: {=IFERROR(INDEX(epi,SMALL(IF(colh*1=1,ROW(colh)-3,""),ROW(A4))),"")} -> protection oreille | E7: {=IFERROR(INDEX(outil,SMALL(IF(coli*1=1,ROW(coli)-3,""),ROW(D4))),"")} | G7: {=IFERROR(INDEX(Maçonnerie,SMALL(IF(colj*1=1,ROW(colj)-3,""),ROW(F4))),"")} -> béton
B8: {=IFERROR(INDEX(epi,SMALL(IF(colh*1=1,ROW(colh)-3,""),ROW(A5))),"")} -> pantalon, veste | E8: {=IFERROR(INDEX(outil,SMALL(IF(coli*1=1,ROW(coli)-3,""),ROW(D5))),"")} | G8: {=IFERROR(INDEX(Maçonnerie,SMALL(IF(colj*1=1,ROW(colj)-3,""),ROW(F5))),"")} -> Mortier
B9: {=IFERROR(INDEX(epi,SMALL(IF(colh*1=1,ROW(colh)-3,""),ROW(A6))),"")} | E9: {=IFERROR(INDEX(outil,SMALL(IF(coli*1=1,ROW(coli)-3,""),ROW(D6))),"")} | G9: {=IFERROR(INDEX(Maçonnerie,SMALL(IF(colj*1=1,ROW(colj)-3,""),ROW(F6))),"")} -> truelle
B10: {=IFERROR(INDEX(epi,SMALL(IF(colh*1=1,ROW(colh)-3,""),ROW(A7))),"")} | E10: {=IFERROR(INDEX(outil,SMALL(IF(coli*1=1,ROW(coli)-3,""),ROW(D7))),"")} | G10: {=IFERROR(INDEX(Maçonnerie,SMALL(IF(colj*1=1,ROW(colj)-3,""),ROW(F7))),"")} -> balais
B11: {=IFERROR(INDEX(epi,SMALL(IF(colh*1=1,ROW(colh)-3,""),ROW(A8))),"")} | E11: {=IFERROR(INDEX(outil,SMALL(IF(coli*1=1,ROW(coli)-3,""),ROW(D8))),"")} | G11: {=IFERROR(INDEX(Maçonnerie,SMALL(IF(colj*1=1,ROW(colj)-3,""),ROW(F8))),"")}
B12: {=IFERROR(INDEX(epi,SMALL(IF(colh*1=1,ROW(colh)-3,""),ROW(A9))),"")} | E12: {=IFERROR(INDEX(outil,SMALL(IF(coli*1=1,ROW(coli)-3,""),ROW(D9))),"")} | G12: {=IFERROR(INDEX(Maçonnerie,SMALL(IF(colj*1=1,ROW(colj)-3,""),ROW(F9))),"")}
E13: {=IFERROR(INDEX(outil,SMALL(IF(coli*1=1,ROW(coli)-3,""),ROW(D10))),"")} | G13: {=IFERROR(INDEX(Maçonnerie,SMALL(IF(colj*1=1,ROW(colj)-3,""),ROW(F10))),"")}
E14: {=IFERROR(INDEX(outil,SMALL(IF(coli*1=1,ROW(coli)-3,""),ROW(D11))),"")} | G14: {=IFERROR(INDEX(Maçonnerie,SMALL(IF(colj*1=1,ROW(colj)-3,""),ROW(F11))),"")}
B15: =IF(Feuil1!H15=TRUE,Feuil1!B15,"") | E15: {=IFERROR(INDEX(outil,SMALL(IF(coli*1=1,ROW(coli)-3,""),ROW(D12))),"")} | G15: {=IFERROR(INDEX(Maçonnerie,SMALL(IF(colj*1=1,ROW(colj)-3,""),ROW(F12))),"")}
B16: =IF(Feuil1!H16=TRUE,Feuil1!B16,"") | E16: {=IFERROR(INDEX(outil,SMALL(IF(coli*1=1,ROW(coli)-3,""),ROW(D13))),"")} | G16: {=IFERROR(INDEX(Maçonnerie,SMALL(IF(colj*1=1,ROW(colj)-3,""),ROW(F13))),"")}
B17: =IF(Feuil1!H17=TRUE,Feuil1!B17,"") | E17: {=IFERROR(INDEX(outil,SMALL(IF(coli*1=1,ROW(coli)-3,""),ROW(D14))),"")} | G17: {=IFERROR(INDEX(Maçonnerie,SMALL(IF(colj*1=1,ROW(colj)-3,""),ROW(F14))),"")}
B18: =IF(Feuil1!H18=TRUE,Feuil1!B18,"") | E18: {=IFERROR(INDEX(outil,SMALL(IF(coli*1=1,ROW(coli)-3,""),ROW(D15))),"")} | G18: {=IFERROR(INDEX(Maçonnerie,SMALL(IF(colj*1=1,ROW(colj)-3,""),ROW(F15))),"")}
B19: =IF(Feuil1!H19=TRUE,Feuil1!B19,"") | E19: {=IFERROR(INDEX(outil,SMALL(IF(coli*1=1,ROW(coli)-3,""),ROW(D16))),"")} | G19: {=IFERROR(INDEX(Maçonnerie,SMALL(IF(colj*1=1,ROW(colj)-3,""),ROW(F16))),"")}
B20: =IF(Feuil1!H20=TRUE,Feuil1!B20,"") | E20: =IF(Feuil1!I20=TRUE,Feuil1!E20,"")
B21: =IF(Feuil2!H21=TRUE,Feuil1!B21,"")
B22: =IF(Feuil2!H22=TRUE,Feuil1!B22,"")
B23: =IF(Feuil2!H23=TRUE,Feuil1!B23,"")
B24: =IF(Feuil2!H24=TRUE,Feuil1!B24,"")
B25: =IF(Feuil2!H25=TRUE,Feuil1!B25,"")
