Workbook
Name codep: OFFSET(Noms,,2,)
Name commune: OFFSET(Noms,,3,)
Name liste3: OFFSET(Facture!$N$2,,,COUNTIF(Facture!$N:$N,"><"))
Name Listing: Listing!$A$2:$H$501
Name Noms: Listing!$A$2:$A$501
Name Produit: Prestations!$A$1:$B$12
Name rue: OFFSET(Noms,,1,)
Name TitreColonne1: Données[[#Headers],[DESCRIPTION]]
Name TVA: Prestations!#REF!

Sheet Facture
E2: Date : | F2: =TODAY() -> 43491 | N2: {=INDEX(rue,SMALL(IF(Noms=D$7,ROW(rue)-1,""),ROW(A1)))} -> Rue du Sac, 10
E3: N° Devis : | N3: {=INDEX(rue,SMALL(IF(Noms=D$7,ROW(rue)-1,""),ROW(A2)))} -> Rue du Trésor, 73
N4: {=INDEX(rue,SMALL(IF(Noms=D$7,ROW(rue)-1,""),ROW(A3)))} -> #NUM!
N5: {=INDEX(rue,SMALL(IF(Noms=D$7,ROW(rue)-1,""),ROW(A4)))} -> #NUM!
N6: {=INDEX(rue,SMALL(IF(Noms=D$7,ROW(rue)-1,""),ROW(A5)))} -> #NUM!
D7: Dupont Michel | N7: {=INDEX(rue,SMALL(IF(Noms=D$7,ROW(rue)-1,""),ROW(A6)))} -> #NUM!
D8: Rue du Sac, 10 | H8: ◄choisir | N8: {=INDEX(rue,SMALL(IF(Noms=D$7,ROW(rue)-1,""),ROW(A7)))} -> #NUM!
D9: =INDEX(codep&" "&commune,SUMPRODUCT(MAX((D7&D8=Noms&rue)*(ROW(rue)-1)))) -> 1200 Ath | N9: {=INDEX(rue,SMALL(IF(Noms=D$7,ROW(rue)-1,""),ROW(A8)))} -> #NUM!
N10: {=INDEX(rue,SMALL(IF(Noms=D$7,ROW(rue)-1,""),ROW(A9)))} -> #NUM!
N11: {=INDEX(rue,SMALL(IF(Noms=D$7,ROW(rue)-1,""),ROW(A10)))} -> #NUM!
N12: {=INDEX(rue,SMALL(IF(Noms=D$7,ROW(rue)-1,""),ROW(A11)))} -> #NUM!
B13: DESCRIPTION | C13: P.U. | D13: Colonne1 | E13: Quantité | F13: MONTANT HTVA | G13: TVA | N13: {=INDEX(rue,SMALL(IF(Noms=D$7,ROW(rue)-1,""),ROW(A12)))} -> #NUM!
C14: =IFERROR(VLOOKUP(B14,Prestations!A:B,2,0),"") | F14: =IFERROR(Données[[#This Row],[P.U.]]*Données[[#This Row],[Quantité]],"")
C15: =IFERROR(VLOOKUP(B15,Prestations!A:B,2,0),"") | F15: =IFERROR(Données[[#This Row],[P.U.]]*Données[[#This Row],[Quantité]],"")
C21: =IFERROR(VLOOKUP(B21,Prestations!A:B,2,0),"") | F21: =IFERROR(Données[[#This Row],[P.U.]]*Données[[#This Row],[Quantité]],"")
C22: =IFERROR(VLOOKUP(B22,Prestations!A:B,2,0),"") | F22: =IFERROR(Données[[#This Row],[P.U.]]*Données[[#This Row],[Quantité]],"")
C23: =IFERROR(VLOOKUP(B23,Prestations!A:B,2,0),"") | F23: =IFERROR(Données[[#This Row],[P.U.]]*Données[[#This Row],[Quantité]],"")
C24: =IFERROR(VLOOKUP(B24,Prestations!A:B,2,0),"") | F24: =IFERROR(Données[[#This Row],[P.U.]]*Données[[#This Row],[Quantité]],"")
C25: SOUS-TOTAL | E25: HTVA | F25: =SUM(F14:F24) -> 0
C26: TVA 6% | E26: =SUMIF(Données[TVA],6,Données[MONTANT HTVA]) -> 0 | F26: =SUMIF(Données[TVA],6,Données[MONTANT HTVA])*0.06 -> 0
C27: TVA 21% | E27: =SUMIF(Données[TVA],21,Données[MONTANT HTVA]) -> 0 | F27: =SUMIF(Données[TVA],21,Données[MONTANT HTVA])*0.21 -> 0
C28: AUTRE | F28: 0
C29: TOTAL TTC | F29: =SUM(F25:F28) -> 0
B32: Veuillez payer avant le : | C32: =F2+14 -> 43505

Sheet Prestations
A1: Arbuste | B1: 7
A2: Bellis | B2: 0.7
A3: Euphorbe | B3: 1.5
A4: Evacuation de décombre (m³) | B4: 60
A5: Gold Crest | B5: 3
A6: Main d'œuvre + déplacement (1 pers/h) | B6: 35
A7: Main d'œuvre + déplacement (2 pers/h) | B7: 70
A8: Pensée | B8: 0.8
A9: Pose et Fourniture
A10: Primevère | B10: 0.8
A11: Skimmia | B11: 3
A12: Terreau | B12: 15

Sheet Listing
A1: Nom | B1: Rue | C1: CP | D1: Commune | I1: TVA - BE | J1: Fax
A2: Dubois | B2: Av de la quime 29 | C2: 1640 | D2: Rhode-Saint-Genèse
A3: Duijs Pol | B3: av Georges Bergman 11 | C3: 1150 | D3: Woluwé St Pierre
A4: Dupoigne Mme | B4: Av des mesanges 3 | C4: 1410 | D4: Waterloo
A5: Dupont Michel | B5: Rue du Sac, 10 | C5: 1200 | D5: Ath
A6: Dupont Michel | B6: Rue du Trésor, 73 | C6: 1810 | D6: Bruges
A7: Dupuis Gaetan | B7: av grande jonction 7 | C7: 1420 | D7: Braine-l'Alleud
A8: Dusepulchre Mr | B8: Rue armand anciaux 6 | C8: 1474 | D8: Ways
A9: Franck Mr | B9: av general baron empain 39 | C9: 1150 | D9: Woluwé St Pierre
A10: Franco Gilda | B10: rue du merlot 88 | C10: 1180 | D10: Uccle
