Workbook
Name bdd: param!$C$10:$H$14
Name bdpot: OFFSET(param!$L$1:$N$1,,,ROWS(listeclient))
Name CA_mois: 'Lundi '!$H$4
Name CAMOIS: 'Info clients'!$N$1:$X$1
Name codeclient: OFFSET(coldept,,-13,)
Name coldept: 'Info clients'!$N$2:$N$108
Name indexmois: 'Info clients'!$N$1:$X$1
Name joursem: param!$C$2:$H$6
Name listeclient: OFFSET(param!$L$1,,,COUNTIF(param!$L:$L,">0"))
Name mois: param!$J$1:$J$12
Name potentielannu: OFFSET(coldept,,-7,)

Sheet Info clients
A1: Code Client | B1: Nom | C1: Code Postal | D1: Commune | E1: Branche | F1: CA 12 mois tournant | G1: Potentiel annuel | H1: Per Capita Mensuel | I1: Ligne de vente | J1: Profile | K1: CA à date | L1: Client acheteur 12 m | M1: Client "00" | N1: janvier | O1: février | P1: mars | Q1: avril | R1: mai | S1: juin | T1: juillet | U1: août | V1: septembre | W1: octobre | X1: novembre | Y1: Code Client
A2: 11475 | F2: 0 | G2: 2000 | H2: 0 | J2: C1 | K2: 0 | L2: 0 | M2: 1 | N2: 2 | Y2: 11475 | Z2: =SUM(N2:X2) -> 2
A3: 24619 | F3: 0 | G3: 2000 | H3: 0 | J3: C1 | K3: 0 | L3: 0 | M3: 1 | N3: 250 | Y3: 24619 | Z3: =SUM(N3:X3) -> 250
A4: 92193 | F4: 215 | G4: 7285 | H4: 18 | J4: C2 | K4: 0 | L4: 1 | M4: 0 | Y4: 92193 | Z4: =SUM(N4:X4) -> 0
A5: 106358 | B5: tulipe | F5: 1286 | G5: 6714 | H5: 107 | J5: C2 | K5: 169 | L5: 1 | M5: 0 | N5: 35 | Y5: 106358 | Z5: =SUM(N5:X5) -> 35
A6: 138767 | F6: 286 | G6: 2714 | H6: 24 | J6: C1 | K6: 171 | L6: 1 | M6: 0 | Y6: 138767 | Z6: =SUM(N6:X6) -> 0
A7: 176853 | F7: 0 | G7: 2000 | H7: 0 | J7: C2 | K7: 0 | L7: 0 | M7: 1 | Y7: 176853 | Z7: =SUM(N7:X7) -> 0
A8: 235241 | F8: 0 | G8: 2000 | H8: 0 | J8: C1 | K8: 0 | L8: 0 | M8: 1 | N8: 8 | Y8: 235241 | Z8: =SUM(N8:X8) -> 8
A9: 312675 | F9: 0 | G9: 2000 | H9: 0 | J9: C1 | K9: 0 | L9: 0 | M9: 1 | Y9: 312675 | Z9: =SUM(N9:X9) -> 0
A10: 312771 | F10: 474 | G10: 8526 | H10: 40 | J10: C2 | K10: 0 | L10: 1 | M10: 0 | Y10: 312771 | Z10: =SUM(N10:X10) -> 0
A11: 314528 | F11: 0 | G11: 2000 | H11: 0 | J11: C2 | K11: 0 | L11: 0 | M11: 1 | N11: 24 | Y11: 314528 | Z11: =SUM(N11:X11) -> 24
A12: 314534 | F12: 500 | G12: 5500 | H12: 42 | J12: C2 | K12: 0 | L12: 1 | M12: 0 | Y12: 314534 | Z12: =SUM(N12:X12) -> 0
A13: 315598 | F13: 714 | G13: 5286 | H13: 60 | J13: C2 | K13: 0 | L13: 1 | M13: 0 | Y13: 315598 | Z13: =SUM(N13:X13) -> 0
A14: 315733 | F14: 796 | G14: 8204 | H14: 66 | J14: C2 | K14: 382 | L14: 1 | M14: 0 | Y14: 315733 | Z14: =SUM(N14:X14) -> 0
A15: 315759 | F15: 0 | G15: 2000 | H15: 0 | J15: C1 | K15: 0 | L15: 0 | M15: 1 | N15: 587 | Y15: 315759 | Z15: =SUM(N15:X15) -> 587
A16: 315765 | F16: 0 | G16: 2000 | H16: 0 | J16: C1 | K16: 0 | L16: 0 | M16: 1 | Y16: 315765 | Z16: =SUM(N16:X16) -> 0
A17: 316079 | F17: 0 | G17: 2000 | H17: 0 | J17: C1 | K17: 0 | L17: 0 | M17: 1 | N17: 234 | Y17: 316079 | Z17: =SUM(N17:X17) -> 234
A18: 316094 | F18: 764 | G18: 5236 | H18: 64 | J18: C2 | K18: 0 | L18: 1 | M18: 0 | Y18: 316094 | Z18: =SUM(N18:X18) -> 0
A19: 316174 | F19: 0 | G19: 2000 | H19: 0 | J19: C2 | K19: 0 | L19: 0 | M19: 1 | Y19: 316174 | Z19: =SUM(N19:X19) -> 0
A20: 316272 | F20: 1605 | G20: 6395 | H20: 134 | J20: C2 | K20: 958 | L20: 1 | M20: 0 | Y20: 316272 | Z20: =SUM(N20:X20) -> 0
A21: 316284 | F21: 88 | G21: 15912 | H21: 7 | J21: C2 | K21: 43 | L21: 1 | M21: 0 | Y21: 316284 | Z21: =SUM(N21:X21) -> 0
A22: 316307 | F22: 0 | G22: 2000 | H22: 0 | J22: C1 | K22: 0 | L22: 0 | M22: 1 | Y22: 316307 | Z22: =SUM(N22:X22) -> 0
A23: 316346 | F23: 973 | G23: 3027 | H23: 81 | J23: C2 | K23: 163 | L23: 1 | M23: 0 | Y23: 316346 | Z23: =SUM(N23:X23) -> 0
A24: 316583 | F24: 0 | G24: 2000 | H24: 0 | J24: C2 | K24: 0 | L24: 0 | M24: 1 | Y24: 316583 | Z24: =SUM(N24:X24) -> 0
A25: 316610 | F25: 655 | G25: 11345 | H25: 55 | J25: C2 | K25: 157 | L25: 1 | M25: 0 | Y25: 316610 | Z25: =SUM(N25:X25) -> 0
A26: 316616 | F26: 145 | G26: 8855 | H26: 12 | J26: C2 | K26: 0 | L26: 1 | M26: 0 | Y26: 316616 | Z26: =SUM(N26:X26) -> 0
A27: 316758 | F27: 0 | G27: 2000 | H27: 0 | J27: C1 | K27: 0 | L27: 0 | M27: 1 | Y27: 316758 | Z27: =SUM(N27:X27) -> 0
A28: 316761 | F28: 0 | G28: 2000 | H28: 0 | J28: C1 | K28: 0 | L28: 0 | M28: 1 | Y28: 316761 | Z28: =SUM(N28:X28) -> 0
A29: 316824 | F29: 0 | G29: 2000 | H29: 0 | J29: C1 | K29: 0 | L29: 0 | M29: 1 | Y29: 316824 | Z29: =SUM(N29:X29) -> 0
... A108: 725238 | F108: 18 | G108: 5982 | H108: 2 | J108: C2 | K108: 18 | L108: 1 | M108: 0 | Y108: 725238 | Z108: =SUM(N108:X108) -> 0
F109: 35506 | K109: 8279 | L109: =SUM(L2:L108) -> 58 | M109: =SUM(M2:M108) -> 49

Sheet Lundi 
A1: janvier | B1: tu choisis le mois ; c'est tout le tablo se complete en fonction du n°de compte permi; a condition que tu ais saisi qque chose dans le mois de info client
A3: =INDEX(joursem,SUMPRODUCT(MAX((bdd=SMALL(bdd,1))*ROW(bdd)-9)),SUMPRODUCT(MAX((bdd=SMALL(bdd,1))*COLUMN(bdd)-2))) -> lundi S 2
A4: n° compte | B4: Nom | C4: adresse | D4: ville | E4: orsy | F4: grand compte | G4: potentiel | H4: mois select | I4: CA 12M
A5: 11475 | B5: =IF(ISNUMBER(A5),VLOOKUP(A5,'Info clients'!$A:$B,2,FALSE),"") -> 0 | G5: =IF($A5="","",VLOOKUP($A5,bdpot,2,0)) -> 2000 | H5: =IF($A5="","",VLOOKUP($A5,bdpot,3,0)) -> 2
A6: 106358 | B6: =IF(ISNUMBER(A6),VLOOKUP(A6,'Info clients'!$A:$B,2,FALSE),"") -> tulipe | G6: =IF(A6="","",VLOOKUP(A6,bdpot,2,0)) -> 6714 | H6: =IF($A6="","",VLOOKUP($A6,bdpot,3,0)) -> 35
B7: =IF(ISNUMBER(A7),VLOOKUP(A7,'Info clients'!$A:$B,2,FALSE),"") | G7: =IF(A7="","",VLOOKUP(A7,bdpot,2,0)) | H7: =IF($A7="","",VLOOKUP($A7,bdpot,3,0))
B8: =IF(ISNUMBER(A8),VLOOKUP(A8,'Info clients'!$A:$B,2,FALSE),"") | G8: =IF(A8="","",VLOOKUP(A8,bdpot,2,0)) | H8: =IF($A8="","",VLOOKUP($A8,bdpot,3,0))
A9: 314528 | B9: =IF(ISNUMBER(A9),VLOOKUP(A9,'Info clients'!$A:$B,2,FALSE),"") -> 0 | G9: =IF(A9="","",VLOOKUP(A9,bdpot,2,0)) -> 2000 | H9: =IF($A9="","",VLOOKUP($A9,bdpot,3,0)) -> 24
B10: =IF(ISNUMBER(A10),VLOOKUP(A10,'Info clients'!$A:$B,2,FALSE),"") | G10: =IF(A10="","",VLOOKUP(A10,bdpot,2,0)) | H10: =IF($A10="","",VLOOKUP($A10,bdpot,3,0))
B11: =IF(ISNUMBER(A11),VLOOKUP(A11,'Info clients'!$A:$B,2,FALSE),"") | G11: =IF(A11="","",VLOOKUP(A11,bdpot,2,0)) | H11: =IF($A11="","",VLOOKUP($A11,bdpot,3,0))
B12: =IF(ISNUMBER(A12),VLOOKUP(A12,'Info clients'!$A:$B,2,FALSE),"") | G12: =IF(A12="","",VLOOKUP(A12,bdpot,2,0)) | H12: =IF($A12="","",VLOOKUP($A12,bdpot,3,0))
B13: =IF(ISNUMBER(A13),VLOOKUP(A13,'Info clients'!$A:$B,2,FALSE),"") | G13: =IF(A13="","",VLOOKUP(A13,bdpot,2,0)) | H13: =IF($A13="","",VLOOKUP($A13,bdpot,3,0))
B14: =IF(ISNUMBER(A14),VLOOKUP(A14,'Info clients'!$A:$B,2,FALSE),"") | G14: =IF(A14="","",VLOOKUP(A14,bdpot,2,0)) | H14: =IF($A14="","",VLOOKUP($A14,bdpot,3,0))
A15: 235241 | B15: =IF(ISNUMBER(A15),VLOOKUP(A15,'Info clients'!$A:$B,2,FALSE),"") -> 0 | G15: =IF(A15="","",VLOOKUP(A15,bdpot,2,0)) -> 2000 | H15: =IF($A15="","",VLOOKUP($A15,bdpot,3,0)) -> 8
B16: =IF(ISNUMBER(A16),VLOOKUP(A16,'Info clients'!$A:$B,2,FALSE),"") | G16: =IF(A16="","",VLOOKUP(A16,bdpot,2,0)) | H16: =IF($A16="","",VLOOKUP($A16,bdpot,3,0))
B17: =IF(ISNUMBER(A17),VLOOKUP(A17,'Info clients'!$A:$B,2,FALSE),"") | G17: =IF(A17="","",VLOOKUP(A17,bdpot,2,0)) | H17: =IF($A17="","",VLOOKUP($A17,bdpot,3,0))
B18: =IF(ISNUMBER(A18),VLOOKUP(A18,'Info clients'!$A:$B,2,FALSE),"") | G18: =IF(A18="","",VLOOKUP(A18,bdpot,2,0)) | H18: =IF($A18="","",VLOOKUP($A18,bdpot,3,0))
B19: =IF(ISNUMBER(A19),VLOOKUP(A19,'Info clients'!$A:$B,2,FALSE),"") | G19: =IF(A19="","",VLOOKUP(A19,bdpot,2,0)) | H19: =IF($A19="","",VLOOKUP($A19,bdpot,3,0))
B20: =IF(ISNUMBER(A20),VLOOKUP(A20,'Info clients'!$A:$B,2,FALSE),"") | I20: =IF(ISNUMBER(A20),VLOOKUP(A20,'Info clients'!$Y:$Z,2,FALSE),"")
B21: =IF(ISNUMBER(A21),VLOOKUP(A21,'Info clients'!$A:$B,2,FALSE),"") | I21: =IF(ISNUMBER(A21),VLOOKUP(A21,'Info clients'!$Y:$Z,2,FALSE),"")
B22: =IF(ISNUMBER(A22),VLOOKUP(A22,'Info clients'!$A:$B,2,FALSE),"") | I22: =IF(ISNUMBER(A22),VLOOKUP(A22,'Info clients'!$Y:$Z,2,FALSE),"")
B23: =IF(ISNUMBER(A23),VLOOKUP(A23,'Info clients'!$A:$B,2,FALSE),"") | I23: =IF(ISNUMBER(A23),VLOOKUP(A23,'Info clients'!$Y:$Z,2,FALSE),"")
B24: =IF(ISNUMBER(A24),VLOOKUP(A24,'Info clients'!$A:$B,2,FALSE),"") | I24: =IF(ISNUMBER(A24),VLOOKUP(A24,'Info clients'!$Y:$Z,2,FALSE),"")
B25: =IF(ISNUMBER(A25),VLOOKUP(A25,'Info clients'!$A:$B,2,FALSE),"") | I25: =IF(ISNUMBER(A25),VLOOKUP(A25,'Info clients'!$Y:$Z,2,FALSE),"")
B26: =IF(ISNUMBER(A26),VLOOKUP(A26,'Info clients'!$A:$B,2,FALSE),"") | I26: =IF(ISNUMBER(A26),VLOOKUP(A26,'Info clients'!$Y:$Z,2,FALSE),"")
B27: =IF(ISNUMBER(A27),VLOOKUP(A27,'Info clients'!$A:$B,2,FALSE),"") | I27: =IF(ISNUMBER(A27),VLOOKUP(A27,'Info clients'!$Y:$Z,2,FALSE),"")
B28: =IF(ISNUMBER(A28),VLOOKUP(A28,'Info clients'!$A:$B,2,FALSE),"") | I28: =IF(ISNUMBER(A28),VLOOKUP(A28,'Info clients'!$Y:$Z,2,FALSE),"")
B29: =IF(ISNUMBER(A29),VLOOKUP(A29,'Info clients'!$A:$B,2,FALSE),"") | I29: =IF(ISNUMBER(A29),VLOOKUP(A29,'Info clients'!$Y:$Z,2,FALSE),"")
A30: =INDEX(joursem,SUMPRODUCT(MAX((bdd=SMALL(bdd,2))*ROW(bdd)-9)),SUMPRODUCT(MAX((bdd=SMALL(bdd,2))*COLUMN(bdd)-2))) -> lundi S 3
A31: n° compte | B31: Nom | C31: adresse | D31: ville | E31: orsy | F31: grand compte | G31: potentiel | H31: CA mois | I31: CA 12M
B32: =IF(ISNUMBER(A32),VLOOKUP(A32,'Info clients'!$A:$B,2,FALSE),"") | G32: =IF($A32="","",VLOOKUP($A32,bdpot,2,0)) | H32: =IF($A32="","",VLOOKUP($A32,bdpot,3,0)) | I32: =IF(ISNUMBER(A32),VLOOKUP(A32,'Info clients'!$Y:$Z,2,FALSE),"")
B33: =IF(ISNUMBER(A33),VLOOKUP(A33,'Info clients'!$A:$B,2,FALSE),"") | G33: =IF(A33="","",VLOOKUP(A33,bdpot,2,0)) | H33: =IF($A33="","",VLOOKUP($A33,bdpot,3,0)) | I33: =IF(ISNUMBER(A33),VLOOKUP(A33,'Info clients'!$Y:$Z,2,FALSE),"")
B34: =IF(ISNUMBER(A34),VLOOKUP(A34,'Info clients'!$A:$B,2,FALSE),"") | G34: =IF(A34="","",VLOOKUP(A34,bdpot,2,0)) | H34: =IF($A34="","",VLOOKUP($A34,bdpot,3,0)) | I34: =IF(ISNUMBER(A34),VLOOKUP(A34,'Info clients'!$Y:$Z,2,FALSE),"")
A35: 314528 | B35: =IF(ISNUMBER(A35),VLOOKUP(A35,'Info clients'!$A:$B,2,FALSE),"") -> 0 | G35: =IF(A35="","",VLOOKUP(A35,bdpot,2,0)) -> 2000 | H35: =IF($A35="","",VLOOKUP($A35,bdpot,3,0)) -> 24 | I35: =IF(ISNUMBER(A35),VLOOKUP(A35,'Info clients'!$Y:$Z,2,FALSE),"") -> 24
B36: =IF(ISNUMBER(A36),VLOOKUP(A36,'Info clients'!$A:$B,2,FALSE),"") | G36: =IF(A36="","",VLOOKUP(A36,bdpot,2,0)) | H36: =IF($A36="","",VLOOKUP($A36,bdpot,3,0)) | I36: =IF(ISNUMBER(A36),VLOOKUP(A36,'Info clients'!$Y:$Z,2,FALSE),"")
B37: =IF(ISNUMBER(A37),VLOOKUP(A37,'Info clients'!$A:$B,2,FALSE),"") | G37: =IF(A37="","",VLOOKUP(A37,bdpot,2,0)) | H37: =IF($A37="","",VLOOKUP($A37,bdpot,3,0)) | I37: =IF(ISNUMBER(A37),VLOOKUP(A37,'Info clients'!$Y:$Z,2,FALSE),"")
B38: =IF(ISNUMBER(A38),VLOOKUP(A38,'Info clients'!$A:$B,2,FALSE),"") | G38: =IF(A38="","",VLOOKUP(A38,bdpot,2,0)) | H38: =IF($A38="","",VLOOKUP($A38,bdpot,3,0)) | I38: =IF(ISNUMBER(A38),VLOOKUP(A38,'Info clients'!$Y:$Z,2,FALSE),"")
B39: =IF(ISNUMBER(A39),VLOOKUP(A39,'Info clients'!$A:$B,2,FALSE),"") | G39: =IF(A39="","",VLOOKUP(A39,bdpot,2,0)) | H39: =IF($A39="","",VLOOKUP($A39,bdpot,3,0)) | I39: =IF(ISNUMBER(A39),VLOOKUP(A39,'Info clients'!$Y:$Z,2,FALSE),"")
B40: =IF(ISNUMBER(A40),VLOOKUP(A40,'Info clients'!$A:$B,2,FALSE),"") | G40: =IF(A40="","",VLOOKUP(A40,bdpot,2,0)) | H40: =IF($A40="","",VLOOKUP($A40,bdpot,3,0)) | I40: =IF(ISNUMBER(A40),VLOOKUP(A40,'Info clients'!$Y:$Z,2,FALSE),"")
B41: =IF(ISNUMBER(A41),VLOOKUP(A41,'Info clients'!$A:$B,2,FALSE),"") | G41: =IF(A41="","",VLOOKUP(A41,bdpot,2,0)) | H41: =IF($A41="","",VLOOKUP($A41,bdpot,3,0)) | I41: =IF(ISNUMBER(A41),VLOOKUP(A41,'Info clients'!$Y:$Z,2,FALSE),"")
...

Sheet param
A1: =TEXT("01"&"/"&'Lundi '!A1&"/"&2016,"jj/mm/aaaa")*1 -> 42370 | B1: {=WEEKNUM(MAX(IF(WEEKDAY(ROW(INDIRECT(A1&":"&A1+30)))=2,ROW(INDIRECT(A1&":"&A1+30)),"")))} -> 5 | C1: lundi | D1: mardi | E1: mercredi | F1: jeudi | G1: vendredi | H1: samedi | J1: janvier | L1: {=INDEX(codeclient,SMALL(IF(OFFSET(coldept,,MATCH(MONTH($A$1),MONTH("01/"&indexmois),0)-1)<>"",ROW(coldept)-1,""),ROW(A1)))} -> 11475 | M1: {=INDEX(potentielannu,SMALL(IF(OFFSET(coldept,,MATCH(MONTH($A$1),MONTH("01/"&indexmois),0)-1)<>"",ROW(coldept)-1,""),ROW(B1)))} -> 2000 | N1: {=INDEX(OFFSET(coldept,,MATCH(MONTH($A$1),MONTH("01/"&indexmois),0)-1,),SMALL(IF(OFFSET(coldept,,MATCH(MONTH($A$1),MONTH("01/"&indexmois),0)-1)>0,ROW(coldept)-1,""),ROW(A1)))} -> 2
B2: {=MIN(IF(WEEKDAY(ROW(INDIRECT(A1&":"&A1+31)))=2,ROW(INDIRECT(A1&":"&A1+31)),""))} -> 42373 | C2: {=IF(MONTH($B1+7)>MONTH(B1),"",TEXT($B2,"jjjjj")&" S "&WEEKNUM($B2,1))} -> lundi S 2 | D2: =IF(MONTH($B1+8)>MONTH($B1),"",TEXT($B2+1,"jjjjj")&" S "&WEEKNUM($B2,1)) -> mardi S 2 | E2: =IF(MONTH($B1+8)>MONTH($B1),"",TEXT($B2+2,"jjjjj")&" S "&WEEKNUM($B2,1)) -> mercredi S 2 | F2: =IF(MONTH($B1+8)>MONTH($B1),"",TEXT($B2+3,"jjjjj")&" S "&WEEKNUM($B2,1)) -> jeudi S 2 | G2: =IF(MONTH($B1+8)>MONTH($B1),"",TEXT($B2+4,"jjjjj")&" S "&WEEKNUM($B2,1)) -> vendredi S 2 | H2: =IF(WEEKNUM($B2,1)>$B$1,"",TEXT($B2+5,"jjjjj")&" S "&WEEKNUM($B2,1)) -> samedi S 2 | J2: février | L2: {=INDEX(codeclient,SMALL(IF(OFFSET(coldept,,MATCH(MONTH(A$1),MONTH("01/"&indexmois),0)-1)<>"",ROW(coldept)-1,""),ROW(A2)))} -> 24619 | M2: {=INDEX(potentielannu,SMALL(IF(OFFSET(coldept,,MATCH(MONTH($A$1),MONTH("01/"&indexmois),0)-1)<>"",ROW(coldept)-1,""),ROW(B2)))} -> 2000 | N2: {=INDEX(OFFSET(coldept,,MATCH(MONTH($A$1),MONTH("01/"&indexmois),0)-1,),SMALL(IF(OFFSET(coldept,,MATCH(MONTH($A$1),MONTH("01/"&indexmois),0)-1)>0,ROW(coldept)-1,""),ROW(A2)))} -> 250
B3: =B2+7 -> 42380 | C3: {=IF(MONTH($B2+7)>MONTH(B2),"",TEXT($B3,"jjjjj")&" S "&WEEKNUM($B3,1))} -> lundi S 3 | D3: =IF(MONTH($B2+8)>MONTH($B2),"",TEXT($B3+1,"jjjjj")&" S "&WEEKNUM($B3,1)) -> mardi S 3 | E3: =IF(MONTH($B2+8)>MONTH($B2),"",TEXT($B3+2,"jjjjj")&" S "&WEEKNUM($B3,1)) -> mercredi S 3 | F3: =IF(MONTH($B2+8)>MONTH($B2),"",TEXT($B3+3,"jjjjj")&" S "&WEEKNUM($B3,1)) -> jeudi S 3 | G3: =IF(MONTH($B2+8)>MONTH($B2),"",TEXT($B3+4,"jjjjj")&" S "&WEEKNUM($B3,1)) -> vendredi S 3 | H3: =IF(WEEKNUM($B3,1)>$B$1,"",TEXT($B3+5,"jjjjj")&" S "&WEEKNUM($B3,1)) -> samedi S 3 | J3: mars | L3: {=INDEX(codeclient,SMALL(IF(OFFSET(coldept,,MATCH(MONTH(A$1),MONTH("01/"&indexmois),0)-1)<>"",ROW(coldept)-1,""),ROW(A3)))} -> 106358 | M3: {=INDEX(potentielannu,SMALL(IF(OFFSET(coldept,,MATCH(MONTH($A$1),MONTH("01/"&indexmois),0)-1)<>"",ROW(coldept)-1,""),ROW(B3)))} -> 6714 | N3: {=INDEX(OFFSET(coldept,,MATCH(MONTH($A$1),MONTH("01/"&indexmois),0)-1,),SMALL(IF(OFFSET(coldept,,MATCH(MONTH($A$1),MONTH("01/"&indexmois),0)-1)>0,ROW(coldept)-1,""),ROW(A3)))} -> 35
B4: =B3+7 -> 42387 | C4: {=IF(MONTH($B3+7)>MONTH(B3),"",TEXT($B4,"jjjjj")&" S "&WEEKNUM($B4,1))} -> lundi S 4 | D4: =IF(MONTH($B3+8)>MONTH($B3),"",TEXT($B4+1,"jjjjj")&" S "&WEEKNUM($B4,1)) -> mardi S 4 | E4: =IF(MONTH($B3+8)>MONTH($B3),"",TEXT($B4+2,"jjjjj")&" S "&WEEKNUM($B4,1)) -> mercredi S 4 | F4: =IF(MONTH($B3+8)>MONTH($B3),"",TEXT($B4+3,"jjjjj")&" S "&WEEKNUM($B4,1)) -> jeudi S 4 | G4: =IF(MONTH($B3+8)>MONTH($B3),"",TEXT($B4+4,"jjjjj")&" S "&WEEKNUM($B4,1)) -> vendredi S 4 | H4: =IF(WEEKNUM($B4,1)>$B$1,"",TEXT($B4+5,"jjjjj")&" S "&WEEKNUM($B4,1)) -> samedi S 4 | J4: avril | L4: {=INDEX(codeclient,SMALL(IF(OFFSET(coldept,,MATCH(MONTH(A$1),MONTH("01/"&indexmois),0)-1)<>"",ROW(coldept)-1,""),ROW(A4)))} -> 235241 | M4: {=INDEX(potentielannu,SMALL(IF(OFFSET(coldept,,MATCH(MONTH($A$1),MONTH("01/"&indexmois),0)-1)<>"",ROW(coldept)-1,""),ROW(B4)))} -> 2000 | N4: {=INDEX(OFFSET(coldept,,MATCH(MONTH($A$1),MONTH("01/"&indexmois),0)-1,),SMALL(IF(OFFSET(coldept,,MATCH(MONTH($A$1),MONTH("01/"&indexmois),0)-1)>0,ROW(coldept)-1,""),ROW(A4)))} -> 8
B5: =B4+7 -> 42394 | C5: {=IF(MONTH($B4+7)>MONTH(B4),"",TEXT($B5,"jjjjj")&" S "&WEEKNUM($B5,1))} -> lundi S 5 | D5: =IF(MONTH($B4+8)>MONTH($B4),"",TEXT($B5+1,"jjjjj")&" S "&WEEKNUM($B5,1)) -> mardi S 5 | E5: =IF(MONTH($B4+9)>MONTH($B4),"",TEXT($B5+2,"jjjjj")&" S "&WEEKNUM($B5,1)) -> mercredi S 5 | F5: =IF(MONTH($B4+10)>MONTH($B4),"",TEXT($B5+3,"jjjjj")&" S "&WEEKNUM($B5,1)) -> jeudi S 5 | G5: =IF(MONTH($B4+11)>MONTH($B4),"",TEXT($B5+4,"jjjjj")&" S "&WEEKNUM($B5,1)) -> vendredi S 5 | H5: =IF(MONTH($B4+12)>MONTH($B4),"",TEXT($B5+5,"jjjjj")&" S "&WEEKNUM($B5,1)) -> samedi S 5 | J5: mai | L5: {=INDEX(codeclient,SMALL(IF(OFFSET(coldept,,MATCH(MONTH(A$1),MONTH("01/"&indexmois),0)-1)<>"",ROW(coldept)-1,""),ROW(A5)))} -> 314528 | M5: {=INDEX(potentielannu,SMALL(IF(OFFSET(coldept,,MATCH(MONTH($A$1),MONTH("01/"&indexmois),0)-1)<>"",ROW(coldept)-1,""),ROW(B5)))} -> 2000 | N5: {=INDEX(OFFSET(coldept,,MATCH(MONTH($A$1),MONTH("01/"&indexmois),0)-1,),SMALL(IF(OFFSET(coldept,,MATCH(MONTH($A$1),MONTH("01/"&indexmois),0)-1)>0,ROW(coldept)-1,""),ROW(A5)))} -> 24
B6: =B5+7 -> 42401 | C6: {=IF(MONTH($B5+7)>MONTH(B5),"",TEXT($B6,"jjjjj")&" S "&WEEKNUM($B6,1))} | D6: =IF(MONTH($B5+8)>MONTH($B5),"",TEXT($B6+1,"jjjjj")&" S "&WEEKNUM($B6,1)) | E6: =IF(MONTH($B5+9)>MONTH($B5),"",TEXT($B6+2,"jjjjj")&" S "&WEEKNUM($B6,1)) | F6: =IF(MONTH($B5+10)>MONTH($B5),"",TEXT($B6+3,"jjjjj")&" S "&WEEKNUM($B6,1)) | G6: =IF(MONTH($B5+11)>MONTH($B5),"",TEXT($B6+4,"jjjjj")&" S "&WEEKNUM($B6,1)) | H6: =IF(MONTH($B5+12)>MONTH($B5),"",TEXT($B6,"jjjjj")&" S "&WEEKNUM($B6,1)) | J6: juin | L6: {=INDEX(codeclient,SMALL(IF(OFFSET(coldept,,MATCH(MONTH(A$1),MONTH("01/"&indexmois),0)-1)<>"",ROW(coldept)-1,""),ROW(A6)))} -> 315759 | M6: {=INDEX(potentielannu,SMALL(IF(OFFSET(coldept,,MATCH(MONTH($A$1),MONTH("01/"&indexmois),0)-1)<>"",ROW(coldept)-1,""),ROW(B6)))} -> 2000 | N6: {=INDEX(OFFSET(coldept,,MATCH(MONTH($A$1),MONTH("01/"&indexmois),0)-1,),SMALL(IF(OFFSET(coldept,,MATCH(MONTH($A$1),MONTH("01/"&indexmois),0)-1)>0,ROW(coldept)-1,""),ROW(A6)))} -> 587
J7: juillet | L7: {=INDEX(codeclient,SMALL(IF(OFFSET(coldept,,MATCH(MONTH(A$1),MONTH("01/"&indexmois),0)-1)<>"",ROW(coldept)-1,""),ROW(A7)))} -> 316079 | M7: {=INDEX(potentielannu,SMALL(IF(OFFSET(coldept,,MATCH(MONTH($A$1),MONTH("01/"&indexmois),0)-1)<>"",ROW(coldept)-1,""),ROW(B7)))} -> 2000 | N7: {=INDEX(OFFSET(coldept,,MATCH(MONTH($A$1),MONTH("01/"&indexmois),0)-1,),SMALL(IF(OFFSET(coldept,,MATCH(MONTH($A$1),MONTH("01/"&indexmois),0)-1)>0,ROW(coldept)-1,""),ROW(A7)))} -> 234
J8: août | L8: {=INDEX(codeclient,SMALL(IF(OFFSET(coldept,,MATCH(MONTH(A$1),MONTH("01/"&indexmois),0)-1)<>"",ROW(coldept)-1,""),ROW(A8)))} -> #NUM! | M8: {=INDEX(potentielannu,SMALL(IF(OFFSET(coldept,,MATCH(MONTH($A$1),MONTH("01/"&indexmois),0)-1)<>"",ROW(coldept)-1,""),ROW(B8)))} -> #NUM! | N8: {=INDEX(OFFSET(coldept,,MATCH(MONTH($A$1),MONTH("01/"&indexmois),0)-1,),SMALL(IF(OFFSET(coldept,,MATCH(MONTH($A$1),MONTH("01/"&indexmois),0)-1)>0,ROW(coldept)-1,""),ROW(A8)))} -> #NUM!
J9: septembre | L9: {=INDEX(codeclient,SMALL(IF(OFFSET(coldept,,MATCH(MONTH(A$1),MONTH("01/"&indexmois),0)-1)<>"",ROW(coldept)-1,""),ROW(A9)))} -> #NUM! | M9: {=INDEX(potentielannu,SMALL(IF(OFFSET(coldept,,MATCH(MONTH($A$1),MONTH("01/"&indexmois),0)-1)<>"",ROW(coldept)-1,""),ROW(B9)))} -> #NUM! | N9: {=INDEX(OFFSET(coldept,,MATCH(MONTH($A$1),MONTH("01/"&indexmois),0)-1,),SMALL(IF(OFFSET(coldept,,MATCH(MONTH($A$1),MONTH("01/"&indexmois),0)-1)>0,ROW(coldept)-1,""),ROW(A9)))} -> #NUM!
C10: =IF(C2<>"",ROW(A1)*COLUMNS($A:A),"") -> 1 | D10: =IF(D2="","",MAX($C$10:C14)+IF(D2<>"",ROW(A1),0)) -> 5 | E10: =IF(E2="","",MAX($C$10:D14)+IF(E2<>"",ROW(B1),0)) -> 9 | F10: =IF(F2="","",MAX($C$10:E14)+IF(F2<>"",ROW(C1),0)) -> 13 | G10: =IF(G2="","",MAX($C$10:F14)+IF(G2<>"",ROW(D1),0)) -> 17 | H10: =IF(H2="","",MAX($C$10:G14)+IF(H2<>"",ROW(E1),0)) -> 21 | J10: octobre | L10: {=INDEX(codeclient,SMALL(IF(OFFSET(coldept,,MATCH(MONTH(A$1),MONTH("01/"&indexmois),0)-1)<>"",ROW(coldept)-1,""),ROW(A10)))} -> #NUM! | M10: {=INDEX(potentielannu,SMALL(IF(OFFSET(coldept,,MATCH(MONTH($A$1),MONTH("01/"&indexmois),0)-1)<>"",ROW(coldept)-1,""),ROW(B10)))} -> #NUM! | N10: {=INDEX(OFFSET(coldept,,MATCH(MONTH($A$1),MONTH("01/"&indexmois),0)-1,),SMALL(IF(OFFSET(coldept,,MATCH(MONTH($A$1),MONTH("01/"&indexmois),0)-1)>0,ROW(coldept)-1,""),ROW(A10)))} -> #NUM!
C11: =IF(C3<>"",ROW(A2)*COLUMNS($A:A),"") -> 2 | D11: =IF(D3="","",MAX($C$10:C15)+IF(D3<>"",ROW(A2),0)) -> 6 | E11: =IF(E3="","",MAX($C$10:D15)+IF(E3<>"",ROW(B2),0)) -> 10 | F11: =IF(F3="","",MAX($C$10:E15)+IF(F3<>"",ROW(C2),0)) -> 14 | G11: =IF(G3="","",MAX($C$10:F15)+IF(G3<>"",ROW(D2),0)) -> 18 | H11: =IF(H3="","",MAX($C$10:G15)+IF(H3<>"",ROW(E2),0)) -> 22 | J11: novembre | L11: {=INDEX(codeclient,SMALL(IF(OFFSET(coldept,,MATCH(MONTH(A$1),MONTH("01/"&indexmois),0)-1)<>"",ROW(coldept)-1,""),ROW(A11)))} -> #NUM! | M11: {=INDEX(potentielannu,SMALL(IF(OFFSET(coldept,,MATCH(MONTH($A$1),MONTH("01/"&indexmois),0)-1)<>"",ROW(coldept)-1,""),ROW(B11)))} -> #NUM! | N11: {=INDEX(OFFSET(coldept,,MATCH(MONTH($A$1),MONTH("01/"&indexmois),0)-1,),SMALL(IF(OFFSET(coldept,,MATCH(MONTH($A$1),MONTH("01/"&indexmois),0)-1)>0,ROW(coldept)-1,""),ROW(A11)))} -> #NUM!
C12: =IF(C4<>"",ROW(A3)*COLUMNS($A:A),"") -> 3 | D12: =IF(D4="","",MAX($C$10:C16)+IF(D4<>"",ROW(A3),0)) -> 7 | E12: =IF(E4="","",MAX($C$10:D16)+IF(E4<>"",ROW(B3),0)) -> 11 | F12: =IF(F4="","",MAX($C$10:E16)+IF(F4<>"",ROW(C3),0)) -> 15 | G12: =IF(G4="","",MAX($C$10:F16)+IF(G4<>"",ROW(D3),0)) -> 19 | H12: =IF(H4="","",MAX($C$10:G16)+IF(H4<>"",ROW(E3),0)) -> 23 | J12: décembre | L12: {=INDEX(codeclient,SMALL(IF(OFFSET(coldept,,MATCH(MONTH(A$1),MONTH("01/"&indexmois),0)-1)<>"",ROW(coldept)-1,""),ROW(A12)))} -> #NUM! | M12: {=INDEX(potentielannu,SMALL(IF(OFFSET(coldept,,MATCH(MONTH($A$1),MONTH("01/"&indexmois),0)-1)<>"",ROW(coldept)-1,""),ROW(B12)))} -> #NUM! | N12: {=INDEX(OFFSET(coldept,,MATCH(MONTH($A$1),MONTH("01/"&indexmois),0)-1,),SMALL(IF(OFFSET(coldept,,MATCH(MONTH($A$1),MONTH("01/"&indexmois),0)-1)>0,ROW(coldept)-1,""),ROW(A12)))} -> #NUM!
C13: =IF(C5<>"",ROW(A4)*COLUMNS($A:A),"") -> 4 | D13: =IF(D5="","",MAX($C$10:C17)+IF(D5<>"",ROW(A4),0)) -> 8 | E13: =IF(E5="","",MAX($C$10:D17)+IF(E5<>"",ROW(B4),0)) -> 12 | F13: =IF(F5="","",MAX($C$10:E17)+IF(F5<>"",ROW(C4),0)) -> 16 | G13: =IF(G5="","",MAX($C$10:F17)+IF(G5<>"",ROW(D4),0)) -> 20 | H13: =IF(H5="","",MAX($C$10:G17)+IF(H5<>"",ROW(E4),0)) -> 24 | L13: {=INDEX(codeclient,SMALL(IF(OFFSET(coldept,,MATCH(MONTH(A$1),MONTH("01/"&indexmois),0)-1)<>"",ROW(coldept)-1,""),ROW(A13)))} -> #NUM! | M13: {=INDEX(potentielannu,SMALL(IF(OFFSET(coldept,,MATCH(MONTH($A$1),MONTH("01/"&indexmois),0)-1)<>"",ROW(coldept)-1,""),ROW(B13)))} -> #NUM! | N13: {=INDEX(OFFSET(coldept,,MATCH(MONTH($A$1),MONTH("01/"&indexmois),0)-1,),SMALL(IF(OFFSET(coldept,,MATCH(MONTH($A$1),MONTH("01/"&indexmois),0)-1)>0,ROW(coldept)-1,""),ROW(A13)))} -> #NUM!
C14: =IF(C6<>"",ROW(A5)*COLUMNS($A:A),"") | D14: =IF(D6="","",MAX($C$10:C18)+IF(D6<>"",ROW(A5),0)) | E14: =IF(E6="","",MAX($C$10:D18)+IF(E6<>"",ROW(B5),0)) | F14: =IF(F6="","",MAX($C$10:E18)+IF(F6<>"",ROW(C5),0)) | G14: =IF(G6="","",MAX($C$10:F18)+IF(G6<>"",ROW(D5),0)) | H14: =IF(H6="","",MAX($C$10:G18)+IF(H6<>"",ROW(E5),0)) | L14: {=INDEX(codeclient,SMALL(IF(OFFSET(coldept,,MATCH(MONTH(A$1),MONTH("01/"&indexmois),0)-1)<>"",ROW(coldept)-1,""),ROW(A14)))} -> #NUM! | M14: {=INDEX(potentielannu,SMALL(IF(OFFSET(coldept,,MATCH(MONTH($A$1),MONTH("01/"&indexmois),0)-1)<>"",ROW(coldept)-1,""),ROW(B14)))} -> #NUM! | N14: {=INDEX(OFFSET(coldept,,MATCH(MONTH($A$1),MONTH("01/"&indexmois),0)-1,),SMALL(IF(OFFSET(coldept,,MATCH(MONTH($A$1),MONTH("01/"&indexmois),0)-1)>0,ROW(coldept)-1,""),ROW(A14)))} -> #NUM!
L15: {=INDEX(codeclient,SMALL(IF(OFFSET(coldept,,MATCH(MONTH(A$1),MONTH("01/"&indexmois),0)-1)<>"",ROW(coldept)-1,""),ROW(A15)))} -> #NUM! | M15: {=INDEX(potentielannu,SMALL(IF(OFFSET(coldept,,MATCH(MONTH($A$1),MONTH("01/"&indexmois),0)-1)<>"",ROW(coldept)-1,""),ROW(B15)))} -> #NUM! | N15: {=INDEX(OFFSET(coldept,,MATCH(MONTH($A$1),MONTH("01/"&indexmois),0)-1,),SMALL(IF(OFFSET(coldept,,MATCH(MONTH($A$1),MONTH("01/"&indexmois),0)-1)>0,ROW(coldept)-1,""),ROW(A15)))} -> #NUM!
L16: {=INDEX(codeclient,SMALL(IF(OFFSET(coldept,,MATCH(MONTH(A$1),MONTH("01/"&indexmois),0)-1)<>"",ROW(coldept)-1,""),ROW(A16)))} -> #NUM! | M16: {=INDEX(potentielannu,SMALL(IF(OFFSET(coldept,,MATCH(MONTH($A$1),MONTH("01/"&indexmois),0)-1)<>"",ROW(coldept)-1,""),ROW(B16)))} -> #NUM! | N16: {=INDEX(OFFSET(coldept,,MATCH(MONTH($A$1),MONTH("01/"&indexmois),0)-1,),SMALL(IF(OFFSET(coldept,,MATCH(MONTH($A$1),MONTH("01/"&indexmois),0)-1)>0,ROW(coldept)-1,""),ROW(A16)))} -> #NUM!
L17: {=INDEX(codeclient,SMALL(IF(OFFSET(coldept,,MATCH(MONTH(A$1),MONTH("01/"&indexmois),0)-1)<>"",ROW(coldept)-1,""),ROW(A17)))} -> #NUM! | M17: {=INDEX(potentielannu,SMALL(IF(OFFSET(coldept,,MATCH(MONTH($A$1),MONTH("01/"&indexmois),0)-1)<>"",ROW(coldept)-1,""),ROW(B17)))} -> #NUM! | N17: {=INDEX(OFFSET(coldept,,MATCH(MONTH($A$1),MONTH("01/"&indexmois),0)-1,),SMALL(IF(OFFSET(coldept,,MATCH(MONTH($A$1),MONTH("01/"&indexmois),0)-1)>0,ROW(coldept)-1,""),ROW(A17)))} -> #NUM!
L18: {=INDEX(codeclient,SMALL(IF(OFFSET(coldept,,MATCH(MONTH(A$1),MONTH("01/"&indexmois),0)-1)<>"",ROW(coldept)-1,""),ROW(A18)))} -> #NUM! | M18: {=INDEX(potentielannu,SMALL(IF(OFFSET(coldept,,MATCH(MONTH($A$1),MONTH("01/"&indexmois),0)-1)<>"",ROW(coldept)-1,""),ROW(B18)))} -> #NUM! | N18: {=INDEX(OFFSET(coldept,,MATCH(MONTH($A$1),MONTH("01/"&indexmois),0)-1,),SMALL(IF(OFFSET(coldept,,MATCH(MONTH($A$1),MONTH("01/"&indexmois),0)-1)>0,ROW(coldept)-1,""),ROW(A18)))} -> #NUM!
L19: {=INDEX(codeclient,SMALL(IF(OFFSET(coldept,,MATCH(MONTH(A$1),MONTH("01/"&indexmois),0)-1)<>"",ROW(coldept)-1,""),ROW(A19)))} -> #NUM! | M19: {=INDEX(potentielannu,SMALL(IF(OFFSET(coldept,,MATCH(MONTH($A$1),MONTH("01/"&indexmois),0)-1)<>"",ROW(coldept)-1,""),ROW(B19)))} -> #NUM! | N19: {=INDEX(OFFSET(coldept,,MATCH(MONTH($A$1),MONTH("01/"&indexmois),0)-1,),SMALL(IF(OFFSET(coldept,,MATCH(MONTH($A$1),MONTH("01/"&indexmois),0)-1)>0,ROW(coldept)-1,""),ROW(A19)))} -> #NUM!
L20: {=INDEX(codeclient,SMALL(IF(OFFSET(coldept,,MATCH(MONTH(A$1),MONTH("01/"&indexmois),0)-1)<>"",ROW(coldept)-1,""),ROW(A20)))} -> #NUM! | M20: {=INDEX(potentielannu,SMALL(IF(OFFSET(coldept,,MATCH(MONTH($A$1),MONTH("01/"&indexmois),0)-1)<>"",ROW(coldept)-1,""),ROW(B20)))} -> #NUM! | N20: {=INDEX(OFFSET(coldept,,MATCH(MONTH($A$1),MONTH("01/"&indexmois),0)-1,),SMALL(IF(OFFSET(coldept,,MATCH(MONTH($A$1),MONTH("01/"&indexmois),0)-1)>0,ROW(coldept)-1,""),ROW(A20)))} -> #NUM!
L21: {=INDEX(codeclient,SMALL(IF(OFFSET(coldept,,MATCH(MONTH(A$1),MONTH("01/"&indexmois),0)-1)<>"",ROW(coldept)-1,""),ROW(A21)))} -> #NUM! | M21: {=INDEX(potentielannu,SMALL(IF(OFFSET(coldept,,MATCH(MONTH($A$1),MONTH("01/"&indexmois),0)-1)<>"",ROW(coldept)-1,""),ROW(B21)))} -> #NUM! | N21: {=INDEX(OFFSET(coldept,,MATCH(MONTH($A$1),MONTH("01/"&indexmois),0)-1,),SMALL(IF(OFFSET(coldept,,MATCH(MONTH($A$1),MONTH("01/"&indexmois),0)-1)>0,ROW(coldept)-1,""),ROW(A21)))} -> #NUM!
L22: {=INDEX(codeclient,SMALL(IF(OFFSET(coldept,,MATCH(MONTH(A$1),MONTH("01/"&indexmois),0)-1)<>"",ROW(coldept)-1,""),ROW(A22)))} -> #NUM! | M22: {=INDEX(potentielannu,SMALL(IF(OFFSET(coldept,,MATCH(MONTH($A$1),MONTH("01/"&indexmois),0)-1)<>"",ROW(coldept)-1,""),ROW(B22)))} -> #NUM! | N22: {=INDEX(OFFSET(coldept,,MATCH(MONTH($A$1),MONTH("01/"&indexmois),0)-1,),SMALL(IF(OFFSET(coldept,,MATCH(MONTH($A$1),MONTH("01/"&indexmois),0)-1)>0,ROW(coldept)-1,""),ROW(A22)))} -> #NUM!
L23: {=INDEX(codeclient,SMALL(IF(OFFSET(coldept,,MATCH(MONTH(A$1),MONTH("01/"&indexmois),0)-1)<>"",ROW(coldept)-1,""),ROW(A23)))} -> #NUM! | M23: {=INDEX(potentielannu,SMALL(IF(OFFSET(coldept,,MATCH(MONTH($A$1),MONTH("01/"&indexmois),0)-1)<>"",ROW(coldept)-1,""),ROW(B23)))} -> #NUM! | N23: {=INDEX(OFFSET(coldept,,MATCH(MONTH($A$1),MONTH("01/"&indexmois),0)-1,),SMALL(IF(OFFSET(coldept,,MATCH(MONTH($A$1),MONTH("01/"&indexmois),0)-1)>0,ROW(coldept)-1,""),ROW(A23)))} -> #NUM!
L24: {=INDEX(codeclient,SMALL(IF(OFFSET(coldept,,MATCH(MONTH(A$1),MONTH("01/"&indexmois),0)-1)<>"",ROW(coldept)-1,""),ROW(A24)))} -> #NUM! | M24: {=INDEX(potentielannu,SMALL(IF(OFFSET(coldept,,MATCH(MONTH($A$1),MONTH("01/"&indexmois),0)-1)<>"",ROW(coldept)-1,""),ROW(B24)))} -> #NUM! | N24: {=INDEX(OFFSET(coldept,,MATCH(MONTH($A$1),MONTH("01/"&indexmois),0)-1,),SMALL(IF(OFFSET(coldept,,MATCH(MONTH($A$1),MONTH("01/"&indexmois),0)-1)>0,ROW(coldept)-1,""),ROW(A24)))} -> #NUM!
L25: {=INDEX(codeclient,SMALL(IF(OFFSET(coldept,,MATCH(MONTH(A$1),MONTH("01/"&indexmois),0)-1)<>"",ROW(coldept)-1,""),ROW(A25)))} -> #NUM! | M25: {=INDEX(potentielannu,SMALL(IF(OFFSET(coldept,,MATCH(MONTH($A$1),MONTH("01/"&indexmois),0)-1)<>"",ROW(coldept)-1,""),ROW(B25)))} -> #NUM! | N25: {=INDEX(OFFSET(coldept,,MATCH(MONTH($A$1),MONTH("01/"&indexmois),0)-1,),SMALL(IF(OFFSET(coldept,,MATCH(MONTH($A$1),MONTH("01/"&indexmois),0)-1)>0,ROW(coldept)-1,""),ROW(A25)))} -> #NUM!
L26: {=INDEX(codeclient,SMALL(IF(OFFSET(coldept,,MATCH(MONTH(A$1),MONTH("01/"&indexmois),0)-1)<>"",ROW(coldept)-1,""),ROW(A26)))} -> #NUM! | M26: {=INDEX(potentielannu,SMALL(IF(OFFSET(coldept,,MATCH(MONTH($A$1),MONTH("01/"&indexmois),0)-1)<>"",ROW(coldept)-1,""),ROW(B26)))} -> #NUM! | N26: {=INDEX(OFFSET(coldept,,MATCH(MONTH($A$1),MONTH("01/"&indexmois),0)-1,),SMALL(IF(OFFSET(coldept,,MATCH(MONTH($A$1),MONTH("01/"&indexmois),0)-1)>0,ROW(coldept)-1,""),ROW(A26)))} -> #NUM!
... L31: {=INDEX(codeclient,SMALL(IF(OFFSET(coldept,,MATCH(MONTH(A$1),MONTH("01/"&indexmois),0)-1)<>"",ROW(coldept)-1,""),ROW(A31)))} -> #NUM! | M31: {=INDEX(potentielannu,SMALL(IF(OFFSET(coldept,,MATCH(MONTH($A$1),MONTH("01/"&indexmois),0)-1)<>"",ROW(coldept)-1,""),ROW(B31)))} -> #NUM! | N31: {=INDEX(OFFSET(coldept,,MATCH(MONTH($A$1),MONTH("01/"&indexmois),0)-1,),SMALL(IF(OFFSET(coldept,,MATCH(MONTH($A$1),MONTH("01/"&indexmois),0)-1)>0,ROW(coldept)-1,""),ROW(A31)))} -> #NUM!
