Workbook
Name liste1: OFFSET(Feuil2!$A$2,,,COUNTIF(Feuil2!$A:$A,"><"))

Sheet Feuil1
C3: 1ère ligne | D3: 0000000065 LAMBERT Michel | G3: 0000000124 LEVERT Yves | J3: 0000000023 HERVET Sylvie | M3: 0000000103 DEBOIS Clément
D4: Base S. | E4: Salarial | F4: Patronal | G4: Base S. | H4: Salarial | I4: Patronal | J4: Base S. | K4: Salarial | L4: Patronal | M4: Base S. | N4: Salarial | O4: Patronal
B5: 2ème ligne | C5: Cout Global | E5: 23000.26 | H5: 12536.25 | K5: 14562.2 | N5: 25301.02
D13: tulipe
C14: Salariés Type 1 | D14: tu choisis dans liste qui est extraite en feuille 2 et nommée ""liste1"
C15: Salarié | D15: 0000000124 LEVERT Yves
C16: Coût | D16: =SUMPRODUCT((D3:O3=D15)*(E5:P5)) -> 12536.25

Sheet Feuil2
A2: =OFFSET(Feuil1!D$3,,ROW(A1)*3-3,) -> 0000000065 LAMBERT Michel | C2: prevu pour 85 employés | F2: pour d'autres types de salariés :meme principe et nommer liste2;liste3……….
A3: =OFFSET(Feuil1!D$3,,ROW(A2)*3-3,) -> 0000000124 LEVERT Yves
A4: =OFFSET(Feuil1!D$3,,ROW(A3)*3-3,) -> 0000000023 HERVET Sylvie
A5: =OFFSET(Feuil1!D$3,,ROW(A4)*3-3,) -> 0000000103 DEBOIS Clément
A6: =OFFSET(Feuil1!D$3,,ROW(A5)*3-3,) -> 0
A7: =OFFSET(Feuil1!D$3,,ROW(A6)*3-3,) -> 0
A8: =OFFSET(Feuil1!D$3,,ROW(A7)*3-3,) -> 0
A9: =OFFSET(Feuil1!D$3,,ROW(A8)*3-3,) -> 0
A10: =OFFSET(Feuil1!D$3,,ROW(A9)*3-3,) -> 0
A11: =OFFSET(Feuil1!D$3,,ROW(A10)*3-3,) -> 0
A12: =OFFSET(Feuil1!D$3,,ROW(A11)*3-3,) -> 0
A13: =OFFSET(Feuil1!D$3,,ROW(A12)*3-3,) -> 0
A14: =OFFSET(Feuil1!D$3,,ROW(A13)*3-3,) -> 0
... A86: =OFFSET(Feuil1!D$3,,ROW(A85)*3-3,) -> 0
