Workbook

Sheet Stock
A1: Articles | B1: Stock total "ce que j'obtiens avec ta formule" STOCK | C1: Ce que je devrais avoir | D1: tulipe
A2: carburateur | B2: =SUMIF(articles!B:B,A2&"*",articles!C:C) -> 14 | C2: 19 | D2: =IF(A2="","",SUMPRODUCT(ISNUMBER(SEARCH(A2,articles!B$2:B$200))*articles!C$2:C$200)) -> 19
A3: Pompe à eau | B3: =SUMIF(articles!B:B,A3&"*",articles!C:C) -> 6 | C3: 6 | D3: =IF(A3="","",SUMPRODUCT(ISNUMBER(SEARCH(A3,articles!B$2:B$200))*articles!C$2:C$200)) -> 6
A4: embrayage | B4: =SUMIF(articles!B:B,A4&"*",articles!C:C) -> 12 | C4: 21 | D4: =IF(A4="","",SUMPRODUCT(ISNUMBER(SEARCH(A4,articles!B$2:B$200))*articles!C$2:C$200)) -> 21
A5: pompe a essence | B5: =SUMIF(articles!B:B,A5&"*",articles!C:C) -> 9 | C5: 9 | D5: =IF(A5="","",SUMPRODUCT(ISNUMBER(SEARCH(A5,articles!B$2:B$200))*articles!C$2:C$200)) -> 12 | E5: erreur , pompe à essence pour Picanto et pour Clio donc 9+3
A6: Frein | B6: =SUMIF(articles!B:B,A6&"*",articles!C:C) -> 2 | C6: 9 | D6: =IF(A6="","",SUMPRODUCT(ISNUMBER(SEARCH(A6,articles!B$2:B$200))*articles!C$2:C$200)) -> 9
D7: =IF(A7="","",SUMPRODUCT(ISNUMBER(SEARCH(A7,articles!B$2:B$200))*articles!C$2:C$200))
D8: =IF(A8="","",SUMPRODUCT(ISNUMBER(SEARCH(A8,articles!B$2:B$200))*articles!C$2:C$200))
D9: =IF(A9="","",SUMPRODUCT(ISNUMBER(SEARCH(A9,articles!B$2:B$200))*articles!C$2:C$200))
D10: =IF(A10="","",SUMPRODUCT(ISNUMBER(SEARCH(A10,articles!B$2:B$200))*articles!C$2:C$200))
D11: =IF(A11="","",SUMPRODUCT(ISNUMBER(SEARCH(A11,articles!B$2:B$200))*articles!C$2:C$200))
D12: =IF(A12="","",SUMPRODUCT(ISNUMBER(SEARCH(A12,articles!B$2:B$200))*articles!C$2:C$200))
D13: =IF(A13="","",SUMPRODUCT(ISNUMBER(SEARCH(A13,articles!B$2:B$200))*articles!C$2:C$200))
D14: =IF(A14="","",SUMPRODUCT(ISNUMBER(SEARCH(A14,articles!B$2:B$200))*articles!C$2:C$200))
D15: =IF(A15="","",SUMPRODUCT(ISNUMBER(SEARCH(A15,articles!B$2:B$200))*articles!C$2:C$200))
D16: =IF(A16="","",SUMPRODUCT(ISNUMBER(SEARCH(A16,articles!B$2:B$200))*articles!C$2:C$200))
D17: =IF(A17="","",SUMPRODUCT(ISNUMBER(SEARCH(A17,articles!B$2:B$200))*articles!C$2:C$200))
D18: =IF(A18="","",SUMPRODUCT(ISNUMBER(SEARCH(A18,articles!B$2:B$200))*articles!C$2:C$200))
... D217: =IF(A217="","",SUMPRODUCT(ISNUMBER(SEARCH(A217,articles!B$2:B$200))*articles!C$2:C$200))

Sheet articles
B1: Intitulé | C1: Nombre
B2: Carburateurs pour clio | C2: 4 | G2: carburateur | H2: {=SUMPRODUCT(ISNUMBER(SEARCH(G2,B$2:B$13))*C$2:C$13)} -> 19
B3: pompe à eau pour C4 | C3: 6 | G3: Pompe à eau | H3: {=SUMPRODUCT(ISNUMBER(SEARCH(G3,B$2:B$13))*C$2:C$13)} -> 6
B4: carburateur pour Megane | C4: 2 | G4: embrayage | H4: {=SUMPRODUCT(ISNUMBER(SEARCH(G4,B$2:B$13))*C$2:C$13)} -> 21
B5: Carburateur pour C4 | C5: 8 | G5: pompe a essence | H5: =SUMPRODUCT(ISNUMBER(SEARCH(A2,Stock!B$2:B$13))*Stock!C$2:C$13) -> 64
B6: necessaire de frein pour Ford Ka | C6: 7 | G6: Frein | H6: {=SUMPRODUCT(ISNUMBER(SEARCH(G6,B$2:B$13))*C$2:C$13)} -> 9
B7: pompe a essence picanto | C7: 9
B8: simple pompe a essence clio | C8: 3
B9: embrayage pour C4 | C9: 4
B10: Kit embrayage pour 208 | C10: 9
B11: embrayage megae | C11: 8
B12: frein | C12: 2
B13: double carburateurs pour clio | C13: 5
