Workbook
Name An: réglage!$A$4
Name AnnéeCalendrier: #REF!
Name Avril: Février1215[#All]
Name CléCongé: #REF!
Name CléMaladie: #REF!
Name CléPersonnalisée1: #REF!
Name CléPersonnel: #REF!
Name ÉtiquetteCléCongé: #REF!
Name ÉtiquetteCléMaladie: #REF!
Name ÉtiquetteCléPersonnalisée1: #REF!
Name ÉtiquetteCléPersonnalisée2: #REF!
Name ÉtiquetteCléPersonnel: #REF!
Name feries: réglage!$D$1:$E$11
Name fériés: Tableau4feries[#All]
Name Nom_clé: #REF!
Name NomMois: Avril!$B$4
Name Premier_mois: réglage!$A$2
Name Titre_Absence_Employé: #REF!
Name Titre1: #REF!
Name Titre10: #REF!
Name Titre11: #REF!
Name Titre12: #REF!
Name Titre2: #REF!
Name Titre3: #REF!
Name Titre4: #REF!
Name Titre5: #REF!
Name Titre6: #REF!
Name Titre7: #REF!
Name Titre8: #REF!
Name Titre9: #REF!
Name TitreColonne13: NomEmployé[[#Headers],[Noms des employés]]

Sheet Avril
B1: Date limite : | C1: =réglage!A8 -> 43271 | H1: Calendrier des congés et désidératas | AC1: =TODAY() -> 43269 | AH1: choix sem>>>saisir | AI1: 4
B2: Clé de motif | D2: C | E2: Congé (CA) | H2: / | I2: Congé (récup) | L2: F | M2: Formation | P2: X | Q2: Travail | T2: V | U2: Nuit | AH2: nb de CA | AI2: =SUMPRODUCT((D6:AG6=AI1)*(D8:AG68="ca")) -> 6
B4: 1 | D4: Calendrier des congés et désidératas | AH4: =An -> 2018
B5: Janvier | D5: =DATE(AH4,$B$4, D7) -> 43101 | E5: =DATE(AI4,$B$4, E7) -> 2 | F5: =DATE(AJ4,$B$4, F7) -> 3 | G5: =DATE(AK4,$B$4, G7) -> 4 | H5: =DATE(AL4,$B$4, H7) -> 5 | I5: =DATE(AM4,$B$4, I7) -> 6 | J5: =DATE(AN4,$B$4, J7) -> 7 | K5: =DATE(AO4,$B$4, K7) -> 8 | ... AG5: =DATE(BK4,$B$4, AG7) -> 30
C6: n° sem | D6: =WEEKNUM(D5,2) -> 1 | E6: =WEEKNUM(E5,2) -> 2 | F6: =WEEKNUM(F5,2) -> 2 | G6: =WEEKNUM(G5,2) -> 2 | H6: =WEEKNUM(H5,2) -> 2 | I6: =WEEKNUM(I5,2) -> 2 | J6: =WEEKNUM(J5,2) -> 2 | K6: =WEEKNUM(K5,2) -> 2 | ... AG6: =WEEKNUM(AG5,2) -> 6
D7: 1 | E7: 2 | F7: 3 | G7: 4 | H7: 5 | I7: 6 | J7: 7 | K7: 8 | L7: 9 | M7: 10 | N7: 11 | O7: 12 | P7: 13 | Q7: 14 | R7: 15 | S7: 16 | T7: 17 | U7: 18 | V7: 19 | W7: 20 | X7: 21 | Y7: 22 | Z7: 23 | AA7: 24 | AB7: 25 | AC7: 26 | AD7: 27 | AE7: 28 | AF7: 29 | AG7: 30 | AH7: Total des jours de CA
B8: ='Noms des employés'!B4 -> employé1 | C8: ='Noms des employés'!D4 -> 0.8 | E8: V | H8: CA | M8: C | N8: C | O8: C | P8: C | Q8: C | T8: C | U8: C | V8: CA | W8: CA | X8: CA | Y8: CA | AH8: =COUNTIF(Février1215[[#This Row],[1]:[Colonne2]],"c") -> 7
B9: ='Noms des employés'!B5 -> employé2 | C9: ='Noms des employés'!D5 -> 0.5 | E9: CA | K9: 8/20' | L9: V | M9: 7/13' | N9: 8/20' | O9: / | P9: F | Q9: X | R9: 12/20' | T9: / | U9: / | W9: CA | AH9: =COUNTIF(Février1215[[#This Row],[1]:[Colonne2]],"c") -> 0
B10: ='Noms des employés'!B6 -> employé3 | C10: ='Noms des employés'!D6 -> 1 | T10: / | X10: CA | AH10: =COUNTIF(Février1215[[#This Row],[1]:[Colonne2]],"c") -> 0
B11: ='Noms des employés'!B7 -> employé4 | C11: ='Noms des employés'!D7 -> 0 | O11: C | T11: / | AH11: =COUNTIF(Février1215[[#This Row],[1]:[Colonne2]],"c") -> 1
B12: ='Noms des employés'!B8 -> employé5 | C12: ='Noms des employés'!D8 -> 1 | AH12: =COUNTIF(Février1215[[#This Row],[1]:[Colonne2]],"c") -> 0
B13: ='Noms des employés'!B9 -> employé6 | C13: ='Noms des employés'!D9 -> 1 | AH13: =COUNTIF(Février1215[[#This Row],[1]:[Colonne2]],"c") -> 0
B14: ='Noms des employés'!B10 -> 0 | C14: ='Noms des employés'!D10 -> 0 | AH14: =COUNTIF(Février1215[[#This Row],[1]:[Colonne2]],"c") -> 0
B15: ='Noms des employés'!B11 -> 0 | C15: ='Noms des employés'!D11 -> 0 | AH15: =COUNTIF(Février1215[[#This Row],[1]:[Colonne2]],"c") -> 0
B16: ='Noms des employés'!B12 -> 0 | C16: ='Noms des employés'!D12 -> 1 | AH16: =COUNTIF(Février1215[[#This Row],[1]:[Colonne2]],"c") -> 0
B17: ='Noms des employés'!B13 -> 0 | C17: ='Noms des employés'!D13 -> 0.66 | AH17: =COUNTIF(Février1215[[#This Row],[1]:[Colonne2]],"c") -> 0
B18: ='Noms des employés'!B14 -> 0 | C18: ='Noms des employés'!D14 -> 0.74 | AH18: =COUNTIF(Février1215[[#This Row],[1]:[Colonne2]],"c") -> 0
B19: ='Noms des employés'!B15 -> 0 | C19: ='Noms des employés'!D15 -> 0.8 | AH19: =COUNTIF(Février1215[[#This Row],[1]:[Colonne2]],"c") -> 0
B20: ='Noms des employés'!B16 -> 0 | C20: ='Noms des employés'!D16 -> 0.8 | AH20: =COUNTIF(Février1215[[#This Row],[1]:[Colonne2]],"c") -> 0
B21: ='Noms des employés'!B17 -> 0 | C21: ='Noms des employés'!D17 -> 0.8 | AH21: =COUNTIF(Février1215[[#This Row],[1]:[Colonne2]],"c") -> 0
B22: ='Noms des employés'!B18 -> 0 | C22: ='Noms des employés'!D18 -> 0.8 | AH22: =COUNTIF(Février1215[[#This Row],[1]:[Colonne2]],"c") -> 0
B23: ='Noms des employés'!B19 -> 0 | C23: ='Noms des employés'!D19 -> 0.8 | AH23: =COUNTIF(Février1215[[#This Row],[1]:[Colonne2]],"c") -> 0
... B71: ='Noms des employés'!B67 -> 0 | C71: ='Noms des employés'!D67 -> 0 | AH71: =COUNTIF(Février1215[[#This Row],[1]:[Colonne2]],"c") -> 0
B72: Nombre de nuit (V) | D72: =COUNTIFS(D8:D70,"V") -> 0 | E72: =COUNTIFS(E8:E70,"V") -> 1 | F72: =COUNTIFS(F8:F70,"V") -> 0 | G72: =COUNTIFS(G8:G70,"V") -> 0 | H72: =COUNTIFS(H8:H70,"V") -> 0 | I72: =COUNTIFS(I8:I70,"V") -> 0 | J72: =COUNTIFS(J8:J70,"V") -> 0 | K72: =COUNTIFS(K8:K70,"V") -> 0 | ... AE72: =COUNTIFS(AE8:AE70,"V") -> 0 | AH72: =COUNTIF(Février1215[[#This Row],[1]:[Colonne2]],"c") -> 0

Sheet Noms des employés
B1: Noms des employés
H2: Vacances
B3: Noms des employés | D3: ETP | H3: date de début | I3: date de fin
B4: employé1 | D4: 0.8 | H4: 43647 | I4: 43709
B5: employé2 | D5: 0.5 | H5: 43402 | I5: 43408
B6: employé3 | D6: 1 | H6: 43458 | I6: 43471
B7: employé4 | H7: 43528 | I7: 43534
B8: employé5 | D8: 1 | H8: 43563 | I8: 43576
B9: employé6 | D9: 1
D12: 1
D13: 0.66
D14: 0.74
D15: 0.8
D16: 0.8
D17: 0.8
D18: 0.8
D19: 0.8
D20: 0.5
D21: 0.63
D22: 1
D23: 0.8
... D69: 0.8
D71: =SUM(D3:D70)-D13-D68-D69 -> 46.1
D72: =COUNT(D3:D70) -> 60

Sheet réglage
A1: Premier mois du planning | B1: Jours chômés | C1: Année du jour férié | D1: Dates | E1: Jour Fériés
A2: Janvier | B2: =IF(#REF!,#REF!,"") -> #REF! | C2: =IF(MONTH(1&Premier_mois)<>1,An+1,An) -> 2018 | D2: =DATE(C2,1,1) -> 43101 | E2: ="Jour de l'an "&C2 -> Jour de l'an 2018 | G2: mois : | I2: code
A3: Année du premier mois du planning | B3: =IF(#REF!,#REF!,"") -> #REF! | C3: =IF(MONTH(DATE(An,3,29.56+0.979*MOD(204-11*MOD(An,19),30)-WEEKDAY(DATE(An,3,28.56+0.979*MOD(204-11*MOD(An,19),30))))+1)<MONTH(1&Premier_mois),An+1,An) -> 2018 | D3: =DATE(C3,3,29.56+0.979*MOD(204-11*MOD(C3,19),30)-WEEKDAY(DATE(C3,3,28.56+0.979*MOD(204-11*MOD(C3,19),30))))+1 -> 43192 | E3: Lundi de pâques | G3: Janvier | I3: =IF(#REF!>#REF!,"C","CA") -> #REF!
A4: 2018 | B4: =IF(#REF!,#REF!,"") -> #REF! | C4: =IF(MONTH(1&Premier_mois)>5,An+1,An) -> 2018 | D4: =DATE(C4,5,1) -> 43221 | E4: Fête du travail | G4: Février | I4: F
A5: Nombre de jours des douzes mois du planning | B5: =IF(#REF!,#REF!,"") -> #REF! | C5: =IF(MONTH(DATE(An,3,29.56+0.979*MOD(204-11*MOD(An,19),30)-WEEKDAY(DATE(An,3,28.56+0.979*MOD(204-11*MOD(An,19),30))))+1+38)<MONTH(1&Premier_mois),An+1,An) -> 2018 | D5: =DATE(C5,3,29.56+0.979*MOD(204-11*MOD(C5,19),30)-WEEKDAY(DATE(C5,3,28.56+0.979*MOD(204-11*MOD(C5,19),30))))+1+38 -> 43230 | E5: Jeudi de l'ascension | G5: Mars | I5: X
A6: =IF(MONTH(1&Premier_mois)<=2,IF(DAY(DATE(An,2,29))=29,366,365),IF(DAY(DATE(An+1,2,29))=29,366,365)) -> 365 | B6: =IF(#REF!,#REF!,"") -> #REF! | C6: =IF(MONTH(1&Premier_mois)>5,An+1,An) -> 2018 | D6: =DATE(C7,3,29.56+0.979*MOD(204-11*MOD(C7,19),30)-WEEKDAY(DATE(C7,3,28.56+0.979*MOD(204-11*MOD(C7,19),30))))+1+49 -> 43241 | E6: Lundi de Pentecôte | G6: Avril | I6: V
A7: date limite de remises des congés | B7: =IF(#REF!,#REF!,"") -> #REF! | C7: =IF(MONTH(DATE(An,3,29.56+0.979*MOD(204-11*MOD(An,19),30)-WEEKDAY(DATE(An,3,28.56+0.979*MOD(204-11*MOD(An,19),30))))+1+49)<MONTH(1&Premier_mois),An+1,An) -> 2018 | D7: =DATE(C8,7,21) -> 43302 | E7: Fête nationale | G7: Mai | I7: /
A8: 43271 | B8: =IF(#REF!,#REF!,"") -> #REF! | C8: =IF(MONTH(1&Premier_mois)>7,An+1,An) -> 2018 | D8: =DATE(C9,8,15) -> 43327 | E8: L'Assomption | G8: Juin | I8: 7/15'
A9: 43101 | B9: =MONTH(1&Premier_mois) -> 1 | C9: =IF(MONTH(1&Premier_mois)>8,An+1,An) -> 2018 | D9: =DATE(C10,11,1) -> 43405 | E9: La Toussaint | G9: Juillet | I9: 8/20'
C10: =IF(MONTH(1&Premier_mois)>11,An+1,An) -> 2018 | D10: =DATE(C11,11,11) -> 43415 | E10: ="Armistice "&C11 -> Armistice 2018 | G10: Août | I10: 7/13'
C11: =IF(MONTH(1&Premier_mois)>11,An+1,An) -> 2018 | D11: =DATE(An,12,25) -> 43459 | E11: Noël | G11: Septembre | I11: 12/20'
D12: ="01/01/"&C2+1 -> 01/01/2019 | E12: ="Jour de l'an "&C2+1 -> Jour de l'an 2019 | G12: Octobre
D13: =DATE(C3+1,3,29.56+0.979*MOD(204-11*MOD(C3+1,19),30)-WEEKDAY(DATE(C3+1,3,28.56+0.979*MOD(204-11*MOD(C3+1,19),30))))+1 -> 43577 | E13: Lundi de pâques | G13: Novembre
D14: =DATE(C4+1,5,1) -> 43586 | E14: Fête du travail | G14: Décembre
D15: =DATE(C5+1,3,29.56+0.979*MOD(204-11*MOD(C5+1,19),30)-WEEKDAY(DATE(C5+1,3,28.56+0.979*MOD(204-11*MOD(C5+1,19),30))))+1+38 -> 43615 | E15: Jeudi de l'ascension
D16: =DATE(C7+1,3,29.56+0.979*MOD(204-11*MOD(C7+1,19),30)-WEEKDAY(DATE(C7+18,3,28.56+0.979*MOD(204-11*MOD(C7+1,19),30))))+1+49 -> 43625 | E16: Lundi de Pentecôte
D17: =DATE(C8+1,7,21) -> 43667 | E17: Fête nationale
D18: =DATE(C9+1,8,15) -> 43692 | E18: L'Assomption
D19: =DATE(C10+1,11,1) -> 43770 | E19: La Toussaint
D20: =DATE(C11+1,11,11) -> 43780 | E20: ="Armistice "&C11+1 -> Armistice 2019
D21: =DATE(An+1,12,25) -> 43824 | E21: Noël
