Workbook

Sheet Feuil1
A1: Cp X15D57D45F65E54662 Empty
A2: 2019 Key
A3: Global Flot
A5: Admin Post value
A6: 145335
A9: 12:00pm | G9: {=IFERROR(OR(IF(ROW()+2=SMALL(IF(A$9:A$39=$A$12,ROW(A$9:A$39),""),COUNTIF(A$9:A12,$A$12)),ROW(),""),IF(ROW()-2=SMALL(IF(A$9:A$39=$A$12,ROW(A$9:A$39),""),COUNTIF(A$9:A12,$A$12)),ROW(),""))*ROW(),"")}
A10: Monica Belledonne | G10: {=IFERROR(OR(IF(ROW()+2=SMALL(IF(A$9:A$39=$A$12,ROW(A$9:A$39),""),COUNTIF(A$9:A13,$A$12)),ROW(),""),IF(ROW()-2=SMALL(IF(A$9:A$39=$A$12,ROW(A$9:A$39),""),COUNTIF(A$9:A13,$A$12)),ROW(),""))*ROW(),"")} -> 10
A11: 0.34 | G11: {=IFERROR(OR(IF(ROW()+2=SMALL(IF(A$9:A$39=$A$12,ROW(A$9:A$39),""),COUNTIF(A$9:A14,$A$12)),ROW(),""),IF(ROW()-2=SMALL(IF(A$9:A$39=$A$12,ROW(A$9:A$39),""),COUNTIF(A$9:A14,$A$12)),ROW(),""))*ROW(),"")}
A12: Stats | G12: {=IFERROR(OR(IF(ROW()+2=SMALL(IF(A$9:A$39=$A$12,ROW(A$9:A$39),""),COUNTIF(A$9:A15,$A$12)),ROW(),""),IF(ROW()-2=SMALL(IF(A$9:A$39=$A$12,ROW(A$9:A$39),""),COUNTIF(A$9:A15,$A$12)),ROW(),""))*ROW(),"")}
A13: 1.5 | G13: {=IFERROR(OR(IF(ROW()+2=SMALL(IF(A$9:A$39=$A$12,ROW(A$9:A$39),""),COUNTIF(A$9:A16,$A$12)),ROW(),""),IF(ROW()-2=SMALL(IF(A$9:A$39=$A$12,ROW(A$9:A$39),""),COUNTIF(A$9:A16,$A$12)),ROW(),""))*ROW(),"")}
A14: Paul Edwell | G14: {=IFERROR(OR(IF(ROW()+2=SMALL(IF(A$9:A$39=$A$12,ROW(A$9:A$39),""),COUNTIF(A$9:A17,$A$12)),ROW(),""),IF(ROW()-2=SMALL(IF(A$9:A$39=$A$12,ROW(A$9:A$39),""),COUNTIF(A$9:A17,$A$12)),ROW(),""))*ROW(),"")} -> 14
A15: 11.57 Monica Belledonne Sit 4.10 Law 51.55 Paul Edwell Sit | G15: {=IFERROR(OR(IF(ROW()+2=SMALL(IF(A$9:A$39=$A$12,ROW(A$9:A$39),""),COUNTIF(A$9:A18,$A$12)),ROW(),""),IF(ROW()-2=SMALL(IF(A$9:A$39=$A$12,ROW(A$9:A$39),""),COUNTIF(A$9:A18,$A$12)),ROW(),""))*ROW(),"")}
G16: {=IFERROR(OR(IF(ROW()+2=SMALL(IF(A$9:A$39=$A$12,ROW(A$9:A$39),""),COUNTIF(A$9:A19,$A$12)),ROW(),""),IF(ROW()-2=SMALL(IF(A$9:A$39=$A$12,ROW(A$9:A$39),""),COUNTIF(A$9:A19,$A$12)),ROW(),""))*ROW(),"")}
A17: 12:00pm | G17: {=IFERROR(OR(IF(ROW()+2=SMALL(IF(A$9:A$39=$A$12,ROW(A$9:A$39),""),COUNTIF(A$9:A20,$A$12)),ROW(),""),IF(ROW()-2=SMALL(IF(A$9:A$39=$A$12,ROW(A$9:A$39),""),COUNTIF(A$9:A20,$A$12)),ROW(),""))*ROW(),"")}
A18: Christophe Coreia | G18: {=IFERROR(OR(IF(ROW()+2=SMALL(IF(A$9:A$39=$A$12,ROW(A$9:A$39),""),COUNTIF(A$9:A21,$A$12)),ROW(),""),IF(ROW()-2=SMALL(IF(A$9:A$39=$A$12,ROW(A$9:A$39),""),COUNTIF(A$9:A21,$A$12)),ROW(),""))*ROW(),"")} -> 18
A19: 1.88 | G19: {=IFERROR(OR(IF(ROW()+2=SMALL(IF(A$9:A$39=$A$12,ROW(A$9:A$39),""),COUNTIF(A$9:A22,$A$12)),ROW(),""),IF(ROW()-2=SMALL(IF(A$9:A$39=$A$12,ROW(A$9:A$39),""),COUNTIF(A$9:A22,$A$12)),ROW(),""))*ROW(),"")}
A20: Stats | G20: {=IFERROR(OR(IF(ROW()+2=SMALL(IF(A$9:A$39=$A$12,ROW(A$9:A$39),""),COUNTIF(A$9:A23,$A$12)),ROW(),""),IF(ROW()-2=SMALL(IF(A$9:A$39=$A$12,ROW(A$9:A$39),""),COUNTIF(A$9:A23,$A$12)),ROW(),""))*ROW(),"")}
A21: 2.34 | G21: {=IFERROR(OR(IF(ROW()+2=SMALL(IF(A$9:A$39=$A$12,ROW(A$9:A$39),""),COUNTIF(A$9:A24,$A$12)),ROW(),""),IF(ROW()-2=SMALL(IF(A$9:A$39=$A$12,ROW(A$9:A$39),""),COUNTIF(A$9:A24,$A$12)),ROW(),""))*ROW(),"")}
A22: Emile Brun | G22: {=IFERROR(OR(IF(ROW()+2=SMALL(IF(A$9:A$39=$A$12,ROW(A$9:A$39),""),COUNTIF(A$9:A25,$A$12)),ROW(),""),IF(ROW()-2=SMALL(IF(A$9:A$39=$A$12,ROW(A$9:A$39),""),COUNTIF(A$9:A25,$A$12)),ROW(),""))*ROW(),"")} -> 22
A23: 7.25 Christophe Coreia Sit 5.10 Law 11.38 Emile Brun Sit | G23: {=IFERROR(OR(IF(ROW()+2=SMALL(IF(A$9:A$39=$A$12,ROW(A$9:A$39),""),COUNTIF(A$9:A26,$A$12)),ROW(),""),IF(ROW()-2=SMALL(IF(A$9:A$39=$A$12,ROW(A$9:A$39),""),COUNTIF(A$9:A26,$A$12)),ROW(),""))*ROW(),"")}
G24: {=IFERROR(OR(IF(ROW()+2=SMALL(IF(A$9:A$39=$A$12,ROW(A$9:A$39),""),COUNTIF(A$9:A27,$A$12)),ROW(),""),IF(ROW()-2=SMALL(IF(A$9:A$39=$A$12,ROW(A$9:A$39),""),COUNTIF(A$9:A27,$A$12)),ROW(),""))*ROW(),"")}
A25: 13:30pm | G25: {=IFERROR(OR(IF(ROW()+2=SMALL(IF(A$9:A$39=$A$12,ROW(A$9:A$39),""),COUNTIF(A$9:A28,$A$12)),ROW(),""),IF(ROW()-2=SMALL(IF(A$9:A$39=$A$12,ROW(A$9:A$39),""),COUNTIF(A$9:A28,$A$12)),ROW(),""))*ROW(),"")}
A26: Geoffrey Oriol | G26: {=IFERROR(OR(IF(ROW()+2=SMALL(IF(A$9:A$39=$A$12,ROW(A$9:A$39),""),COUNTIF(A$9:A29,$A$12)),ROW(),""),IF(ROW()-2=SMALL(IF(A$9:A$39=$A$12,ROW(A$9:A$39),""),COUNTIF(A$9:A29,$A$12)),ROW(),""))*ROW(),"")} -> 26
A27: 0.34 | G27: {=IFERROR(OR(IF(ROW()+2=SMALL(IF(A$9:A$39=$A$12,ROW(A$9:A$39),""),COUNTIF(A$9:A30,$A$12)),ROW(),""),IF(ROW()-2=SMALL(IF(A$9:A$39=$A$12,ROW(A$9:A$39),""),COUNTIF(A$9:A30,$A$12)),ROW(),""))*ROW(),"")}
A28: Stats | G28: {=IFERROR(OR(IF(ROW()+2=SMALL(IF(A$9:A$39=$A$12,ROW(A$9:A$39),""),COUNTIF(A$9:A31,$A$12)),ROW(),""),IF(ROW()-2=SMALL(IF(A$9:A$39=$A$12,ROW(A$9:A$39),""),COUNTIF(A$9:A31,$A$12)),ROW(),""))*ROW(),"")}
A29: 1.5 | G29: {=IFERROR(OR(IF(ROW()+2=SMALL(IF(A$9:A$39=$A$12,ROW(A$9:A$39),""),COUNTIF(A$9:A32,$A$12)),ROW(),""),IF(ROW()-2=SMALL(IF(A$9:A$39=$A$12,ROW(A$9:A$39),""),COUNTIF(A$9:A32,$A$12)),ROW(),""))*ROW(),"")}
A30: Hugo Lefat | G30: {=IFERROR(OR(IF(ROW()+2=SMALL(IF(A$9:A$39=$A$12,ROW(A$9:A$39),""),COUNTIF(A$9:A33,$A$12)),ROW(),""),IF(ROW()-2=SMALL(IF(A$9:A$39=$A$12,ROW(A$9:A$39),""),COUNTIF(A$9:A33,$A$12)),ROW(),""))*ROW(),"")} -> 30
A31: 2.05 Geoffrey Oriol Sit 34.45 Law 3.40 Hugo Lefat Sit | G31: {=IFERROR(OR(IF(ROW()+2=SMALL(IF(A$9:A$39=$A$12,ROW(A$9:A$39),""),COUNTIF(A$9:A34,$A$12)),ROW(),""),IF(ROW()-2=SMALL(IF(A$9:A$39=$A$12,ROW(A$9:A$39),""),COUNTIF(A$9:A34,$A$12)),ROW(),""))*ROW(),"")}
G32: {=IFERROR(OR(IF(ROW()+2=SMALL(IF(A$9:A$39=$A$12,ROW(A$9:A$39),""),COUNTIF(A$9:A35,$A$12)),ROW(),""),IF(ROW()-2=SMALL(IF(A$9:A$39=$A$12,ROW(A$9:A$39),""),COUNTIF(A$9:A35,$A$12)),ROW(),""))*ROW(),"")}
A33: 14:00pm | G33: {=IFERROR(OR(IF(ROW()+2=SMALL(IF(A$9:A$39=$A$12,ROW(A$9:A$39),""),COUNTIF(A$9:A36,$A$12)),ROW(),""),IF(ROW()-2=SMALL(IF(A$9:A$39=$A$12,ROW(A$9:A$39),""),COUNTIF(A$9:A36,$A$12)),ROW(),""))*ROW(),"")}
A34: Frederic Moulisse | G34: {=IFERROR(OR(IF(ROW()+2=SMALL(IF(A$9:A$39=$A$12,ROW(A$9:A$39),""),COUNTIF(A$9:A37,$A$12)),ROW(),""),IF(ROW()-2=SMALL(IF(A$9:A$39=$A$12,ROW(A$9:A$39),""),COUNTIF(A$9:A37,$A$12)),ROW(),""))*ROW(),"")} -> 34
A35: 2 | G35: {=IFERROR(OR(IF(ROW()+2=SMALL(IF(A$9:A$39=$A$12,ROW(A$9:A$39),""),COUNTIF(A$9:A38,$A$12)),ROW(),""),IF(ROW()-2=SMALL(IF(A$9:A$39=$A$12,ROW(A$9:A$39),""),COUNTIF(A$9:A38,$A$12)),ROW(),""))*ROW(),"")}
A36: Stats | G36: {=IFERROR(OR(IF(ROW()+2=SMALL(IF(A$9:A$39=$A$12,ROW(A$9:A$39),""),COUNTIF(A$9:A39,$A$12)),ROW(),""),IF(ROW()-2=SMALL(IF(A$9:A$39=$A$12,ROW(A$9:A$39),""),COUNTIF(A$9:A39,$A$12)),ROW(),""))*ROW(),"")}
A37: 2.3 | G37: {=IFERROR(OR(IF(ROW()+2=SMALL(IF(A$9:A$39=$A$12,ROW(A$9:A$39),""),COUNTIF(A$9:A40,$A$12)),ROW(),""),IF(ROW()-2=SMALL(IF(A$9:A$39=$A$12,ROW(A$9:A$39),""),COUNTIF(A$9:A40,$A$12)),ROW(),""))*ROW(),"")}
A38: Chloe Svitorina | G38: {=IFERROR(OR(IF(ROW()+2=SMALL(IF(A$9:A$39=$A$12,ROW(A$9:A$39),""),COUNTIF(A$9:A41,$A$12)),ROW(),""),IF(ROW()-2=SMALL(IF(A$9:A$39=$A$12,ROW(A$9:A$39),""),COUNTIF(A$9:A41,$A$12)),ROW(),""))*ROW(),"")} -> 38
A39: 1.62 Frederic Moulisse Sit 31.85 Law 52.40 Chloe Svitorina Sit | G39: {=IFERROR(OR(IF(ROW()+2=SMALL(IF(A$9:A$39=$A$12,ROW(A$9:A$39),""),COUNTIF(A$9:A42,$A$12)),ROW(),""),IF(ROW()-2=SMALL(IF(A$9:A$39=$A$12,ROW(A$9:A$39),""),COUNTIF(A$9:A42,$A$12)),ROW(),""))*ROW(),"")}
G40: {=IFERROR(OR(IF(ROW()+2=SMALL(IF(A$9:A$39=$A$12,ROW(A$9:A$39),""),COUNTIF(A$9:A43,$A$12)),ROW(),""),IF(ROW()-2=SMALL(IF(A$9:A$39=$A$12,ROW(A$9:A$39),""),COUNTIF(A$9:A43,$A$12)),ROW(),""))*ROW(),"")}
G41: {=IFERROR(OR(IF(ROW()+2=SMALL(IF(A$9:A$39=$A$12,ROW(A$9:A$39),""),COUNTIF(A$9:A44,$A$12)),ROW(),""),IF(ROW()-2=SMALL(IF(A$9:A$39=$A$12,ROW(A$9:A$39),""),COUNTIF(A$9:A44,$A$12)),ROW(),""))*ROW(),"")}
G42: {=IFERROR(OR(IF(ROW()+2=SMALL(IF(A$9:A$39=$A$12,ROW(A$9:A$39),""),COUNTIF(A$9:A45,$A$12)),ROW(),""),IF(ROW()-2=SMALL(IF(A$9:A$39=$A$12,ROW(A$9:A$39),""),COUNTIF(A$9:A45,$A$12)),ROW(),""))*ROW(),"")}
G43: {=IFERROR(OR(IF(ROW()+2=SMALL(IF(A$9:A$39=$A$12,ROW(A$9:A$39),""),COUNTIF(A$9:A46,$A$12)),ROW(),""),IF(ROW()-2=SMALL(IF(A$9:A$39=$A$12,ROW(A$9:A$39),""),COUNTIF(A$9:A46,$A$12)),ROW(),""))*ROW(),"")}
G44: {=IFERROR(OR(IF(ROW()+2=SMALL(IF(A$9:A$39=$A$12,ROW(A$9:A$39),""),COUNTIF(A$9:A47,$A$12)),ROW(),""),IF(ROW()-2=SMALL(IF(A$9:A$39=$A$12,ROW(A$9:A$39),""),COUNTIF(A$9:A47,$A$12)),ROW(),""))*ROW(),"")}
G45: {=IFERROR(OR(IF(ROW()+2=SMALL(IF(A$9:A$39=$A$12,ROW(A$9:A$39),""),COUNTIF(A$9:A48,$A$12)),ROW(),""),IF(ROW()-2=SMALL(IF(A$9:A$39=$A$12,ROW(A$9:A$39),""),COUNTIF(A$9:A48,$A$12)),ROW(),""))*ROW(),"")}
G46: {=IFERROR(OR(IF(ROW()+2=SMALL(IF(A$9:A$39=$A$12,ROW(A$9:A$39),""),COUNTIF(A$9:A49,$A$12)),ROW(),""),IF(ROW()-2=SMALL(IF(A$9:A$39=$A$12,ROW(A$9:A$39),""),COUNTIF(A$9:A49,$A$12)),ROW(),""))*ROW(),"")}
G47: {=IFERROR(OR(IF(ROW()+2=SMALL(IF(A$9:A$39=$A$12,ROW(A$9:A$39),""),COUNTIF(A$9:A50,$A$12)),ROW(),""),IF(ROW()-2=SMALL(IF(A$9:A$39=$A$12,ROW(A$9:A$39),""),COUNTIF(A$9:A50,$A$12)),ROW(),""))*ROW(),"")}
G48: {=IFERROR(OR(IF(ROW()+2=SMALL(IF(A$9:A$39=$A$12,ROW(A$9:A$39),""),COUNTIF(A$9:A51,$A$12)),ROW(),""),IF(ROW()-2=SMALL(IF(A$9:A$39=$A$12,ROW(A$9:A$39),""),COUNTIF(A$9:A51,$A$12)),ROW(),""))*ROW(),"")}
G49: {=IFERROR(OR(IF(ROW()+2=SMALL(IF(A$9:A$39=$A$12,ROW(A$9:A$39),""),COUNTIF(A$9:A52,$A$12)),ROW(),""),IF(ROW()-2=SMALL(IF(A$9:A$39=$A$12,ROW(A$9:A$39),""),COUNTIF(A$9:A52,$A$12)),ROW(),""))*ROW(),"")}
G50: {=IFERROR(OR(IF(ROW()+2=SMALL(IF(A$9:A$39=$A$12,ROW(A$9:A$39),""),COUNTIF(A$9:A53,$A$12)),ROW(),""),IF(ROW()-2=SMALL(IF(A$9:A$39=$A$12,ROW(A$9:A$39),""),COUNTIF(A$9:A53,$A$12)),ROW(),""))*ROW(),"")}
G51: {=IFERROR(OR(IF(ROW()+2=SMALL(IF(A$9:A$39=$A$12,ROW(A$9:A$39),""),COUNTIF(A$9:A54,$A$12)),ROW(),""),IF(ROW()-2=SMALL(IF(A$9:A$39=$A$12,ROW(A$9:A$39),""),COUNTIF(A$9:A54,$A$12)),ROW(),""))*ROW(),"")}
... G327: {=IFERROR(OR(IF(ROW()+2=SMALL(IF(A$9:A$39=$A$12,ROW(A$9:A$39),""),COUNTIF(A$9:A330,$A$12)),ROW(),""),IF(ROW()-2=SMALL(IF(A$9:A$39=$A$12,ROW(A$9:A$39),""),COUNTIF(A$9:A330,$A$12)),ROW(),""))*ROW(),"")}

Sheet Feuil3
A1: Nom 1 | B1: Nom 2 | C1: V1 | D1: VL | E1: V2 | F1: S1 | G1: S2
A2: =IFERROR(INDEX(Feuil1!$A$10:$A$390,MATCH(SMALL(Feuil1!$G$10:$G$390,(ROW($A1)-1)*2+1),Feuil1!$G$9:$G$390,0)-1),"") -> Monica Belledonne | B2: =IFERROR(INDEX(Feuil1!$A$10:$A$390,MATCH(SMALL(Feuil1!$G$10:$G$390,(ROW(B1)-1)*2+2),Feuil1!$G$9:$G$390,0)-1),"") -> Paul Edwell | C2: 11.57 | D2: 4.1 | E2: 51.55 | F2: =IFERROR(OFFSET(Feuil1!$A$9,MATCH(Feuil3!A2,Feuil1!$A$10:$A$390,0)+1,),"") -> 0.34 | G2: =IFERROR(OFFSET(Feuil1!$A$9,MATCH(Feuil3!B2,Feuil1!$A$10:$A$390,0)-1,),"") -> 1.5
A3: =IFERROR(INDEX(Feuil1!$A$10:$A$390,MATCH(SMALL(Feuil1!$G$10:$G$390,(ROW($A2)-1)*2+1),Feuil1!$G$9:$G$390,0)-1),"") -> Christophe Coreia | B3: =IFERROR(INDEX(Feuil1!$A$10:$A$390,MATCH(SMALL(Feuil1!$G$10:$G$390,(ROW(B2)-1)*2+2),Feuil1!$G$9:$G$390,0)-1),"") -> Emile Brun | C3: 7.25 | D3: 5.1 | E3: 11.38 | F3: =IFERROR(OFFSET(Feuil1!$A$9,MATCH(Feuil3!A3,Feuil1!$A$10:$A$390,0)+1,),"") -> 1.88 | G3: =IFERROR(OFFSET(Feuil1!$A$9,MATCH(Feuil3!B3,Feuil1!$A$10:$A$390,0)-1,),"") -> 2.34
A4: =IFERROR(INDEX(Feuil1!$A$10:$A$390,MATCH(SMALL(Feuil1!$G$10:$G$390,(ROW($A3)-1)*2+1),Feuil1!$G$9:$G$390,0)-1),"") -> Geoffrey Oriol | B4: =IFERROR(INDEX(Feuil1!$A$10:$A$390,MATCH(SMALL(Feuil1!$G$10:$G$390,(ROW(B3)-1)*2+2),Feuil1!$G$9:$G$390,0)-1),"") -> Hugo Lefat | F4: =IFERROR(OFFSET(Feuil1!$A$9,MATCH(Feuil3!A4,Feuil1!$A$10:$A$390,0)+1,),"") -> 0.34 | G4: =IFERROR(OFFSET(Feuil1!$A$9,MATCH(Feuil3!B4,Feuil1!$A$10:$A$390,0)-1,),"") -> 1.5
A5: =IFERROR(INDEX(Feuil1!$A$10:$A$390,MATCH(SMALL(Feuil1!$G$10:$G$390,(ROW($A4)-1)*2+1),Feuil1!$G$9:$G$390,0)-1),"") -> Frederic Moulisse | B5: =IFERROR(INDEX(Feuil1!$A$10:$A$390,MATCH(SMALL(Feuil1!$G$10:$G$390,(ROW(B4)-1)*2+2),Feuil1!$G$9:$G$390,0)-1),"") -> Chloe Svitorina | F5: =IFERROR(OFFSET(Feuil1!$A$9,MATCH(Feuil3!A5,Feuil1!$A$10:$A$390,0)+1,),"") -> 2 | G5: =IFERROR(OFFSET(Feuil1!$A$9,MATCH(Feuil3!B5,Feuil1!$A$10:$A$390,0)-1,),"") -> 2.3
A6: =IFERROR(INDEX(Feuil1!$A$10:$A$390,MATCH(SMALL(Feuil1!$G$10:$G$390,(ROW($A5)-1)*2+1),Feuil1!$G$9:$G$390,0)-1),"") | B6: =IFERROR(INDEX(Feuil1!$A$10:$A$390,MATCH(SMALL(Feuil1!$G$10:$G$390,(ROW(B5)-1)*2+2),Feuil1!$G$9:$G$390,0)-1),"") | F6: =IFERROR(OFFSET(Feuil1!$A$9,MATCH(Feuil3!A6,Feuil1!$A$10:$A$390,0)+1,),"") | G6: =IFERROR(OFFSET(Feuil1!$A$9,MATCH(Feuil3!B6,Feuil1!$A$10:$A$390,0)-1,),"")
A7: =IFERROR(INDEX(Feuil1!$A$10:$A$390,MATCH(SMALL(Feuil1!$G$10:$G$390,(ROW($A6)-1)*2+1),Feuil1!$G$9:$G$390,0)-1),"") | B7: =IFERROR(INDEX(Feuil1!$A$10:$A$390,MATCH(SMALL(Feuil1!$G$10:$G$390,(ROW(B6)-1)*2+2),Feuil1!$G$9:$G$390,0)-1),"") | F7: =IFERROR(OFFSET(Feuil1!$A$9,MATCH(Feuil3!A7,Feuil1!$A$10:$A$390,0)+1,),"") | G7: =IFERROR(OFFSET(Feuil1!$A$9,MATCH(Feuil3!B7,Feuil1!$A$10:$A$390,0)-1,),"")
A8: =IFERROR(INDEX(Feuil1!$A$10:$A$390,MATCH(SMALL(Feuil1!$G$10:$G$390,(ROW($A7)-1)*2+1),Feuil1!$G$9:$G$390,0)-1),"") | B8: =IFERROR(INDEX(Feuil1!$A$10:$A$390,MATCH(SMALL(Feuil1!$G$10:$G$390,(ROW(B7)-1)*2+2),Feuil1!$G$9:$G$390,0)-1),"") | F8: =IFERROR(OFFSET(Feuil1!$A$9,MATCH(Feuil3!A8,Feuil1!$A$10:$A$390,0)+1,),"") | G8: =IFERROR(OFFSET(Feuil1!$A$9,MATCH(Feuil3!B8,Feuil1!$A$10:$A$390,0)-1,),"")
A9: =IFERROR(INDEX(Feuil1!$A$10:$A$390,MATCH(SMALL(Feuil1!$G$10:$G$390,(ROW($A8)-1)*2+1),Feuil1!$G$9:$G$390,0)-1),"") | B9: =IFERROR(INDEX(Feuil1!$A$10:$A$390,MATCH(SMALL(Feuil1!$G$10:$G$390,(ROW(B8)-1)*2+2),Feuil1!$G$9:$G$390,0)-1),"") | F9: =IFERROR(OFFSET(Feuil1!$A$9,MATCH(Feuil3!A9,Feuil1!$A$10:$A$390,0)+1,),"") | G9: =IFERROR(OFFSET(Feuil1!$A$9,MATCH(Feuil3!B9,Feuil1!$A$10:$A$390,0)-1,),"")
A10: =IFERROR(INDEX(Feuil1!$A$10:$A$390,MATCH(SMALL(Feuil1!$G$10:$G$390,(ROW($A9)-1)*2+1),Feuil1!$G$9:$G$390,0)-1),"") | B10: =IFERROR(INDEX(Feuil1!$A$10:$A$390,MATCH(SMALL(Feuil1!$G$10:$G$390,(ROW(B9)-1)*2+2),Feuil1!$G$9:$G$390,0)-1),"") | F10: =IFERROR(OFFSET(Feuil1!$A$9,MATCH(Feuil3!A10,Feuil1!$A$10:$A$390,0)+1,),"") | G10: =IFERROR(OFFSET(Feuil1!$A$9,MATCH(Feuil3!B10,Feuil1!$A$10:$A$390,0)-1,),"")
A11: =IFERROR(INDEX(Feuil1!$A$10:$A$390,MATCH(SMALL(Feuil1!$G$10:$G$390,(ROW($A10)-1)*2+1),Feuil1!$G$9:$G$390,0)-1),"") | B11: =IFERROR(INDEX(Feuil1!$A$10:$A$390,MATCH(SMALL(Feuil1!$G$10:$G$390,(ROW(B10)-1)*2+2),Feuil1!$G$9:$G$390,0)-1),"") | F11: =IFERROR(OFFSET(Feuil1!$A$9,MATCH(Feuil3!A11,Feuil1!$A$10:$A$390,0)+1,),"") | G11: =IFERROR(OFFSET(Feuil1!$A$9,MATCH(Feuil3!B11,Feuil1!$A$10:$A$390,0)-1,),"")
A12: =IFERROR(INDEX(Feuil1!$A$10:$A$390,MATCH(SMALL(Feuil1!$G$10:$G$390,(ROW($A11)-1)*2+1),Feuil1!$G$9:$G$390,0)-1),"") | B12: =IFERROR(INDEX(Feuil1!$A$10:$A$390,MATCH(SMALL(Feuil1!$G$10:$G$390,(ROW(B11)-1)*2+2),Feuil1!$G$9:$G$390,0)-1),"") | F12: =IFERROR(OFFSET(Feuil1!$A$9,MATCH(Feuil3!A12,Feuil1!$A$10:$A$390,0)+1,),"") | G12: =IFERROR(OFFSET(Feuil1!$A$9,MATCH(Feuil3!B12,Feuil1!$A$10:$A$390,0)-1,),"")
A13: =IFERROR(INDEX(Feuil1!$A$10:$A$390,MATCH(SMALL(Feuil1!$G$10:$G$390,(ROW($A12)-1)*2+1),Feuil1!$G$9:$G$390,0)-1),"") | B13: =IFERROR(INDEX(Feuil1!$A$10:$A$390,MATCH(SMALL(Feuil1!$G$10:$G$390,(ROW(B12)-1)*2+2),Feuil1!$G$9:$G$390,0)-1),"") | F13: =IFERROR(OFFSET(Feuil1!$A$9,MATCH(Feuil3!A13,Feuil1!$A$10:$A$390,0)+1,),"") | G13: =IFERROR(OFFSET(Feuil1!$A$9,MATCH(Feuil3!B13,Feuil1!$A$10:$A$390,0)-1,),"")
