Workbook
Name bdd: OFFSET(MATÉRIAUX!$A$1,,,,MATCH("z^z",MATÉRIAUX!$1:$1))
Name categ: OFFSET('BD MAITRESSE'!$M$2,,,COUNTIF('BD MAITRESSE'!$M:$M,"><")-1)
Name dept: MATÉRIAUX!$A$1
Name index: MATÉRIAUX!$C$2
Name val: OFFSET(bdd,4,,index)

Sheet BD MAITRESSE
A1: MATÉRIEL | B1: CATÉGORIE | M1: =B1 -> CATÉGORIE
A2: Panval 555 mat | B2: Mélamine | M2: Acier inoxydable
A3: Panval 290 mat | B3: Mélamine | M3: Béton
A4: Érable 16mm 1c | B4: Placage | M4: Corian
A5: Érable 16mm 2c | B5: Placage | M5: Granite
A6: Chêne RC 16mm 2c | B6: Placage | M6: Laminé
A7: Chêne QC 16mm 2c | B7: Placage | M7: Massif
A8: Chêne QC 19mm 2c | B8: Placage | M8: Mélamine
A9: Chêne Massif | B9: Massif | M9: Métal
A10: Érable Massif | B10: Massif | M10: Placage
A11: Panval G18 Rio | B11: Mélamine | M11: Quartz
A12: Pearl Grey | B12: Corian | M12: Verre
A13: Verre Satiné 3mm | B13: Verre
A14: Verre Satiné 4mm | B14: Verre
A15: Verre Satiné 6mm | B15: Verre
A16: Verre Clair 3mm | B16: Verre
A17: Verre Clair 4mm | B17: Verre
A18: Verre Clair 6mm | B18: Verre
A19: Verre Clair 8mm | B19: Verre
A20: Verre Clair 10mm | B20: Verre

Sheet SOUMISSION
B4: choix2
A5: Métal | B5: Panval 290 mat | C5: =IF(SUMPRODUCT((val=B5)*COLUMN(bdd))<>MATCH(A5,bdd,0),"modifier choix 2","") -> modifier choix 2

Sheet MATÉRIAUX
A1: ='BD MAITRESSE'!M2 -> Acier inoxydable | D1: ='BD MAITRESSE'!M3 -> Béton | G1: ='BD MAITRESSE'!M4 -> Corian | J1: ='BD MAITRESSE'!M5 -> Granite | M1: ='BD MAITRESSE'!M6 -> Laminé | P1: ='BD MAITRESSE'!M7 -> Massif | S1: ='BD MAITRESSE'!M8 -> Mélamine | V1: ='BD MAITRESSE'!M9 -> Métal | Y1: ='BD MAITRESSE'!M10 -> Placage | AB1: ='BD MAITRESSE'!M11 -> Quartz | AE1: ='BD MAITRESSE'!M12 -> Verre
A2: CATÉGORIE | B2: =A1 -> Acier inoxydable | C2: =SUMPRODUCT(MAX((A5:AF15<>"")*(ROW(5:15))))-3 -> 9 | D2: CATÉGORIE | E2: =D1 -> Béton | G2: CATÉGORIE | H2: =G1 -> Corian | J2: CATÉGORIE | K2: =J1 -> Granite | M2: CATÉGORIE | N2: =M1 -> Laminé | P2: CATÉGORIE | Q2: =P1 -> Massif | S2: CATÉGORIE | T2: =S1 -> Mélamine | V2: CATÉGORIE | W2: =V1 -> Métal | Y2: CATÉGORIE | Z2: =Y1 -> Placage | AB2: CATÉGORIE | AC2: =AB1 -> Quartz | AE2: CATÉGORIE | AF2: =AE1 -> Verre
A4: Étiquette de ligne | D4: Étiquette de ligne | G4: Étiquette de ligne | J4: Étiquette de ligne | M4: Étiquette de ligne | P4: Étiquette de ligne | S4: Étiquette de ligne | V4: Étiquette de ligne | Y4: Étiquette de ligne | AB4: Étiquette de ligne | AE4: Étiquette de ligne
A5: Gauge 16 | D5: Blanc 2" | G5: Designer White | J5: Cambrian Black | M5: ColorCore blanc 90 | P5: Chêne Massif | S5: Panval 290 mat | Y5: Chêne QC 16mm 2c | AE5: Verre Clair 10mm
A6: Gauge 18 | D6: Blanc 3" | G6: Pearl Grey | J6: Galaxie Black | M6: ColorCore noir 90 | P6: Érable Massif | S6: Panval 555 mat | Y6: Chêne QC 19mm 2c | AE6: Verre Clair 3mm
A7: Gauge 20 | D7: Noir 2" | J7: Noir Atlantique | M7: ColorCore rouge 90 | P7: Wenge Massif | S7: Panval G18 Rio | Y7: Chêne RC 16mm 2c | AE7: Verre Clair 4mm
A8: Gauge 22 | D8: Noir 3" | J8: Tropic Brown | Y8: Érable 16mm 1c | AE8: Verre Clair 6mm
A9: Gauge 24 | D9: Naturel 2" | Y9: Érable 16mm 2c | AE9: Verre Clair 8mm
A10: Gauge 26 | D10: Naturel 3" | Y10: Érable 19mm 2c | AE10: Verre Satiné 3mm
AE11: Verre Satiné 4mm
J12: =MATCH("z^z",1:1) -> 31 | AE12: Verre Satiné 6mm
