Workbook
Name comb: OFFSET(param!$A$2:$B$2,,,ROWS(proparam))
Name dept: param!$C$1
Name project: OFFSET(Projet!$A$2,,,COUNTIF(Projet!$A:$A,"><")-1)
Name projet: OFFSET(Taches!$B$2,,,COUNTIF(Taches!$B:$B,"><")-1)
Name proparam: OFFSET(param!$A$2,,,COUNTIF(param!$A:$A,"><"))
Name tache: OFFSET(projet,,1,)

Sheet Projet
A1: PROJECT | B1: Description projet | C1: Avancement
A2: AAA | C2: 0.5
A3: BBB | C3: 0.2
A4: CCC | C4: 0.4
A5: DDD | C5: 0
A6: EEE | C6: 0
A7: FFF | C7: 0
D8: dans cette feuille tu crées tes projets
D9: ils seront automatiquement inscrit sous forme de liste de validation ; ainsi tu peux utiliser dans l'onglet tache
D13: le principe est de nommer en dynamique avec DECALER pour
D14: n'avoir que les valeurs effectives
D15: on utilise ce nom (ici "project") dans données >>validation
D16: sur la feuille tache

Sheet Taches
B1: PROJETS | C1: TÂCHES | D1: % AVANCEMENT
B2: AAA | C2: apipi | D2: 0.5 | H2: tu peux choisir tes projets a condition de les avoir crées dans
B3: AAA | C3: apipo | D3: 0.5 | H3: l'onglet projet
B4: BBB | C4: bibo | D4: 0.2
B5: AAA | C5: ciso | D5: 0.4
B6: BBB | C6: apipa | D6: 0.5
B7: EEE | C7: duri | D7: 0
B8: AAA | C8: eci | D8: 0
B9: CCC | C9: apopi | D9: 0.5
B10: DDD | C10: cisa | D10: 0.4
B11: FFF | C11: duro | D11: 0
B12: AAA | C12: fumi | D12: 0
B13: AAA | C13: apopa | D13: 0.5
B14: AAA | C14: fumo | D14: 0

Sheet Day work
A1: Date | B1: Projet | C1: TÂCHES
A2: 42592 | B2: BBB | C2: bibo
A3: 42593
A4: 42594 | B4: AAA | C4: apipa
A5: 42595
A6: 42596
A7: 42597
A8: 42598
A9: 42599
A10: 42600
A11: 42601
A12: 42602
A13: 42603
A14: 42604 | B14: CCC | C14: ciso

Sheet param
A2: {=IFERROR(OFFSET(Taches!$B$1,MATCH(0,COUNTIF(A$1:A1,projet),0),),"")} -> AAA | B2: =IF(A2="","",COUNTIF(C2:Z2,"><")) -> 6 | C2: {=INDEX(tache,SMALL(IF(projet=$A2,ROW(projet)-1,""),COLUMN(A:A)))} -> apipi | D2: {=INDEX(tache,SMALL(IF(projet=$A2,ROW(projet)-1,""),COLUMN(C:C)))} -> ciso | E2: {=INDEX(tache,SMALL(IF(projet=$A2,ROW(projet)-1,""),COLUMN(D:D)))} -> eci | F2: {=INDEX(tache,SMALL(IF(projet=$A2,ROW(projet)-1,""),COLUMN(E:E)))} -> fumi | G2: {=INDEX(tache,SMALL(IF(projet=$A2,ROW(projet)-1,""),COLUMN(F:F)))} -> apopa | H2: {=INDEX(tache,SMALL(IF(projet=$A2,ROW(projet)-1,""),COLUMN(G:G)))} -> fumo | I2: {=INDEX(tache,SMALL(IF(projet=$A2,ROW(projet)-1,""),COLUMN(H:H)))} -> #NUM! | J2: {=INDEX(tache,SMALL(IF(projet=$A2,ROW(projet)-1,""),COLUMN(I:I)))} -> #NUM! | K2: {=INDEX(tache,SMALL(IF(projet=$A2,ROW(projet)-1,""),COLUMN(J:J)))} -> #NUM!
A3: {=IFERROR(OFFSET(Taches!$B$1,MATCH(0,COUNTIF(A$1:A2,projet),0),),"")} -> BBB | B3: =IF(A3="","",COUNTIF(C3:Z3,"><")) -> 1 | C3: {=INDEX(tache,SMALL(IF(projet=$A3,ROW(projet)-1,""),COLUMN(A:A)))} -> bibo | D3: {=INDEX(tache,SMALL(IF(projet=$A3,ROW(projet)-1,""),COLUMN(C:C)))} -> #NUM! | E3: {=INDEX(tache,SMALL(IF(projet=$A3,ROW(projet)-1,""),COLUMN(D:D)))} -> #NUM! | F3: {=INDEX(tache,SMALL(IF(projet=$A3,ROW(projet)-1,""),COLUMN(E:E)))} -> #NUM! | G3: {=INDEX(tache,SMALL(IF(projet=$A3,ROW(projet)-1,""),COLUMN(F:F)))} -> #NUM! | H3: {=INDEX(tache,SMALL(IF(projet=$A3,ROW(projet)-1,""),COLUMN(G:G)))} -> #NUM! | I3: {=INDEX(tache,SMALL(IF(projet=$A3,ROW(projet)-1,""),COLUMN(H:H)))} -> #NUM! | J3: {=INDEX(tache,SMALL(IF(projet=$A3,ROW(projet)-1,""),COLUMN(I:I)))} -> #NUM! | K3: {=INDEX(tache,SMALL(IF(projet=$A3,ROW(projet)-1,""),COLUMN(J:J)))} -> #NUM!
A4: {=IFERROR(OFFSET(Taches!$B$1,MATCH(0,COUNTIF(A$1:A3,projet),0),),"")} -> EEE | B4: =IF(A4="","",COUNTIF(C4:Z4,"><")) -> 1 | C4: {=INDEX(tache,SMALL(IF(projet=$A4,ROW(projet)-1,""),COLUMN(A:A)))} -> duri | D4: {=INDEX(tache,SMALL(IF(projet=$A4,ROW(projet)-1,""),COLUMN(C:C)))} -> #NUM! | E4: {=INDEX(tache,SMALL(IF(projet=$A4,ROW(projet)-1,""),COLUMN(D:D)))} -> #NUM! | F4: {=INDEX(tache,SMALL(IF(projet=$A4,ROW(projet)-1,""),COLUMN(E:E)))} -> #NUM! | G4: {=INDEX(tache,SMALL(IF(projet=$A4,ROW(projet)-1,""),COLUMN(F:F)))} -> #NUM! | H4: {=INDEX(tache,SMALL(IF(projet=$A4,ROW(projet)-1,""),COLUMN(G:G)))} -> #NUM! | I4: {=INDEX(tache,SMALL(IF(projet=$A4,ROW(projet)-1,""),COLUMN(H:H)))} -> #NUM! | J4: {=INDEX(tache,SMALL(IF(projet=$A4,ROW(projet)-1,""),COLUMN(I:I)))} -> #NUM! | K4: {=INDEX(tache,SMALL(IF(projet=$A4,ROW(projet)-1,""),COLUMN(J:J)))} -> #NUM!
A5: {=IFERROR(OFFSET(Taches!$B$1,MATCH(0,COUNTIF(A$1:A4,projet),0),),"")} -> CCC | B5: =IF(A5="","",COUNTIF(C5:Z5,"><")) -> 1 | C5: {=INDEX(tache,SMALL(IF(projet=$A5,ROW(projet)-1,""),COLUMN(A:A)))} -> apopi | D5: {=INDEX(tache,SMALL(IF(projet=$A5,ROW(projet)-1,""),COLUMN(C:C)))} -> #NUM! | E5: {=INDEX(tache,SMALL(IF(projet=$A5,ROW(projet)-1,""),COLUMN(D:D)))} -> #NUM! | F5: {=INDEX(tache,SMALL(IF(projet=$A5,ROW(projet)-1,""),COLUMN(E:E)))} -> #NUM! | G5: {=INDEX(tache,SMALL(IF(projet=$A5,ROW(projet)-1,""),COLUMN(F:F)))} -> #NUM! | H5: {=INDEX(tache,SMALL(IF(projet=$A5,ROW(projet)-1,""),COLUMN(G:G)))} -> #NUM! | I5: {=INDEX(tache,SMALL(IF(projet=$A5,ROW(projet)-1,""),COLUMN(H:H)))} -> #NUM! | J5: {=INDEX(tache,SMALL(IF(projet=$A5,ROW(projet)-1,""),COLUMN(I:I)))} -> #NUM! | K5: {=INDEX(tache,SMALL(IF(projet=$A5,ROW(projet)-1,""),COLUMN(J:J)))} -> #NUM!
A6: {=IFERROR(OFFSET(Taches!$B$1,MATCH(0,COUNTIF(A$1:A5,projet),0),),"")} -> DDD | B6: =IF(A6="","",COUNTIF(C6:Z6,"><")) -> 1 | C6: {=INDEX(tache,SMALL(IF(projet=$A6,ROW(projet)-1,""),COLUMN(A:A)))} -> cisa | D6: {=INDEX(tache,SMALL(IF(projet=$A6,ROW(projet)-1,""),COLUMN(C:C)))} -> #NUM! | E6: {=INDEX(tache,SMALL(IF(projet=$A6,ROW(projet)-1,""),COLUMN(D:D)))} -> #NUM! | F6: {=INDEX(tache,SMALL(IF(projet=$A6,ROW(projet)-1,""),COLUMN(E:E)))} -> #NUM! | G6: {=INDEX(tache,SMALL(IF(projet=$A6,ROW(projet)-1,""),COLUMN(F:F)))} -> #NUM! | H6: {=INDEX(tache,SMALL(IF(projet=$A6,ROW(projet)-1,""),COLUMN(G:G)))} -> #NUM! | I6: {=INDEX(tache,SMALL(IF(projet=$A6,ROW(projet)-1,""),COLUMN(H:H)))} -> #NUM! | J6: {=INDEX(tache,SMALL(IF(projet=$A6,ROW(projet)-1,""),COLUMN(I:I)))} -> #NUM! | K6: {=INDEX(tache,SMALL(IF(projet=$A6,ROW(projet)-1,""),COLUMN(J:J)))} -> #NUM!
A7: {=IFERROR(OFFSET(Taches!$B$1,MATCH(0,COUNTIF(A$1:A6,projet),0),),"")} -> FFF | B7: =IF(A7="","",COUNTIF(C7:Z7,"><")) -> 1 | C7: {=INDEX(tache,SMALL(IF(projet=$A7,ROW(projet)-1,""),COLUMN(A:A)))} -> duro | D7: {=INDEX(tache,SMALL(IF(projet=$A7,ROW(projet)-1,""),COLUMN(C:C)))} -> #NUM! | E7: {=INDEX(tache,SMALL(IF(projet=$A7,ROW(projet)-1,""),COLUMN(D:D)))} -> #NUM! | F7: {=INDEX(tache,SMALL(IF(projet=$A7,ROW(projet)-1,""),COLUMN(E:E)))} -> #NUM! | G7: {=INDEX(tache,SMALL(IF(projet=$A7,ROW(projet)-1,""),COLUMN(F:F)))} -> #NUM! | H7: {=INDEX(tache,SMALL(IF(projet=$A7,ROW(projet)-1,""),COLUMN(G:G)))} -> #NUM! | I7: {=INDEX(tache,SMALL(IF(projet=$A7,ROW(projet)-1,""),COLUMN(H:H)))} -> #NUM! | J7: {=INDEX(tache,SMALL(IF(projet=$A7,ROW(projet)-1,""),COLUMN(I:I)))} -> #NUM! | K7: {=INDEX(tache,SMALL(IF(projet=$A7,ROW(projet)-1,""),COLUMN(J:J)))} -> #NUM!
A8: {=IFERROR(OFFSET(Taches!$B$1,MATCH(0,COUNTIF(A$1:A7,projet),0),),"")} | B8: =IF(A8="","",COUNTIF(C8:Z8,"><")) | C8: {=INDEX(tache,SMALL(IF(projet=$A8,ROW(projet)-1,""),COLUMN(A:A)))} -> #NUM! | D8: {=INDEX(tache,SMALL(IF(projet=$A8,ROW(projet)-1,""),COLUMN(C:C)))} -> #NUM! | E8: {=INDEX(tache,SMALL(IF(projet=$A8,ROW(projet)-1,""),COLUMN(D:D)))} -> #NUM! | F8: {=INDEX(tache,SMALL(IF(projet=$A8,ROW(projet)-1,""),COLUMN(E:E)))} -> #NUM! | G8: {=INDEX(tache,SMALL(IF(projet=$A8,ROW(projet)-1,""),COLUMN(F:F)))} -> #NUM! | H8: {=INDEX(tache,SMALL(IF(projet=$A8,ROW(projet)-1,""),COLUMN(G:G)))} -> #NUM! | I8: {=INDEX(tache,SMALL(IF(projet=$A8,ROW(projet)-1,""),COLUMN(H:H)))} -> #NUM! | J8: {=INDEX(tache,SMALL(IF(projet=$A8,ROW(projet)-1,""),COLUMN(I:I)))} -> #NUM! | K8: {=INDEX(tache,SMALL(IF(projet=$A8,ROW(projet)-1,""),COLUMN(J:J)))} -> #NUM!
A9: {=IFERROR(OFFSET(Taches!$B$1,MATCH(0,COUNTIF(A$1:A8,projet),0),),"")} | B9: =IF(A9="","",COUNTIF(C9:Z9,"><")) | C9: {=INDEX(tache,SMALL(IF(projet=$A9,ROW(projet)-1,""),COLUMN(A:A)))} -> #NUM! | D9: {=INDEX(tache,SMALL(IF(projet=$A9,ROW(projet)-1,""),COLUMN(C:C)))} -> #NUM! | E9: {=INDEX(tache,SMALL(IF(projet=$A9,ROW(projet)-1,""),COLUMN(D:D)))} -> #NUM! | F9: {=INDEX(tache,SMALL(IF(projet=$A9,ROW(projet)-1,""),COLUMN(E:E)))} -> #NUM! | G9: {=INDEX(tache,SMALL(IF(projet=$A9,ROW(projet)-1,""),COLUMN(F:F)))} -> #NUM! | H9: {=INDEX(tache,SMALL(IF(projet=$A9,ROW(projet)-1,""),COLUMN(G:G)))} -> #NUM! | I9: {=INDEX(tache,SMALL(IF(projet=$A9,ROW(projet)-1,""),COLUMN(H:H)))} -> #NUM! | J9: {=INDEX(tache,SMALL(IF(projet=$A9,ROW(projet)-1,""),COLUMN(I:I)))} -> #NUM! | K9: {=INDEX(tache,SMALL(IF(projet=$A9,ROW(projet)-1,""),COLUMN(J:J)))} -> #NUM!
A10: {=IFERROR(OFFSET(Taches!$B$1,MATCH(0,COUNTIF(A$1:A9,projet),0),),"")} | B10: =IF(A10="","",COUNTIF(C10:Z10,"><")) | C10: {=INDEX(tache,SMALL(IF(projet=$A10,ROW(projet)-1,""),COLUMN(A:A)))} -> #NUM! | D10: {=INDEX(tache,SMALL(IF(projet=$A10,ROW(projet)-1,""),COLUMN(C:C)))} -> #NUM! | E10: {=INDEX(tache,SMALL(IF(projet=$A10,ROW(projet)-1,""),COLUMN(D:D)))} -> #NUM! | F10: {=INDEX(tache,SMALL(IF(projet=$A10,ROW(projet)-1,""),COLUMN(E:E)))} -> #NUM! | G10: {=INDEX(tache,SMALL(IF(projet=$A10,ROW(projet)-1,""),COLUMN(F:F)))} -> #NUM! | H10: {=INDEX(tache,SMALL(IF(projet=$A10,ROW(projet)-1,""),COLUMN(G:G)))} -> #NUM! | I10: {=INDEX(tache,SMALL(IF(projet=$A10,ROW(projet)-1,""),COLUMN(H:H)))} -> #NUM! | J10: {=INDEX(tache,SMALL(IF(projet=$A10,ROW(projet)-1,""),COLUMN(I:I)))} -> #NUM! | K10: {=INDEX(tache,SMALL(IF(projet=$A10,ROW(projet)-1,""),COLUMN(J:J)))} -> #NUM!
A11: {=IFERROR(OFFSET(Taches!$B$1,MATCH(0,COUNTIF(A$1:A10,projet),0),),"")} | B11: =IF(A11="","",COUNTIF(C11:Z11,"><")) | C11: {=INDEX(tache,SMALL(IF(projet=$A11,ROW(projet)-1,""),COLUMN(A:A)))} -> #NUM! | D11: {=INDEX(tache,SMALL(IF(projet=$A11,ROW(projet)-1,""),COLUMN(C:C)))} -> #NUM! | E11: {=INDEX(tache,SMALL(IF(projet=$A11,ROW(projet)-1,""),COLUMN(D:D)))} -> #NUM! | F11: {=INDEX(tache,SMALL(IF(projet=$A11,ROW(projet)-1,""),COLUMN(E:E)))} -> #NUM! | G11: {=INDEX(tache,SMALL(IF(projet=$A11,ROW(projet)-1,""),COLUMN(F:F)))} -> #NUM! | H11: {=INDEX(tache,SMALL(IF(projet=$A11,ROW(projet)-1,""),COLUMN(G:G)))} -> #NUM! | I11: {=INDEX(tache,SMALL(IF(projet=$A11,ROW(projet)-1,""),COLUMN(H:H)))} -> #NUM! | J11: {=INDEX(tache,SMALL(IF(projet=$A11,ROW(projet)-1,""),COLUMN(I:I)))} -> #NUM! | K11: {=INDEX(tache,SMALL(IF(projet=$A11,ROW(projet)-1,""),COLUMN(J:J)))} -> #NUM!
A12: {=IFERROR(OFFSET(Taches!$B$1,MATCH(0,COUNTIF(A$1:A11,projet),0),),"")} | B12: =IF(A12="","",COUNTIF(C12:Z12,"><")) | C12: {=INDEX(tache,SMALL(IF(projet=$A12,ROW(projet)-1,""),COLUMN(A:A)))} -> #NUM! | D12: {=INDEX(tache,SMALL(IF(projet=$A12,ROW(projet)-1,""),COLUMN(C:C)))} -> #NUM! | E12: {=INDEX(tache,SMALL(IF(projet=$A12,ROW(projet)-1,""),COLUMN(D:D)))} -> #NUM! | F12: {=INDEX(tache,SMALL(IF(projet=$A12,ROW(projet)-1,""),COLUMN(E:E)))} -> #NUM! | G12: {=INDEX(tache,SMALL(IF(projet=$A12,ROW(projet)-1,""),COLUMN(F:F)))} -> #NUM! | H12: {=INDEX(tache,SMALL(IF(projet=$A12,ROW(projet)-1,""),COLUMN(G:G)))} -> #NUM! | I12: {=INDEX(tache,SMALL(IF(projet=$A12,ROW(projet)-1,""),COLUMN(H:H)))} -> #NUM! | J12: {=INDEX(tache,SMALL(IF(projet=$A12,ROW(projet)-1,""),COLUMN(I:I)))} -> #NUM! | K12: {=INDEX(tache,SMALL(IF(projet=$A12,ROW(projet)-1,""),COLUMN(J:J)))} -> #NUM!
A13: {=IFERROR(OFFSET(Taches!$B$1,MATCH(0,COUNTIF(A$1:A12,projet),0),),"")} | B13: =IF(A13="","",COUNTIF(C13:Z13,"><")) | C13: {=INDEX(tache,SMALL(IF(projet=$A13,ROW(projet)-1,""),COLUMN(A:A)))} -> #NUM! | D13: {=INDEX(tache,SMALL(IF(projet=$A13,ROW(projet)-1,""),COLUMN(C:C)))} -> #NUM! | E13: {=INDEX(tache,SMALL(IF(projet=$A13,ROW(projet)-1,""),COLUMN(D:D)))} -> #NUM! | F13: {=INDEX(tache,SMALL(IF(projet=$A13,ROW(projet)-1,""),COLUMN(E:E)))} -> #NUM! | G13: {=INDEX(tache,SMALL(IF(projet=$A13,ROW(projet)-1,""),COLUMN(F:F)))} -> #NUM! | H13: {=INDEX(tache,SMALL(IF(projet=$A13,ROW(projet)-1,""),COLUMN(G:G)))} -> #NUM! | I13: {=INDEX(tache,SMALL(IF(projet=$A13,ROW(projet)-1,""),COLUMN(H:H)))} -> #NUM! | J13: {=INDEX(tache,SMALL(IF(projet=$A13,ROW(projet)-1,""),COLUMN(I:I)))} -> #NUM! | K13: {=INDEX(tache,SMALL(IF(projet=$A13,ROW(projet)-1,""),COLUMN(J:J)))} -> #NUM!
... A17: {=IFERROR(OFFSET(Taches!$B$1,MATCH(0,COUNTIF(A$1:A16,projet),0),),"")} | B17: =IF(A17="","",COUNTIF(C17:Z17,"><")) | C17: {=INDEX(tache,SMALL(IF(projet=$A17,ROW(projet)-1,""),COLUMN(A:A)))} -> #NUM! | D17: {=INDEX(tache,SMALL(IF(projet=$A17,ROW(projet)-1,""),COLUMN(C:C)))} -> #NUM! | E17: {=INDEX(tache,SMALL(IF(projet=$A17,ROW(projet)-1,""),COLUMN(D:D)))} -> #NUM! | F17: {=INDEX(tache,SMALL(IF(projet=$A17,ROW(projet)-1,""),COLUMN(E:E)))} -> #NUM! | G17: {=INDEX(tache,SMALL(IF(projet=$A17,ROW(projet)-1,""),COLUMN(F:F)))} -> #NUM! | H17: {=INDEX(tache,SMALL(IF(projet=$A17,ROW(projet)-1,""),COLUMN(G:G)))} -> #NUM! | I17: {=INDEX(tache,SMALL(IF(projet=$A17,ROW(projet)-1,""),COLUMN(H:H)))} -> #NUM! | J17: {=INDEX(tache,SMALL(IF(projet=$A17,ROW(projet)-1,""),COLUMN(I:I)))} -> #NUM! | K17: {=INDEX(tache,SMALL(IF(projet=$A17,ROW(projet)-1,""),COLUMN(J:J)))} -> #NUM!
A18: {=IFERROR(OFFSET(Taches!$B$1,MATCH(0,COUNTIF(A$1:A17,projet),0),),"")} | B18: =IF(A18="","",COUNTIF(C18:Z18,"><")) | C18: {=INDEX(tache,SMALL(IF(projet=$A18,ROW(projet)-1,""),COLUMN(A:A)))} -> #NUM! | D18: {=INDEX(tache,SMALL(IF(projet=$A18,ROW(projet)-1,""),COLUMN(C:C)))} -> #NUM! | E18: {=INDEX(tache,SMALL(IF(projet=$A18,ROW(projet)-1,""),COLUMN(D:D)))} -> #NUM! | F18: {=INDEX(tache,SMALL(IF(projet=$A18,ROW(projet)-1,""),COLUMN(E:E)))} -> #NUM! | G18: {=INDEX(tache,SMALL(IF(projet=$A18,ROW(projet)-1,""),COLUMN(F:F)))} -> #NUM! | H18: {=INDEX(tache,SMALL(IF(projet=$A18,ROW(projet)-1,""),COLUMN(G:G)))} -> #NUM! | I18: {=INDEX(tache,SMALL(IF(projet=$A18,ROW(projet)-1,""),COLUMN(H:H)))} -> #NUM! | J18: {=INDEX(tache,SMALL(IF(projet=$A18,ROW(projet)-1,""),COLUMN(I:I)))} -> #NUM! | K18: {=INDEX(tache,SMALL(IF(projet=$A18,ROW(projet)-1,""),COLUMN(J:J)))} -> #NUM! | M18: si pas assez tu tires vers le bas
M19: c'est tout
