Workbook

Sheet BD Voeux
A1: Eleve | B1: Div | C1: Vœu 1 | D1: Vœu 2 | E1: Vœu 3 | G1: Format personnalisé @" en 1" | J1: GF | K1: RH | L1: MERC | M1: SI
A2: ABCD Efgh | B2: P1 | C2: GF | D2: RH | E2: SI | J2: {=IFERROR(INDEX($A$2:$A$6,SMALL(IF($C$2:$C$6=J$1,ROW($A$2:$A$6)-1,""),ROW(A1))),"")} -> ABCD Efgh | K2: {=IFERROR(INDEX($A$2:$A$6,SMALL(IF($C$2:$C$6=K$1,ROW($A$2:$A$6)-1,""),ROW(B1))),"")} | L2: {=IFERROR(INDEX($A$2:$A$6,SMALL(IF($C$2:$C$6=L$1,ROW($A$2:$A$6)-1,""),ROW(C1))),"")} -> XY Za | M2: {=IFERROR(INDEX($A$2:$A$6,SMALL(IF($C$2:$C$6=M$1,ROW($A$2:$A$6)-1,""),ROW(D1))),"")} -> IJKL Mnop
A3: IJKL Mnop | B3: P2 | C3: SI | D3: SI | J3: {=IFERROR(INDEX($A$2:$A$6,SMALL(IF($C$2:$C$6=J$1,ROW($A$2:$A$6)-1,""),ROW(A2))),"")} -> QRST Uvw | K3: {=IFERROR(INDEX($A$2:$A$6,SMALL(IF($C$2:$C$6=K$1,ROW($A$2:$A$6)-1,""),ROW(B2))),"")} | L3: {=IFERROR(INDEX($A$2:$A$6,SMALL(IF($C$2:$C$6=L$1,ROW($A$2:$A$6)-1,""),ROW(C2))),"")} | M3: {=IFERROR(INDEX($A$2:$A$6,SMALL(IF($C$2:$C$6=M$1,ROW($A$2:$A$6)-1,""),ROW(D2))),"")} -> EFJN ZIEN
A4: QRST Uvw | B4: P3 | C4: GF | D4: MERC | E4: RH | J4: {=IFERROR(INDEX($A$2:$A$6,SMALL(IF($C$2:$C$6=J$1,ROW($A$2:$A$6)-1,""),ROW(A3))),"")} | K4: {=IFERROR(INDEX($A$2:$A$6,SMALL(IF($C$2:$C$6=K$1,ROW($A$2:$A$6)-1,""),ROW(B3))),"")} | L4: {=IFERROR(INDEX($A$2:$A$6,SMALL(IF($C$2:$C$6=L$1,ROW($A$2:$A$6)-1,""),ROW(C3))),"")} | M4: {=IFERROR(INDEX($A$2:$A$6,SMALL(IF($C$2:$C$6=M$1,ROW($A$2:$A$6)-1,""),ROW(D3))),"")}
A5: XY Za | B5: P4 | C5: MERC | D5: GF | J5: {=IFERROR(INDEX($A$2:$A$6,SMALL(IF($C$2:$C$6=J$1,ROW($A$2:$A$6)-1,""),ROW(A4))),"")} | K5: {=IFERROR(INDEX($A$2:$A$6,SMALL(IF($C$2:$C$6=K$1,ROW($A$2:$A$6)-1,""),ROW(B4))),"")} | L5: {=IFERROR(INDEX($A$2:$A$6,SMALL(IF($C$2:$C$6=L$1,ROW($A$2:$A$6)-1,""),ROW(C4))),"")} | M5: {=IFERROR(INDEX($A$2:$A$6,SMALL(IF($C$2:$C$6=M$1,ROW($A$2:$A$6)-1,""),ROW(D4))),"")}
A6: EFJN ZIEN | B6: P2 | C6: SI | D6: SI | J6: {=IFERROR(INDEX($A$2:$A$6,SMALL(IF($C$2:$C$6=J$1,ROW($A$2:$A$6)-1,""),ROW(A5))),"")} | K6: {=IFERROR(INDEX($A$2:$A$6,SMALL(IF($C$2:$C$6=K$1,ROW($A$2:$A$6)-1,""),ROW(B5))),"")} | L6: {=IFERROR(INDEX($A$2:$A$6,SMALL(IF($C$2:$C$6=L$1,ROW($A$2:$A$6)-1,""),ROW(C5))),"")} | M6: {=IFERROR(INDEX($A$2:$A$6,SMALL(IF($C$2:$C$6=M$1,ROW($A$2:$A$6)-1,""),ROW(D5))),"")}
J7: {=IFERROR(INDEX($A$2:$A$6,SMALL(IF($C$2:$C$6=J$1,ROW($A$2:$A$6)-1,""),ROW(A6))),"")} | K7: {=IFERROR(INDEX($A$2:$A$6,SMALL(IF($C$2:$C$6=K$1,ROW($A$2:$A$6)-1,""),ROW(B6))),"")} | L7: {=IFERROR(INDEX($A$2:$A$6,SMALL(IF($C$2:$C$6=L$1,ROW($A$2:$A$6)-1,""),ROW(C6))),"")} | M7: {=IFERROR(INDEX($A$2:$A$6,SMALL(IF($C$2:$C$6=M$1,ROW($A$2:$A$6)-1,""),ROW(D6))),"")}
J8: {=IFERROR(INDEX($A$2:$A$6,SMALL(IF($C$2:$C$6=J$1,ROW($A$2:$A$6)-1,""),ROW(A7))),"")} | K8: {=IFERROR(INDEX($A$2:$A$6,SMALL(IF($C$2:$C$6=K$1,ROW($A$2:$A$6)-1,""),ROW(B7))),"")} | L8: {=IFERROR(INDEX($A$2:$A$6,SMALL(IF($C$2:$C$6=L$1,ROW($A$2:$A$6)-1,""),ROW(C7))),"")} | M8: {=IFERROR(INDEX($A$2:$A$6,SMALL(IF($C$2:$C$6=M$1,ROW($A$2:$A$6)-1,""),ROW(D7))),"")}
J9: {=IFERROR(INDEX($A$2:$A$6,SMALL(IF($C$2:$C$6=J$1,ROW($A$2:$A$6)-1,""),ROW(A8))),"")} | K9: {=IFERROR(INDEX($A$2:$A$6,SMALL(IF($C$2:$C$6=K$1,ROW($A$2:$A$6)-1,""),ROW(B8))),"")} | L9: {=IFERROR(INDEX($A$2:$A$6,SMALL(IF($C$2:$C$6=L$1,ROW($A$2:$A$6)-1,""),ROW(C8))),"")} | M9: {=IFERROR(INDEX($A$2:$A$6,SMALL(IF($C$2:$C$6=M$1,ROW($A$2:$A$6)-1,""),ROW(D8))),"")}
J10: {=IFERROR(INDEX($A$2:$A$6,SMALL(IF($C$2:$C$6=J$1,ROW($A$2:$A$6)-1,""),ROW(A9))),"")} | K10: {=IFERROR(INDEX($A$2:$A$6,SMALL(IF($C$2:$C$6=K$1,ROW($A$2:$A$6)-1,""),ROW(B9))),"")} | L10: {=IFERROR(INDEX($A$2:$A$6,SMALL(IF($C$2:$C$6=L$1,ROW($A$2:$A$6)-1,""),ROW(C9))),"")} | M10: {=IFERROR(INDEX($A$2:$A$6,SMALL(IF($C$2:$C$6=M$1,ROW($A$2:$A$6)-1,""),ROW(D9))),"")}
F13: Format personnalisé @" en 2" | J13: GF | K13: RH | L13: MERC | M13: SI
J14: {=IFERROR(INDEX($A$2:$A$6,SMALL(IF($D$2:$D$6=J$13,ROW($A$2:$A$6)-1,""),ROW(A1))),"")} -> XY Za | K14: {=IFERROR(INDEX($A$2:$A$6,SMALL(IF($D$2:$D$6=K$13,ROW($A$2:$A$6)-1,""),ROW(B1))),"")} -> ABCD Efgh | L14: {=IFERROR(INDEX($A$2:$A$6,SMALL(IF($D$2:$D$6=L$13,ROW($A$2:$A$6)-1,""),ROW(C1))),"")} -> QRST Uvw | M14: {=IFERROR(INDEX($A$2:$A$6,SMALL(IF($D$2:$D$6=M$13,ROW($A$2:$A$6)-1,""),ROW(D1))),"")} -> IJKL Mnop
J15: {=IFERROR(INDEX($A$2:$A$6,SMALL(IF($D$2:$D$6=J$13,ROW($A$2:$A$6)-1,""),ROW(A2))),"")} | K15: {=IFERROR(INDEX($A$2:$A$6,SMALL(IF($D$2:$D$6=K$13,ROW($A$2:$A$6)-1,""),ROW(B2))),"")} | L15: {=IFERROR(INDEX($A$2:$A$6,SMALL(IF($D$2:$D$6=L$13,ROW($A$2:$A$6)-1,""),ROW(C2))),"")} | M15: {=IFERROR(INDEX($A$2:$A$6,SMALL(IF($D$2:$D$6=M$13,ROW($A$2:$A$6)-1,""),ROW(D2))),"")} -> EFJN ZIEN
J16: {=IFERROR(INDEX($A$2:$A$6,SMALL(IF($D$2:$D$6=J$13,ROW($A$2:$A$6)-1,""),ROW(A3))),"")} | K16: {=IFERROR(INDEX($A$2:$A$6,SMALL(IF($D$2:$D$6=K$13,ROW($A$2:$A$6)-1,""),ROW(B3))),"")} | L16: {=IFERROR(INDEX($A$2:$A$6,SMALL(IF($D$2:$D$6=L$13,ROW($A$2:$A$6)-1,""),ROW(C3))),"")} | M16: {=IFERROR(INDEX($A$2:$A$6,SMALL(IF($D$2:$D$6=M$13,ROW($A$2:$A$6)-1,""),ROW(D3))),"")}
J17: {=IFERROR(INDEX($A$2:$A$6,SMALL(IF($D$2:$D$6=J$13,ROW($A$2:$A$6)-1,""),ROW(A4))),"")} | K17: {=IFERROR(INDEX($A$2:$A$6,SMALL(IF($D$2:$D$6=K$13,ROW($A$2:$A$6)-1,""),ROW(B4))),"")} | L17: {=IFERROR(INDEX($A$2:$A$6,SMALL(IF($D$2:$D$6=L$13,ROW($A$2:$A$6)-1,""),ROW(C4))),"")} | M17: {=IFERROR(INDEX($A$2:$A$6,SMALL(IF($D$2:$D$6=M$13,ROW($A$2:$A$6)-1,""),ROW(D4))),"")}
J18: {=IFERROR(INDEX($A$2:$A$6,SMALL(IF($D$2:$D$6=J$13,ROW($A$2:$A$6)-1,""),ROW(A5))),"")} | K18: {=IFERROR(INDEX($A$2:$A$6,SMALL(IF($D$2:$D$6=K$13,ROW($A$2:$A$6)-1,""),ROW(B5))),"")} | L18: {=IFERROR(INDEX($A$2:$A$6,SMALL(IF($D$2:$D$6=L$13,ROW($A$2:$A$6)-1,""),ROW(C5))),"")} | M18: {=IFERROR(INDEX($A$2:$A$6,SMALL(IF($D$2:$D$6=M$13,ROW($A$2:$A$6)-1,""),ROW(D5))),"")}
J19: {=IFERROR(INDEX($A$2:$A$6,SMALL(IF($D$2:$D$6=J$13,ROW($A$2:$A$6)-1,""),ROW(A6))),"")} | K19: {=IFERROR(INDEX($A$2:$A$6,SMALL(IF($D$2:$D$6=K$13,ROW($A$2:$A$6)-1,""),ROW(B6))),"")} | L19: {=IFERROR(INDEX($A$2:$A$6,SMALL(IF($D$2:$D$6=L$13,ROW($A$2:$A$6)-1,""),ROW(C6))),"")} | M19: {=IFERROR(INDEX($A$2:$A$6,SMALL(IF($D$2:$D$6=M$13,ROW($A$2:$A$6)-1,""),ROW(D6))),"")}
J20: {=IFERROR(INDEX($A$2:$A$6,SMALL(IF($D$2:$D$6=J$13,ROW($A$2:$A$6)-1,""),ROW(A7))),"")} | K20: {=IFERROR(INDEX($A$2:$A$6,SMALL(IF($D$2:$D$6=K$13,ROW($A$2:$A$6)-1,""),ROW(B7))),"")} | L20: {=IFERROR(INDEX($A$2:$A$6,SMALL(IF($D$2:$D$6=L$13,ROW($A$2:$A$6)-1,""),ROW(C7))),"")} | M20: {=IFERROR(INDEX($A$2:$A$6,SMALL(IF($D$2:$D$6=M$13,ROW($A$2:$A$6)-1,""),ROW(D7))),"")}
J21: {=IFERROR(INDEX($A$2:$A$6,SMALL(IF($D$2:$D$6=J$13,ROW($A$2:$A$6)-1,""),ROW(A8))),"")} | K21: {=IFERROR(INDEX($A$2:$A$6,SMALL(IF($D$2:$D$6=K$13,ROW($A$2:$A$6)-1,""),ROW(B8))),"")} | L21: {=IFERROR(INDEX($A$2:$A$6,SMALL(IF($D$2:$D$6=L$13,ROW($A$2:$A$6)-1,""),ROW(C8))),"")} | M21: {=IFERROR(INDEX($A$2:$A$6,SMALL(IF($D$2:$D$6=M$13,ROW($A$2:$A$6)-1,""),ROW(D8))),"")}

Sheet Feuil3
A1: GF en 1 | B1: MERC en 1 | C1: RH en1 | D1: SI en 1
A2: Eleve | B2: Eleve | C2: Eleve | D2: Eleve
A3: Eleve | B3: Eleve | C3: Eleve | D3: Eleve
A4: Eleve | B4: Eleve
A5: =IF(ISERROR(INDEX('BD Voeux'!$A$2:$A$6,'BD Voeux'!$F5)),"",INDEX('BD Voeux'!$A$2:$A$6,'BD Voeux'!$F5)) -> XY Za | B5: =IF(ISERROR(INDEX('BD Voeux'!$A$2:$A$6,'BD Voeux'!$F5)),"",INDEX('BD Voeux'!$A$2:$A$6,'BD Voeux'!$F5)) -> XY Za | C5: =IF(ISERROR(INDEX('BD Voeux'!$A$2:$A$6,'BD Voeux'!$F5)),"",INDEX('BD Voeux'!$A$2:$A$6,'BD Voeux'!$F5)) -> XY Za | D5: =IF(ISERROR(INDEX('BD Voeux'!$A$2:$A$6,'BD Voeux'!$F5)),"",INDEX('BD Voeux'!$A$2:$A$6,'BD Voeux'!$F5)) -> XY Za
A6: =IF(ISERROR(INDEX('BD Voeux'!$A$2:$A$6,'BD Voeux'!$F6)),"",INDEX('BD Voeux'!$A$2:$A$6,'BD Voeux'!$F6)) -> EFJN ZIEN | B6: =IF(ISERROR(INDEX('BD Voeux'!$A$2:$A$6,'BD Voeux'!$F6)),"",INDEX('BD Voeux'!$A$2:$A$6,'BD Voeux'!$F6)) -> EFJN ZIEN | C6: =IF(ISERROR(INDEX('BD Voeux'!$A$2:$A$6,'BD Voeux'!$F6)),"",INDEX('BD Voeux'!$A$2:$A$6,'BD Voeux'!$F6)) -> EFJN ZIEN | D6: =IF(ISERROR(INDEX('BD Voeux'!$A$2:$A$6,'BD Voeux'!$F6)),"",INDEX('BD Voeux'!$A$2:$A$6,'BD Voeux'!$F6)) -> EFJN ZIEN
A7: =IF(ISERROR(INDEX('BD Voeux'!$A$2:A$6,'BD Voeux'!$F7)),"",INDEX('BD Voeux'!$A$2:A$6,'BD Voeux'!$F7)) | B7: =IF(ISERROR(INDEX('BD Voeux'!$A$2:B$6,'BD Voeux'!$F7)),"",INDEX('BD Voeux'!$A$2:B$6,'BD Voeux'!$F7)) | C7: =IF(ISERROR(INDEX('BD Voeux'!$A$2:C$6,'BD Voeux'!$F7)),"",INDEX('BD Voeux'!$A$2:C$6,'BD Voeux'!$F7)) | D7: =IF(ISERROR(INDEX('BD Voeux'!$A$2:D$6,'BD Voeux'!$F7)),"",INDEX('BD Voeux'!$A$2:D$6,'BD Voeux'!$F7))
A8: =IF(ISERROR(INDEX('BD Voeux'!A$2:A$6,'BD Voeux'!C8)),"",INDEX('BD Voeux'!A$2:A$6,'BD Voeux'!C8)) | B8: =IF('BD Voeux'!$C:$C="MERC",'BD Voeux'!$A:$A,"") | C8: =IF('BD Voeux'!E:E="GF",'BD Voeux'!C:C,"")
A9: =IF('BD Voeux'!C:C="GF",'BD Voeux'!A:A,"") | B9: =IF('BD Voeux'!$C:$C="MERC",'BD Voeux'!$A:$A,"") | C9: =IF('BD Voeux'!E:E="GF",'BD Voeux'!C:C,"")
A10: =IF('BD Voeux'!C:C="GF",'BD Voeux'!A:A,"") | B10: =IF('BD Voeux'!$C:$C="MERC",'BD Voeux'!$A:$A,"") | C10: =IF('BD Voeux'!E:E="GF",'BD Voeux'!C:C,"")
A11: =IF('BD Voeux'!C:C="GF",'BD Voeux'!A:A,"") | B11: =IF('BD Voeux'!$C:$C="MERC",'BD Voeux'!$A:$A,"") | C11: =IF('BD Voeux'!E:E="GF",'BD Voeux'!C:C,"")
A12: =IF('BD Voeux'!C:C="GF",'BD Voeux'!A:A,"") | B12: =IF('BD Voeux'!$C:$C="MERC",'BD Voeux'!$A:$A,"") | C12: =IF('BD Voeux'!E:E="GF",'BD Voeux'!C:C,"")
A13: =IF('BD Voeux'!C:C="GF",'BD Voeux'!A:A,"") | B13: =IF('BD Voeux'!$C:$C="MERC",'BD Voeux'!$A:$A,"") | C13: =IF('BD Voeux'!E:E="GF",'BD Voeux'!C:C,"")
A14: =IF('BD Voeux'!C:C="GF",'BD Voeux'!A:A,"") | B14: =IF('BD Voeux'!D:D="MERC",'BD Voeux'!$A:$A,"") | C14: =IF('BD Voeux'!E:E="GF",'BD Voeux'!C:C,"")
A15: =IF('BD Voeux'!C:C="GF",'BD Voeux'!A:A,"") | B15: =IF('BD Voeux'!D:D="MERC",'BD Voeux'!$A:$A,"") | C15: =IF('BD Voeux'!E:E="GF",'BD Voeux'!C:C,"")
A16: =IF('BD Voeux'!C:C="GF",'BD Voeux'!A:A,"") | B16: =IF('BD Voeux'!D:D="MERC",'BD Voeux'!$A:$A,"") | C16: =IF('BD Voeux'!E:E="GF",'BD Voeux'!C:C,"")
A17: =IF('BD Voeux'!C:C="GF",'BD Voeux'!A:A,"") | B17: =IF('BD Voeux'!D:D="MERC",'BD Voeux'!$A:$A,"") | C17: =IF('BD Voeux'!E:E="GF",'BD Voeux'!C:C,"")
A18: =IF('BD Voeux'!C:C="GF",'BD Voeux'!A:A,"") | B18: =IF('BD Voeux'!D:D="MERC",'BD Voeux'!$A:$A,"") | C18: =IF('BD Voeux'!E:E="GF",'BD Voeux'!C:C,"")
A19: =IF('BD Voeux'!C:C="GF",'BD Voeux'!A:A,"") | B19: =IF('BD Voeux'!D:D="MERC",'BD Voeux'!$A:$A,"") | C19: =IF('BD Voeux'!E:E="GF",'BD Voeux'!C:C,"")
A20: =IF('BD Voeux'!C:C="GF",'BD Voeux'!A:A,"") | B20: =IF('BD Voeux'!D:D="MERC",'BD Voeux'!$A:$A,"") | C20: =IF('BD Voeux'!E:E="GF",'BD Voeux'!C:C,"")
A21: =IF('BD Voeux'!C:C="GF",'BD Voeux'!A:A,"") | B21: =IF('BD Voeux'!D:D="MERC",'BD Voeux'!$A:$A,"") | C21: =IF('BD Voeux'!E:E="GF",'BD Voeux'!C:C,"")
A22: =IF('BD Voeux'!C:C="GF",'BD Voeux'!A:A,"") | B22: =IF('BD Voeux'!D:D="MERC",'BD Voeux'!$A:$A,"") | C22: =IF('BD Voeux'!E:E="GF",'BD Voeux'!C:C,"")
A23: =IF('BD Voeux'!C:C="GF",'BD Voeux'!A:A,"") | B23: =IF('BD Voeux'!D:D="MERC",'BD Voeux'!$A:$A,"") | C23: =IF('BD Voeux'!E:E="GF",'BD Voeux'!C:C,"")
A24: =IF('BD Voeux'!C:C="GF",'BD Voeux'!A:A,"") | B24: =IF('BD Voeux'!D:D="MERC",'BD Voeux'!$A:$A,"") | C24: =IF('BD Voeux'!E:E="GF",'BD Voeux'!C:C,"")
A25: =IF('BD Voeux'!C:C="GF",'BD Voeux'!A:A,"") | B25: =IF('BD Voeux'!D:D="MERC",'BD Voeux'!$A:$A,"") | C25: =IF('BD Voeux'!E:E="GF",'BD Voeux'!C:C,"")
