Workbook
Name dept: Listing!$B$2
Name dept1: Listing!$A$2
Name liste: OFFSET(Consultation!$H$2,,,COUNTIF(Consultation!$H:$H,"><")-1)
Name Type: OFFSET(Listing!$A$2,,,COUNTA(Listing!$A:$A)-1)

Sheet Fiche analytique
A1: Date | E1: Reçu par
A3: Date
A5: Objet :
A7: Adresse

Sheet Consultation
A1: Menu déroulant avec colonne A | B1: Menu déroulant suivant le choix faites dans ma précendentes (par rapport au listing) | H1: liste | J1: Type
A2: A | B2: S | H2: {=IFERROR(OFFSET(dept1,MATCH(0,COUNTIF(H$1:H1,Type),0)-1,),"")} -> A | J2: {=IFERROR(INDEX(Listing!A2:A81,MATCH(SMALL(IF(Listing!A2:A81<>"",IF(MATCH(Listing!A2:A81,Listing!A2:A81,0)=ROW(INDIRECT("1:"&ROWS(Listing!A2:A81))),COUNTIF(Listing!A2:A81,"<"&Listing!A2:A81))),ROW(INDIRECT("1:"&ROWS(Listing!A2:A81)))),COUNTIF(Listing!A2:A81,"<"&Listing!A2:A81),0)),"")} -> A
H3: {=IFERROR(OFFSET(dept1,MATCH(0,COUNTIF(H$1:H2,Type),0)-1,),"")} -> B | J3: B
H4: {=IFERROR(OFFSET(dept1,MATCH(0,COUNTIF(H$1:H3,Type),0)-1,),"")} -> E | J4: E
H5: {=IFERROR(OFFSET(dept1,MATCH(0,COUNTIF(H$1:H4,Type),0)-1,),"")} -> EE | J5: EE
H6: {=IFERROR(OFFSET(dept1,MATCH(0,COUNTIF(H$1:H5,Type),0)-1,),"")} -> EF | J6: EF
H7: {=IFERROR(OFFSET(dept1,MATCH(0,COUNTIF(H$1:H6,Type),0)-1,),"")} -> F | J7: F
H8: {=IFERROR(OFFSET(dept1,MATCH(0,COUNTIF(H$1:H7,Type),0)-1,),"")} -> FFF | J8: FFF
C9: formule de validation | H9: {=IFERROR(OFFSET(dept1,MATCH(0,COUNTIF(H$1:H8,Type),0)-1,),"")}
H10: {=IFERROR(OFFSET(dept1,MATCH(0,COUNTIF(H$1:H9,Type),0)-1,),"")}
C11: DECALER(dept;EQUIV($A2;Type;0)-1;;NB.SI(Type;$A2)) | H11: {=IFERROR(OFFSET(dept1,MATCH(0,COUNTIF(H$1:H10,Type),0)-1,),"")}
H12: {=IFERROR(OFFSET(dept1,MATCH(0,COUNTIF(H$1:H11,Type),0)-1,),"")}
C13: dept : 1ere cel de client (c'est le point de repere ) | H13: {=IFERROR(OFFSET(dept1,MATCH(0,COUNTIF(H$1:H12,Type),0)-1,),"")}
C14: voir dans gestionnaire de nom;>>>>touches (Ctrl et F3) | H14: {=IFERROR(OFFSET(dept1,MATCH(0,COUNTIF(H$1:H13,Type),0)-1,),"")}
H15: {=IFERROR(OFFSET(dept1,MATCH(0,COUNTIF(H$1:H14,Type),0)-1,),"")}
H16: {=IFERROR(OFFSET(dept1,MATCH(0,COUNTIF(H$1:H15,Type),0)-1,),"")}
H17: {=IFERROR(OFFSET(dept1,MATCH(0,COUNTIF(H$1:H16,Type),0)-1,),"")}
H18: {=IFERROR(OFFSET(dept1,MATCH(0,COUNTIF(H$1:H17,Type),0)-1,),"")}
H19: {=IFERROR(OFFSET(dept1,MATCH(0,COUNTIF(H$1:H18,Type),0)-1,),"")}
H20: {=IFERROR(OFFSET(dept1,MATCH(0,COUNTIF(H$1:H19,Type),0)-1,),"")}
H21: {=IFERROR(OFFSET(dept1,MATCH(0,COUNTIF(H$1:H20,Type),0)-1,),"")}
J82: #N/A
J83: #N/A
J84: #N/A
J85: #N/A
J86: #N/A
J87: #N/A
J88: #N/A
J89: #N/A
J90: #N/A
J91: #N/A
J92: #N/A
J93: #N/A
... J101: #N/A
J102: {=IFERROR(INDEX(Listing!A102:A181,MATCH(SMALL(IF(Listing!A102:A181<>"",IF(MATCH(Listing!A102:A181,Listing!A102:A181,0)=ROW(INDIRECT("1:"&ROWS(Listing!A102:A181))),COUNTIF(Listing!A102:A181,"<"&Listing!A102:A181))),ROW(INDIRECT("1:"&ROWS(Listing!A102:A181)))),COUNTIF(Listing!A102:A181,"<"&Listing!A102:A181),0)),"")}
J103: {=IFERROR(INDEX(Listing!A103:A182,MATCH(SMALL(IF(Listing!A103:A182<>"",IF(MATCH(Listing!A103:A182,Listing!A103:A182,0)=ROW(INDIRECT("1:"&ROWS(Listing!A103:A182))),COUNTIF(Listing!A103:A182,"<"&Listing!A103:A182))),ROW(INDIRECT("1:"&ROWS(Listing!A103:A182)))),COUNTIF(Listing!A103:A182,"<"&Listing!A103:A182),0)),"")}
J104: {=IFERROR(INDEX(Listing!A104:A183,MATCH(SMALL(IF(Listing!A104:A183<>"",IF(MATCH(Listing!A104:A183,Listing!A104:A183,0)=ROW(INDIRECT("1:"&ROWS(Listing!A104:A183))),COUNTIF(Listing!A104:A183,"<"&Listing!A104:A183))),ROW(INDIRECT("1:"&ROWS(Listing!A104:A183)))),COUNTIF(Listing!A104:A183,"<"&Listing!A104:A183),0)),"")}
J105: {=IFERROR(INDEX(Listing!A105:A184,MATCH(SMALL(IF(Listing!A105:A184<>"",IF(MATCH(Listing!A105:A184,Listing!A105:A184,0)=ROW(INDIRECT("1:"&ROWS(Listing!A105:A184))),COUNTIF(Listing!A105:A184,"<"&Listing!A105:A184))),ROW(INDIRECT("1:"&ROWS(Listing!A105:A184)))),COUNTIF(Listing!A105:A184,"<"&Listing!A105:A184),0)),"")}
J106: {=IFERROR(INDEX(Listing!A106:A185,MATCH(SMALL(IF(Listing!A106:A185<>"",IF(MATCH(Listing!A106:A185,Listing!A106:A185,0)=ROW(INDIRECT("1:"&ROWS(Listing!A106:A185))),COUNTIF(Listing!A106:A185,"<"&Listing!A106:A185))),ROW(INDIRECT("1:"&ROWS(Listing!A106:A185)))),COUNTIF(Listing!A106:A185,"<"&Listing!A106:A185),0)),"")}
J107: {=IFERROR(INDEX(Listing!A107:A186,MATCH(SMALL(IF(Listing!A107:A186<>"",IF(MATCH(Listing!A107:A186,Listing!A107:A186,0)=ROW(INDIRECT("1:"&ROWS(Listing!A107:A186))),COUNTIF(Listing!A107:A186,"<"&Listing!A107:A186))),ROW(INDIRECT("1:"&ROWS(Listing!A107:A186)))),COUNTIF(Listing!A107:A186,"<"&Listing!A107:A186),0)),"")}
...

Sheet Listing
A1: Type | B1: Client | C1: Adresse | D1: CP | E1: Ville | F1: Contact | G1: Fonction | H1: Téléphone | I1: Mail | J1: REMARQUE
A2: A | B2: X
A3: A | B3: D
A4: A | B4: F
A5: A | B5: S
A6: B | B6: S
A7: B | B7: FS
A8: B | B8: S
A9: B | B9: F
A10: B | B10: toto
A11: E | B11: S
A12: E | B12: S
A13: E | B13: S
... A17: EE | B17: S
A18: EE
A19: EE | B19: S
A20: EF | B20: SS
A21: F | B21: S
A22: FFF | B22: S
A23: F | B23: S
A24: F | B24: S
A25: F | B25: SS
A26: F
B27: S
B28: S
B29: S

Sheet Base de donnée
