Workbook
Name liste: OFFSET(Data!$F$2,,,COUNTIF(Data!$F:$F,"><"))
Name NOM: OFFSET(Feuil1!$A$2,,,COUNTIF(Feuil1!$A:$A,"><")-1)
Name sexe: Data!$A$2:$A$3

Sheet Feuil1
A1: NOM | B1: Prénom | C1: Sexe | D1: Taille | E1: Age | F1: Poids
A2: DURAND | B2: Michel | C2: Homme | D2: 165 | E2: 45 | F2: 75
A3: DURAND | B3: Véronique | C3: Femme | D3: 158 | E3: 51 | F3: 51
A4: DUPONT | B4: André | C4: Homme | D4: 175 | E4: 32 | F4: 82
A5: DUPONT | B5: Valérie | C5: Femme | D5: 182 | E5: 31 | F5: 66

Sheet Feuil2
A1: Selection de la personne par menu déroulant | E1: DURAND
A3: NOM | B3: Prénom | C3: ACTIONS | F3: Temps
A4: {=IFERROR(INDEX(NOM,SMALL( IF(NOM=$E$1,ROW(NOM)-1),ROW(A1))),"")} -> DURAND | B4: {=IFERROR(INDEX(OFFSET(NOM,,1,),SMALL( IF(NOM=$E$1,ROW(NOM)-1),ROW(B1))),"")} -> Michel
A5: {=IFERROR(INDEX(NOM,SMALL( IF(NOM=$E$1,ROW(NOM)-1),ROW(A2))),"")} -> DURAND | B5: {=IFERROR(INDEX(OFFSET(NOM,,1,),SMALL( IF(NOM=$E$1,ROW(NOM)-1),ROW(B2))),"")} -> Véronique
A6: {=IFERROR(INDEX(NOM,SMALL( IF(NOM=$E$1,ROW(NOM)-1),ROW(A3))),"")} | B6: {=IFERROR(INDEX(OFFSET(NOM,,1,),SMALL( IF(NOM=$E$1,ROW(NOM)-1),ROW(B3))),"")}
A7: {=IFERROR(INDEX(NOM,SMALL( IF(NOM=$E$1,ROW(NOM)-1),ROW(A4))),"")} | B7: {=IFERROR(INDEX(OFFSET(NOM,,1,),SMALL( IF(NOM=$E$1,ROW(NOM)-1),ROW(B4))),"")}
A8: {=IFERROR(INDEX(NOM,SMALL( IF(NOM=$E$1,ROW(NOM)-1),ROW(A5))),"")} | B8: {=IFERROR(INDEX(OFFSET(NOM,,1,),SMALL( IF(NOM=$E$1,ROW(NOM)-1),ROW(B5))),"")}
A9: {=IFERROR(INDEX(NOM,SMALL( IF(NOM=$E$1,ROW(NOM)-1),ROW(A6))),"")} | B9: {=IFERROR(INDEX(OFFSET(NOM,,1,),SMALL( IF(NOM=$E$1,ROW(NOM)-1),ROW(B6))),"")}
A10: {=IFERROR(INDEX(NOM,SMALL( IF(NOM=$E$1,ROW(NOM)-1),ROW(A7))),"")} | B10: {=IFERROR(INDEX(OFFSET(NOM,,1,),SMALL( IF(NOM=$E$1,ROW(NOM)-1),ROW(B7))),"")}
A11: {=IFERROR(INDEX(NOM,SMALL( IF(NOM=$E$1,ROW(NOM)-1),ROW(A8))),"")} | B11: {=IFERROR(INDEX(OFFSET(NOM,,1,),SMALL( IF(NOM=$E$1,ROW(NOM)-1),ROW(B8))),"")}

Sheet Data
A1: sexe
A2: Homme | F2: {=IFERROR(OFFSET(Feuil1!A$1,MATCH(0,COUNTIF(Data!F$1:F1,NOM),0),),"")} -> DURAND
A3: Femme | F3: {=IFERROR(OFFSET(Feuil1!A$1,MATCH(0,COUNTIF(Data!F$1:F2,NOM),0),),"")} -> DUPONT
F4: {=IFERROR(OFFSET(Feuil1!A$1,MATCH(0,COUNTIF(Data!F$1:F3,NOM),0),),"")}
F5: {=IFERROR(OFFSET(Feuil1!A$1,MATCH(0,COUNTIF(Data!F$1:F4,NOM),0),),"")}
F6: {=IFERROR(OFFSET(Feuil1!A$1,MATCH(0,COUNTIF(Data!F$1:F5,NOM),0),),"")}
F7: {=IFERROR(OFFSET(Feuil1!A$1,MATCH(0,COUNTIF(Data!F$1:F6,NOM),0),),"")}
F8: {=IFERROR(OFFSET(Feuil1!A$1,MATCH(0,COUNTIF(Data!F$1:F7,NOM),0),),"")}
F9: {=IFERROR(OFFSET(Feuil1!A$1,MATCH(0,COUNTIF(Data!F$1:F8,NOM),0),),"")}
F10: {=IFERROR(OFFSET(Feuil1!A$1,MATCH(0,COUNTIF(Data!F$1:F9,NOM),0),),"")}
F11: {=IFERROR(OFFSET(Feuil1!A$1,MATCH(0,COUNTIF(Data!F$1:F10,NOM),0),),"")}
F12: {=IFERROR(OFFSET(Feuil1!A$1,MATCH(0,COUNTIF(Data!F$1:F11,NOM),0),),"")}
F13: {=IFERROR(OFFSET(Feuil1!A$1,MATCH(0,COUNTIF(Data!F$1:F12,NOM),0),),"")}
F14: {=IFERROR(OFFSET(Feuil1!A$1,MATCH(0,COUNTIF(Data!F$1:F13,NOM),0),),"")}
F15: {=IFERROR(OFFSET(Feuil1!A$1,MATCH(0,COUNTIF(Data!F$1:F14,NOM),0),),"")}
... F110: {=IFERROR(OFFSET(Feuil1!A$1,MATCH(0,COUNTIF(Data!F$1:F109,NOM),0),),"")}
