Workbook
Name base: Feuil1!$C$1:$R$1
Name first: OFFSET(Feuil1!$B$2,,,COUNTIF(Feuil1!$B:$B,"><")-1)

Sheet Feuil1
A1: ARTICLE | B1: FIRST AUTHOR
A2: Article 1 | B2: nom 1 | C2: nom 2 | D2: nom 3
A3: Article 2 | B3: nom 4 | C3: nom 5 | D3: nom 6 | E3: nom 7 | F3: nom 8
A4: Article 3 | B4: nom 9 | C4: nom 10
A5: Article 4 | B5: nom 11 | C5: nom 12 | D5: nom 13 | E5: nom 14 | F5: nom 15 | G5: nom 16 | H5: nom 17 | I5: nom 18 | J5: nom 19
A6: Article 5 | B6: nom 20 | C6: nom 21 | D6: nom 22

Sheet Feuil2
A1: NOM | B1: FIRST AUTHOR | C1: INTERMÉDIARE | D1: DERNIER AUTEUR
A2: nom 1 | B2: =IFERROR(VLOOKUP(A2,Feuil1!B:B,1,0),"") -> nom 1 | D2: {=IFERROR(INDEX(OFFSET(base,MATCH(B2,first,0),),,MATCH("z^z",OFFSET(base,MATCH(B2,first,0),))),"")} -> nom 3
A3: nom 2 | B3: =IFERROR(VLOOKUP(A3,Feuil1!B:B,1,0),"") | D3: {=IFERROR(INDEX(OFFSET(base,MATCH(B3,first,0),),,MATCH("z^z",OFFSET(base,MATCH(B3,first,0),))),"")}
A4: nom 3 | B4: =IFERROR(VLOOKUP(A4,Feuil1!B:B,1,0),"") | D4: {=IFERROR(INDEX(OFFSET(base,MATCH(B4,first,0),),,MATCH("z^z",OFFSET(base,MATCH(B4,first,0),))),"")}
A5: nom 4 | B5: =IFERROR(VLOOKUP(A5,Feuil1!B:B,1,0),"") -> nom 4 | D5: {=IFERROR(INDEX(OFFSET(base,MATCH(B5,first,0),),,MATCH("z^z",OFFSET(base,MATCH(B5,first,0),))),"")} -> nom 8
A6: nom 5 | B6: =IFERROR(VLOOKUP(A6,Feuil1!B:B,1,0),"") | D6: {=IFERROR(INDEX(OFFSET(base,MATCH(B6,first,0),),,MATCH("z^z",OFFSET(base,MATCH(B6,first,0),))),"")}
A7: nom 6 | B7: =IFERROR(VLOOKUP(A7,Feuil1!B:B,1,0),"") | D7: {=IFERROR(INDEX(OFFSET(base,MATCH(B7,first,0),),,MATCH("z^z",OFFSET(base,MATCH(B7,first,0),))),"")}
A8: nom 7 | B8: =IFERROR(VLOOKUP(A8,Feuil1!B:B,1,0),"") | D8: {=IFERROR(INDEX(OFFSET(base,MATCH(B8,first,0),),,MATCH("z^z",OFFSET(base,MATCH(B8,first,0),))),"")}
A9: nom 8 | B9: =IFERROR(VLOOKUP(A9,Feuil1!B:B,1,0),"") | D9: {=IFERROR(INDEX(OFFSET(base,MATCH(B9,first,0),),,MATCH("z^z",OFFSET(base,MATCH(B9,first,0),))),"")}
A10: nom 9 | B10: =IFERROR(VLOOKUP(A10,Feuil1!B:B,1,0),"") -> nom 9 | D10: {=IFERROR(INDEX(OFFSET(base,MATCH(B10,first,0),),,MATCH("z^z",OFFSET(base,MATCH(B10,first,0),))),"")} -> nom 10
A11: nom 10 | B11: =IFERROR(VLOOKUP(A11,Feuil1!B:B,1,0),"") | D11: {=IFERROR(INDEX(OFFSET(base,MATCH(B11,first,0),),,MATCH("z^z",OFFSET(base,MATCH(B11,first,0),))),"")}
A12: nom 11 | B12: =IFERROR(VLOOKUP(A12,Feuil1!B:B,1,0),"") -> nom 11 | D12: {=IFERROR(INDEX(OFFSET(base,MATCH(B12,first,0),),,MATCH("z^z",OFFSET(base,MATCH(B12,first,0),))),"")} -> nom 19
A13: nom 12 | B13: =IFERROR(VLOOKUP(A13,Feuil1!B:B,1,0),"") | D13: {=IFERROR(INDEX(OFFSET(base,MATCH(B13,first,0),),,MATCH("z^z",OFFSET(base,MATCH(B13,first,0),))),"")}
... A21: nom 20 | B21: =IFERROR(VLOOKUP(A21,Feuil1!B:B,1,0),"") -> nom 20 | D21: {=IFERROR(INDEX(OFFSET(base,MATCH(B21,first,0),),,MATCH("z^z",OFFSET(base,MATCH(B21,first,0),))),"")} -> nom 22
