Workbook

Sheet Feuil1
A1: CHEQUIER | B1: POSITION
A2: 166580042 | B2: =IFERROR("utilisé " &INDEX(Feuil2!C$1:M$1,SUMPRODUCT(MAX((Feuil2!C$3:M$22=$A2)*COLUMN(Feuil2!$C:$M)))-2),"pas tiré") -> utilisé CROSS
A3: =A2+1 -> 166580043 | B3: =IFERROR("utilisé " &INDEX(Feuil2!C$1:M$1,SUMPRODUCT(MAX((Feuil2!C$3:M$22=$A3)*COLUMN(Feuil2!$C:$M)))-2),"pas tiré") -> utilisé CROSS
A4: =A3+1 -> 166580044 | B4: =IFERROR("utilisé " &INDEX(Feuil2!C$1:M$1,SUMPRODUCT(MAX((Feuil2!C$3:M$22=$A4)*COLUMN(Feuil2!$C:$M)))-2),"pas tiré") -> utilisé CROSS
A5: =A4+1 -> 166580045 | B5: =IFERROR("utilisé " &INDEX(Feuil2!C$1:M$1,SUMPRODUCT(MAX((Feuil2!C$3:M$22=$A5)*COLUMN(Feuil2!$C:$M)))-2),"pas tiré") -> utilisé CROSS
A6: =A5+1 -> 166580046 | B6: =IFERROR("utilisé " &INDEX(Feuil2!C$1:M$1,SUMPRODUCT(MAX((Feuil2!C$3:M$22=$A6)*COLUMN(Feuil2!$C:$M)))-2),"pas tiré") -> utilisé CROSS
A7: =A6+1 -> 166580047 | B7: =IFERROR("utilisé " &INDEX(Feuil2!C$1:M$1,SUMPRODUCT(MAX((Feuil2!C$3:M$22=$A7)*COLUMN(Feuil2!$C:$M)))-2),"pas tiré") -> utilisé ROUTE Tableaux A
A8: =A7+1 -> 166580048 | B8: =IFERROR("utilisé " &INDEX(Feuil2!C$1:M$1,SUMPRODUCT(MAX((Feuil2!C$3:M$22=$A8)*COLUMN(Feuil2!$C:$M)))-2),"pas tiré") -> utilisé ROUTE Tableaux A
A9: =A8+1 -> 166580049 | B9: =IFERROR("utilisé " &INDEX(Feuil2!C$1:M$1,SUMPRODUCT(MAX((Feuil2!C$3:M$22=$A9)*COLUMN(Feuil2!$C:$M)))-2),"pas tiré") -> utilisé ROUTE Tableaux A
A10: =A9+1 -> 166580050 | B10: =IFERROR("utilisé " &INDEX(Feuil2!C$1:M$1,SUMPRODUCT(MAX((Feuil2!C$3:M$22=$A10)*COLUMN(Feuil2!$C:$M)))-2),"pas tiré") -> utilisé ROUTE Tableaux A
A11: =A10+1 -> 166580051 | B11: =IFERROR("utilisé " &INDEX(Feuil2!C$1:M$1,SUMPRODUCT(MAX((Feuil2!C$3:M$22=$A11)*COLUMN(Feuil2!$C:$M)))-2),"pas tiré") -> utilisé ROUTE Tableaux A
A12: =A11+1 -> 166580052 | B12: =IFERROR("utilisé " &INDEX(Feuil2!C$1:M$1,SUMPRODUCT(MAX((Feuil2!C$3:M$22=$A12)*COLUMN(Feuil2!$C:$M)))-2),"pas tiré") -> utilisé ROUTE Tableaux A
A13: =A12+1 -> 166580053 | B13: =IFERROR("utilisé " &INDEX(Feuil2!C$1:M$1,SUMPRODUCT(MAX((Feuil2!C$3:M$22=$A13)*COLUMN(Feuil2!$C:$M)))-2),"pas tiré") -> utilisé ROUTE Tableaux A
A14: =A13+1 -> 166580054 | B14: =IFERROR("utilisé " &INDEX(Feuil2!C$1:M$1,SUMPRODUCT(MAX((Feuil2!C$3:M$22=$A14)*COLUMN(Feuil2!$C:$M)))-2),"pas tiré") -> utilisé ROUTE Tableaux A
... A101: =A100+1 -> 166580141 | B101: =IFERROR("utilisé " &INDEX(Feuil2!C$1:M$1,SUMPRODUCT(MAX((Feuil2!C$3:M$22=$A101)*COLUMN(Feuil2!$C:$M)))-2),"pas tiré") -> pas tiré

Sheet Feuil2
C1: CROSS | F1: FFC | H1: ROUTE Tableaux A | K1: ROUTE Tableaux B
C2: N° chèque | D2: Date | E2: Somme | F2: Date | G2: Somme | H2: N° chèque | I2: Date | J2: Somme | K2: N° chèque | L2: Date | M2: Somme
C3: 166580042 | H3: 166580047 | K3: 166580060
C4: =C3+1 -> 166580043 | H4: =H3+1 -> 166580048 | K4: =K3+1 -> 166580061
C5: =C4+1 -> 166580044 | H5: =H4+1 -> 166580049 | K5: =K4+1 -> 166580062
C6: =C5+1 -> 166580045 | H6: =H5+1 -> 166580050 | K6: =K5+1 -> 166580063
C7: =C6+1 -> 166580046 | H7: =H6+1 -> 166580051 | K7: =K6+1 -> 166580064
H8: =H7+1 -> 166580052 | K8: =K7+1 -> 166580065
H9: =H8+1 -> 166580053 | K9: =K8+1 -> 166580066
H10: =H9+1 -> 166580054 | K10: =K9+1 -> 166580067
H11: =H10+1 -> 166580055 | K11: =K10+1 -> 166580068
H12: =H11+1 -> 166580056
H13: =H12+1 -> 166580057
E61: =SUM(E3:E60) -> 0 | G61: =SUM(G3:G60) -> 0 | J61: =SUM(J3:J60) -> 0 | M61: =SUM(M3:M60) -> 0
