Workbook

Sheet Feuil2
B1: 42795 | C1: 42796 | D1: 42797 | E1: 42798 | F1: 42799 | G1: 42800 | H1: 42801 | I1: 42802 | J1: 42803 | K1: 42804 | L1: 42805 | M1: 42806 | N1: 42807 | O1: 42808 | P1: 42809 | Q1: 42810 | R1: 42811 | S1: 42812 | T1: 42813 | U1: 42814 | V1: 42815 | W1: 42816 | X1: 42817 | Y1: 42818 | Z1: 42819 | AA1: 42820 | AB1: 42821 | AC1: 42822 | AD1: 42823 | AE1: 42824 | AF1: 42825
A2: Benoit | B2: =SUMPRODUCT((Feuil1!$A$2:$A$500=Feuil2!$A2)*(Feuil1!$D$2:$D$500=Feuil2!B$1)*(Feuil1!$F$2:$F$500=1)) -> 11 | C2: =SUMPRODUCT((Feuil1!$A$2:$A$500=Feuil2!$A2)*(Feuil1!$D$2:$D$500=Feuil2!C$1)*(Feuil1!$F$2:$F$500=1)) -> 8 | D2: =SUMPRODUCT((Feuil1!$A$2:$A$500=Feuil2!$A2)*(Feuil1!$D$2:$D$500=Feuil2!D$1)*(Feuil1!$F$2:$F$500=1)) -> 13 | E2: =SUMPRODUCT((Feuil1!$A$2:$A$500=Feuil2!$A2)*(Feuil1!$D$2:$D$500=Feuil2!E$1)*(Feuil1!$F$2:$F$500=1)) -> 0 | F2: =SUMPRODUCT((Feuil1!$A$2:$A$500=Feuil2!$A2)*(Feuil1!$D$2:$D$500=Feuil2!F$1)*(Feuil1!$F$2:$F$500=1)) -> 0 | G2: =SUMPRODUCT((Feuil1!$A$2:$A$500=Feuil2!$A2)*(Feuil1!$D$2:$D$500=Feuil2!G$1)*(Feuil1!$F$2:$F$500=1)) -> 8 | H2: =SUMPRODUCT((Feuil1!$A$2:$A$500=Feuil2!$A2)*(Feuil1!$D$2:$D$500=Feuil2!H$1)*(Feuil1!$F$2:$F$500=1)) -> 11 | I2: =SUMPRODUCT((Feuil1!$A$2:$A$500=Feuil2!$A2)*(Feuil1!$D$2:$D$500=Feuil2!I$1)*(Feuil1!$F$2:$F$500=1)) -> 7 | ... AF2: =SUMPRODUCT((Feuil1!$A$2:$A$500=Feuil2!$A2)*(Feuil1!$D$2:$D$500=Feuil2!AF$1)*(Feuil1!$F$2:$F$500=1)) -> 0
A3: Cedric | B3: =SUMPRODUCT((Feuil1!$A$200:$A$800=Feuil2!$A3)*(Feuil1!$D$200:$D$800=Feuil2!B$1)*(Feuil1!$F$200:$F$800=1)) -> 46 | C3: =SUMPRODUCT((Feuil1!$A$200:$A$800=Feuil2!$A3)*(Feuil1!$D$200:$D$800=Feuil2!C$1)*(Feuil1!$F$200:$F$800=1)) -> 26 | D3: =SUMPRODUCT((Feuil1!$A$200:$A$800=Feuil2!$A3)*(Feuil1!$D$200:$D$800=Feuil2!D$1)*(Feuil1!$F$200:$F$800=1)) -> 0 | E3: =SUMPRODUCT((Feuil1!$A$200:$A$800=Feuil2!$A3)*(Feuil1!$D$200:$D$800=Feuil2!E$1)*(Feuil1!$F$200:$F$800=1)) -> 0 | F3: =SUMPRODUCT((Feuil1!$A$200:$A$800=Feuil2!$A3)*(Feuil1!$D$200:$D$800=Feuil2!F$1)*(Feuil1!$F$200:$F$800=1)) -> 0 | G3: =SUMPRODUCT((Feuil1!$A$200:$A$800=Feuil2!$A3)*(Feuil1!$D$200:$D$800=Feuil2!G$1)*(Feuil1!$F$200:$F$800=1)) -> 0 | H3: =SUMPRODUCT((Feuil1!$A$200:$A$800=Feuil2!$A3)*(Feuil1!$D$200:$D$800=Feuil2!H$1)*(Feuil1!$F$200:$F$800=1)) -> 34 | I3: =SUMPRODUCT((Feuil1!$A$200:$A$800=Feuil2!$A3)*(Feuil1!$D$200:$D$800=Feuil2!I$1)*(Feuil1!$F$200:$F$800=1)) -> 34 | ... AF3: =SUMPRODUCT((Feuil1!$A$200:$A$800=Feuil2!$A3)*(Feuil1!$D$200:$D$800=Feuil2!AF$1)*(Feuil1!$F$200:$F$800=1)) -> 0
A4: Dost | B4: =SUMPRODUCT((Feuil1!$A$600:$A$1800=Feuil2!$A4)*(Feuil1!$D$600:$D$1800=Feuil2!B$1)*(Feuil1!$F$600:$F$1800=1)) -> 35 | C4: =SUMPRODUCT((Feuil1!$A$600:$A$1800=Feuil2!$A4)*(Feuil1!$D$600:$D$1800=Feuil2!C$1)*(Feuil1!$F$600:$F$1800=1)) -> 25 | D4: =SUMPRODUCT((Feuil1!$A$600:$A$1800=Feuil2!$A4)*(Feuil1!$D$600:$D$1800=Feuil2!D$1)*(Feuil1!$F$600:$F$1800=1)) -> 35 | E4: =SUMPRODUCT((Feuil1!$A$600:$A$1800=Feuil2!$A4)*(Feuil1!$D$600:$D$1800=Feuil2!E$1)*(Feuil1!$F$600:$F$1800=1)) -> 0 | F4: =SUMPRODUCT((Feuil1!$A$600:$A$1800=Feuil2!$A4)*(Feuil1!$D$600:$D$1800=Feuil2!F$1)*(Feuil1!$F$600:$F$1800=1)) -> 0 | G4: =SUMPRODUCT((Feuil1!$A$600:$A$1800=Feuil2!$A4)*(Feuil1!$D$600:$D$1800=Feuil2!G$1)*(Feuil1!$F$600:$F$1800=1)) -> 36 | H4: =SUMPRODUCT((Feuil1!$A$600:$A$1800=Feuil2!$A4)*(Feuil1!$D$600:$D$1800=Feuil2!H$1)*(Feuil1!$F$600:$F$1800=1)) -> 33 | I4: =SUMPRODUCT((Feuil1!$A$600:$A$1800=Feuil2!$A4)*(Feuil1!$D$600:$D$1800=Feuil2!I$1)*(Feuil1!$F$600:$F$1800=1)) -> 29 | ... AF4: =SUMPRODUCT((Feuil1!$A$600:$A$1800=Feuil2!$A4)*(Feuil1!$D$600:$D$1800=Feuil2!AF$1)*(Feuil1!$F$600:$F$1800=1)) -> 0
A5: Emeline | B5: =SUMPRODUCT((Feuil1!$A$1500:$A$2300=Feuil2!$A5)*(Feuil1!$D$1500:$D$2300=Feuil2!B$1)*(Feuil1!$F$1500:$F$2300=1)) -> 0 | C5: =SUMPRODUCT((Feuil1!$A$1500:$A$2300=Feuil2!$A5)*(Feuil1!$D$1500:$D$2300=Feuil2!C$1)*(Feuil1!$F$1500:$F$2300=1)) -> 0 | D5: =SUMPRODUCT((Feuil1!$A$1500:$A$2300=Feuil2!$A5)*(Feuil1!$D$1500:$D$2300=Feuil2!D$1)*(Feuil1!$F$1500:$F$2300=1)) -> 27 | E5: =SUMPRODUCT((Feuil1!$A$1500:$A$2300=Feuil2!$A5)*(Feuil1!$D$1500:$D$2300=Feuil2!E$1)*(Feuil1!$F$1500:$F$2300=1)) -> 0 | F5: =SUMPRODUCT((Feuil1!$A$1500:$A$2300=Feuil2!$A5)*(Feuil1!$D$1500:$D$2300=Feuil2!F$1)*(Feuil1!$F$1500:$F$2300=1)) -> 0 | G5: =SUMPRODUCT((Feuil1!$A$1500:$A$2300=Feuil2!$A5)*(Feuil1!$D$1500:$D$2300=Feuil2!G$1)*(Feuil1!$F$1500:$F$2300=1)) -> 29 | H5: =SUMPRODUCT((Feuil1!$A$1500:$A$2300=Feuil2!$A5)*(Feuil1!$D$1500:$D$2300=Feuil2!H$1)*(Feuil1!$F$1500:$F$2300=1)) -> 33 | I5: =SUMPRODUCT((Feuil1!$A$1500:$A$2300=Feuil2!$A5)*(Feuil1!$D$1500:$D$2300=Feuil2!I$1)*(Feuil1!$F$1500:$F$2300=1)) -> 34 | ... AF5: =SUMPRODUCT((Feuil1!$A$1500:$A$2300=Feuil2!$A5)*(Feuil1!$D$1500:$D$2300=Feuil2!AF$1)*(Feuil1!$F$1500:$F$2300=1)) -> 29
A6: Hervé | B6: =SUMPRODUCT((Feuil1!$A$2200:$A$3200=Feuil2!$A6)*(Feuil1!$D$2200:$D$3200=Feuil2!B$1)*(Feuil1!$F$2200:$F$3200=1)) -> 42 | C6: =SUMPRODUCT((Feuil1!$A$2200:$A$3200=Feuil2!$A6)*(Feuil1!$D$2200:$D$3200=Feuil2!C$1)*(Feuil1!$F$2200:$F$3200=1)) -> 34 | D6: =SUMPRODUCT((Feuil1!$A$2200:$A$3200=Feuil2!$A6)*(Feuil1!$D$2200:$D$3200=Feuil2!D$1)*(Feuil1!$F$2200:$F$3200=1)) -> 33 | E6: =SUMPRODUCT((Feuil1!$A$2200:$A$3200=Feuil2!$A6)*(Feuil1!$D$2200:$D$3200=Feuil2!E$1)*(Feuil1!$F$2200:$F$3200=1)) -> 0 | F6: =SUMPRODUCT((Feuil1!$A$2200:$A$3200=Feuil2!$A6)*(Feuil1!$D$2200:$D$3200=Feuil2!F$1)*(Feuil1!$F$2200:$F$3200=1)) -> 0 | G6: =SUMPRODUCT((Feuil1!$A$2200:$A$3200=Feuil2!$A6)*(Feuil1!$D$2200:$D$3200=Feuil2!G$1)*(Feuil1!$F$2200:$F$3200=1)) -> 40 | H6: =SUMPRODUCT((Feuil1!$A$2200:$A$3200=Feuil2!$A6)*(Feuil1!$D$2200:$D$3200=Feuil2!H$1)*(Feuil1!$F$2200:$F$3200=1)) -> 41 | I6: =SUMPRODUCT((Feuil1!$A$2200:$A$3200=Feuil2!$A6)*(Feuil1!$D$2200:$D$3200=Feuil2!I$1)*(Feuil1!$F$2200:$F$3200=1)) -> 34 | ... AF6: =SUMPRODUCT((Feuil1!$A$2200:$A$3200=Feuil2!$A6)*(Feuil1!$D$2200:$D$3200=Feuil2!AF$1)*(Feuil1!$F$2200:$F$3200=1)) -> 42
A7: Julien | B7: =SUMPRODUCT((Feuil1!$A$3000:$A$4200=Feuil2!$A7)*(Feuil1!$D$3000:$D$4200=Feuil2!B$1)*(Feuil1!$F$3000:$F$4200=1)) -> 38 | C7: =SUMPRODUCT((Feuil1!$A$3000:$A$4200=Feuil2!$A7)*(Feuil1!$D$3000:$D$4200=Feuil2!C$1)*(Feuil1!$F$3000:$F$4200=1)) -> 29 | D7: =SUMPRODUCT((Feuil1!$A$3000:$A$4200=Feuil2!$A7)*(Feuil1!$D$3000:$D$4200=Feuil2!D$1)*(Feuil1!$F$3000:$F$4200=1)) -> 32 | E7: =SUMPRODUCT((Feuil1!$A$3000:$A$4200=Feuil2!$A7)*(Feuil1!$D$3000:$D$4200=Feuil2!E$1)*(Feuil1!$F$3000:$F$4200=1)) -> 0 | F7: =SUMPRODUCT((Feuil1!$A$3000:$A$4200=Feuil2!$A7)*(Feuil1!$D$3000:$D$4200=Feuil2!F$1)*(Feuil1!$F$3000:$F$4200=1)) -> 0 | G7: =SUMPRODUCT((Feuil1!$A$3000:$A$4200=Feuil2!$A7)*(Feuil1!$D$3000:$D$4200=Feuil2!G$1)*(Feuil1!$F$3000:$F$4200=1)) -> 47 | H7: =SUMPRODUCT((Feuil1!$A$3000:$A$4200=Feuil2!$A7)*(Feuil1!$D$3000:$D$4200=Feuil2!H$1)*(Feuil1!$F$3000:$F$4200=1)) -> 0 | I7: =SUMPRODUCT((Feuil1!$A$3000:$A$4200=Feuil2!$A7)*(Feuil1!$D$3000:$D$4200=Feuil2!I$1)*(Feuil1!$F$3000:$F$4200=1)) -> 39 | ... AF7: =SUMPRODUCT((Feuil1!$A$3000:$A$4200=Feuil2!$A7)*(Feuil1!$D$3000:$D$4200=Feuil2!AF$1)*(Feuil1!$F$3000:$F$4200=1)) -> 40
A8: Mickael | B8: =SUMPRODUCT((Feuil1!$A$3900:$A$4900=Feuil2!$A8)*(Feuil1!$D$3900:$D$4900=Feuil2!B$1)*(Feuil1!$F$3900:$F$4900=1)) -> 40 | C8: =SUMPRODUCT((Feuil1!$A$3900:$A$4900=Feuil2!$A8)*(Feuil1!$D$3900:$D$4900=Feuil2!C$1)*(Feuil1!$F$3900:$F$4900=1)) -> 34 | D8: =SUMPRODUCT((Feuil1!$A$3900:$A$4900=Feuil2!$A8)*(Feuil1!$D$3900:$D$4900=Feuil2!D$1)*(Feuil1!$F$3900:$F$4900=1)) -> 33 | E8: =SUMPRODUCT((Feuil1!$A$3900:$A$4900=Feuil2!$A8)*(Feuil1!$D$3900:$D$4900=Feuil2!E$1)*(Feuil1!$F$3900:$F$4900=1)) -> 0 | F8: =SUMPRODUCT((Feuil1!$A$3900:$A$4900=Feuil2!$A8)*(Feuil1!$D$3900:$D$4900=Feuil2!F$1)*(Feuil1!$F$3900:$F$4900=1)) -> 0 | G8: =SUMPRODUCT((Feuil1!$A$3900:$A$4900=Feuil2!$A8)*(Feuil1!$D$3900:$D$4900=Feuil2!G$1)*(Feuil1!$F$3900:$F$4900=1)) -> 33 | H8: =SUMPRODUCT((Feuil1!$A$3900:$A$4900=Feuil2!$A8)*(Feuil1!$D$3900:$D$4900=Feuil2!H$1)*(Feuil1!$F$3900:$F$4900=1)) -> 30 | I8: =SUMPRODUCT((Feuil1!$A$3900:$A$4900=Feuil2!$A8)*(Feuil1!$D$3900:$D$4900=Feuil2!I$1)*(Feuil1!$F$3900:$F$4900=1)) -> 27 | ... AF8: =SUMPRODUCT((Feuil1!$A$3900:$A$4900=Feuil2!$A8)*(Feuil1!$D$3900:$D$4900=Feuil2!AF$1)*(Feuil1!$F$3900:$F$4900=1)) -> 47
A9: Maxime | B9: =SUMPRODUCT((Feuil1!$A$4800:$A$5700=Feuil2!$A9)*(Feuil1!$D$4800:$D$5700=Feuil2!B$1)*(Feuil1!$F$4800:$F$5700=1)) -> 35 | C9: =SUMPRODUCT((Feuil1!$A$4800:$A$5700=Feuil2!$A9)*(Feuil1!$D$4800:$D$5700=Feuil2!C$1)*(Feuil1!$F$4800:$F$5700=1)) -> 31 | D9: =SUMPRODUCT((Feuil1!$A$4800:$A$5700=Feuil2!$A9)*(Feuil1!$D$4800:$D$5700=Feuil2!D$1)*(Feuil1!$F$4800:$F$5700=1)) -> 37 | E9: =SUMPRODUCT((Feuil1!$A$4800:$A$5700=Feuil2!$A9)*(Feuil1!$D$4800:$D$5700=Feuil2!E$1)*(Feuil1!$F$4800:$F$5700=1)) -> 0 | F9: =SUMPRODUCT((Feuil1!$A$4800:$A$5700=Feuil2!$A9)*(Feuil1!$D$4800:$D$5700=Feuil2!F$1)*(Feuil1!$F$4800:$F$5700=1)) -> 0 | G9: =SUMPRODUCT((Feuil1!$A$4800:$A$5700=Feuil2!$A9)*(Feuil1!$D$4800:$D$5700=Feuil2!G$1)*(Feuil1!$F$4800:$F$5700=1)) -> 29 | H9: =SUMPRODUCT((Feuil1!$A$4800:$A$5700=Feuil2!$A9)*(Feuil1!$D$4800:$D$5700=Feuil2!H$1)*(Feuil1!$F$4800:$F$5700=1)) -> 34 | I9: =SUMPRODUCT((Feuil1!$A$4800:$A$5700=Feuil2!$A9)*(Feuil1!$D$4800:$D$5700=Feuil2!I$1)*(Feuil1!$F$4800:$F$5700=1)) -> 31 | ... AF9: =SUMPRODUCT((Feuil1!$A$4800:$A$5700=Feuil2!$A9)*(Feuil1!$D$4800:$D$5700=Feuil2!AF$1)*(Feuil1!$F$4800:$F$5700=1)) -> 41
A10: Philippe | B10: =SUMPRODUCT((Feuil1!$A$5600:$A$6500=Feuil2!$A10)*(Feuil1!$D$5600:$D$6500=Feuil2!B$1)*(Feuil1!$F$5600:$F$6500=1)) -> 26 | C10: =SUMPRODUCT((Feuil1!$A$5600:$A$6500=Feuil2!$A10)*(Feuil1!$D$5600:$D$6500=Feuil2!C$1)*(Feuil1!$F$5600:$F$6500=1)) -> 34 | D10: =SUMPRODUCT((Feuil1!$A$5600:$A$6500=Feuil2!$A10)*(Feuil1!$D$5600:$D$6500=Feuil2!D$1)*(Feuil1!$F$5600:$F$6500=1)) -> 26 | E10: =SUMPRODUCT((Feuil1!$A$5600:$A$6500=Feuil2!$A10)*(Feuil1!$D$5600:$D$6500=Feuil2!E$1)*(Feuil1!$F$5600:$F$6500=1)) -> 0 | F10: =SUMPRODUCT((Feuil1!$A$5600:$A$6500=Feuil2!$A10)*(Feuil1!$D$5600:$D$6500=Feuil2!F$1)*(Feuil1!$F$5600:$F$6500=1)) -> 0 | G10: =SUMPRODUCT((Feuil1!$A$5600:$A$6500=Feuil2!$A10)*(Feuil1!$D$5600:$D$6500=Feuil2!G$1)*(Feuil1!$F$5600:$F$6500=1)) -> 28 | H10: =SUMPRODUCT((Feuil1!$A$5600:$A$6500=Feuil2!$A10)*(Feuil1!$D$5600:$D$6500=Feuil2!H$1)*(Feuil1!$F$5600:$F$6500=1)) -> 34 | I10: =SUMPRODUCT((Feuil1!$A$5600:$A$6500=Feuil2!$A10)*(Feuil1!$D$5600:$D$6500=Feuil2!I$1)*(Feuil1!$F$5600:$F$6500=1)) -> 26 | ... AF10: =SUMPRODUCT((Feuil1!$A$5600:$A$6500=Feuil2!$A10)*(Feuil1!$D$5600:$D$6500=Feuil2!AF$1)*(Feuil1!$F$5600:$F$6500=1)) -> 26
A11: Remi | B11: =SUMPRODUCT((Feuil1!$A$6400:$A$7100=Feuil2!$A11)*(Feuil1!$D$6400:$D$7100=Feuil2!B$1)*(Feuil1!$F$6400:$F$7100=1)) -> 23 | C11: =SUMPRODUCT((Feuil1!$A$6400:$A$7100=Feuil2!$A11)*(Feuil1!$D$6400:$D$7100=Feuil2!C$1)*(Feuil1!$F$6400:$F$7100=1)) -> 31 | D11: =SUMPRODUCT((Feuil1!$A$6400:$A$7100=Feuil2!$A11)*(Feuil1!$D$6400:$D$7100=Feuil2!D$1)*(Feuil1!$F$6400:$F$7100=1)) -> 25 | E11: =SUMPRODUCT((Feuil1!$A$6400:$A$7100=Feuil2!$A11)*(Feuil1!$D$6400:$D$7100=Feuil2!E$1)*(Feuil1!$F$6400:$F$7100=1)) -> 0 | F11: =SUMPRODUCT((Feuil1!$A$6400:$A$7100=Feuil2!$A11)*(Feuil1!$D$6400:$D$7100=Feuil2!F$1)*(Feuil1!$F$6400:$F$7100=1)) -> 0 | G11: =SUMPRODUCT((Feuil1!$A$6400:$A$7100=Feuil2!$A11)*(Feuil1!$D$6400:$D$7100=Feuil2!G$1)*(Feuil1!$F$6400:$F$7100=1)) -> 28 | H11: =SUMPRODUCT((Feuil1!$A$6400:$A$7100=Feuil2!$A11)*(Feuil1!$D$6400:$D$7100=Feuil2!H$1)*(Feuil1!$F$6400:$F$7100=1)) -> 32 | I11: =SUMPRODUCT((Feuil1!$A$6400:$A$7100=Feuil2!$A11)*(Feuil1!$D$6400:$D$7100=Feuil2!I$1)*(Feuil1!$F$6400:$F$7100=1)) -> 31 | ... AF11: =SUMPRODUCT((Feuil1!$A$6400:$A$7100=Feuil2!$A11)*(Feuil1!$D$6400:$D$7100=Feuil2!AF$1)*(Feuil1!$F$6400:$F$7100=1)) -> 28
A12: RomainR | B12: =SUMPRODUCT((Feuil1!$A$6000:$A$7300=Feuil2!$A12)*(Feuil1!$D$6000:$D$7300=Feuil2!B$1)*(Feuil1!$F$6000:$F$7300=1)) -> 8 | C12: =SUMPRODUCT((Feuil1!$A$6000:$A$7300=Feuil2!$A12)*(Feuil1!$D$6000:$D$7300=Feuil2!C$1)*(Feuil1!$F$6000:$F$7300=1)) -> 2 | D12: =SUMPRODUCT((Feuil1!$A$6000:$A$7300=Feuil2!$A12)*(Feuil1!$D$6000:$D$7300=Feuil2!D$1)*(Feuil1!$F$6000:$F$7300=1)) -> 5 | E12: =SUMPRODUCT((Feuil1!$A$6000:$A$7300=Feuil2!$A12)*(Feuil1!$D$6000:$D$7300=Feuil2!E$1)*(Feuil1!$F$6000:$F$7300=1)) -> 0 | F12: =SUMPRODUCT((Feuil1!$A$6000:$A$7300=Feuil2!$A12)*(Feuil1!$D$6000:$D$7300=Feuil2!F$1)*(Feuil1!$F$6000:$F$7300=1)) -> 0 | G12: =SUMPRODUCT((Feuil1!$A$6000:$A$7300=Feuil2!$A12)*(Feuil1!$D$6000:$D$7300=Feuil2!G$1)*(Feuil1!$F$6000:$F$7300=1)) -> 0 | H12: =SUMPRODUCT((Feuil1!$A$6000:$A$7300=Feuil2!$A12)*(Feuil1!$D$6000:$D$7300=Feuil2!H$1)*(Feuil1!$F$6000:$F$7300=1)) -> 8 | I12: =SUMPRODUCT((Feuil1!$A$6000:$A$7300=Feuil2!$A12)*(Feuil1!$D$6000:$D$7300=Feuil2!I$1)*(Feuil1!$F$6000:$F$7300=1)) -> 5 | ... AF12: =SUMPRODUCT((Feuil1!$A$6000:$A$7300=Feuil2!$A12)*(Feuil1!$D$6000:$D$7300=Feuil2!AF$1)*(Feuil1!$F$6000:$F$7300=1)) -> 6
A13: RomainT | B13: =SUMPRODUCT((Feuil1!$A$7000:$A$8200=Feuil2!$A13)*(Feuil1!$D$7000:$D$8200=Feuil2!B$1)*(Feuil1!$F$7000:$F$8200=1)) -> 36 | C13: =SUMPRODUCT((Feuil1!$A$7000:$A$8200=Feuil2!$A13)*(Feuil1!$D$7000:$D$8200=Feuil2!C$1)*(Feuil1!$F$7000:$F$8200=1)) -> 38 | D13: =SUMPRODUCT((Feuil1!$A$7000:$A$8200=Feuil2!$A13)*(Feuil1!$D$7000:$D$8200=Feuil2!D$1)*(Feuil1!$F$7000:$F$8200=1)) -> 35 | E13: =SUMPRODUCT((Feuil1!$A$7000:$A$8200=Feuil2!$A13)*(Feuil1!$D$7000:$D$8200=Feuil2!E$1)*(Feuil1!$F$7000:$F$8200=1)) -> 0 | F13: =SUMPRODUCT((Feuil1!$A$7000:$A$8200=Feuil2!$A13)*(Feuil1!$D$7000:$D$8200=Feuil2!F$1)*(Feuil1!$F$7000:$F$8200=1)) -> 0 | G13: =SUMPRODUCT((Feuil1!$A$7000:$A$8200=Feuil2!$A13)*(Feuil1!$D$7000:$D$8200=Feuil2!G$1)*(Feuil1!$F$7000:$F$8200=1)) -> 40 | H13: =SUMPRODUCT((Feuil1!$A$7000:$A$8200=Feuil2!$A13)*(Feuil1!$D$7000:$D$8200=Feuil2!H$1)*(Feuil1!$F$7000:$F$8200=1)) -> 30 | I13: =SUMPRODUCT((Feuil1!$A$7000:$A$8200=Feuil2!$A13)*(Feuil1!$D$7000:$D$8200=Feuil2!I$1)*(Feuil1!$F$7000:$F$8200=1)) -> 31 | ... AF13: =SUMPRODUCT((Feuil1!$A$7000:$A$8200=Feuil2!$A13)*(Feuil1!$D$7000:$D$8200=Feuil2!AF$1)*(Feuil1!$F$7000:$F$8200=1)) -> 45
A14: Stephane | B14: =SUMPRODUCT((Feuil1!$A$8000:$A$9200=Feuil2!$A14)*(Feuil1!$D$8000:$D$9200=Feuil2!B$1)*(Feuil1!$F$8000:$F$9200=1)) -> 23 | C14: =SUMPRODUCT((Feuil1!$A$8000:$A$9200=Feuil2!$A14)*(Feuil1!$D$8000:$D$9200=Feuil2!C$1)*(Feuil1!$F$8000:$F$9200=1)) -> 29 | D14: =SUMPRODUCT((Feuil1!$A$8000:$A$9200=Feuil2!$A14)*(Feuil1!$D$8000:$D$9200=Feuil2!D$1)*(Feuil1!$F$8000:$F$9200=1)) -> 0 | E14: =SUMPRODUCT((Feuil1!$A$8000:$A$9200=Feuil2!$A14)*(Feuil1!$D$8000:$D$9200=Feuil2!E$1)*(Feuil1!$F$8000:$F$9200=1)) -> 0 | F14: =SUMPRODUCT((Feuil1!$A$8000:$A$9200=Feuil2!$A14)*(Feuil1!$D$8000:$D$9200=Feuil2!F$1)*(Feuil1!$F$8000:$F$9200=1)) -> 0 | G14: =SUMPRODUCT((Feuil1!$A$8000:$A$9200=Feuil2!$A14)*(Feuil1!$D$8000:$D$9200=Feuil2!G$1)*(Feuil1!$F$8000:$F$9200=1)) -> 0 | H14: =SUMPRODUCT((Feuil1!$A$8000:$A$9200=Feuil2!$A14)*(Feuil1!$D$8000:$D$9200=Feuil2!H$1)*(Feuil1!$F$8000:$F$9200=1)) -> 0 | I14: =SUMPRODUCT((Feuil1!$A$8000:$A$9200=Feuil2!$A14)*(Feuil1!$D$8000:$D$9200=Feuil2!I$1)*(Feuil1!$F$8000:$F$9200=1)) -> 0 | ... AF14: =SUMPRODUCT((Feuil1!$A$8000:$A$9200=Feuil2!$A14)*(Feuil1!$D$8000:$D$9200=Feuil2!AF$1)*(Feuil1!$F$8000:$F$9200=1)) -> 0
A15: Sandrine | B15: =SUMPRODUCT((Feuil1!$A$8100:$A$9200=Feuil2!$A15)*(Feuil1!$D$8100:$D$9200=Feuil2!B$1)*(Feuil1!$F$8100:$F$9200=1)) -> 0 | C15: =SUMPRODUCT((Feuil1!$A$8100:$A$9200=Feuil2!$A15)*(Feuil1!$D$8100:$D$9200=Feuil2!C$1)*(Feuil1!$F$8100:$F$9200=1)) -> 0 | D15: =SUMPRODUCT((Feuil1!$A$8100:$A$9200=Feuil2!$A15)*(Feuil1!$D$8100:$D$9200=Feuil2!D$1)*(Feuil1!$F$8100:$F$9200=1)) -> 0 | E15: =SUMPRODUCT((Feuil1!$A$8100:$A$9200=Feuil2!$A15)*(Feuil1!$D$8100:$D$9200=Feuil2!E$1)*(Feuil1!$F$8100:$F$9200=1)) -> 0 | F15: =SUMPRODUCT((Feuil1!$A$8100:$A$9200=Feuil2!$A15)*(Feuil1!$D$8100:$D$9200=Feuil2!F$1)*(Feuil1!$F$8100:$F$9200=1)) -> 0 | G15: =SUMPRODUCT((Feuil1!$A$8100:$A$9200=Feuil2!$A15)*(Feuil1!$D$8100:$D$9200=Feuil2!G$1)*(Feuil1!$F$8100:$F$9200=1)) -> 14 | H15: =SUMPRODUCT((Feuil1!$A$8100:$A$9200=Feuil2!$A15)*(Feuil1!$D$8100:$D$9200=Feuil2!H$1)*(Feuil1!$F$8100:$F$9200=1)) -> 0 | I15: =SUMPRODUCT((Feuil1!$A$8100:$A$9200=Feuil2!$A15)*(Feuil1!$D$8100:$D$9200=Feuil2!I$1)*(Feuil1!$F$8100:$F$9200=1)) -> 0 | ... AF15: =SUMPRODUCT((Feuil1!$A$8100:$A$9200=Feuil2!$A15)*(Feuil1!$D$8100:$D$9200=Feuil2!AF$1)*(Feuil1!$F$8100:$F$9200=1)) -> 5
A16: Thomas | B16: =SUMPRODUCT((Feuil1!$A$8100:$A$9200=Feuil2!$A16)*(Feuil1!$D$8100:$D$9200=Feuil2!B$1)*(Feuil1!$F$8100:$F$9200=1)) -> 28 | C16: =SUMPRODUCT((Feuil1!$A$8100:$A$9200=Feuil2!$A16)*(Feuil1!$D$8100:$D$9200=Feuil2!C$1)*(Feuil1!$F$8100:$F$9200=1)) -> 31 | D16: =SUMPRODUCT((Feuil1!$A$8100:$A$9200=Feuil2!$A16)*(Feuil1!$D$8100:$D$9200=Feuil2!D$1)*(Feuil1!$F$8100:$F$9200=1)) -> 30 | E16: =SUMPRODUCT((Feuil1!$A$8100:$A$9200=Feuil2!$A16)*(Feuil1!$D$8100:$D$9200=Feuil2!E$1)*(Feuil1!$F$8100:$F$9200=1)) -> 0 | F16: =SUMPRODUCT((Feuil1!$A$8100:$A$9200=Feuil2!$A16)*(Feuil1!$D$8100:$D$9200=Feuil2!F$1)*(Feuil1!$F$8100:$F$9200=1)) -> 0 | G16: =SUMPRODUCT((Feuil1!$A$8100:$A$9200=Feuil2!$A16)*(Feuil1!$D$8100:$D$9200=Feuil2!G$1)*(Feuil1!$F$8100:$F$9200=1)) -> 43 | H16: =SUMPRODUCT((Feuil1!$A$8100:$A$9200=Feuil2!$A16)*(Feuil1!$D$8100:$D$9200=Feuil2!H$1)*(Feuil1!$F$8100:$F$9200=1)) -> 30 | I16: =SUMPRODUCT((Feuil1!$A$8100:$A$9200=Feuil2!$A16)*(Feuil1!$D$8100:$D$9200=Feuil2!I$1)*(Feuil1!$F$8100:$F$9200=1)) -> 25 | ... AF16: =SUMPRODUCT((Feuil1!$A$8100:$A$9200=Feuil2!$A16)*(Feuil1!$D$8100:$D$9200=Feuil2!AF$1)*(Feuil1!$F$8100:$F$9200=1)) -> 17
F19: j'ai allégé avec une colonne intermediaire en feuil 2 et en tronçonnant a la louche les 9200 lignes
B20: 12????? | C20: 8
B21: 46 | C21: 26
B22: 35 | C22: 25

Sheet Feuil1
A1: Collaborateur | B1: Profil | C1: Cpte Client | D1: Date | E1: Durée
A2: Benoit | B2: HOTLINE4 | C2: CE03063194 | D2: 42795 | E2: 0.035416667 | F2: =SUMPRODUCT((A$2:A2=A2)*(C$2:C2=C2)*(D$2:D2=D2)) -> 1
A3: Benoit | B3: HOTLINE4 | C3: CE03063194 | D3: 42795 | E3: 0.015277778 | F3: =SUMPRODUCT((A$2:A3=A3)*(C$2:C3=C3)*(D$2:D3=D3)) -> 2
A4: Benoit | B4: HOTLINE4 | C4: CM00338573 | D4: 42795 | E4: 0.0013888889 | F4: =SUMPRODUCT((A$2:A4=A4)*(C$2:C4=C4)*(D$2:D4=D4)) -> 1
A5: Benoit | B5: HOTLINE4 | C5: CM00338573 | D5: 42795 | E5: 0.0027777778 | F5: =SUMPRODUCT((A$2:A5=A5)*(C$2:C5=C5)*(D$2:D5=D5)) -> 2
A6: Benoit | B6: HOTLINE4 | C6: CM02171890 | D6: 42795 | E6: 0.0048611111 | F6: =SUMPRODUCT((A$2:A6=A6)*(C$2:C6=C6)*(D$2:D6=D6)) -> 1
A7: Benoit | B7: HOTLINE4 | C7: CM02879535 | D7: 42795 | E7: 0.0125 | F7: =SUMPRODUCT((A$2:A7=A7)*(C$2:C7=C7)*(D$2:D7=D7)) -> 1
A8: Benoit | B8: HOTLINE4 | C8: CM03566036 | D8: 42795 | E8: 0.0090277778 | F8: =SUMPRODUCT((A$2:A8=A8)*(C$2:C8=C8)*(D$2:D8=D8)) -> 1
A9: Benoit | B9: HOTLINE4 | C9: CM07944572 | D9: 42795 | E9: 0.0097222222 | F9: =SUMPRODUCT((A$2:A9=A9)*(C$2:C9=C9)*(D$2:D9=D9)) -> 1
A10: Benoit | B10: HOTLINE4 | C10: CM08181131 | D10: 42795 | E10: 0.0020833333 | F10: =SUMPRODUCT((A$2:A10=A10)*(C$2:C10=C10)*(D$2:D10=D10)) -> 1
A11: Benoit | B11: HOTLINE4 | C11: CM08227834 | D11: 42795 | E11: 0.0083333333 | F11: =SUMPRODUCT((A$2:A11=A11)*(C$2:C11=C11)*(D$2:D11=D11)) -> 1
A12: Benoit | B12: HOTLINE4 | C12: CM08235302 | D12: 42795 | E12: 0.0069444444 | F12: =SUMPRODUCT((A$2:A12=A12)*(C$2:C12=C12)*(D$2:D12=D12)) -> 1
A13: Benoit | B13: HOTLINE4 | C13: CM08811845 | D13: 42795 | E13: 0.015277778 | F13: =SUMPRODUCT((A$2:A13=A13)*(C$2:C13=C13)*(D$2:D13=D13)) -> 1
... A219: Benoit | B219: HOTLINE4 | C219: CM09195150 | D219: 42822 | E219: 0.00625 | F219: =SUMPRODUCT((A$2:A219=A219)*(C$2:C219=C219)*(D$2:D219=D219)) -> 1
A220: Benoit | B220: HOTLINE4 | C220: CM09210974 | D220: 42822 | E220: 0.0027777778 | F220: =SUMPRODUCT((A$2:A220=A220)*(C$2:C220=C220)*(D$2:D220=D220)) -> 1 | H220: 220
A221: Cedric | B221: HOTLINE4 | C221: CE00018559 | D221: 42795 | E221: 0.011111111 | F221: =SUMPRODUCT((A$2:A221=A221)*(C$2:C221=C221)*(D$2:D221=D221)) -> 1
A222: Cedric | B222: HOTLINE4 | C222: CE08557115 | D222: 42795 | E222: 0.0076388889 | F222: =SUMPRODUCT((A$2:A222=A222)*(C$2:C222=C222)*(D$2:D222=D222)) -> 1
A223: Cedric | B223: HOTLINE4 | C223: CE09173207 | D223: 42795 | E223: 0.0013888889 | F223: =SUMPRODUCT((A$2:A223=A223)*(C$2:C223=C223)*(D$2:D223=D223)) -> 1
A224: Cedric | B224: HOTLINE4 | C224: CG00000719 | D224: 42795 | E224: 0.0069444444 | F224: =SUMPRODUCT((A$2:A224=A224)*(C$2:C224=C224)*(D$2:D224=D224)) -> 1
A225: Cedric | B225: HOTLINE4 | C225: CG00000740 | D225: 42795 | E225: 0.0027777778 | F225: =SUMPRODUCT((A$2:A225=A225)*(C$2:C225=C225)*(D$2:D225=D225)) -> 1
A226: Cedric | B226: HOTLINE4 | C226: CG00000791 | D226: 42795 | E226: 0.0027777778 | F226: =SUMPRODUCT((A$2:A226=A226)*(C$2:C226=C226)*(D$2:D226=D226)) -> 1
A227: Cedric | B227: HOTLINE4 | C227: CG00000791 | D227: 42795 | E227: 0.0027777778 | F227: =SUMPRODUCT((A$2:A227=A227)*(C$2:C227=C227)*(D$2:D227=D227)) -> 2
A228: Cedric | B228: HOTLINE4 | C228: CG00000827 | D228: 42795 | E228: 0.0013888889 | F228: =SUMPRODUCT((A$2:A228=A228)*(C$2:C228=C228)*(D$2:D228=D228)) -> 1
A229: Cedric | B229: HOTLINE4 | C229: CM00000987 | D229: 42795 | E229: 0.00625 | F229: =SUMPRODUCT((A$2:A229=A229)*(C$2:C229=C229)*(D$2:D229=D229)) -> 1
A230: Cedric | B230: HOTLINE4 | C230: CM00227627 | D230: 42795 | E230: 0.0027777778 | F230: =SUMPRODUCT((A$2:A230=A230)*(C$2:C230=C230)*(D$2:D230=D230)) -> 1
A231: Cedric | B231: HOTLINE4 | C231: CM00581632 | D231: 42795 | E231: 0.0090277778 | F231: =SUMPRODUCT((A$2:A231=A231)*(C$2:C231=C231)*(D$2:D231=D231)) -> 1
A232: Cedric | B232: HOTLINE4 | C232: CM00971495 | D232: 42795 | E232: 0 | F232: =SUMPRODUCT((A$2:A232=A232)*(C$2:C232=C232)*(D$2:D232=D232)) -> 1
... A782: Cedric | B782: HOTLINE4 | C782: CS00016296 | D782: 42824 | E782: 0.0020833333 | F782: =SUMPRODUCT((A$2:A782=A782)*(C$2:C782=C782)*(D$2:D782=D782)) -> 1
A783: Cedric | B783: HOTLINE4 | C783: CZZ0001221 | D783: 42824 | E783: 0.00069444444 | F783: =SUMPRODUCT((A$2:A783=A783)*(C$2:C783=C783)*(D$2:D783=D783)) -> 1 | G783: 782
A784: Dost | B784: HOTLINE4 | C784: CE02784187 | D784: 42795 | E784: 0.0020833333 | F784: =SUMPRODUCT((A$2:A784=A784)*(C$2:C784=C784)*(D$2:D784=D784)) -> 1
A785: Dost | B785: HOTLINE4 | C785: CE04959981 | D785: 42795 | E785: 0.00069444444 | F785: =SUMPRODUCT((A$2:A785=A785)*(C$2:C785=C785)*(D$2:D785=D785)) -> 1
A786: Dost | B786: HOTLINE4 | C786: CG00000750 | D786: 42795 | E786: 0.00625 | F786: =SUMPRODUCT((A$2:A786=A786)*(C$2:C786=C786)*(D$2:D786=D786)) -> 1
A787: Dost | B787: HOTLINE4 | C787: CH01183500B | D787: 42795 | E787: 0.0041666667 | F787: =SUMPRODUCT((A$2:A787=A787)*(C$2:C787=C787)*(D$2:D787=D787)) -> 1
A788: Dost | B788: HOTLINE4 | C788: CM00007828 | D788: 42795 | E788: 0.00069444444 | F788: =SUMPRODUCT((A$2:A788=A788)*(C$2:C788=C788)*(D$2:D788=D788)) -> 1
A789: Dost | B789: HOTLINE4 | C789: CM00007828 | D789: 42795 | E789: 0.010416667 | F789: =SUMPRODUCT((A$2:A789=A789)*(C$2:C789=C789)*(D$2:D789=D789)) -> 2
A790: Dost | B790: HOTLINE4 | C790: CM00063147B | D790: 42795 | E790: 0.0097222222 | F790: =SUMPRODUCT((A$2:A790=A790)*(C$2:C790=C790)*(D$2:D790=D790)) -> 1
A791: Dost | B791: HOTLINE4 | C791: CM00112491 | D791: 42795 | E791: 0.0055555556 | F791: =SUMPRODUCT((A$2:A791=A791)*(C$2:C791=C791)*(D$2:D791=D791)) -> 1
A792: Dost | B792: HOTLINE4 | C792: CM01160466 | D792: 42795 | E792: 0.0034722222 | F792: =SUMPRODUCT((A$2:A792=A792)*(C$2:C792=C792)*(D$2:D792=D792)) -> 1
A793: Dost | B793: HOTLINE4 | C793: CM01297142 | D793: 42795 | E793: 0.0041666667 | F793: =SUMPRODUCT((A$2:A793=A793)*(C$2:C793=C793)*(D$2:D793=D793)) -> 1
A794: Dost | B794: HOTLINE4 | C794: CM01408492 | D794: 42795 | E794: 0.0020833333 | F794: =SUMPRODUCT((A$2:A794=A794)*(C$2:C794=C794)*(D$2:D794=D794)) -> 1
A795: Dost | B795: HOTLINE4 | C795: CM01536737 | D795: 42795 | E795: 0 | F795: =SUMPRODUCT((A$2:A795=A795)*(C$2:C795=C795)*(D$2:D795=D795)) -> 1
... A1421: Dost | B1421: HOTLINE4 | C1421: CZ00000652 | D1421: 42818 | E1421: 0.0076388889 | F1421: =SUMPRODUCT((A$2:A1421=A1421)*(C$2:C1421=C1421)*(D$2:D1421=D1421)) -> 1
A1422: Dost | B1422: HOTLINE4 | C1422: CZ00000917 | D1422: 42818 | E1422: 0.0041666667 | F1422: =SUMPRODUCT((A$2:A1422=A1422)*(C$2:C1422=C1422)*(D$2:D1422=D1422)) -> 1 | H1422: 1500
A1423: Emeline | B1423: HOTLINE4 | C1423: CE08557115 | D1423: 42795 | E1423: 0.0055555556 | F1423: =SUMPRODUCT((A$2:A1423=A1423)*(C$2:C1423=C1423)*(D$2:D1423=D1423)) -> 1
A1424: Emeline | B1424: HOTLINE4 | C1424: CM00002790 | D1424: 42795 | E1424: 0 | F1424: =SUMPRODUCT((A$2:A1424=A1424)*(C$2:C1424=C1424)*(D$2:D1424=D1424)) -> 1
A1425: Emeline | B1425: HOTLINE4 | C1425: CM00443432 | D1425: 42795 | E1425: 0 | F1425: =SUMPRODUCT((A$2:A1425=A1425)*(C$2:C1425=C1425)*(D$2:D1425=D1425)) -> 1
A1426: Emeline | B1426: HOTLINE4 | C1426: CM00725621 | D1426: 42795 | E1426: 0.011111111 | F1426: =SUMPRODUCT((A$2:A1426=A1426)*(C$2:C1426=C1426)*(D$2:D1426=D1426)) -> 1
A1427: Emeline | B1427: HOTLINE4 | C1427: CM01053086 | D1427: 42795 | E1427: 0.00069444444 | F1427: =SUMPRODUCT((A$2:A1427=A1427)*(C$2:C1427=C1427)*(D$2:D1427=D1427)) -> 1
A1428: Emeline | B1428: HOTLINE4 | C1428: CM01053086 | D1428: 42795 | E1428: 0.019444444 | F1428: =SUMPRODUCT((A$2:A1428=A1428)*(C$2:C1428=C1428)*(D$2:D1428=D1428)) -> 2
A1429: Emeline | B1429: HOTLINE4 | C1429: CM01220557 | D1429: 42795 | E1429: 0.00069444444 | F1429: =SUMPRODUCT((A$2:A1429=A1429)*(C$2:C1429=C1429)*(D$2:D1429=D1429)) -> 1
A1430: Emeline | B1430: HOTLINE4 | C1430: CM01220557 | D1430: 42795 | E1430: 0.00069444444 | F1430: =SUMPRODUCT((A$2:A1430=A1430)*(C$2:C1430=C1430)*(D$2:D1430=D1430)) -> 2
A1431: Emeline | B1431: HOTLINE4 | C1431: CM01220557 | D1431: 42795 | E1431: 0.047222222 | F1431: =SUMPRODUCT((A$2:A1431=A1431)*(C$2:C1431=C1431)*(D$2:D1431=D1431)) -> 3
A1432: Emeline | B1432: HOTLINE4 | C1432: CM01593999 | D1432: 42795 | E1432: 0.0027777778 | F1432: =SUMPRODUCT((A$2:A1432=A1432)*(C$2:C1432=C1432)*(D$2:D1432=D1432)) -> 1
A1433: Emeline | B1433: HOTLINE4 | C1433: CM02026395 | D1433: 42795 | E1433: 0 | F1433: =SUMPRODUCT((A$2:A1433=A1433)*(C$2:C1433=C1433)*(D$2:D1433=D1433)) -> 1
A1434: Emeline | B1434: HOTLINE4 | C1434: CM02452048 | D1434: 42795 | E1434: 0.0013888889 | F1434: =SUMPRODUCT((A$2:A1434=A1434)*(C$2:C1434=C1434)*(D$2:D1434=D1434)) -> 1
... A2231: Hervé | B2231: HOTLINE4 | C2231: CM00118003 | D2231: 42795 | E2231: 0.0013888889 | F2231: =SUMPRODUCT((A$2:A2231=A2231)*(C$2:C2231=C2231)*(D$2:D2231=D2231)) -> 1
A2232: Hervé | B2232: HOTLINE4 | C2232: CM00606131 | D2232: 42795 | E2232: 0.00625 | F2232: =SUMPRODUCT((A$2:A2232=A2232)*(C$2:C2232=C2232)*(D$2:D2232=D2232)) -> 1 | H2232: 2300
A2233: Hervé | B2233: HOTLINE4 | C2233: CM00606131 | D2233: 42795 | E2233: 0.0069444444 | F2233: =SUMPRODUCT((A$2:A2233=A2233)*(C$2:C2233=C2233)*(D$2:D2233=D2233)) -> 2
A2234: Hervé | B2234: HOTLINE4 | C2234: CM00871395 | D2234: 42795 | E2234: 0.0020833333 | F2234: =SUMPRODUCT((A$2:A2234=A2234)*(C$2:C2234=C2234)*(D$2:D2234=D2234)) -> 1
A2235: Hervé | B2235: HOTLINE4 | C2235: CM00891887 | D2235: 42795 | E2235: 0.0083333333 | F2235: =SUMPRODUCT((A$2:A2235=A2235)*(C$2:C2235=C2235)*(D$2:D2235=D2235)) -> 1
A2236: Hervé | B2236: HOTLINE4 | C2236: CM01550489 | D2236: 42795 | E2236: 0.0027777778 | F2236: =SUMPRODUCT((A$2:A2236=A2236)*(C$2:C2236=C2236)*(D$2:D2236=D2236)) -> 1
A2237: Hervé | B2237: HOTLINE4 | C2237: CM01550490 | D2237: 42795 | E2237: 0.0020833333 | F2237: =SUMPRODUCT((A$2:A2237=A2237)*(C$2:C2237=C2237)*(D$2:D2237=D2237)) -> 1
A2238: Hervé | B2238: HOTLINE4 | C2238: CM01593999 | D2238: 42795 | E2238: 0.00069444444 | F2238: =SUMPRODUCT((A$2:A2238=A2238)*(C$2:C2238=C2238)*(D$2:D2238=D2238)) -> 1
A2239: Hervé | B2239: HOTLINE4 | C2239: CM01792279 | D2239: 42795 | E2239: 0.0027777778 | F2239: =SUMPRODUCT((A$2:A2239=A2239)*(C$2:C2239=C2239)*(D$2:D2239=D2239)) -> 1
A2240: Hervé | B2240: HOTLINE4 | C2240: CM02026395 | D2240: 42795 | E2240: 0.0055555556 | F2240: =SUMPRODUCT((A$2:A2240=A2240)*(C$2:C2240=C2240)*(D$2:D2240=D2240)) -> 1
A2241: Hervé | B2241: HOTLINE4 | C2241: CM02332751 | D2241: 42795 | E2241: 0.00069444444 | F2241: =SUMPRODUCT((A$2:A2241=A2241)*(C$2:C2241=C2241)*(D$2:D2241=D2241)) -> 1
A2242: Hervé | B2242: HOTLINE4 | C2242: CM02699335 | D2242: 42795 | E2242: 0.014583333 | F2242: =SUMPRODUCT((A$2:A2242=A2242)*(C$2:C2242=C2242)*(D$2:D2242=D2242)) -> 1
A2243: Hervé | B2243: HOTLINE4 | C2243: CM02700654 | D2243: 42795 | E2243: 0.013888889 | F2243: =SUMPRODUCT((A$2:A2243=A2243)*(C$2:C2243=C2243)*(D$2:D2243=D2243)) -> 1
A2244: Hervé | B2244: HOTLINE4 | C2244: CM02725739 | D2244: 42795 | E2244: 0.0048611111 | F2244: =SUMPRODUCT((A$2:A2244=A2244)*(C$2:C2244=C2244)*(D$2:D2244=D2244)) -> 1
... A3098: Hervé | B3098: HOTLINE4 | C3098: CZ00000280 | D3098: 42825 | E3098: 0.0090277778 | F3098: =SUMPRODUCT((A$2:A3098=A3098)*(C$2:C3098=C3098)*(D$2:D3098=D3098)) -> 1
A3099: Hervé | B3099: HOTLINE4 | C3099: CZZ0001221 | D3099: 42825 | E3099: 0 | F3099: =SUMPRODUCT((A$2:A3099=A3099)*(C$2:C3099=C3099)*(D$2:D3099=D3099)) -> 1 | H3099: 3100
A3100: Julien | B3100: HOTLINE4 | C3100: CE02575675 | D3100: 42795 | E3100: 0.0090277778 | F3100: =SUMPRODUCT((A$2:A3100=A3100)*(C$2:C3100=C3100)*(D$2:D3100=D3100)) -> 1
A3101: Julien | B3101: HOTLINE4 | C3101: CE04959981 | D3101: 42795 | E3101: 0.0027777778 | F3101: =SUMPRODUCT((A$2:A3101=A3101)*(C$2:C3101=C3101)*(D$2:D3101=D3101)) -> 1
A3102: Julien | B3102: HOTLINE4 | C3102: CH00075000 | D3102: 42795 | E3102: 0.0041666667 | F3102: =SUMPRODUCT((A$2:A3102=A3102)*(C$2:C3102=C3102)*(D$2:D3102=D3102)) -> 1
A3103: Julien | B3103: HOTLINE4 | C3103: CH02601004 | D3103: 42795 | E3103: 0.013888889 | F3103: =SUMPRODUCT((A$2:A3103=A3103)*(C$2:C3103=C3103)*(D$2:D3103=D3103)) -> 1
A3104: Julien | B3104: HOTLINE4 | C3104: CM00051002 | D3104: 42795 | E3104: 0 | F3104: =SUMPRODUCT((A$2:A3104=A3104)*(C$2:C3104=C3104)*(D$2:D3104=D3104)) -> 1
A3105: Julien | B3105: HOTLINE4 | C3105: CM00051002 | D3105: 42795 | E3105: 0.0027777778 | F3105: =SUMPRODUCT((A$2:A3105=A3105)*(C$2:C3105=C3105)*(D$2:D3105=D3105)) -> 2
A3106: Julien | B3106: HOTLINE4 | C3106: CM00062134 | D3106: 42795 | E3106: 0.00625 | F3106: =SUMPRODUCT((A$2:A3106=A3106)*(C$2:C3106=C3106)*(D$2:D3106=D3106)) -> 1
A3107: Julien | B3107: HOTLINE4 | C3107: CM00665946 | D3107: 42795 | E3107: 0.0048611111 | F3107: =SUMPRODUCT((A$2:A3107=A3107)*(C$2:C3107=C3107)*(D$2:D3107=D3107)) -> 1
A3108: Julien | B3108: HOTLINE4 | C3108: CM00868215 | D3108: 42795 | E3108: 0.0055555556 | F3108: =SUMPRODUCT((A$2:A3108=A3108)*(C$2:C3108=C3108)*(D$2:D3108=D3108)) -> 1
A3109: Julien | B3109: HOTLINE4 | C3109: CM01257988 | D3109: 42795 | E3109: 0.0041666667 | F3109: =SUMPRODUCT((A$2:A3109=A3109)*(C$2:C3109=C3109)*(D$2:D3109=D3109)) -> 1
A3110: Julien | B3110: HOTLINE4 | C3110: CM01393482 | D3110: 42795 | E3110: 0.0069444444 | F3110: =SUMPRODUCT((A$2:A3110=A3110)*(C$2:C3110=C3110)*(D$2:D3110=D3110)) -> 1
A3111: Julien | B3111: HOTLINE4 | C3111: CM01444730 | D3111: 42795 | E3111: 0.0020833333 | F3111: =SUMPRODUCT((A$2:A3111=A3111)*(C$2:C3111=C3111)*(D$2:D3111=D3111)) -> 1
... A3959: Julien | B3959: HOTLINE4 | C3959: CM09151813 | D3959: 42825 | E3959: 0.029166667 | F3959: =SUMPRODUCT((A$2:A3959=A3959)*(C$2:C3959=C3959)*(D$2:D3959=D3959)) -> 1
A3960: Julien | B3960: HOTLINE4 | C3960: CS00014700 | D3960: 42825 | E3960: 0.011805556 | F3960: =SUMPRODUCT((A$2:A3960=A3960)*(C$2:C3960=C3960)*(D$2:D3960=D3960)) -> 1 | H3960: 4000
A3961: Julien | B3961: HOTLINE4 | C3961: CZ00000393 | D3961: 42825 | E3961: 0.0055555556 | F3961: =SUMPRODUCT((A$2:A3961=A3961)*(C$2:C3961=C3961)*(D$2:D3961=D3961)) -> 1
A3962: Mickael | B3962: HOTLINE4 | C3962: CE03776106 | D3962: 42795 | E3962: 0.0020833333 | F3962: =SUMPRODUCT((A$2:A3962=A3962)*(C$2:C3962=C3962)*(D$2:D3962=D3962)) -> 1
A3963: Mickael | B3963: HOTLINE4 | C3963: CE03900622 | D3963: 42795 | E3963: 0.00625 | F3963: =SUMPRODUCT((A$2:A3963=A3963)*(C$2:C3963=C3963)*(D$2:D3963=D3963)) -> 1
A3964: Mickael | B3964: HOTLINE4 | C3964: CG00000478 | D3964: 42795 | E3964: 0.0069444444 | F3964: =SUMPRODUCT((A$2:A3964=A3964)*(C$2:C3964=C3964)*(D$2:D3964=D3964)) -> 1
A3965: Mickael | B3965: HOTLINE4 | C3965: CG00000738 | D3965: 42795 | E3965: 0.0027777778 | F3965: =SUMPRODUCT((A$2:A3965=A3965)*(C$2:C3965=C3965)*(D$2:D3965=D3965)) -> 1
A3966: Mickael | B3966: HOTLINE4 | C3966: CH01183500B | D3966: 42795 | E3966: 0.0013888889 | F3966: =SUMPRODUCT((A$2:A3966=A3966)*(C$2:C3966=C3966)*(D$2:D3966=D3966)) -> 1
A3967: Mickael | B3967: HOTLINE4 | C3967: CH01183500B | D3967: 42795 | E3967: 0.00625 | F3967: =SUMPRODUCT((A$2:A3967=A3967)*(C$2:C3967=C3967)*(D$2:D3967=D3967)) -> 2
A3968: Mickael | B3968: HOTLINE4 | C3968: CM00035870 | D3968: 42795 | E3968: 0.0013888889 | F3968: =SUMPRODUCT((A$2:A3968=A3968)*(C$2:C3968=C3968)*(D$2:D3968=D3968)) -> 1
A3969: Mickael | B3969: HOTLINE4 | C3969: CM00071165 | D3969: 42795 | E3969: 0.00069444444 | F3969: =SUMPRODUCT((A$2:A3969=A3969)*(C$2:C3969=C3969)*(D$2:D3969=D3969)) -> 1
A3970: Mickael | B3970: HOTLINE4 | C3970: CM00071165 | D3970: 42795 | E3970: 0.0041666667 | F3970: =SUMPRODUCT((A$2:A3970=A3970)*(C$2:C3970=C3970)*(D$2:D3970=D3970)) -> 2
A3971: Mickael | B3971: HOTLINE4 | C3971: CM00075669 | D3971: 42795 | E3971: 0.0041666667 | F3971: =SUMPRODUCT((A$2:A3971=A3971)*(C$2:C3971=C3971)*(D$2:D3971=D3971)) -> 1
A3972: Mickael | B3972: HOTLINE4 | C3972: CM00417402 | D3972: 42795 | E3972: 0.0013888889 | F3972: =SUMPRODUCT((A$2:A3972=A3972)*(C$2:C3972=C3972)*(D$2:D3972=D3972)) -> 1
... A4852: Mickael | B4852: HOTLINE4 | C4852: CZZ0001221 | D4852: 42825 | E4852: 0 | F4852: =SUMPRODUCT((A$2:A4852=A4852)*(C$2:C4852=C4852)*(D$2:D4852=D4852)) -> 1
A4853: Mickael | B4853: HOTLINE4 | C4853: CZZ0001221 | D4853: 42825 | E4853: 0 | F4853: =SUMPRODUCT((A$2:A4853=A4853)*(C$2:C4853=C4853)*(D$2:D4853=D4853)) -> 2 | H4853: 4900
A4854: Maxime | B4854: HOTLINE4 | C4854: CE04774715 | D4854: 42795 | E4854: 0.016666667 | F4854: =SUMPRODUCT((A$2:A4854=A4854)*(C$2:C4854=C4854)*(D$2:D4854=D4854)) -> 1
...
