Workbook

Sheet Feuil2
B1: 42795 | C1: 42796 | D1: 42797 | E1: 42798 | F1: 42799 | G1: 42800 | H1: 42801 | I1: 42802 | J1: 42803 | K1: 42804 | L1: 42805 | M1: 42806 | N1: 42807 | O1: 42808 | P1: 42809 | Q1: 42810 | R1: 42811 | S1: 42812 | T1: 42813 | U1: 42814 | V1: 42815 | W1: 42816 | X1: 42817 | Y1: 42818 | Z1: 42819 | AA1: 42820 | AB1: 42821 | AC1: 42822 | AD1: 42823 | AE1: 42824 | AF1: 42825
A2: Benoit | B2: =SUMPRODUCT((Feuil1!$A$2:$A$500=Feuil2!$A2)*(Feuil1!$D$2:$D$500=Feuil2!B$1)*(Feuil1!$F$2:$F$500=1)) -> 11 | C2: =SUMPRODUCT((Feuil1!$A$2:$A$500=Feuil2!$A2)*(Feuil1!$D$2:$D$500=Feuil2!C$1)*(Feuil1!$F$2:$F$500=1)) -> 8 | D2: =SUMPRODUCT((Feuil1!$A$2:$A$500=Feuil2!$A2)*(Feuil1!$D$2:$D$500=Feuil2!D$1)*(Feuil1!$F$2:$F$500=1)) -> 13 | E2: =SUMPRODUCT((Feuil1!$A$2:$A$500=Feuil2!$A2)*(Feuil1!$D$2:$D$500=Feuil2!E$1)*(Feuil1!$F$2:$F$500=1)) -> 0 | F2: =SUMPRODUCT((Feuil1!$A$2:$A$500=Feuil2!$A2)*(Feuil1!$D$2:$D$500=Feuil2!F$1)*(Feuil1!$F$2:$F$500=1)) -> 0 | G2: =SUMPRODUCT((Feuil1!$A$2:$A$500=Feuil2!$A2)*(Feuil1!$D$2:$D$500=Feuil2!G$1)*(Feuil1!$F$2:$F$500=1)) -> 8 | H2: =SUMPRODUCT((Feuil1!$A$2:$A$500=Feuil2!$A2)*(Feuil1!$D$2:$D$500=Feuil2!H$1)*(Feuil1!$F$2:$F$500=1)) -> 11 | I2: =SUMPRODUCT((Feuil1!$A$2:$A$500=Feuil2!$A2)*(Feuil1!$D$2:$D$500=Feuil2!I$1)*(Feuil1!$F$2:$F$500=1)) -> 7 | ... AF2: =SUMPRODUCT((Feuil1!$A$2:$A$500=Feuil2!$A2)*(Feuil1!$D$2:$D$500=Feuil2!AF$1)*(Feuil1!$F$2:$F$500=1)) -> 0
A3: Cedric | B3: =SUMPRODUCT((Feuil1!$A$200:$A$800=Feuil2!$A3)*(Feuil1!$D$200:$D$800=Feuil2!B$1)*(Feuil1!$F$200:$F$800=1)) -> 46 | C3: =SUMPRODUCT((Feuil1!$A$200:$A$800=Feuil2!$A3)*(Feuil1!$D$200:$D$800=Feuil2!C$1)*(Feuil1!$F$200:$F$800=1)) -> 26 | D3: =SUMPRODUCT((Feuil1!$A$200:$A$800=Feuil2!$A3)*(Feuil1!$D$200:$D$800=Feuil2!D$1)*(Feuil1!$F$200:$F$800=1)) -> 0 | E3: =SUMPRODUCT((Feuil1!$A$200:$A$800=Feuil2!$A3)*(Feuil1!$D$200:$D$800=Feuil2!E$1)*(Feuil1!$F$200:$F$800=1)) -> 0 | F3: =SUMPRODUCT((Feuil1!$A$200:$A$800=Feuil2!$A3)*(Feuil1!$D$200:$D$800=Feuil2!F$1)*(Feuil1!$F$200:$F$800=1)) -> 0 | G3: =SUMPRODUCT((Feuil1!$A$200:$A$800=Feuil2!$A3)*(Feuil1!$D$200:$D$800=Feuil2!G$1)*(Feuil1!$F$200:$F$800=1)) -> 0 | H3: =SUMPRODUCT((Feuil1!$A$200:$A$800=Feuil2!$A3)*(Feuil1!$D$200:$D$800=Feuil2!H$1)*(Feuil1!$F$200:$F$800=1)) -> 34 | I3: =SUMPRODUCT((Feuil1!$A$200:$A$800=Feuil2!$A3)*(Feuil1!$D$200:$D$800=Feuil2!I$1)*(Feuil1!$F$200:$F$800=1)) -> 34 | ... AF3: =SUMPRODUCT((Feuil1!$A$200:$A$800=Feuil2!$A3)*(Feuil1!$D$200:$D$800=Feuil2!AF$1)*(Feuil1!$F$200:$F$800=1)) -> 0
A4: Dost | B4: =SUMPRODUCT((Feuil1!$A$600:$A$1800=Feuil2!$A4)*(Feuil1!$D$600:$D$1800=Feuil2!B$1)*(Feuil1!$F$600:$F$1800=1)) -> 35 | C4: =SUMPRODUCT((Feuil1!$A$600:$A$1800=Feuil2!$A4)*(Feuil1!$D$600:$D$1800=Feuil2!C$1)*(Feuil1!$F$600:$F$1800=1)) -> 25 | D4: =SUMPRODUCT((Feuil1!$A$600:$A$1800=Feuil2!$A4)*(Feuil1!$D$600:$D$1800=Feuil2!D$1)*(Feuil1!$F$600:$F$1800=1)) -> 35 | E4: =SUMPRODUCT((Feuil1!$A$600:$A$1800=Feuil2!$A4)*(Feuil1!$D$600:$D$1800=Feuil2!E$1)*(Feuil1!$F$600:$F$1800=1)) -> 0 | F4: =SUMPRODUCT((Feuil1!$A$600:$A$1800=Feuil2!$A4)*(Feuil1!$D$600:$D$1800=Feuil2!F$1)*(Feuil1!$F$600:$F$1800=1)) -> 0 | G4: =SUMPRODUCT((Feuil1!$A$600:$A$1800=Feuil2!$A4)*(Feuil1!$D$600:$D$1800=Feuil2!G$1)*(Feuil1!$F$600:$F$1800=1)) -> 36 | H4: =SUMPRODUCT((Feuil1!$A$600:$A$1800=Feuil2!$A4)*(Feuil1!$D$600:$D$1800=Feuil2!H$1)*(Feuil1!$F$600:$F$1800=1)) -> 33 | I4: =SUMPRODUCT((Feuil1!$A$600:$A$1800=Feuil2!$A4)*(Feuil1!$D$600:$D$1800=Feuil2!I$1)*(Feuil1!$F$600:$F$1800=1)) -> 29 | ... AF4: =SUMPRODUCT((Feuil1!$A$600:$A$1800=Feuil2!$A4)*(Feuil1!$D$600:$D$1800=Feuil2!AF$1)*(Feuil1!$F$600:$F$1800=1)) -> 0
A5: Emeline | B5: =SUMPRODUCT((Feuil1!$A$1500:$A$2300=Feuil2!$A5)*(Feuil1!$D$1500:$D$2300=Feuil2!B$1)*(Feuil1!$F$1500:$F$2300=1)) -> 0 | C5: =SUMPRODUCT((Feuil1!$A$1500:$A$2300=Feuil2!$A5)*(Feuil1!$D$1500:$D$2300=Feuil2!C$1)*(Feuil1!$F$1500:$F$2300=1)) -> 0 | D5: =SUMPRODUCT((Feuil1!$A$1500:$A$2300=Feuil2!$A5)*(Feuil1!$D$1500:$D$2300=Feuil2!D$1)*(Feuil1!$F$1500:$F$2300=1)) -> 27 | E5: =SUMPRODUCT((Feuil1!$A$1500:$A$2300=Feuil2!$A5)*(Feuil1!$D$1500:$D$2300=Feuil2!E$1)*(Feuil1!$F$1500:$F$2300=1)) -> 0 | F5: =SUMPRODUCT((Feuil1!$A$1500:$A$2300=Feuil2!$A5)*(Feuil1!$D$1500:$D$2300=Feuil2!F$1)*(Feuil1!$F$1500:$F$2300=1)) -> 0 | G5: =SUMPRODUCT((Feuil1!$A$1500:$A$2300=Feuil2!$A5)*(Feuil1!$D$1500:$D$2300=Feuil2!G$1)*(Feuil1!$F$1500:$F$2300=1)) -> 29 | H5: =SUMPRODUCT((Feuil1!$A$1500:$A$2300=Feuil2!$A5)*(Feuil1!$D$1500:$D$2300=Feuil2!H$1)*(Feuil1!$F$1500:$F$2300=1)) -> 33 | I5: =SUMPRODUCT((Feuil1!$A$1500:$A$2300=Feuil2!$A5)*(Feuil1!$D$1500:$D$2300=Feuil2!I$1)*(Feuil1!$F$1500:$F$2300=1)) -> 34 | ... AF5: =SUMPRODUCT((Feuil1!$A$1500:$A$2300=Feuil2!$A5)*(Feuil1!$D$1500:$D$2300=Feuil2!AF$1)*(Feuil1!$F$1500:$F$2300=1)) -> 29
A6: Hervé | B6: =SUMPRODUCT((Feuil1!$A$2200:$A$3200=Feuil2!$A6)*(Feuil1!$D$2200:$D$3200=Feuil2!B$1)*(Feuil1!$F$2200:$F$3200=1)) -> 42 | C6: =SUMPRODUCT((Feuil1!$A$2200:$A$3200=Feuil2!$A6)*(Feuil1!$D$2200:$D$3200=Feuil2!C$1)*(Feuil1!$F$2200:$F$3200=1)) -> 34 | D6: =SUMPRODUCT((Feuil1!$A$2200:$A$3200=Feuil2!$A6)*(Feuil1!$D$2200:$D$3200=Feuil2!D$1)*(Feuil1!$F$2200:$F$3200=1)) -> 33 | E6: =SUMPRODUCT((Feuil1!$A$2200:$A$3200=Feuil2!$A6)*(Feuil1!$D$2200:$D$3200=Feuil2!E$1)*(Feuil1!$F$2200:$F$3200=1)) -> 0 | F6: =SUMPRODUCT((Feuil1!$A$2200:$A$3200=Feuil2!$A6)*(Feuil1!$D$2200:$D$3200=Feuil2!F$1)*(Feuil1!$F$2200:$F$3200=1)) -> 0 | G6: =SUMPRODUCT((Feuil1!$A$2200:$A$3200=Feuil2!$A6)*(Feuil1!$D$2200:$D$3200=Feuil2!G$1)*(Feuil1!$F$2200:$F$3200=1)) -> 40 | H6: =SUMPRODUCT((Feuil1!$A$2200:$A$3200=Feuil2!$A6)*(Feuil1!$D$2200:$D$3200=Feuil2!H$1)*(Feuil1!$F$2200:$F$3200=1)) -> 41 | I6: =SUMPRODUCT((Feuil1!$A$2200:$A$3200=Feuil2!$A6)*(Feuil1!$D$2200:$D$3200=Feuil2!I$1)*(Feuil1!$F$2200:$F$3200=1)) -> 34 | ... AF6: =SUMPRODUCT((Feuil1!$A$2200:$A$3200=Feuil2!$A6)*(Feuil1!$D$2200:$D$3200=Feuil2!AF$1)*(Feuil1!$F$2200:$F$3200=1)) -> 42
A7: Julien | B7: =SUMPRODUCT((Feuil1!$A$3000:$A$4200=Feuil2!$A7)*(Feuil1!$D$3000:$D$4200=Feuil2!B$1)*(Feuil1!$F$3000:$F$4200=1)) -> 38 | C7: =SUMPRODUCT((Feuil1!$A$3000:$A$4200=Feuil2!$A7)*(Feuil1!$D$3000:$D$4200=Feuil2!C$1)*(Feuil1!$F$3000:$F$4200=1)) -> 29 | D7: =SUMPRODUCT((Feuil1!$A$3000:$A$4200=Feuil2!$A7)*(Feuil1!$D$3000:$D$4200=Feuil2!D$1)*(Feuil1!$F$3000:$F$4200=1)) -> 32 | E7: =SUMPRODUCT((Feuil1!$A$3000:$A$4200=Feuil2!$A7)*(Feuil1!$D$3000:$D$4200=Feuil2!E$1)*(Feuil1!$F$3000:$F$4200=1)) -> 0 | F7: =SUMPRODUCT((Feuil1!$A$3000:$A$4200=Feuil2!$A7)*(Feuil1!$D$3000:$D$4200=Feuil2!F$1)*(Feuil1!$F$3000:$F$4200=1)) -> 0 | G7: =SUMPRODUCT((Feuil1!$A$3000:$A$4200=Feuil2!$A7)*(Feuil1!$D$3000:$D$4200=Feuil2!G$1)*(Feuil1!$F$3000:$F$4200=1)) -> 47 | H7: =SUMPRODUCT((Feuil1!$A$3000:$A$4200=Feuil2!$A7)*(Feuil1!$D$3000:$D$4200=Feuil2!H$1)*(Feuil1!$F$3000:$F$4200=1)) -> 0 | I7: =SUMPRODUCT((Feuil1!$A$3000:$A$4200=Feuil2!$A7)*(Feuil1!$D$3000:$D$4200=Feuil2!I$1)*(Feuil1!$F$3000:$F$4200=1)) -> 39 | ... AF7: =SUMPRODUCT((Feuil1!$A$3000:$A$4200=Feuil2!$A7)*(Feuil1!$D$3000:$D$4200=Feuil2!AF$1)*(Feuil1!$F$3000:$F$4200=1)) -> 40
A8: Mickael | B8: =SUMPRODUCT((Feuil1!$A$3900:$A$4900=Feuil2!$A8)*(Feuil1!$D$3900:$D$4900=Feuil2!B$1)*(Feuil1!$F$3900:$F$4900=1)) -> 40 | C8: =SUMPRODUCT((Feuil1!$A$3900:$A$4900=Feuil2!$A8)*(Feuil1!$D$3900:$D$4900=Feuil2!C$1)*(Feuil1!$F$3900:$F$4900=1)) -> 34 | D8: =SUMPRODUCT((Feuil1!$A$3900:$A$4900=Feuil2!$A8)*(Feuil1!$D$3900:$D$4900=Feuil2!D$1)*(Feuil1!$F$3900:$F$4900=1)) -> 33 | E8: =SUMPRODUCT((Feuil1!$A$3900:$A$4900=Feuil2!$A8)*(Feuil1!$D$3900:$D$4900=Feuil2!E$1)*(Feuil1!$F$3900:$F$4900=1)) -> 0 | F8: =SUMPRODUCT((Feuil1!$A$3900:$A$4900=Feuil2!$A8)*(Feuil1!$D$3900:$D$4900=Feuil2!F$1)*(Feuil1!$F$3900:$F$4900=1)) -> 0 | G8: =SUMPRODUCT((Feuil1!$A$3900:$A$4900=Feuil2!$A8)*(Feuil1!$D$3900:$D$4900=Feuil2!G$1)*(Feuil1!$F$3900:$F$4900=1)) -> 33 | H8: =SUMPRODUCT((Feuil1!$A$3900:$A$4900=Feuil2!$A8)*(Feuil1!$D$3900:$D$4900=Feuil2!H$1)*(Feuil1!$F$3900:$F$4900=1)) -> 30 | I8: =SUMPRODUCT((Feuil1!$A$3900:$A$4900=Feuil2!$A8)*(Feuil1!$D$3900:$D$4900=Feuil2!I$1)*(Feuil1!$F$3900:$F$4900=1)) -> 27 | ... AF8: =SUMPRODUCT((Feuil1!$A$3900:$A$4900=Feuil2!$A8)*(Feuil1!$D$3900:$D$4900=Feuil2!AF$1)*(Feuil1!$F$3900:$F$4900=1)) -> 47
A9: Maxime | B9: =SUMPRODUCT((Feuil1!$A$4800:$A$5700=Feuil2!$A9)*(Feuil1!$D$4800:$D$5700=Feuil2!B$1)*(Feuil1!$F$4800:$F$5700=1)) -> 35 | C9: =SUMPRODUCT((Feuil1!$A$4800:$A$5700=Feuil2!$A9)*(Feuil1!$D$4800:$D$5700=Feuil2!C$1)*(Feuil1!$F$4800:$F$5700=1)) -> 31 | D9: =SUMPRODUCT((Feuil1!$A$4800:$A$5700=Feuil2!$A9)*(Feuil1!$D$4800:$D$5700=Feuil2!D$1)*(Feuil1!$F$4800:$F$5700=1)) -> 37 | E9: =SUMPRODUCT((Feuil1!$A$4800:$A$5700=Feuil2!$A9)*(Feuil1!$D$4800:$D$5700=Feuil2!E$1)*(Feuil1!$F$4800:$F$5700=1)) -> 0 | F9: =SUMPRODUCT((Feuil1!$A$4800:$A$5700=Feuil2!$A9)*(Feuil1!$D$4800:$D$5700=Feuil2!F$1)*(Feuil1!$F$4800:$F$5700=1)) -> 0 | G9: =SUMPRODUCT((Feuil1!$A$4800:$A$5700=Feuil2!$A9)*(Feuil1!$D$4800:$D$5700=Feuil2!G$1)*(Feuil1!$F$4800:$F$5700=1)) -> 29 | H9: =SUMPRODUCT((Feuil1!$A$4800:$A$5700=Feuil2!$A9)*(Feuil1!$D$4800:$D$5700=Feuil2!H$1)*(Feuil1!$F$4800:$F$5700=1)) -> 34 | I9: =SUMPRODUCT((Feuil1!$A$4800:$A$5700=Feuil2!$A9)*(Feuil1!$D$4800:$D$5700=Feuil2!I$1)*(Feuil1!$F$4800:$F$5700=1)) -> 31 | ... AF9: =SUMPRODUCT((Feuil1!$A$4800:$A$5700=Feuil2!$A9)*(Feuil1!$D$4800:$D$5700=Feuil2!AF$1)*(Feuil1!$F$4800:$F$5700=1)) -> 41
A10: Philippe | B10: =SUMPRODUCT((Feuil1!$A$5600:$A$6500=Feuil2!$A10)*(Feuil1!$D$5600:$D$6500=Feuil2!B$1)*(Feuil1!$F$5600:$F$6500=1)) -> 26 | C10: =SUMPRODUCT((Feuil1!$A$5600:$A$6500=Feuil2!$A10)*(Feuil1!$D$5600:$D$6500=Feuil2!C$1)*(Feuil1!$F$5600:$F$6500=1)) -> 34 | D10: =SUMPRODUCT((Feuil1!$A$5600:$A$6500=Feuil2!$A10)*(Feuil1!$D$5600:$D$6500=Feuil2!D$1)*(Feuil1!$F$5600:$F$6500=1)) -> 26 | E10: =SUMPRODUCT((Feuil1!$A$5600:$A$6500=Feuil2!$A10)*(Feuil1!$D$5600:$D$6500=Feuil2!E$1)*(Feuil1!$F$5600:$F$6500=1)) -> 0 | F10: =SUMPRODUCT((Feuil1!$A$5600:$A$6500=Feuil2!$A10)*(Feuil1!$D$5600:$D$6500=Feuil2!F$1)*(Feuil1!$F$5600:$F$6500=1)) -> 0 | G10: =SUMPRODUCT((Feuil1!$A$5600:$A$6500=Feuil2!$A10)*(Feuil1!$D$5600:$D$6500=Feuil2!G$1)*(Feuil1!$F$5600:$F$6500=1)) -> 28 | H10: =SUMPRODUCT((Feuil1!$A$5600:$A$6500=Feuil2!$A10)*(Feuil1!$D$5600:$D$6500=Feuil2!H$1)*(Feuil1!$F$5600:$F$6500=1)) -> 34 | I10: =SUMPRODUCT((Feuil1!$A$5600:$A$6500=Feuil2!$A10)*(Feuil1!$D$5600:$D$6500=Feuil2!I$1)*(Feuil1!$F$5600:$F$6500=1)) -> 26 | ... AF10: =SUMPRODUCT((Feuil1!$A$5600:$A$6500=Feuil2!$A10)*(Feuil1!$D$5600:$D$6500=Feuil2!AF$1)*(Feuil1!$F$5600:$F$6500=1)) -> 26
A11: Remi | B11: =SUMPRODUCT((Feuil1!$A$6400:$A$7100=Feuil2!$A11)*(Feuil1!$D$6400:$D$7100=Feuil2!B$1)*(Feuil1!$F$6400:$F$7100=1)) -> 23 | C11: =SUMPRODUCT((Feuil1!$A$6400:$A$7100=Feuil2!$A11)*(Feuil1!$D$6400:$D$7100=Feuil2!C$1)*(Feuil1!$F$6400:$F$7100=1)) -> 31 | D11: =SUMPRODUCT((Feuil1!$A$6400:$A$7100=Feuil2!$A11)*(Feuil1!$D$6400:$D$7100=Feuil2!D$1)*(Feuil1!$F$6400:$F$7100=1)) -> 25 | E11: =SUMPRODUCT((Feuil1!$A$6400:$A$7100=Feuil2!$A11)*(Feuil1!$D$6400:$D$7100=Feuil2!E$1)*(Feuil1!$F$6400:$F$7100=1)) -> 0 | F11: =SUMPRODUCT((Feuil1!$A$6400:$A$7100=Feuil2!$A11)*(Feuil1!$D$6400:$D$7100=Feuil2!F$1)*(Feuil1!$F$6400:$F$7100=1)) -> 0 | G11: =SUMPRODUCT((Feuil1!$A$6400:$A$7100=Feuil2!$A11)*(Feuil1!$D$6400:$D$7100=Feuil2!G$1)*(Feuil1!$F$6400:$F$7100=1)) -> 28 | H11: =SUMPRODUCT((Feuil1!$A$6400:$A$7100=Feuil2!$A11)*(Feuil1!$D$6400:$D$7100=Feuil2!H$1)*(Feuil1!$F$6400:$F$7100=1)) -> 32 | I11: =SUMPRODUCT((Feuil1!$A$6400:$A$7100=Feuil2!$A11)*(Feuil1!$D$6400:$D$7100=Feuil2!I$1)*(Feuil1!$F$6400:$F$7100=1)) -> 31 | ... AF11: =SUMPRODUCT((Feuil1!$A$6400:$A$7100=Feuil2!$A11)*(Feuil1!$D$6400:$D$7100=Feuil2!AF$1)*(Feuil1!$F$6400:$F$7100=1)) -> 28
A12: RomainR | B12: =SUMPRODUCT((Feuil1!$A$6000:$A$7300=Feuil2!$A12)*(Feuil1!$D$6000:$D$7300=Feuil2!B$1)*(Feuil1!$F$6000:$F$7300=1)) -> 8 | C12: =SUMPRODUCT((Feuil1!$A$6000:$A$7300=Feuil2!$A12)*(Feuil1!$D$6000:$D$7300=Feuil2!C$1)*(Feuil1!$F$6000:$F$7300=1)) -> 2 | D12: =SUMPRODUCT((Feuil1!$A$6000:$A$7300=Feuil2!$A12)*(Feuil1!$D$6000:$D$7300=Feuil2!D$1)*(Feuil1!$F$6000:$F$7300=1)) -> 5 | E12: =SUMPRODUCT((Feuil1!$A$6000:$A$7300=Feuil2!$A12)*(Feuil1!$D$6000:$D$7300=Feuil2!E$1)*(Feuil1!$F$6000:$F$7300=1)) -> 0 | F12: =SUMPRODUCT((Feuil1!$A$6000:$A$7300=Feuil2!$A12)*(Feuil1!$D$6000:$D$7300=Feuil2!F$1)*(Feuil1!$F$6000:$F$7300=1)) -> 0 | G12: =SUMPRODUCT((Feuil1!$A$6000:$A$7300=Feuil2!$A12)*(Feuil1!$D$6000:$D$7300=Feuil2!G$1)*(Feuil1!$F$6000:$F$7300=1)) -> 0 | H12: =SUMPRODUCT((Feuil1!$A$6000:$A$7300=Feuil2!$A12)*(Feuil1!$D$6000:$D$7300=Feuil2!H$1)*(Feuil1!$F$6000:$F$7300=1)) -> 8 | I12: =SUMPRODUCT((Feuil1!$A$6000:$A$7300=Feuil2!$A12)*(Feuil1!$D$6000:$D$7300=Feuil2!I$1)*(Feuil1!$F$6000:$F$7300=1)) -> 5 | ... AF12: =SUMPRODUCT((Feuil1!$A$6000:$A$7300=Feuil2!$A12)*(Feuil1!$D$6000:$D$7300=Feuil2!AF$1)*(Feuil1!$F$6000:$F$7300=1)) -> 6
A13: RomainT | B13: =SUMPRODUCT((Feuil1!$A$7000:$A$8200=Feuil2!$A13)*(Feuil1!$D$7000:$D$8200=Feuil2!B$1)*(Feuil1!$F$7000:$F$8200=1)) -> 36 | C13: =SUMPRODUCT((Feuil1!$A$7000:$A$8200=Feuil2!$A13)*(Feuil1!$D$7000:$D$8200=Feuil2!C$1)*(Feuil1!$F$7000:$F$8200=1)) -> 38 | D13: =SUMPRODUCT((Feuil1!$A$7000:$A$8200=Feuil2!$A13)*(Feuil1!$D$7000:$D$8200=Feuil2!D$1)*(Feuil1!$F$7000:$F$8200=1)) -> 35 | E13: =SUMPRODUCT((Feuil1!$A$7000:$A$8200=Feuil2!$A13)*(Feuil1!$D$7000:$D$8200=Feuil2!E$1)*(Feuil1!$F$7000:$F$8200=1)) -> 0 | F13: =SUMPRODUCT((Feuil1!$A$7000:$A$8200=Feuil2!$A13)*(Feuil1!$D$7000:$D$8200=Feuil2!F$1)*(Feuil1!$F$7000:$F$8200=1)) -> 0 | G13: =SUMPRODUCT((Feuil1!$A$7000:$A$8200=Feuil2!$A13)*(Feuil1!$D$7000:$D$8200=Feuil2!G$1)*(Feuil1!$F$7000:$F$8200=1)) -> 40 | H13: =SUMPRODUCT((Feuil1!$A$7000:$A$8200=Feuil2!$A13)*(Feuil1!$D$7000:$D$8200=Feuil2!H$1)*(Feuil1!$F$7000:$F$8200=1)) -> 30 | I13: =SUMPRODUCT((Feuil1!$A$7000:$A$8200=Feuil2!$A13)*(Feuil1!$D$7000:$D$8200=Feuil2!I$1)*(Feuil1!$F$7000:$F$8200=1)) -> 31 | ... AF13: =SUMPRODUCT((Feuil1!$A$7000:$A$8200=Feuil2!$A13)*(Feuil1!$D$7000:$D$8200=Feuil2!AF$1)*(Feuil1!$F$7000:$F$8200=1)) -> 45
A14: Stephane | B14: =SUMPRODUCT((Feuil1!$A$8000:$A$9200=Feuil2!$A14)*(Feuil1!$D$8000:$D$9200=Feuil2!B$1)*(Feuil1!$F$8000:$F$9200=1)) -> 23 | C14: =SUMPRODUCT((Feuil1!$A$8000:$A$9200=Feuil2!$A14)*(Feuil1!$D$8000:$D$9200=Feuil2!C$1)*(Feuil1!$F$8000:$F$9200=1)) -> 29 | D14: =SUMPRODUCT((Feuil1!$A$8000:$A$9200=Feuil2!$A14)*(Feuil1!$D$8000:$D$9200=Feuil2!D$1)*(Feuil1!$F$8000:$F$9200=1)) -> 0 | E14: =SUMPRODUCT((Feuil1!$A$8000:$A$9200=Feuil2!$A14)*(Feuil1!$D$8000:$D$9200=Feuil2!E$1)*(Feuil1!$F$8000:$F$9200=1)) -> 0 | F14: =SUMPRODUCT((Feuil1!$A$8000:$A$9200=Feuil2!$A14)*(Feuil1!$D$8000:$D$9200=Feuil2!F$1)*(Feuil1!$F$8000:$F$9200=1)) -> 0 | G14: =SUMPRODUCT((Feuil1!$A$8000:$A$9200=Feuil2!$A14)*(Feuil1!$D$8000:$D$9200=Feuil2!G$1)*(Feuil1!$F$8000:$F$9200=1)) -> 0 | H14: =SUMPRODUCT((Feuil1!$A$8000:$A$9200=Feuil2!$A14)*(Feuil1!$D$8000:$D$9200=Feuil2!H$1)*(Feuil1!$F$8000:$F$9200=1)) -> 0 | I14: =SUMPRODUCT((Feuil1!$A$8000:$A$9200=Feuil2!$A14)*(Feuil1!$D$8000:$D$9200=Feuil2!I$1)*(Feuil1!$F$8000:$F$9200=1)) -> 0 | ... AF14: =SUMPRODUCT((Feuil1!$A$8000:$A$9200=Feuil2!$A14)*(Feuil1!$D$8000:$D$9200=Feuil2!AF$1)*(Feuil1!$F$8000:$F$9200=1)) -> 0
A15: Sandrine | B15: =SUMPRODUCT((Feuil1!$A$8100:$A$9200=Feuil2!$A15)*(Feuil1!$D$8100:$D$9200=Feuil2!B$1)*(Feuil1!$F$8100:$F$9200=1)) -> 0 | C15: =SUMPRODUCT((Feuil1!$A$8100:$A$9200=Feuil2!$A15)*(Feuil1!$D$8100:$D$9200=Feuil2!C$1)*(Feuil1!$F$8100:$F$9200=1)) -> 0 | D15: =SUMPRODUCT((Feuil1!$A$8100:$A$9200=Feuil2!$A15)*(Feuil1!$D$8100:$D$9200=Feuil2!D$1)*(Feuil1!$F$8100:$F$9200=1)) -> 0 | E15: =SUMPRODUCT((Feuil1!$A$8100:$A$9200=Feuil2!$A15)*(Feuil1!$D$8100:$D$9200=Feuil2!E$1)*(Feuil1!$F$8100:$F$9200=1)) -> 0 | F15: =SUMPRODUCT((Feuil1!$A$8100:$A$9200=Feuil2!$A15)*(Feuil1!$D$8100:$D$9200=Feuil2!F$1)*(Feuil1!$F$8100:$F$9200=1)) -> 0 | G15: =SUMPRODUCT((Feuil1!$A$8100:$A$9200=Feuil2!$A15)*(Feuil1!$D$8100:$D$9200=Feuil2!G$1)*(Feuil1!$F$8100:$F$9200=1)) -> 14 | H15: =SUMPRODUCT((Feuil1!$A$8100:$A$9200=Feuil2!$A15)*(Feuil1!$D$8100:$D$9200=Feuil2!H$1)*(Feuil1!$F$8100:$F$9200=1)) -> 0 | I15: =SUMPRODUCT((Feuil1!$A$8100:$A$9200=Feuil2!$A15)*(Feuil1!$D$8100:$D$9200=Feuil2!I$1)*(Feuil1!$F$8100:$F$9200=1)) -> 0 | ... AF15: =SUMPRODUCT((Feuil1!$A$8100:$A$9200=Feuil2!$A15)*(Feuil1!$D$8100:$D$9200=Feuil2!AF$1)*(Feuil1!$F$8100:$F$9200=1)) -> 5
A16: Thomas | B16: =SUMPRODUCT((Feuil1!$A$8100:$A$9200=Feuil2!$A16)*(Feuil1!$D$8100:$D$9200=Feuil2!B$1)*(Feuil1!$F$8100:$F$9200=1)) -> 28 | C16: =SUMPRODUCT((Feuil1!$A$8100:$A$9200=Feuil2!$A16)*(Feuil1!$D$8100:$D$9200=Feuil2!C$1)*(Feuil1!$F$8100:$F$9200=1)) -> 31 | D16: =SUMPRODUCT((Feuil1!$A$8100:$A$9200=Feuil2!$A16)*(Feuil1!$D$8100:$D$9200=Feuil2!D$1)*(Feuil1!$F$8100:$F$9200=1)) -> 30 | E16: =SUMPRODUCT((Feuil1!$A$8100:$A$9200=Feuil2!$A16)*(Feuil1!$D$8100:$D$9200=Feuil2!E$1)*(Feuil1!$F$8100:$F$9200=1)) -> 0 | F16: =SUMPRODUCT((Feuil1!$A$8100:$A$9200=Feuil2!$A16)*(Feuil1!$D$8100:$D$9200=Feuil2!F$1)*(Feuil1!$F$8100:$F$9200=1)) -> 0 | G16: =SUMPRODUCT((Feuil1!$A$8100:$A$9200=Feuil2!$A16)*(Feuil1!$D$8100:$D$9200=Feuil2!G$1)*(Feuil1!$F$8100:$F$9200=1)) -> 43 | H16: =SUMPRODUCT((Feuil1!$A$8100:$A$9200=Feuil2!$A16)*(Feuil1!$D$8100:$D$9200=Feuil2!H$1)*(Feuil1!$F$8100:$F$9200=1)) -> 30 | I16: =SUMPRODUCT((Feuil1!$A$8100:$A$9200=Feuil2!$A16)*(Feuil1!$D$8100:$D$9200=Feuil2!I$1)*(Feuil1!$F$8100:$F$9200=1)) -> 25 | ... AF16: =SUMPRODUCT((Feuil1!$A$8100:$A$9200=Feuil2!$A16)*(Feuil1!$D$8100:$D$9200=Feuil2!AF$1)*(Feuil1!$F$8100:$F$9200=1)) -> 17
F19: j'ai allégé avec une colonne intermediaire en feuil 2 et en tronçonnant a la louche les 9200 lignes
B20: 12????? | C20: 8
B21: 46 | C21: 26
B22: 35 | C22: 25

Sheet Feuil1
A1: Collaborateur | B1: Profil | C1: Cpte Client | D1: Date | E1: Durée
A2: Benoit | B2: HOTLINE4 | C2: CE03063194 | D2: 42795 | E2: 0.035416667 | F2: =SUMPRODUCT((A$2:A2=A2)*(C$2:C2=C2)*(D$2:D2=D2)) -> 1
A3: Benoit | B3: HOTLINE4 | C3: CE03063194 | D3: 42795 | E3: 0.015277778 | F3: =SUMPRODUCT((A$2:A3=A3)*(C$2:C3=C3)*(D$2:D3=D3)) -> 2
A4: Benoit | B4: HOTLINE4 | C4: CM00338573 | D4: 42795 | E4: 0.0013888889 | F4: =SUMPRODUCT((A$2:A4=A4)*(C$2:C4=C4)*(D$2:D4=D4)) -> 1
A5: Benoit | B5: HOTLINE4 | C5: CM00338573 | D5: 42795 | E5: 0.0027777778 | F5: =SUMPRODUCT((A$2:A5=A5)*(C$2:C5=C5)*(D$2:D5=D5)) -> 2
A6: Benoit | B6: HOTLINE4 | C6: CM02171890 | D6: 42795 | E6: 0.0048611111 | F6: =SUMPRODUCT((A$2:A6=A6)*(C$2:C6=C6)*(D$2:D6=D6)) -> 1
A7: Benoit | B7: HOTLINE4 | C7: CM02879535 | D7: 42795 | E7: 0.0125 | F7: =SUMPRODUCT((A$2:A7=A7)*(C$2:C7=C7)*(D$2:D7=D7)) -> 1
A8: Benoit | B8: HOTLINE4 | C8: CM03566036 | D8: 42795 | E8: 0.0090277778 | F8: =SUMPRODUCT((A$2:A8=A8)*(C$2:C8=C8)*(D$2:D8=D8)) -> 1
A9: Benoit | B9: HOTLINE4 | C9: CM07944572 | D9: 42795 | E9: 0.0097222222 | F9: =SUMPRODUCT((A$2:A9=A9)*(C$2:C9=C9)*(D$2:D9=D9)) -> 1
A10: Benoit | B10: HOTLINE4 | C10: CM08181131 | D10: 42795 | E10: 0.0020833333 | F10: =SUMPRODUCT((A$2:A10=A10)*(C$2:C10=C10)*(D$2:D10=D10)) -> 1
A11: Benoit | B11: HOTLINE4 | C11: CM08227834 | D11: 42795 | E11: 0.0083333333 | F11: =SUMPRODUCT((A$2:A11=A11)*(C$2:C11=C11)*(D$2:D11=D11)) -> 1
A12: Benoit | B12: HOTLINE4 | C12: CM08235302 | D12: 42795 | E12: 0.0069444444 | F12: =SUMPRODUCT((A$2:A12=A12)*(C$2:C12=C12)*(D$2:D12=D12)) -> 1
A13: Benoit | B13: HOTLINE4 | C13: CM08811845 | D13: 42795 | E13: 0.015277778 | F13: =SUMPRODUCT((A$2:A13=A13)*(C$2:C13=C13)*(D$2:D13=D13)) -> 1
... A219: Benoit | B219: HOTLINE4 | C219: CM09195150 | D219: 42822 | E219: 0.00625 | F219: =SUMPRODUCT((A$2:A219=A219)*(C$2:C219=C219)*(D$2:D219=D219)) -> 1
A220: Benoit | B220: HOTLINE4 | C220: CM09210974 | D220: 42822 | E220: 0.0027777778 | F220: =SUMPRODUCT((A$2:A220=A220)*(C$2:C220=C220)*(D$2:D220=D220)) -> 1 | H220: 220
A221: Cedric | B221: HOTLINE4 | C221: CE00018559 | D221: 42795 | E221: 0.011111111 | F221: =SUMPRODUCT((A$2:A221=A221)*(C$2:C221=C221)*(D$2:D221=D221)) -> 1
A222: Cedric | B222: HOTLINE4 | C222: CE08557115 | D222: 42795 | E222: 0.0076388889 | F222: =SUMPRODUCT((A$2:A222=A222)*(C$2:C222=C222)*(D$2:D222=D222)) -> 1
A223: Cedric | B223: HOTLINE4 | C223: CE09173207 | D223: 42795 | E223: 0.0013888889 | F223: =SUMPRODUCT((A$2:A223=A223)*(C$2:C223=C223)*(D$2:D223=D223)) -> 1
A224: Cedric | B224: HOTLINE4 | C224: CG00000719 | D224: 42795 | E224: 0.0069444444 | F224: =SUMPRODUCT((A$2:A224=A224)*(C$2:C224=C224)*(D$2:D224=D224)) -> 1
A225: Cedric | B225: HOTLINE4 | C225: CG00000740 | D225: 42795 | E225: 0.0027777778 | F225: =SUMPRODUCT((A$2:A225=A225)*(C$2:C225=C225)*(D$2:D225=D225)) -> 1
A226: Cedric | B226: HOTLINE4 | C226: CG00000791 | D226: 42795 | E226: 0.0027777778 | F226: =SUMPRODUCT((A$2:A226=A226)*(C$2:C226=C226)*(D$2:D226=D226)) -> 1
A227: Cedric | B227: HOTLINE4 | C227: CG00000791 | D227: 42795 | E227: 0.0027777778 | F227: =SUMPRODUCT((A$2:A227=A227)*(C$2:C227=C227)*(D$2:D227=D227)) -> 2
A228: Cedric | B228: HOTLINE4 | C228: CG00000827 | D228: 42795 | E228: 0.0013888889 | F228: =SUMPRODUCT((A$2:A228=A228)*(C$2:C228=C228)*(D$2:D228=D228)) -> 1
A229: Cedric | B229: HOTLINE4 | C229: CM00000987 | D229: 42795 | E229: 0.00625 | F229: =SUMPRODUCT((A$2:A229=A229)*(C$2:C229=C229)*(D$2:D229=D229)) -> 1
A230: Cedric | B230: HOTLINE4 | C230: CM00227627 | D230: 42795 | E230: 0.0027777778 | F230: =SUMPRODUCT((A$2:A230=A230)*(C$2:C230=C230)*(D$2:D230=D230)) -> 1
A231: Cedric | B231: HOTLINE4 | C231: CM00581632 | D231: 42795 | E231: 0.0090277778 | F231: =SUMPRODUCT((A$2:A231=A231)*(C$2:C231=C231)*(D$2:D231=D231)) -> 1
A232: Cedric | B232: HOTLINE4 | C232: CM00971495 | D232: 42795 | E232: 0 | F232: =SUMPRODUCT((A$2:A232=A232)*(C$2:C232=C232)*(D$2:D232=D232)) -> 1
... A782: Cedric | B782: HOTLINE4 | C782: CS00016296 | D782: 42824 | E782: 0.0020833333 | F782: =SUMPRODUCT((A$2:A782=A782)*(C$2:C782=C782)*(D$2:D782=D782)) -> 1
A783: Cedric | B783: HOTLINE4 | C783: CZZ0001221 | D783: 42824 | E783: 0.00069444444 | F783: =SUMPRODUCT((A$2:A783=A783)*(C$2:C783=C783)*(D$2:D783=D783)) -> 1 | G783: 782
A784: Dost | B784: HOTLINE4 | C784: CE02784187 | D784: 42795 | E784: 0.0020833333 | F784: =SUMPRODUCT((A$2:A784=A784)*(C$2:C784=C784)*(D$2:D784=D784)) -> 1
A785: Dost | B785: HOTLINE4 | C785: CE04959981 | D785: 42795 | E785: 0.00069444444 | F785: =SUMPRODUCT((A$2:A785=A785)*(C$2:C785=C785)*(D$2:D785=D785)) -> 1
A786: Dost | B786: HOTLINE4 | C786: CG00000750 | D786: 42795 | E786: 0.00625 | F786: =SUMPRODUCT((A$2:A786=A786)*(C$2:C786=C786)*(D$2:D786=D786)) -> 1
A787: Dost | B787: HOTLINE4 | C787: CH01183500B | D787: 42795 | E787: 0.0041666667 | F787: =SUMPRODUCT((A$2:A787=A787)*(C$2:C787=C787)*(D$2:D787=D787)) -> 1
A788: Dost | B788: HOTLINE4 | C788: CM00007828 | D788: 42795 | E788: 0.00069444444 | F788: =SUMPRODUCT((A$2:A788=A788)*(C$2:C788=C788)*(D$2:D788=D788)) -> 1
A789: Dost | B789: HOTLINE4 | C789: CM00007828 | D789: 42795 | E789: 0.010416667 | F789: =SUMPRODUCT((A$2:A789=A789)*(C$2:C789=C789)*(D$2:D789=D789)) -> 2
A790: Dost | B790: HOTLINE4 | C790: CM00063147B | D790: 42795 | E790: 0.0097222222 | F790: =SUMPRODUCT((A$2:A790=A790)*(C$2:C790=C790)*(D$2:D790=D790)) -> 1
A791: Dost | B791: HOTLINE4 | C791: CM00112491 | D791: 42795 | E791: 0.0055555556 | F791: =SUMPRODUCT((A$2:A791=A791)*(C$2:C791=C791)*(D$2:D791=D791)) -> 1
A792: Dost | B792: HOTLINE4 | C792: CM01160466 | D792: 42795 | E792: 0.0034722222 | F792: =SUMPRODUCT((A$2:A792=A792)*(C$2:C792=C792)*(D$2:D792=D792)) -> 1
A793: Dost | B793: HOTLINE4 | C793: CM01297142 | D793: 42795 | E793: 0.0041666667 | F793: =SUMPRODUCT((A$2:A793=A793)*(C$2:C793=C793)*(D$2:D793=D793)) -> 1
A794: Dost | B794: HOTLINE4 | C794: CM01408492 | D794: 42795 | E794: 0.0020833333 | F794: =SUMPRODUCT((A$2:A794=A794)*(C$2:C794=C794)*(D$2:D794=D794)) -> 1
...
