Workbook
Name bdd: Feuil1!$A$2:$H$11
Name marque: Feuil1!$A$1:$H$1

Sheet sommaire
A1: SOMMAIRE
A10: FO-PRE-1 | B10: Préparation de chantier Ind 0
A11: FO-PRE-2 | B11: PPSPS MTHA Ind 1
A12: FO-PRE-3 | B12: PPSPS Simplifié MTHA Ind 1
A13: FO-PRE-4 | B13: Examen d'adéquation d'une pelle
A14: FO-PRE-5 | B14: PAQ MTHA Ind 0
A15: FO-PRE-6 | B15: Plan de contrôle MTHA Ind 0
A16: FO-PRE-7 | B16: PRE MTHA
A17: FO-PRE-8 | B17: PLAN DE RETRAIT D'AMIANTE
A18: FO-PRE-9 | B18: CR Point 0 Ind 0
A19: FO-PRE-10 | B19: Conduite à tenir en cas d'accident
A20: FO-PRE-11 | B20: Analyse des risques particuliers
A21: FO-PRE-12 | B21: Avenant au PPSPS Ind 0
... A32: R2-PR Ind 1 | B32: Processus PREPARATION

Sheet Feuil1
A1: u50-3 | B1: 325D | C1: 944 Jehl | D1: 926 Jehl | E1: 934 Jehl 2,5 | F1: 934 Jehl 3,1 | G1: 924 compact Jehl 2,95 | H1: 924 compact Jehl 2,65
A2: =INDIRECT("'"&A$1&"'!y"&ROW($A10)) -> 0 | B2: =INDIRECT("'"&B$1&"'!y"&ROW($A10)) -> 11100 | C2: =INDIRECT("'"&C$1&"'!y"&ROW($A10)) -> 13100 | D2: =INDIRECT("'"&D$1&"'!af"&ROW($A10)) -> 6700 | E2: =INDIRECT("'"&E$1&"'!y"&ROW($A10)) -> 11100 | F2: =INDIRECT("'"&F$1&"'!y"&ROW($A10)) -> 10700 | G2: =INDIRECT("'"&G$1&"'!y"&ROW($A10)) -> 7300 | H2: =INDIRECT("'"&H$1&"'!y"&ROW($A10)) -> 7400
A4: ='u50-3'!Y12 -> 960 | B4: =INDIRECT("'"&B$1&"'!y"&ROW($A12)) -> 13400 | C4: =INDIRECT("'"&C$1&"'!y"&ROW($A12)) -> 0 | D4: =INDIRECT("'"&D$1&"'!af"&ROW($A12)) -> 3400 | E4: =INDIRECT("'"&E$1&"'!y"&ROW($A12)) -> 0 | F4: =INDIRECT("'"&F$1&"'!y"&ROW($A12)) -> 0 | G4: =INDIRECT("'"&G$1&"'!y"&ROW($A12)) -> 9200 | H4: =INDIRECT("'"&H$1&"'!y"&ROW($A12)) -> 9500
A6: ='u50-3'!Y14 -> 0 | B6: =INDIRECT("'"&B$1&"'!y"&ROW($A14)) -> 11100 | C6: =INDIRECT("'"&C$1&"'!y"&ROW($A14)) -> 13100 | D6: =INDIRECT("'"&D$1&"'!af"&ROW($A14)) -> 6700 | E6: =INDIRECT("'"&E$1&"'!y"&ROW($A14)) -> 11100 | F6: =INDIRECT("'"&F$1&"'!y"&ROW($A14)) -> 10700 | G6: =INDIRECT("'"&G$1&"'!y"&ROW($A14)) -> 7300 | H6: =INDIRECT("'"&H$1&"'!y"&ROW($A14)) -> 7400
A8: ='u50-3'!Y16 -> 0 | B8: =INDIRECT("'"&B$1&"'!y"&ROW($A16)) -> 11100 | C8: =INDIRECT("'"&C$1&"'!y"&ROW($A16)) -> 13100 | D8: =INDIRECT("'"&D$1&"'!af"&ROW($A16)) -> 6700 | E8: =INDIRECT("'"&E$1&"'!y"&ROW($A16)) -> 11100 | F8: =INDIRECT("'"&F$1&"'!y"&ROW($A16)) -> 10700 | G8: =INDIRECT("'"&G$1&"'!y"&ROW($A16)) -> 7300 | H8: =INDIRECT("'"&H$1&"'!y"&ROW($A16)) -> 7400
A10: ='u50-3'!Y18 -> 0 | B10: =INDIRECT("'"&B$1&"'!y"&ROW($A18)) -> 11100 | C10: =INDIRECT("'"&C$1&"'!y"&ROW($A18)) -> 13100 | D10: =INDIRECT("'"&D$1&"'!af"&ROW($A18)) -> 6700 | E10: =INDIRECT("'"&E$1&"'!y"&ROW($A18)) -> 11100 | F10: =INDIRECT("'"&F$1&"'!y"&ROW($A18)) -> 10700 | G10: =INDIRECT("'"&G$1&"'!y"&ROW($A18)) -> 7300 | H10: =INDIRECT("'"&H$1&"'!y"&ROW($A18)) -> 7400
B11: =INDIRECT("'"&B$1&"'!y"&ROW($A19)) -> 0 | C11: =INDIRECT("'"&C$1&"'!y"&ROW($A19)) -> 0 | D11: =INDIRECT("'"&D$1&"'!af"&ROW($A19)) -> 0 | E11: =INDIRECT("'"&E$1&"'!y"&ROW($A19)) -> 0

Sheet A REMPLIRE

Sheet FO-PRE-04
C1: EXAMEN D'ADEQUATION D'UNE PELLE UTILISEE EN LEVAGE
C2: 2 | D2: 1
B6: Nom et N° de chantier | D6: =#REF! -> #REF!
D11: {=MIN(IF(bdd>=D27,bdd,""))} -> 9200
A21: 1 | B21: Objet à lever | D21: Masse (kg) | E21: masse maxi | F21: D maxi | G21: H maxi | H21: Type d'accessoire de levage | K21: R924 2 22822 longueur balancier 2.40m flèche monobloc 5.90m
A22: 13 | D22: =VLOOKUP($A$22,donnée!$A$2:$H$20,A21+2) -> 8400 | F22: 6 | G22: 1 | K22: R924 3 33383 longueur balancier 2.70m flèche monobloc 5.70m
A23: 8 | D23: =VLOOKUP($A$23,donnée!$A$21:$H$36,A21+2) -> 361 | F23: 4 | G23: 2 | K23: R924 compact 1 15213 longueur balancier 2.95m flèche monobloc 5.70m
A24: 11 | D24: =VLOOKUP($A$24,donnée!$A$37:$H$48,A21+2) -> 0 | F24: 6 | G24: 2 | K24: R924 compact 2 23268 longueur balancier 2.65m balancier volet variable bras 3.60m
A25: 19 | D25: =VLOOKUP($A$25,donnée!$A$48:$H$66,A21+2) -> 0 | F25: 4 | G25: 2 | K25: R924 compact 3 34121 longueur 2.95m balancier volet variable bras 3.60m
D26: 0 | F26: 6 | G26: 8 | K26: R934 1 18261 longueur balancier 2.50m flèche monobloc 6.05m
B27: Plus lourd : | D27: =MAX(D22:D26) -> 8400 | K27: R934 2 15256 longueur balancier 3.10m flèche monobloc 6.05m
B28: PELLE CHOISIE | K28: R944 9147 longueur balancier 3.30m flèche monobloc 6.80m
A29: 16 | B29: Marque : | C29: {=IF(D11=0,"rien de dispo",INDEX(marque,,SUMPRODUCT(MAX(--(ISNUMBER(SEARCH(D11,bdd))*COLUMN(marque))))))} -> 924 compact Jehl 2,95 | E29: Type : | K29: R926 29543 longueur balancier 6.08m flèche monobloc 9.00m
B30: Capacité de levage maxi : | E30: distance D : | G30: A la hauteur H :
A31: 3 | B31: La pelle choisie est en adéquation avec les travaux à réaliser : | G31: =IF(D27<=G27,TRUE,FALSE) -> FALSE
B33: Joindre obligatoirement les courbes de charge de la pelle concernée.
B34: Prendre en compte la tenue du sol et la présence de tranchées à proximité de la mise en situation de la pelle. Une copie de cet examen d'adéquation doit être remise au responsable d'équipe.
B37: La pelle doit être équipée en levage et avoir fait l'objet d'une verification périodique depuis moins de 6 mois (rapports disponibles dans la machine ). Le conducteur d'engins doit avoir un CACES et une autorisation de conduite en cours de validité. Son acceuil doit être formalisé sur le chantier. Un carnet de maintenance et d'entretien doit être établi et tenu à jour par le propriétaire de la machine . Les accessoires de levages doivent pouvoir reprendre les charges à lever
B44: NOTA : Les valeurs définies sont prises lame es patins baissés

Sheet donnée
A1: N° | B1: REFERENCE | G1: pelles
A2: 1 | B2: tuyau béton diam. 500 | C2: 1080 | F2: 924 compact | G2: 924 compact | H2: 12
A3: 2 | B3: tuyau béton diam. 600 | C3: 1350 | F3: 924 chenilles D30119 | G3: pelle924chenillesD30119 | H3: Liebherr
A4: 3 | B4: tuyau béton diam. 700 | C4: 1800 | F4: 904 à pneu D20209 | G4: pelle 904 à pneu D20209 | H4: Liebherr
A5: 4 | B5: tuyau béton diam. 800 | C5: 2280 | F5: 918 à pneu PN02 | G5: pelle 918 à pneu PN02 | H5: Liebherr
A6: 5 | B6: tuyau béton diam. 900 | C6: 2820 | F6: 309 D20208 | G6: pelle 309 D20208 | H6: Liebherr
A7: 6 | B7: tuyau béton diam. 1000 | C7: 3480 | F7: 309 D20198 | G7: pelle 309 D20198 | H7: Liebherr
A8: 7 | B8: tuyau béton diam. 1100 | C8: 3510 | F8: 311 D20221 | G8: pelle 311 D20221 | H8: Liebherr
A9: 8 | B9: tuyau béton diam. 1200 | C9: 4200 | F9: Kubota D30118 | G9: Kubota D30118 | H9: Kubota
A10: 9 | B10: tuyau béton diam. 1300 | C10: 5520 | F10: Kubota D10270 | G10: Kubota D10270 | H10: Kubota
A11: 10 | B11: tuyau béton diam. 1400 | C11: 5760 | F11: Kubota D10271 | G11: Kubota D10271 | H11: Kubota
A12: 11 | B12: tuyau béton diam. 1500 | C12: 6300 | F12: 325 PEC01 | G12: 325D | H12: caterpillar
A13: 12 | B13: tuyau béton diam. 1600 | C13: 6750 | F13: A900 | G13: A900 | H13: Liebherr
A14: 13 | B14: tuyau béton diam. 1800 | C14: 8400 | F14: A914 | G14: A914 | H14: Liebherr
... A18: 17 | B18: tuyau béton diam. 2600 | C18: 16800 | F18: U50-3a | G18: U50-3a | H18: Kubota
A19: 18 | B19: tuyau béton diam. 2800 | C19: 21900 | F19: 944 | G19: 944 | H19: Liebherr
A20: 19 | B20: rien | C20: 0
A21: 1 | B21: fnd. Regard diam.1000 h=1 | C21: 1600
A22: 2 | B22: fnd. Regard diam.1000 h=0,75 | C22: 944
A23: 3 | B23: fnd. Regard diam.800 h=0,60 | C23: 735
A24: 4 | B24: fnd. Regard carré 1000 h=0,10 | C24: 1465
A25: 5 | B25: regard carré 1000 h=0,30 | C25: 307
A26: 6 | B26: regard carré 1000 h=0,60 | C26: 615
A27: 7 | B27: regard carré 1000 h=0,90 | C27: 921
A28: 8 | B28: dalle de réduction | C28: 361
A29: 9 | B29: tête réductrice h=0,85 | C29: 850
A30: 10 | B30: Cône réduc ht=300 | C30: 403
A31: 11 | B31: Cône réduc ht=600 | C31: 775
... A66: 19 | B66: rien | C66: 0

Sheet u50-3
A1: u50-3g | C1: distance
C2: 0.5 | D2: 1 | E2: 1.5 | F2: 2 | G2: 2.5 | H2: 3 | I2: 3.5 | J2: 4 | K2: 4.5 | L2: 5 | M2: 5.5 | N2: 6 | O2: 6.5 | P2: 7 | Q2: 7.5 | R2: 8 | S2: 8.5 | T2: 9 | U2: 9.5 | V2: 10
A3: Hauteur | B3: -10 | C3: 0 | D3: 0 | E3: 0 | F3: 0 | G3: 0 | H3: 0 | I3: 0 | J3: 0 | K3: 0 | L3: 0 | M3: 0 | N3: 0 | O3: 0 | P3: 0 | Q3: 0 | R3: 0 | S3: 0 | T3: 0 | U3: 0 | V3: 0
B4: -9.5 | C4: 0 | D4: 0 | E4: 0 | F4: 0 | G4: 0 | H4: 0 | I4: 0 | J4: 0 | K4: 0 | L4: 0 | M4: 0 | N4: 0 | O4: 0 | P4: 0 | Q4: 0 | R4: 0 | S4: 0 | T4: 0 | U4: 0 | V4: 0
B5: -9 | C5: 0 | D5: 0 | E5: 0 | F5: 0 | G5: 0 | H5: 0 | I5: 0 | J5: 0 | K5: 0 | L5: 0 | M5: 0 | N5: 0 | O5: 0 | P5: 0 | Q5: 0 | R5: 0 | S5: 0 | T5: 0 | U5: 0 | V5: 0
B6: -8.5 | C6: 0 | D6: 0 | E6: 0 | F6: 0 | G6: 0 | H6: 0 | I6: 0 | J6: 0 | K6: 0 | L6: 0 | M6: 0 | N6: 0 | O6: 0 | P6: 0 | Q6: 0 | R6: 0 | S6: 0 | T6: 0 | U6: 0 | V6: 0
B7: -8 | C7: 0 | D7: 0 | E7: 0 | F7: 0 | G7: 0 | H7: 0 | I7: 0 | J7: 0 | K7: 0 | L7: 0 | M7: 0 | N7: 0 | O7: 0 | P7: 0 | Q7: 0 | R7: 0 | S7: 0 | T7: 0 | U7: 0 | V7: 0
B8: -7.5 | C8: 0 | D8: 0 | E8: 0 | F8: 0 | G8: 0 | H8: 0 | I8: 0 | J8: 0 | K8: 0 | L8: 0 | M8: 0 | N8: 0 | O8: 0 | P8: 0 | Q8: 0 | R8: 0 | S8: 0 | T8: 0 | U8: 0 | V8: 0
B9: -7 | C9: 0 | D9: 0 | E9: 0 | F9: 0 | G9: 0 | H9: 0 | I9: 0 | J9: 0 | K9: 0 | L9: 0 | M9: 0 | N9: 0 | O9: 0 | P9: 0 | Q9: 0 | R9: 0 | S9: 0 | T9: 0 | U9: 0 | V9: 0 | X9: 1 | Y9: Charge maxi | Z9: Distance | AA9: Hauteur
B10: -6.5 | C10: 0 | D10: 0 | E10: 0 | F10: 0 | G10: 0 | H10: 0 | I10: 0 | J10: 0 | K10: 0 | L10: 0 | M10: 0 | N10: 0 | O10: 0 | P10: 0 | Q10: 0 | R10: 0 | S10: 0 | T10: 0 | U10: 0 | V10: 0 | Y10: =OFFSET($B$2,MATCH($AA$10,$B$3:$B$820,0),MATCH($Z$10,$C$2:$V$2,0)) -> 0 | Z10: ='FO-PRE-04'!F22 -> 6 | AA10: ='FO-PRE-04'!G22 -> 1
B11: -6 | C11: 0 | D11: 0 | E11: 0 | F11: 0 | G11: 0 | H11: 0 | I11: 0 | J11: 0 | K11: 0 | L11: 0 | M11: 0 | N11: 0 | O11: 0 | P11: 0 | Q11: 0 | R11: 0 | S11: 0 | T11: 0 | U11: 0 | V11: 0 | X11: 2 | Y11: Charge maxi | Z11: Distance | AA11: Hauteur
B12: -5.5 | C12: 0 | D12: 0 | E12: 0 | F12: 0 | G12: 0 | H12: 0 | I12: 0 | J12: 0 | K12: 0 | L12: 0 | M12: 0 | N12: 0 | O12: 0 | P12: 0 | Q12: 0 | R12: 0 | S12: 0 | T12: 0 | U12: 0 | V12: 0 | Y12: =(OFFSET($B$2,MATCH($AA$12,$B$3:$B$43,0),MATCH($Z$12,$C$2:$V$2,0))) -> 960 | Z12: ='FO-PRE-04'!F23 -> 4 | AA12: ='FO-PRE-04'!G23 -> 2
B13: -5 | C13: 0 | D13: 0 | E13: 0 | F13: 0 | G13: 0 | H13: 0 | I13: 0 | J13: 0 | K13: 0 | L13: 0 | M13: 0 | N13: 0 | O13: 0 | P13: 0 | Q13: 0 | R13: 0 | S13: 0 | T13: 0 | U13: 0 | V13: 0 | X13: 3 | Y13: Charge maxi | Z13: Distance | AA13: Hauteur
B14: -4.5 | C14: 0 | D14: 0 | E14: 0 | F14: 0 | G14: 0 | H14: 0 | I14: 0 | J14: 0 | K14: 0 | L14: 0 | M14: 0 | N14: 0 | O14: 0 | P14: 0 | Q14: 0 | R14: 0 | S14: 0 | T14: 0 | U14: 0 | V14: 0 | Y14: =((OFFSET($B$2,MATCH($AA$10,$B$3:$B$820,0),MATCH($Z$10,$C$2:$V$2,0)))) -> 0 | Z14: ='FO-PRE-04'!F24 -> 6 | AA14: ='FO-PRE-04'!G24 -> 2
B15: -4 | C15: 0 | D15: 0 | E15: 0 | F15: 0 | G15: 0 | H15: 0 | I15: 0 | J15: 0 | K15: 0 | L15: 0 | M15: 0 | N15: 0 | O15: 0 | P15: 0 | Q15: 0 | R15: 0 | S15: 0 | T15: 0 | U15: 0 | V15: 0 | X15: 4 | Y15: Charge maxi | Z15: Distance | AA15: Hauteur
B16: -3.5 | C16: 0 | D16: 0 | E16: 0 | F16: 0 | G16: 0 | H16: 0 | I16: 0 | J16: 0 | K16: 0 | L16: 0 | M16: 0 | N16: 0 | O16: 0 | P16: 0 | Q16: 0 | R16: 0 | S16: 0 | T16: 0 | U16: 0 | V16: 0 | Y16: =((OFFSET($B$2,MATCH($AA$10,$B$3:$B$820,0),MATCH($Z$10,$C$2:$V$2,0)))) -> 0 | Z16: ='FO-PRE-04'!F25 -> 4 | AA16: ='FO-PRE-04'!G25 -> 2
B17: -3 | C17: 0 | D17: 0 | E17: 0 | F17: 0 | G17: 0 | H17: 0 | I17: 0 | J17: 0 | K17: 0 | L17: 0 | M17: 0 | N17: 0 | O17: 0 | P17: 0 | Q17: 0 | R17: 0 | S17: 0 | T17: 0 | U17: 0 | V17: 0 | X17: 5 | Y17: Charge maxi | Z17: Distance | AA17: Hauteur
B18: -2.5 | C18: 0 | D18: 0 | E18: 0 | F18: 0 | G18: 0 | H18: 0 | I18: 0 | J18: 0 | K18: 0 | L18: 0 | M18: 0 | N18: 0 | O18: 0 | P18: 0 | Q18: 0 | R18: 0 | S18: 0 | T18: 0 | U18: 0 | V18: 0 | Y18: =((OFFSET($B$2,MATCH($AA$10,$B$3:$B$820,0),MATCH($Z$10,$C$2:$V$2,0)))) -> 0 | Z18: ='FO-PRE-04'!F26 -> 6 | AA18: ='FO-PRE-04'!G26 -> 8
B19: -2 | C19: 0 | D19: 2930 | E19: 1990 | F19: 1990 | G19: 1210 | H19: 1210 | I19: 0 | J19: 0 | K19: 0 | L19: 0 | M19: 0 | N19: 0 | O19: 0 | P19: 0 | Q19: 0 | R19: 0 | S19: 0 | T19: 0 | U19: 0 | V19: 0
B20: -1.5 | C20: 0 | D20: 2150 | E20: 1990 | F20: 1990 | G20: 1210 | H20: 1210 | I20: 0 | J20: 0 | K20: 0 | L20: 0 | M20: 0 | N20: 0 | O20: 0 | P20: 0 | Q20: 0 | R20: 0 | S20: 0 | T20: 0 | U20: 0 | V20: 0
B21: -1 | C21: 0 | D21: 2150 | E21: 2150 | F21: 2650 | G21: 1670 | H21: 1670 | I21: 0 | J21: 0 | K21: 0 | L21: 0 | M21: 0 | N21: 0 | O21: 0 | P21: 0 | Q21: 0 | R21: 0 | S21: 0 | T21: 0 | U21: 0 | V21: 0
B22: -0.5 | C22: 0 | D22: 0 | E22: 0 | F22: 0 | G22: 0 | H22: 1670 | I22: 0 | J22: 0 | K22: 0 | L22: 0 | M22: 0 | N22: 0 | O22: 0 | P22: 0 | Q22: 0 | R22: 0 | S22: 0 | T22: 0 | U22: 0 | V22: 0
B23: 0 | C23: 0 | D23: 0 | E23: 0 | F23: 0 | G23: 0 | H23: 1900 | I23: 880 | J23: 880 | K23: 0 | L23: 0 | M23: 0 | N23: 0 | O23: 0 | P23: 0 | Q23: 0 | R23: 0 | S23: 0 | T23: 0 | U23: 0 | V23: 0
B24: 0.5 | C24: 0 | D24: 0 | E24: 0 | F24: 0 | G24: 0 | H24: 1680 | I24: 880 | J24: 880 | K24: 0 | L24: 0 | M24: 0 | N24: 0 | O24: 0 | P24: 0 | Q24: 0 | R24: 0 | S24: 0 | T24: 0 | U24: 0 | V24: 0
B25: 1 | C25: 0 | D25: 0 | E25: 0 | F25: 0 | G25: 0 | H25: 1680 | I25: 920 | J25: 920 | K25: 0 | L25: 0 | M25: 0 | N25: 0 | O25: 0 | P25: 0 | Q25: 0 | R25: 0 | S25: 0 | T25: 0 | U25: 0 | V25: 0
B26: 1.5 | C26: 0 | D26: 0 | E26: 0 | F26: 0 | G26: 0 | H26: 1210 | I26: 920 | J26: 920 | K26: 0 | L26: 0 | M26: 0 | N26: 0 | O26: 0 | P26: 0 | Q26: 0 | R26: 0 | S26: 0 | T26: 0 | U26: 0 | V26: 0
B27: 2 | C27: 0 | D27: 0 | E27: 0 | F27: 0 | G27: 0 | H27: 1210 | I27: 960 | J27: 960 | K27: 0 | L27: 0 | M27: 0 | N27: 0 | O27: 0 | P27: 0 | Q27: 0 | R27: 0 | S27: 0 | T27: 0 | U27: 0 | V27: 0
B28: 2.5 | C28: 0 | D28: 0 | E28: 0 | F28: 0 | G28: 0 | H28: 0 | I28: 0 | J28: 960 | K28: 0 | L28: 0 | M28: 0 | N28: 0 | O28: 0 | P28: 0 | Q28: 0 | R28: 0 | S28: 0 | T28: 0 | U28: 0 | V28: 0
B29: 3 | C29: 0 | D29: 0 | E29: 0 | F29: 0 | G29: 0 | H29: 0 | I29: 0 | J29: 820 | K29: 0 | L29: 0 | M29: 0 | N29: 0 | O29: 0 | P29: 0 | Q29: 0 | R29: 0 | S29: 0 | T29: 0 | U29: 0 | V29: 0
B30: 3.5 | C30: 0 | D30: 0 | E30: 0 | F30: 0 | G30: 0 | H30: 0 | I30: 0 | J30: 0 | K30: 0 | L30: 0 | M30: 0 | N30: 0 | O30: 0 | P30: 0 | Q30: 0 | R30: 0 | S30: 0 | T30: 0 | U30: 0 | V30: 0
... B43: 10 | C43: 0 | D43: 0 | E43: 0 | F43: 0 | G43: 0 | H43: 0 | I43: 0 | J43: 0 | K43: 0 | L43: 0 | M43: 0 | N43: 0 | O43: 0 | P43: 0 | Q43: 0 | R43: 0 | S43: 0 | T43: 0 | U43: 0 | V43: 0

Sheet 325D
B1: 325D | C1: distance
C2: 0.5 | D2: 1 | E2: 1.5 | F2: 2 | G2: 2.5 | H2: 3 | I2: 3.5 | J2: 4 | K2: 4.5 | L2: 5 | M2: 5.5 | N2: 6 | O2: 6.5 | P2: 7 | Q2: 7.5 | R2: 8 | S2: 8.5 | T2: 9 | U2: 9.5 | V2: 10
A3: Hauteur | B3: -10 | C3: 0 | D3: 0 | E3: 0 | F3: 0 | G3: 0 | H3: 0 | I3: 0 | J3: 0 | K3: 0 | L3: 0 | M3: 0 | N3: 0 | O3: 0 | P3: 0 | Q3: 0 | R3: 0 | S3: 0 | T3: 0 | U3: 0 | V3: 0
B4: -9.5 | C4: 0 | D4: 0 | E4: 0 | F4: 0 | G4: 0 | H4: 0 | I4: 0 | J4: 0 | K4: 0 | L4: 0 | M4: 0 | N4: 0 | O4: 0 | P4: 0 | Q4: 0 | R4: 0 | S4: 0 | T4: 0 | U4: 0 | V4: 0
B5: -9 | C5: 0 | D5: 0 | E5: 0 | F5: 0 | G5: 0 | H5: 0 | I5: 0 | J5: 0 | K5: 0 | L5: 0 | M5: 0 | N5: 0 | O5: 0 | P5: 0 | Q5: 0 | R5: 0 | S5: 0 | T5: 0 | U5: 0 | V5: 0
B6: -8.5 | C6: 0 | D6: 0 | E6: 0 | F6: 0 | G6: 0 | H6: 0 | I6: 0 | J6: 0 | K6: 0 | L6: 0 | M6: 0 | N6: 0 | O6: 0 | P6: 0 | Q6: 0 | R6: 0 | S6: 0 | T6: 0 | U6: 0 | V6: 0
B7: -8 | C7: 0 | D7: 0 | E7: 0 | F7: 0 | G7: 0 | H7: 0 | I7: 0 | J7: 0 | K7: 0 | L7: 0 | M7: 0 | N7: 0 | O7: 0 | P7: 0 | Q7: 0 | R7: 0 | S7: 0 | T7: 0 | U7: 0 | V7: 0
B8: -7.5 | C8: 0 | D8: 0 | E8: 0 | F8: 0 | G8: 0 | H8: 0 | I8: 0 | J8: 0 | K8: 0 | L8: 0 | M8: 0 | N8: 0 | O8: 0 | P8: 0 | Q8: 0 | R8: 0 | S8: 0 | T8: 0 | U8: 0 | V8: 0
B9: -7 | C9: 0 | D9: 0 | E9: 0 | F9: 0 | G9: 0 | H9: 0 | I9: 0 | J9: 0 | K9: 0 | L9: 0 | M9: 0 | N9: 0 | O9: 0 | P9: 0 | Q9: 0 | R9: 0 | S9: 0 | T9: 0 | U9: 0 | V9: 0 | X9: 1 | Y9: Charge maxi | Z9: Distance | AA9: Hauteur
B10: -6.5 | C10: 0 | D10: 0 | E10: 0 | F10: 0 | G10: 0 | H10: 0 | I10: 0 | J10: 0 | K10: 0 | L10: 0 | M10: 0 | N10: 0 | O10: 0 | P10: 0 | Q10: 0 | R10: 0 | S10: 0 | T10: 0 | U10: 0 | V10: 0 | Y10: =OFFSET($B$2,MATCH($AA$10,$B$3:$B$820,0),MATCH($Z$10,$C$2:$V$2,0)) -> 11100 | Z10: ='FO-PRE-04'!F22 -> 6 | AA10: ='FO-PRE-04'!G22 -> 1
B11: -6 | C11: 0 | D11: 0 | E11: 0 | F11: 0 | G11: 0 | H11: 0 | I11: 0 | J11: 0 | K11: 0 | L11: 0 | M11: 0 | N11: 0 | O11: 0 | P11: 0 | Q11: 0 | R11: 0 | S11: 0 | T11: 0 | U11: 0 | V11: 0 | X11: 2 | Y11: Charge maxi | Z11: Distance | AA11: Hauteur
B12: -5.5 | C12: 0 | D12: 0 | E12: 0 | F12: 0 | G12: 0 | H12: 0 | I12: 0 | J12: 0 | K12: 0 | L12: 0 | M12: 0 | N12: 0 | O12: 0 | P12: 0 | Q12: 0 | R12: 0 | S12: 0 | T12: 0 | U12: 0 | V12: 0 | Y12: =(OFFSET($B$2,MATCH($AA$12,$B$3:$B$43,0),MATCH($Z$12,$C$2:$V$2,0))) -> 13400 | Z12: ='FO-PRE-04'!F23 -> 4 | AA12: ='FO-PRE-04'!G23 -> 2
B13: -5 | C13: 0 | D13: 0 | E13: 0 | F13: 0 | G13: 0 | H13: 0 | I13: 0 | J13: 0 | K13: 0 | L13: 0 | M13: 0 | N13: 0 | O13: 0 | P13: 0 | Q13: 0 | R13: 0 | S13: 0 | T13: 0 | U13: 0 | V13: 0 | X13: 3 | Y13: Charge maxi | Z13: Distance | AA13: Hauteur
B14: -4.5 | C14: 0 | D14: 0 | E14: 0 | F14: 0 | G14: 0 | H14: 16590 | I14: 13060 | J14: 13060 | K14: 9530 | L14: 9530 | M14: 9530 | N14: 9530 | O14: 0 | P14: 0 | Q14: 0 | R14: 0 | S14: 0 | T14: 0 | U14: 0 | V14: 0 | Y14: =((OFFSET($B$2,MATCH($AA$10,$B$3:$B$820,0),MATCH($Z$10,$C$2:$V$2,0)))) -> 11100 | Z14: ='FO-PRE-04'!F24 -> 6 | AA14: ='FO-PRE-04'!G24 -> 2
B15: -4 | C15: 0 | D15: 0 | E15: 0 | F15: 0 | G15: 0 | H15: 14360 | I15: 13060 | J15: 13060 | K15: 9530 | L15: 9530 | M15: 9530 | N15: 9530 | O15: 0 | P15: 0 | Q15: 0 | R15: 0 | S15: 0 | T15: 0 | U15: 0 | V15: 0 | X15: 4 | Y15: Charge maxi | Z15: Distance | AA15: Hauteur
B16: -3.5 | C16: 0 | D16: 0 | E16: 0 | F16: 0 | G16: 0 | H16: 14360 | I16: 13060 | J16: 13060 | K16: 9530 | L16: 9530 | M16: 9530 | N16: 9530 | O16: 0 | P16: 0 | Q16: 0 | R16: 0 | S16: 0 | T16: 0 | U16: 0 | V16: 0 | Y16: =((OFFSET($B$2,MATCH($AA$10,$B$3:$B$820,0),MATCH($Z$10,$C$2:$V$2,0)))) -> 11100 | Z16: ='FO-PRE-04'!F25 -> 4 | AA16: ='FO-PRE-04'!G25 -> 2
B17: -3 | C17: 0 | D17: 0 | E17: 0 | F17: 0 | G17: 0 | H17: 14360 | I17: 14360 | J17: 15610 | K17: 11010 | L17: 11010 | M17: 11010 | N17: 11010 | O17: 7890 | P17: 7890 | Q17: 7890 | R17: 0 | S17: 0 | T17: 0 | U17: 0 | V17: 0 | X17: 5 | Y17: Charge maxi | Z17: Distance | AA17: Hauteur
B18: -2.5 | C18: 0 | D18: 0 | E18: 0 | F18: 0 | G18: 0 | H18: 9710 | I18: 9710 | J18: 15610 | K18: 11010 | L18: 11010 | M18: 11010 | N18: 11010 | O18: 7890 | P18: 7890 | Q18: 7890 | R18: 0 | S18: 0 | T18: 0 | U18: 0 | V18: 0 | Y18: =((OFFSET($B$2,MATCH($AA$10,$B$3:$B$820,0),MATCH($Z$10,$C$2:$V$2,0)))) -> 11100 | Z18: ='FO-PRE-04'!F26 -> 6 | AA18: ='FO-PRE-04'!G26 -> 8
B19: -2 | C19: 0 | D19: 0 | E19: 0 | F19: 0 | G19: 0 | H19: 9710 | I19: 9710 | J19: 15610 | K19: 11010 | L19: 11010 | M19: 11010 | N19: 11010 | O19: 7830 | P19: 7830 | Q19: 7830 | R19: 0 | S19: 0 | T19: 0 | U19: 0 | V19: 0
B20: -1.5 | C20: 0 | D20: 0 | E20: 0 | F20: 0 | G20: 0 | H20: 9710 | I20: 9710 | J20: 16770 | K20: 10980 | L20: 10980 | M20: 10980 | N20: 10980 | O20: 7830 | P20: 7830 | Q20: 7830 | R20: 0 | S20: 0 | T20: 0 | U20: 0 | V20: 0
B21: -1 | C21: 0 | D21: 0 | E21: 0 | F21: 0 | G21: 0 | H21: 0 | I21: 0 | J21: 16770 | K21: 10980 | L21: 10980 | M21: 10980 | N21: 10980 | O21: 7830 | P21: 7830 | Q21: 7830 | R21: 0 | S21: 0 | T21: 0 | U21: 0 | V21: 0
B22: -0.5 | C22: 0 | D22: 0 | E22: 0 | F22: 0 | G22: 0 | H22: 0 | I22: 0 | J22: 16770 | K22: 10980 | L22: 10980 | M22: 10980 | N22: 10980 | O22: 7890 | P22: 7890 | Q22: 7890 | R22: 0 | S22: 0 | T22: 0 | U22: 0 | V22: 0
B23: 0 | C23: 0 | D23: 0 | E23: 0 | F23: 0 | G23: 0 | H23: 0 | I23: 0 | J23: 16870 | K23: 11100 | L23: 11100 | M23: 11100 | N23: 11100 | O23: 7890 | P23: 7890 | Q23: 7890 | R23: 0 | S23: 0 | T23: 0 | U23: 0 | V23: 0
B24: 0.5 | C24: 0 | D24: 0 | E24: 0 | F24: 0 | G24: 0 | H24: 0 | I24: 0 | J24: 15870 | K24: 11100 | L24: 11100 | M24: 11100 | N24: 11100 | O24: 7890 | P24: 7890 | Q24: 7890 | R24: 0 | S24: 0 | T24: 0 | U24: 0 | V24: 0
B25: 1 | C25: 0 | D25: 0 | E25: 0 | F25: 0 | G25: 0 | H25: 0 | I25: 0 | J25: 15870 | K25: 11100 | L25: 11100 | M25: 11100 | N25: 11100 | O25: 7890 | P25: 7890 | Q25: 7890 | R25: 0 | S25: 0 | T25: 0 | U25: 0 | V25: 0
B26: 1.5 | C26: 0 | D26: 0 | E26: 0 | F26: 0 | G26: 0 | H26: 0 | I26: 0 | J26: 15870 | K26: 11370 | L26: 11370 | M26: 11370 | N26: 11370 | O26: 8050 | P26: 8050 | Q26: 8050 | R26: 6090 | S26: 6090 | T26: 6090 | U26: 0 | V26: 0
B27: 2 | C27: 0 | D27: 0 | E27: 0 | F27: 0 | G27: 0 | H27: 0 | I27: 0 | J27: 13400 | K27: 10050 | L27: 10050 | M27: 10050 | N27: 10050 | O27: 8250 | P27: 8250 | Q27: 8250 | R27: 5530 | S27: 5530 | T27: 5530 | U27: 0 | V27: 0
B28: 2.5 | C28: 0 | D28: 0 | E28: 0 | F28: 0 | G28: 0 | H28: 0 | I28: 0 | J28: 13400 | K28: 10050 | L28: 10050 | M28: 10050 | N28: 10050 | O28: 8250 | P28: 8250 | Q28: 8250 | R28: 5530 | S28: 5530 | T28: 5530 | U28: 0 | V28: 0
B29: 3 | C29: 0 | D29: 0 | E29: 0 | F29: 0 | G29: 0 | H29: 0 | I29: 0 | J29: 13400 | K29: 10050 | L29: 10050 | M29: 10050 | N29: 10050 | O29: 8250 | P29: 8250 | Q29: 8250 | R29: 5530 | S29: 5530 | T29: 5530 | U29: 0 | V29: 0
B30: 3.5 | C30: 0 | D30: 0 | E30: 0 | F30: 0 | G30: 0 | H30: 0 | I30: 0 | J30: 0 | K30: 0 | L30: 0 | M30: 0 | N30: 8640 | O30: 7780 | P30: 7780 | Q30: 7780 | R30: 0 | S30: 0 | T30: 0 | U30: 0 | V30: 0
... B43: 10 | C43: 0 | D43: 0 | E43: 0 | F43: 0 | G43: 0 | H43: 0 | I43: 0 | J43: 0 | K43: 0 | L43: 0 | M43: 0 | N43: 0 | O43: 0 | P43: 0 | Q43: 0 | R43: 0 | S43: 0 | T43: 0 | U43: 0 | V43: 0

Sheet 944 Jehl
A1: 944jhel | B1: 946 | C1: distance
C2: 0.5 | D2: 1 | E2: 1.5 | F2: 2 | G2: 2.5 | H2: 3 | I2: 3.5 | J2: 4 | K2: 4.5 | L2: 5 | M2: 5.5 | N2: 6 | O2: 6.5 | P2: 7 | Q2: 7.5 | R2: 8 | S2: 8.5 | T2: 9 | U2: 9.5 | V2: 10
A3: Hauteur | B3: -10 | C3: 0 | D3: 0 | E3: 0 | F3: 0 | G3: 0 | H3: 0 | I3: 0 | J3: 0 | K3: 0 | L3: 0 | M3: 0 | N3: 0 | O3: 0 | P3: 0 | Q3: 0 | R3: 0 | S3: 0 | T3: 0 | U3: 0 | V3: 0
B4: -9.5 | C4: 0 | D4: 0 | E4: 0 | F4: 0 | G4: 0 | H4: 0 | I4: 0 | J4: 0 | K4: 0 | L4: 0 | M4: 0 | N4: 0 | O4: 0 | P4: 0 | Q4: 0 | R4: 0 | S4: 0 | T4: 0 | U4: 0 | V4: 0
B5: -9 | C5: 0 | D5: 0 | E5: 0 | F5: 0 | G5: 0 | H5: 0 | I5: 0 | J5: 0 | K5: 0 | L5: 0 | M5: 0 | N5: 0 | O5: 0 | P5: 0 | Q5: 0 | R5: 0 | S5: 0 | T5: 0 | U5: 0 | V5: 0
B6: -8.5 | C6: 0 | D6: 0 | E6: 0 | F6: 0 | G6: 0 | H6: 0 | I6: 0 | J6: 0 | K6: 0 | L6: 0 | M6: 0 | N6: 0 | O6: 0 | P6: 0 | Q6: 0 | R6: 0 | S6: 0 | T6: 0 | U6: 0 | V6: 0
B7: -8 | C7: 0 | D7: 0 | E7: 0 | F7: 0 | G7: 0 | H7: 0 | I7: 0 | J7: 0 | K7: 0 | L7: 0 | M7: 0 | N7: 0 | O7: 0 | P7: 0 | Q7: 0 | R7: 0 | S7: 0 | T7: 0 | U7: 0 | V7: 0
B8: -7.5 | C8: 0 | D8: 0 | E8: 0 | F8: 0 | G8: 0 | H8: 0 | I8: 0 | J8: 0 | K8: 0 | L8: 0 | M8: 0 | N8: 0 | O8: 0 | P8: 0 | Q8: 0 | R8: 0 | S8: 0 | T8: 0 | U8: 0 | V8: 0
B9: -7 | C9: 0 | D9: 0 | E9: 0 | F9: 0 | G9: 0 | H9: 0 | I9: 0 | J9: 0 | K9: 0 | L9: 0 | M9: 0 | N9: 0 | O9: 0 | P9: 0 | Q9: 0 | R9: 0 | S9: 0 | T9: 0 | U9: 0 | V9: 0 | X9: 1 | Y9: Charge maxi | Z9: Distance | AA9: Hauteur
B10: -6.5 | C10: 0 | D10: 0 | E10: 0 | F10: 0 | G10: 0 | H10: 0 | I10: 0 | J10: 0 | K10: 0 | L10: 0 | M10: 0 | N10: 0 | O10: 0 | P10: 0 | Q10: 0 | R10: 0 | S10: 0 | T10: 0 | U10: 0 | V10: 0 | Y10: =OFFSET($B$2,MATCH($AA$10,$B$3:$B$43,0),MATCH($Z$10,$C$2:$V$2,0)) -> 13100 | Z10: ='FO-PRE-04'!F22 -> 6 | AA10: ='FO-PRE-04'!G22 -> 1
B11: -6 | C11: 0 | D11: 0 | E11: 0 | F11: 0 | G11: 0 | H11: 0 | I11: 0 | J11: 0 | K11: 0 | L11: 0 | M11: 0 | N11: 0 | O11: 0 | P11: 0 | Q11: 0 | R11: 0 | S11: 0 | T11: 0 | U11: 0 | V11: 0 | X11: 2 | Y11: Charge maxi | Z11: Distance | AA11: Hauteur
B12: -5.5 | C12: 0 | D12: 0 | E12: 0 | F12: 0 | G12: 0 | H12: 0 | I12: 0 | J12: 0 | K12: 0 | L12: 0 | M12: 0 | N12: 0 | O12: 0 | P12: 0 | Q12: 0 | R12: 0 | S12: 0 | T12: 0 | U12: 0 | V12: 0 | Y12: =(OFFSET($B$2,MATCH($AA$12,$B$3:$B$43,0),MATCH($Z$12,$C$2:$V$2,0))) -> 0 | Z12: ='FO-PRE-04'!F23 -> 4 | AA12: ='FO-PRE-04'!G23 -> 2
B13: -5 | C13: 0 | D13: 0 | E13: 0 | F13: 0 | G13: 0 | H13: 0 | I13: 0 | J13: 0 | K13: 0 | L13: 0 | M13: 0 | N13: 0 | O13: 0 | P13: 0 | Q13: 0 | R13: 0 | S13: 0 | T13: 0 | U13: 0 | V13: 0 | X13: 3 | Y13: Charge maxi | Z13: Distance | AA13: Hauteur
B14: -4.5 | C14: 0 | D14: 0 | E14: 0 | F14: 0 | G14: 0 | H14: 14900 | I14: 11900 | J14: 11900 | K14: 11900 | L14: 10500 | M14: 10500 | N14: 10500 | O14: 0 | P14: 0 | Q14: 0 | R14: 0 | S14: 0 | T14: 0 | U14: 0 | V14: 0 | Y14: =((OFFSET($B$2,MATCH($AA$10,$B$3:$B$43,0),MATCH($Z$10,$C$2:$V$2,0)))) -> 13100 | Z14: ='FO-PRE-04'!F24 -> 6 | AA14: ='FO-PRE-04'!G24 -> 2
B15: -4 | C15: 0 | D15: 0 | E15: 0 | F15: 0 | G15: 0 | H15: 14900 | I15: 11900 | J15: 11900 | K15: 11900 | L15: 10500 | M15: 10500 | N15: 10500 | O15: 0 | P15: 0 | Q15: 0 | R15: 0 | S15: 0 | T15: 0 | U15: 0 | V15: 0 | X15: 4 | Y15: Charge maxi | Z15: Distance | AA15: Hauteur
B16: -3.5 | C16: 0 | D16: 0 | E16: 0 | F16: 0 | G16: 0 | H16: 14900 | I16: 11900 | J16: 11900 | K16: 11900 | L16: 10500 | M16: 10500 | N16: 10500 | O16: 0 | P16: 0 | Q16: 0 | R16: 0 | S16: 0 | T16: 0 | U16: 0 | V16: 0 | Y16: =((OFFSET($B$2,MATCH($AA$10,$B$3:$B$43,0),MATCH($Z$10,$C$2:$V$2,0)))) -> 13100 | Z16: ='FO-PRE-04'!F25 -> 4 | AA16: ='FO-PRE-04'!G25 -> 2
B17: -3 | C17: 0 | D17: 0 | E17: 0 | F17: 0 | G17: 0 | H17: 19900 | I17: 15300 | J17: 15300 | K17: 15300 | L17: 11900 | M17: 11900 | N17: 11900 | O17: 9100 | P17: 9100 | Q17: 9100 | R17: 8100 | S17: 8100 | T17: 8100 | U17: 0 | V17: 0 | X17: 5 | Y17: Charge maxi | Z17: Distance | AA17: Hauteur
B18: -2.5 | C18: 0 | D18: 0 | E18: 0 | F18: 0 | G18: 0 | H18: 12600 | I18: 12600 | J18: 12600 | K18: 15300 | L18: 11900 | M18: 11900 | N18: 11900 | O18: 9100 | P18: 9100 | Q18: 9100 | R18: 8100 | S18: 8100 | T18: 8100 | U18: 0 | V18: 0 | Y18: =((OFFSET($B$2,MATCH($AA$10,$B$3:$B$43,0),MATCH($Z$10,$C$2:$V$2,0)))) -> 13100 | Z18: ='FO-PRE-04'!F26 -> 6 | AA18: ='FO-PRE-04'!G26 -> 8
B19: -2 | C19: 0 | D19: 0 | E19: 0 | F19: 0 | G19: 0 | H19: 12600 | I19: 12600 | J19: 12600 | K19: 15300 | L19: 11900 | M19: 11900 | N19: 11900 | O19: 9100 | P19: 9100 | Q19: 9100 | R19: 8100 | S19: 8100 | T19: 8100 | U19: 0 | V19: 0
B20: -1.5 | C20: 0 | D20: 0 | E20: 0 | F20: 0 | G20: 0 | H20: 12600 | I20: 12600 | J20: 12600 | K20: 17300 | L20: 13000 | M20: 13000 | N20: 13000 | O20: 10200 | P20: 10200 | Q20: 10200 | R20: 8400 | S20: 8400 | T20: 8400 | U20: 0 | V20: 0
B21: -1 | C21: 0 | D21: 0 | E21: 0 | F21: 0 | G21: 0 | H21: 0 | I21: 0 | J21: 0 | K21: 17300 | L21: 13000 | M21: 13000 | N21: 13000 | O21: 10200 | P21: 10200 | Q21: 10200 | R21: 8400 | S21: 8400 | T21: 8400 | U21: 0 | V21: 0
B22: -0.5 | C22: 0 | D22: 0 | E22: 0 | F22: 0 | G22: 0 | H22: 0 | I22: 0 | J22: 0 | K22: 17300 | L22: 13000 | M22: 13000 | N22: 13000 | O22: 10200 | P22: 10200 | Q22: 10200 | R22: 8400 | S22: 8400 | T22: 8400 | U22: 0 | V22: 0
B23: 0 | C23: 0 | D23: 0 | E23: 0 | F23: 0 | G23: 0 | H23: 0 | I23: 0 | J23: 0 | K23: 18400 | L23: 13400 | M23: 13400 | N23: 13400 | O23: 10500 | P23: 10500 | Q23: 10500 | R23: 8600 | S23: 8600 | T23: 8600 | U23: 0 | V23: 0
B24: 0.5 | C24: 0 | D24: 0 | E24: 0 | F24: 0 | G24: 0 | H24: 0 | I24: 0 | J24: 0 | K24: 18200 | L24: 13100 | M24: 13100 | N24: 13100 | O24: 10300 | P24: 10300 | Q24: 10300 | R24: 8500 | S24: 8500 | T24: 8500 | U24: 0 | V24: 0
B25: 1 | C25: 0 | D25: 0 | E25: 0 | F25: 0 | G25: 0 | H25: 0 | I25: 0 | J25: 0 | K25: 18200 | L25: 13100 | M25: 13100 | N25: 13100 | O25: 10300 | P25: 10300 | Q25: 10300 | R25: 8500 | S25: 8500 | T25: 8500 | U25: 0 | V25: 0
B26: 1.5 | C26: 0 | D26: 0 | E26: 0 | F26: 0 | G26: 0 | H26: 0 | I26: 0 | J26: 0 | K26: 18200 | L26: 13100 | M26: 13100 | N26: 13100 | O26: 10300 | P26: 10300 | Q26: 10300 | R26: 8500 | S26: 8500 | T26: 8500 | U26: 0 | V26: 0
B27: 2 | C27: 0 | D27: 0 | E27: 0 | F27: 0 | G27: 0 | H27: 0 | I27: 0 | J27: 0 | K27: 16400 | L27: 11800 | M27: 11800 | N27: 11800 | O27: 9700 | P27: 9700 | Q27: 9700 | R27: 7900 | S27: 7900 | T27: 7900 | U27: 0 | V27: 0
B28: 2.5 | C28: 0 | D28: 0 | E28: 0 | F28: 0 | G28: 0 | H28: 0 | I28: 0 | J28: 0 | K28: 16400 | L28: 11800 | M28: 11800 | N28: 11800 | O28: 9700 | P28: 9700 | Q28: 9700 | R28: 7900 | S28: 7900 | T28: 7900 | U28: 0 | V28: 0
B29: 3 | C29: 0 | D29: 0 | E29: 0 | F29: 0 | G29: 0 | H29: 0 | I29: 0 | J29: 0 | K29: 16400 | L29: 11800 | M29: 11800 | N29: 11800 | O29: 9700 | P29: 9700 | Q29: 9700 | R29: 7900 | S29: 7900 | T29: 7900 | U29: 0 | V29: 0
B30: 3.5 | C30: 0 | D30: 0 | E30: 0 | F30: 0 | G30: 0 | H30: 0 | I30: 0 | J30: 0 | K30: 13400 | L30: 9200 | M30: 9200 | N30: 9200 | O30: 9000 | P30: 9000 | Q30: 9000 | R30: 0 | S30: 0 | T30: 0 | U30: 0 | V30: 0
... B41: 9 | C41: 0 | D41: 0 | E41: 0 | F41: 0 | G41: 0 | H41: 0 | I41: 0 | J41: 0 | K41: 0 | L41: 0 | M41: 0 | N41: 0 | O41: 6300 | P41: 6300 | Q41: 0 | R41: 0 | S41: 0 | T41: 0 | U41: 0 | V41: 0
B42: 9.5 | C42: 0 | D42: 0 | E42: 0 | F42: 0 | G42: 0 | H42: 0 | I42: 0 | J42: 0 | K42: 0 | L42: 0 | M42: 0 | N42: 0 | O42: 0 | P42: 0 | Q42: 0 | R42: 0 | T42: 0 | U42: 0 | V42: 0
B43: 10 | C43: 0 | D43: 0 | E43: 0 | F43: 0 | G43: 0 | H43: 0 | I43: 0 | J43: 0 | K43: 0 | L43: 0 | M43: 0 | N43: 0 | O43: 0 | P43: 0 | Q43: 0 | R43: 0 | T43: 0 | U43: 0 | V43: 0

Sheet 926 Jehl
B1: 926 Jehl | C1: distance
C2: 0.5 | D2: 1 | E2: 1.5 | F2: 2 | G2: 2.5 | H2: 3 | I2: 3.5 | J2: 4 | K2: 4.5 | L2: 5 | M2: 5.5 | N2: 6 | O2: 6.5 | P2: 7 | Q2: 7.5 | R2: 8 | S2: 8.5 | T2: 9 | U2: 9.5 | V2: 10 | W2: 10.5 | X2: 11 | Y2: 11.5 | Z2: 12 | AA2: 12.5 | AB2: 13 | AC2: 13.5
B3: -10.5 | C3: 0 | D3: 0 | E3: 0 | F3: 0 | G3: 0 | H3: 0 | I3: 0 | J3: 0 | K3: 0 | L3: 0 | M3: 0 | N3: 3600 | O3: 2900 | P3: 2900 | Q3: 2900 | R3: 0 | S3: 0 | T3: 0 | U3: 0 | V3: 0 | W3: 0 | X3: 0 | Y3: 0 | Z3: 0 | AA3: 0 | AB3: 0 | AC3: 0
A4: Hauteur | B4: -10 | C4: 0 | D4: 0 | E4: 0 | F4: 0 | G4: 0 | H4: 0 | I4: 0 | J4: 0 | K4: 0 | L4: 0 | M4: 0 | N4: 3600 | O4: 2900 | P4: 2900 | Q4: 2900 | R4: 0 | S4: 0 | T4: 0 | U4: 0 | V4: 0 | W4: 0 | X4: 0 | Y4: 0 | Z4: 0 | AA4: 0 | AB4: 0 | AC4: 0
B5: -9.5 | C5: 0 | D5: 0 | E5: 0 | F5: 0 | G5: 0 | H5: 0 | I5: 0 | J5: 0 | K5: 0 | L5: 0 | M5: 0 | N5: 3600 | O5: 2900 | P5: 2900 | Q5: 2900 | R5: 0 | S5: 0 | T5: 0 | U5: 0 | V5: 0 | W5: 0 | X5: 0 | Y5: 0 | Z5: 0 | AA5: 0 | AB5: 0 | AC5: 0
B6: -9 | C6: 0 | D6: 0 | E6: 0 | F6: 0 | G6: 0 | H6: 8500 | I6: 6500 | J6: 6500 | K6: 6500 | L6: 5200 | M6: 5200 | N6: 5200 | O6: 4200 | P6: 4200 | Q6: 4200 | R6: 3400 | S6: 3400 | T6: 3400 | U6: 0 | V6: 0 | W6: 0 | X6: 0 | Y6: 0 | Z6: 0 | AA6: 0 | AB6: 0 | AC6: 0
B7: -8.5 | C7: 0 | D7: 0 | E7: 0 | F7: 0 | G7: 0 | H7: 8500 | I7: 6500 | J7: 6500 | K7: 6500 | L7: 5200 | M7: 5200 | N7: 5200 | O7: 4200 | P7: 4200 | Q7: 4200 | R7: 3400 | S7: 3400 | T7: 3400 | U7: 0 | V7: 0 | W7: 0 | X7: 0 | Y7: 0 | Z7: 0 | AA7: 0 | AB7: 0 | AC7: 0
B8: -8 | C8: 0 | D8: 0 | E8: 0 | F8: 0 | G8: 0 | H8: 8500 | I8: 6500 | J8: 6500 | K8: 6500 | L8: 5200 | M8: 5200 | N8: 5200 | O8: 4200 | P8: 4200 | Q8: 4200 | R8: 3400 | S8: 3400 | T8: 3400 | U8: 0 | V8: 0 | W8: 0 | X8: 0 | Y8: 0 | Z8: 0 | AA8: 0 | AB8: 0 | AC8: 0
B9: -7.5 | C9: 0 | D9: 0 | E9: 0 | F9: 0 | G9: 0 | H9: 8800 | I9: 8100 | J9: 8100 | K9: 8100 | L9: 6300 | M9: 6300 | N9: 6300 | O9: 5100 | P9: 5100 | Q9: 5100 | R9: 4200 | S9: 4200 | T9: 4200 | U9: 3400 | V9: 3400 | W9: 3400 | X9: 0 | Y9: 0 | Z9: 0 | AA9: 0 | AB9: 0 | AC9: 0 | AE9: 1 | AF9: Charge maxi | AG9: Distance | AH9: Hauteur
B10: -7 | C10: 0 | D10: 0 | E10: 0 | F10: 0 | G10: 0 | H10: 8800 | I10: 8100 | J10: 8100 | K10: 8100 | L10: 6300 | M10: 6300 | N10: 6300 | O10: 5100 | P10: 5100 | Q10: 5100 | R10: 4200 | S10: 4200 | T10: 4200 | U10: 3400 | V10: 3400 | W10: 3400 | X10: 0 | Y10: 0 | Z10: 0 | AA10: 0 | AB10: 0 | AC10: 0 | AF10: =OFFSET($B$2,MATCH($AH$10,$B$3:$B$51,0),MATCH($AG$10,$C$2:$AC$2,0)) -> 6700 | AG10: ='FO-PRE-04'!F22 -> 6 | AH10: ='FO-PRE-04'!G22 -> 1
B11: -6.5 | C11: 0 | D11: 0 | E11: 0 | F11: 0 | G11: 0 | H11: 8800 | I11: 8100 | J11: 8100 | K11: 8100 | L11: 6300 | M11: 6300 | N11: 6300 | O11: 5100 | P11: 5100 | Q11: 5100 | R11: 4200 | S11: 4200 | T11: 4200 | U11: 3400 | V11: 3400 | W11: 3400 | X11: 0 | Y11: 0 | Z11: 0 | AA11: 0 | AB11: 0 | AC11: 0 | AE11: 2 | AF11: Charge maxi | AG11: Distance | AH11: Hauteur
B12: -6 | C12: 0 | D12: 0 | E12: 0 | F12: 0 | G12: 0 | H12: 7400 | I12: 7400 | J12: 7400 | K12: 9200 | L12: 7100 | M12: 7100 | N12: 7100 | O12: 5500 | P12: 5500 | Q12: 5500 | R12: 4200 | S12: 4200 | T12: 4200 | U12: 3400 | V12: 3400 | W12: 3400 | X12: 2800 | Y12: 2800 | Z12: 2800 | AA12: 0 | AB12: 0 | AC12: 0 | AF12: =(OFFSET($B$2,MATCH($AH$12,$B$3:$B$51,0),MATCH($AG$12,$C$2:$AC$2,0))) -> 3400 | AG12: ='FO-PRE-04'!F23 -> 4 | AH12: ='FO-PRE-04'!G23 -> 2
B13: -5.5 | C13: 0 | D13: 0 | E13: 0 | F13: 0 | G13: 0 | H13: 7400 | I13: 7400 | J13: 7400 | K13: 8500 | L13: 7100 | M13: 7100 | N13: 7100 | O13: 5500 | P13: 5500 | Q13: 5500 | R13: 4200 | S13: 4200 | T13: 4200 | U13: 3400 | V13: 3400 | W13: 3400 | X13: 2800 | Y13: 2800 | Z13: 2800 | AA13: 0 | AB13: 0 | AC13: 0 | AE13: 3 | AF13: Charge maxi | AG13: Distance | AH13: Hauteur
B14: -5 | C14: 0 | D14: 0 | E14: 0 | F14: 0 | G14: 0 | H14: 7400 | I14: 7400 | J14: 7400 | K14: 8500 | L14: 7100 | M14: 7100 | N14: 7100 | O14: 5500 | P14: 5500 | Q14: 5500 | R14: 4200 | S14: 4200 | T14: 4200 | U14: 3400 | V14: 3400 | W14: 3400 | X14: 2800 | Y14: 2800 | Z14: 2800 | AA14: 0 | AB14: 0 | AC14: 0 | AF14: =((OFFSET($B$2,MATCH($AH$10,$B$3:$B$51,0),MATCH($AG$10,$C$2:$AC$2,0)))) -> 6700 | AG14: ='FO-PRE-04'!F24 -> 6 | AH14: ='FO-PRE-04'!G24 -> 2
B15: -4.5 | C15: 0 | D15: 0 | E15: 0 | F15: 0 | G15: 0 | H15: 6200 | I15: 6200 | J15: 6200 | K15: 8500 | L15: 7600 | M15: 7600 | N15: 7600 | O15: 5500 | P15: 5500 | Q15: 5500 | R15: 4200 | S15: 4200 | T15: 4200 | U15: 3400 | V15: 3400 | W15: 3400 | X15: 2800 | Y15: 2800 | Z15: 2800 | AA15: 0 | AB15: 0 | AC15: 0 | AE15: 4 | AF15: Charge maxi | AG15: Distance | AH15: Hauteur
B16: -4 | C16: 0 | D16: 0 | E16: 0 | F16: 0 | G16: 0 | H16: 6200 | I16: 6200 | J16: 6200 | K16: 7500 | L16: 7500 | M16: 7500 | N16: 7600 | O16: 5500 | P16: 5500 | Q16: 5500 | R16: 4200 | S16: 4200 | T16: 4200 | U16: 3400 | V16: 3400 | W16: 3400 | X16: 2800 | Y16: 2800 | Z16: 2800 | AA16: 0 | AB16: 0 | AC16: 0 | AF16: =((OFFSET($B$2,MATCH($AH$10,$B$3:$B$51,0),MATCH($AG$10,$C$2:$AC$2,0)))) -> 6700 | AG16: ='FO-PRE-04'!F25 -> 4 | AH16: ='FO-PRE-04'!G25 -> 2
B17: -3.5 | C17: 0 | D17: 0 | E17: 0 | F17: 0 | G17: 0 | H17: 6200 | I17: 6200 | J17: 6200 | K17: 7500 | L17: 7500 | M17: 7500 | N17: 7600 | O17: 5500 | P17: 5500 | Q17: 5500 | R17: 4200 | S17: 4200 | T17: 4200 | U17: 3400 | V17: 3400 | W17: 3400 | X17: 2800 | Y17: 2800 | Z17: 2800 | AA17: 0 | AB17: 0 | AC17: 0 | AE17: 5 | AF17: Charge maxi | AG17: Distance | AH17: Hauteur
B18: -3 | C18: 0 | D18: 0 | E18: 0 | F18: 0 | G18: 0 | H18: 5100 | I18: 5100 | J18: 5100 | K18: 7500 | L18: 7500 | M18: 7500 | N18: 7800 | O18: 5600 | P18: 5600 | Q18: 5600 | R18: 4300 | S18: 4300 | T18: 4300 | U18: 3400 | V18: 3400 | W18: 3400 | X18: 2800 | Y18: 2800 | Z18: 2800 | AA18: 2400 | AB18: 2400 | AC18: 2400 | AF18: =((OFFSET($B$2,MATCH($AH$10,$B$3:$B$51,0),MATCH($AG$10,$C$2:$AC$2,0)))) -> 6700 | AG18: ='FO-PRE-04'!F26 -> 6 | AH18: ='FO-PRE-04'!G26 -> 8
B19: -2.5 | C19: 0 | D19: 0 | E19: 0 | F19: 0 | G19: 0 | H19: 5100 | I19: 4100 | J19: 4100 | K19: 6900 | L19: 6900 | M19: 6900 | N19: 7700 | O19: 5600 | P19: 5600 | Q19: 5600 | R19: 4300 | S19: 4300 | T19: 4300 | U19: 3400 | V19: 3400 | W19: 3400 | X19: 2800 | Y19: 2800 | Z19: 2800 | AA19: 2400 | AB19: 2400 | AC19: 2400
B20: -2 | C20: 0 | D20: 0 | E20: 0 | F20: 0 | G20: 0 | H20: 5100 | I20: 4100 | J20: 4100 | K20: 6900 | L20: 6900 | M20: 6900 | N20: 7700 | O20: 5600 | P20: 5600 | Q20: 5600 | R20: 4300 | S20: 4300 | T20: 4300 | U20: 3400 | V20: 3400 | W20: 3400 | X20: 2800 | Y20: 2800 | Z20: 2800 | AA20: 2400 | AB20: 2400 | AC20: 2400
B21: -1.5 | C21: 0 | D21: 0 | E21: 0 | F21: 0 | G21: 0 | H21: 4100 | I21: 4100 | J21: 4100 | K21: 6900 | L21: 6900 | M21: 6900 | N21: 7700 | O21: 5800 | P21: 5800 | Q21: 5800 | R21: 4500 | S21: 4500 | T21: 4500 | U21: 3600 | V21: 3600 | W21: 3600 | X21: 2900 | Y21: 2900 | Z21: 2900 | AA21: 2400 | AB21: 2400 | AC21: 2400
B22: -1 | C22: 0 | D22: 0 | E22: 0 | F22: 0 | G22: 0 | H22: 4100 | I22: 4100 | J22: 4100 | K22: 6900 | L22: 6900 | M22: 6900 | N22: 7400 | O22: 5700 | P22: 5700 | Q22: 5700 | R22: 4500 | S22: 4500 | T22: 4500 | U22: 3600 | V22: 3600 | W22: 3600 | X22: 2900 | Y22: 2900 | Z22: 2900 | AA22: 2400 | AB22: 2400 | AC22: 2400
B23: -0.5 | C23: 0 | D23: 0 | E23: 0 | F23: 0 | G23: 0 | H23: 4100 | I23: 4100 | J23: 4100 | K23: 6900 | L23: 6900 | M23: 6900 | N23: 7400 | O23: 5700 | P23: 5700 | Q23: 5700 | R23: 4500 | S23: 4500 | T23: 4500 | U23: 3600 | V23: 3600 | W23: 3600 | X23: 2900 | Y23: 2900 | Z23: 2900 | AA23: 2400 | AB23: 2400 | AC23: 2400
B24: 0 | C24: 0 | D24: 0 | E24: 0 | F24: 0 | G24: 0 | H24: 3400 | I24: 3400 | J24: 3400 | K24: 7400 | L24: 7400 | M24: 7400 | N24: 7400 | O24: 5700 | P24: 5700 | Q24: 5700 | R24: 4600 | S24: 4600 | T24: 4600 | U24: 3700 | V24: 3700 | W24: 3700 | X24: 3000 | Y24: 3000 | Z24: 3000 | AA24: 2500 | AB24: 2500 | AC24: 2500
B25: 0.5 | C25: 0 | D25: 0 | E25: 0 | F25: 0 | G25: 0 | H25: 3400 | I25: 3400 | J25: 3400 | K25: 7400 | L25: 6700 | M25: 6700 | N25: 6700 | O25: 5200 | P25: 5200 | Q25: 5200 | R25: 4300 | S25: 4300 | T25: 4300 | U25: 3700 | V25: 3700 | W25: 3700 | X25: 3000 | Y25: 3000 | Z25: 3000 | AA25: 2500 | AB25: 2500 | AC25: 2500
B26: 1 | C26: 0 | D26: 0 | E26: 0 | F26: 0 | G26: 0 | H26: 3400 | I26: 3400 | J26: 3400 | K26: 7400 | L26: 6700 | M26: 6700 | N26: 6700 | O26: 5200 | P26: 5200 | Q26: 5200 | R26: 4300 | S26: 4300 | T26: 4300 | U26: 3700 | V26: 3700 | W26: 3700 | X26: 3000 | Y26: 3000 | Z26: 3000 | AA26: 2500 | AB26: 2500 | AC26: 2500
B27: 1.5 | C27: 0 | D27: 0 | E27: 0 | F27: 0 | G27: 0 | H27: 3400 | I27: 3400 | J27: 3400 | K27: 9500 | L27: 6700 | M27: 6700 | N27: 6700 | O27: 5200 | P27: 5200 | Q27: 5200 | R27: 4300 | S27: 4300 | T27: 4300 | U27: 3700 | V27: 3700 | W27: 3700 | X27: 3200 | Y27: 3200 | Z27: 3200 | AA27: 2600 | AB27: 2600 | AC27: 2600
B28: 2 | C28: 0 | D28: 0 | E28: 0 | F28: 0 | G28: 0 | H28: 3400 | I28: 3400 | J28: 3400 | K28: 7900 | L28: 5800 | M28: 5800 | N28: 5800 | O28: 4700 | P28: 4700 | Q28: 4700 | R28: 3900 | S28: 3900 | T28: 3900 | U28: 3500 | V28: 3500 | W28: 3500 | X28: 3100 | Y28: 3100 | Z28: 3100 | AA28: 2600 | AB28: 2600 | AC28: 2600
B29: 2.5 | C29: 0 | D29: 0 | E29: 0 | F29: 0 | G29: 0 | H29: 3400 | I29: 3400 | J29: 3400 | K29: 7900 | L29: 5800 | M29: 5800 | N29: 5800 | O29: 4700 | P29: 4700 | Q29: 4700 | R29: 3900 | S29: 3900 | T29: 3900 | U29: 3500 | V29: 3500 | W29: 3500 | X29: 3100 | Y29: 3100 | Z29: 3100 | AA29: 2600 | AB29: 2600 | AC29: 2600
B30: 3 | C30: 0 | D30: 0 | E30: 0 | F30: 0 | G30: 0 | H30: 12000 | I30: 7900 | J30: 7900 | K30: 7900 | L30: 5800 | M30: 5800 | N30: 5800 | O30: 4700 | P30: 4700 | Q30: 4700 | R30: 3900 | S30: 3900 | T30: 3900 | U30: 3500 | V30: 3500 | W30: 3500 | X30: 3100 | Y30: 3100 | Z30: 3100 | AA30: 2700 | AB30: 2700 | AC30: 2700
... B51: 13.5 | C51: 0 | D51: 0 | E51: 0 | F51: 0 | G51: 0 | H51: 0 | I51: 0 | J51: 0 | K51: 0 | L51: 0 | M51: 0 | N51: 0 | O51: 0 | P51: 0 | Q51: 0 | R51: 0 | S51: 0 | T51: 0 | U51: 0 | V51: 0 | W51: 0 | X51: 0 | Y51: 0 | Z51: 0 | AA51: 0 | AB51: 0 | AC51: 0

Sheet  934 Jehl 2,5
B1: 934 Jehl 2,50 | C1: distance
C2: 0.5 | D2: 1 | E2: 1.5 | F2: 2 | G2: 2.5 | H2: 3 | I2: 3.5 | J2: 4 | K2: 4.5 | L2: 5 | M2: 5.5 | N2: 6 | O2: 6.5 | P2: 7 | Q2: 7.5 | R2: 8 | S2: 8.5 | T2: 9 | U2: 9.5 | V2: 10
A3: Hauteur | B3: -10 | C3: 0 | D3: 0 | E3: 0 | F3: 0 | G3: 0 | H3: 0 | I3: 0 | J3: 0 | K3: 0 | L3: 0 | M3: 0 | N3: 0 | O3: 0 | P3: 0 | Q3: 0 | R3: 0 | S3: 0 | T3: 0 | U3: 0 | V3: 0
B4: -9.5 | C4: 0 | D4: 0 | E4: 0 | F4: 0 | G4: 0 | H4: 0 | I4: 0 | J4: 0 | K4: 0 | L4: 0 | M4: 0 | N4: 0 | O4: 0 | P4: 0 | Q4: 0 | R4: 0 | S4: 0 | T4: 0 | U4: 0 | V4: 0
B5: -9 | C5: 0 | D5: 0 | E5: 0 | F5: 0 | G5: 0 | H5: 0 | I5: 0 | J5: 0 | K5: 0 | L5: 0 | M5: 0 | N5: 0 | O5: 0 | P5: 0 | Q5: 0 | R5: 0 | S5: 0 | T5: 0 | U5: 0 | V5: 0
B6: -8.5 | C6: 0 | D6: 0 | E6: 0 | F6: 0 | G6: 0 | H6: 0 | I6: 0 | J6: 0 | K6: 0 | L6: 0 | M6: 0 | N6: 0 | O6: 0 | P6: 0 | Q6: 0 | R6: 0 | S6: 0 | T6: 0 | U6: 0 | V6: 0
B7: -8 | C7: 0 | D7: 0 | E7: 0 | F7: 0 | G7: 0 | H7: 0 | I7: 0 | J7: 0 | K7: 0 | L7: 0 | M7: 0 | N7: 0 | O7: 0 | P7: 0 | Q7: 0 | R7: 0 | S7: 0 | T7: 0 | U7: 0 | V7: 0
B8: -7.5 | C8: 0 | D8: 0 | E8: 0 | F8: 0 | G8: 0 | H8: 0 | I8: 0 | J8: 0 | K8: 0 | L8: 0 | M8: 0 | N8: 0 | O8: 0 | P8: 0 | Q8: 0 | R8: 0 | S8: 0 | T8: 0 | U8: 0 | V8: 0
B9: -7 | C9: 0 | D9: 0 | E9: 0 | F9: 0 | G9: 0 | H9: 0 | I9: 0 | J9: 0 | K9: 0 | L9: 0 | M9: 0 | N9: 0 | O9: 0 | P9: 0 | Q9: 0 | R9: 0 | S9: 0 | T9: 0 | U9: 0 | V9: 0 | X9: 1 | Y9: Charge maxi | Z9: Distance | AA9: Hauteur
B10: -6.5 | C10: 0 | D10: 0 | E10: 0 | F10: 0 | G10: 0 | H10: 0 | I10: 0 | J10: 0 | K10: 0 | L10: 0 | M10: 0 | N10: 0 | O10: 0 | P10: 0 | Q10: 0 | R10: 0 | S10: 0 | T10: 0 | U10: 0 | V10: 0 | Y10: =OFFSET($B$2,MATCH($AA$10,$B$3:$B$43,0),MATCH($Z$10,$C$2:$V$2,0)) -> 11100 | Z10: ='FO-PRE-04'!F22 -> 6 | AA10: ='FO-PRE-04'!G22 -> 1
B11: -6 | C11: 0 | D11: 0 | E11: 0 | F11: 0 | G11: 0 | H11: 0 | I11: 0 | J11: 0 | K11: 0 | L11: 0 | M11: 0 | N11: 0 | O11: 0 | P11: 0 | Q11: 0 | R11: 0 | S11: 0 | T11: 0 | U11: 0 | V11: 0 | X11: 2 | Y11: Charge maxi | Z11: Distance | AA11: Hauteur
B12: -5.5 | C12: 0 | D12: 0 | E12: 0 | F12: 0 | G12: 0 | H12: 0 | I12: 0 | J12: 0 | K12: 0 | L12: 0 | M12: 0 | N12: 0 | O12: 0 | P12: 0 | Q12: 0 | R12: 0 | S12: 0 | T12: 0 | U12: 0 | V12: 0 | Y12: =(OFFSET($B$2,MATCH($AA$12,$B$3:$B$43,0),MATCH($Z$12,$C$2:$V$2,0))) -> 0 | Z12: ='FO-PRE-04'!F23 -> 4 | AA12: ='FO-PRE-04'!G23 -> 2
B13: -5 | C13: 0 | D13: 0 | E13: 0 | F13: 0 | G13: 0 | H13: 0 | I13: 0 | J13: 0 | K13: 0 | L13: 0 | M13: 0 | N13: 0 | O13: 0 | P13: 0 | Q13: 0 | R13: 0 | S13: 0 | T13: 0 | U13: 0 | V13: 0 | X13: 3 | Y13: Charge maxi | Z13: Distance | AA13: Hauteur
B14: -4.5 | C14: 0 | D14: 0 | E14: 0 | F14: 0 | G14: 0 | H14: 0 | I14: 0 | J14: 0 | K14: 9000 | L14: 0 | M14: 0 | N14: 0 | O14: 0 | P14: 0 | Q14: 0 | R14: 0 | S14: 0 | T14: 0 | U14: 0 | V14: 0 | Y14: =((OFFSET($B$2,MATCH($AA$10,$B$3:$B$43,0),MATCH($Z$10,$C$2:$V$2,0)))) -> 11100 | Z14: ='FO-PRE-04'!F24 -> 6 | AA14: ='FO-PRE-04'!G24 -> 2
B15: -4 | C15: 0 | D15: 0 | E15: 0 | F15: 0 | G15: 0 | H15: 0 | I15: 0 | J15: 0 | K15: 9000 | L15: 0 | M15: 0 | N15: 0 | O15: 0 | P15: 0 | Q15: 0 | R15: 0 | S15: 0 | T15: 0 | U15: 0 | V15: 0 | X15: 4 | Y15: Charge maxi | Z15: Distance | AA15: Hauteur
B16: -3.5 | C16: 0 | D16: 0 | E16: 0 | F16: 0 | G16: 0 | H16: 0 | I16: 0 | J16: 0 | K16: 9000 | L16: 0 | M16: 0 | N16: 0 | O16: 0 | P16: 0 | Q16: 0 | R16: 0 | S16: 0 | T16: 0 | U16: 0 | V16: 0 | Y16: =((OFFSET($B$2,MATCH($AA$10,$B$3:$B$43,0),MATCH($Z$10,$C$2:$V$2,0)))) -> 11100 | Z16: ='FO-PRE-04'!F25 -> 4 | AA16: ='FO-PRE-04'!G25 -> 2
B17: -3 | C17: 0 | D17: 0 | E17: 0 | F17: 0 | G17: 0 | H17: 16100 | I17: 12600 | J17: 12600 | K17: 12600 | L17: 9600 | M17: 9600 | N17: 9600 | O17: 0 | P17: 0 | Q17: 0 | R17: 0 | S17: 0 | T17: 0 | U17: 0 | V17: 0 | X17: 5 | Y17: Charge maxi | Z17: Distance | AA17: Hauteur
B18: -2.5 | C18: 0 | D18: 0 | E18: 0 | F18: 0 | G18: 0 | H18: 11200 | I18: 12600 | J18: 12600 | K18: 12600 | L18: 9600 | M18: 9600 | N18: 9600 | O18: 0 | P18: 0 | Q18: 0 | R18: 0 | S18: 0 | T18: 0 | U18: 0 | V18: 0 | Y18: =((OFFSET($B$2,MATCH($AA$10,$B$3:$B$43,0),MATCH($Z$10,$C$2:$V$2,0)))) -> 11100 | Z18: ='FO-PRE-04'!F26 -> 6 | AA18: ='FO-PRE-04'!G26 -> 8
B19: -2 | C19: 0 | D19: 0 | E19: 0 | F19: 0 | G19: 0 | H19: 11200 | I19: 11200 | J19: 11200 | K19: 12600 | L19: 9600 | M19: 9600 | N19: 9600 | O19: 0 | P19: 0 | Q19: 0 | R19: 0 | S19: 0 | T19: 0 | U19: 0 | V19: 0
B20: -1.5 | C20: 0 | D20: 0 | E20: 0 | F20: 0 | G20: 0 | H20: 11200 | I20: 11200 | J20: 11200 | K20: 14600 | L20: 11000 | M20: 11000 | N20: 11000 | O20: 8500 | P20: 8500 | Q20: 8500 | R20: 0 | S20: 0 | T20: 0 | U20: 0 | V20: 0
B21: -1 | C21: 0 | D21: 0 | E21: 0 | F21: 0 | G21: 0 | H21: 0 | I21: 0 | J21: 0 | K21: 15500 | L21: 11000 | M21: 11000 | N21: 11000 | O21: 8500 | P21: 8500 | Q21: 8500 | R21: 0 | S21: 0 | T21: 0 | U21: 0 | V21: 0
B22: -0.5 | C22: 0 | D22: 0 | E22: 0 | F22: 0 | G22: 0 | H22: 0 | I22: 0 | J22: 0 | K22: 15500 | L22: 11000 | M22: 11000 | N22: 11000 | O22: 8500 | P22: 8500 | Q22: 8500 | R22: 0 | S22: 0 | T22: 0 | U22: 0 | V22: 0
B23: 0 | C23: 0 | D23: 0 | E23: 0 | F23: 0 | G23: 0 | H23: 0 | I23: 0 | J23: 0 | K23: 15500 | L23: 11400 | M23: 11400 | N23: 11400 | O23: 8600 | P23: 8600 | Q23: 8600 | R23: 0 | S23: 0 | T23: 0 | U23: 0 | V23: 0
B24: 0.5 | C24: 0 | D24: 0 | E24: 0 | F24: 0 | G24: 0 | H24: 0 | I24: 0 | J24: 0 | K24: 15500 | L24: 11100 | M24: 11100 | N24: 11100 | O24: 8600 | P24: 8600 | Q24: 8600 | R24: 0 | S24: 0 | T24: 0 | U24: 0 | V24: 0
B25: 1 | C25: 0 | D25: 0 | E25: 0 | F25: 0 | G25: 0 | H25: 0 | I25: 0 | J25: 0 | K25: 15500 | L25: 11100 | M25: 11100 | N25: 11100 | O25: 8600 | P25: 8600 | Q25: 8600 | R25: 0 | S25: 0 | T25: 0 | U25: 0 | V25: 0
B26: 1.5 | C26: 0 | D26: 0 | E26: 0 | F26: 0 | G26: 0 | H26: 0 | I26: 0 | J26: 0 | K26: 15500 | L26: 11100 | M26: 11100 | N26: 11100 | O26: 8700 | P26: 8700 | Q26: 8700 | R26: 0 | S26: 0 | T26: 0 | U26: 0 | V26: 0
B27: 2 | C27: 0 | D27: 0 | E27: 0 | F27: 0 | G27: 0 | H27: 0 | I27: 0 | J27: 0 | K27: 13900 | L27: 10200 | M27: 10200 | N27: 10200 | O27: 8500 | P27: 8500 | Q27: 8500 | R27: 0 | S27: 0 | T27: 0 | U27: 0 | V27: 0
B28: 2.5 | C28: 0 | D28: 0 | E28: 0 | F28: 0 | G28: 0 | H28: 0 | I28: 0 | J28: 0 | K28: 13900 | L28: 10200 | M28: 10200 | N28: 10200 | O28: 8500 | P28: 8500 | Q28: 8500 | R28: 0 | S28: 0 | T28: 0 | U28: 0 | V28: 0
B29: 3 | C29: 0 | D29: 0 | E29: 0 | F29: 0 | G29: 0 | H29: 0 | I29: 0 | J29: 0 | K29: 13900 | L29: 10200 | M29: 10200 | N29: 10200 | O29: 8500 | P29: 8500 | Q29: 8500 | R29: 0 | S29: 0 | T29: 0 | U29: 0 | V29: 0
B30: 3.5 | C30: 0 | D30: 0 | E30: 0 | F30: 0 | G30: 0 | H30: 0 | I30: 0 | J30: 0 | K30: 11400 | L30: 9100 | M30: 9100 | N30: 9100 | O30: 8000 | P30: 8000 | Q30: 8000 | R30: 0 | S30: 0 | T30: 0 | U30: 0 | V30: 0
... B43: 10 | C43: 0 | D43: 0 | E43: 0 | F43: 0 | G43: 0 | H43: 0 | I43: 0 | J43: 0 | K43: 0 | L43: 0 | M43: 0 | N43: 0 | O43: 0 | P43: 0 | Q43: 0 | R43: 0 | S43: 0 | T43: 0 | U43: 0 | V43: 0

Sheet 934 Jehl 3,1
B1: 934 Jehl 3,1 | C1: distance
C2: 0.5 | D2: 1 | E2: 1.5 | F2: 2 | G2: 2.5 | H2: 3 | I2: 3.5 | J2: 4 | K2: 4.5 | L2: 5 | M2: 5.5 | N2: 6 | O2: 6.5 | P2: 7 | Q2: 7.5 | R2: 8 | S2: 8.5 | T2: 9 | U2: 9.5 | V2: 10
A3: Hauteur | B3: -10 | C3: 0 | D3: 0 | E3: 0 | F3: 0 | G3: 0 | H3: 0 | I3: 0 | J3: 0 | K3: 0 | L3: 0 | M3: 0 | N3: 0 | O3: 0 | P3: 0 | Q3: 0 | R3: 0 | S3: 0 | T3: 0 | U3: 0 | V3: 0
B4: -9.5 | C4: 0 | D4: 0 | E4: 0 | F4: 0 | G4: 0 | H4: 0 | I4: 0 | J4: 0 | K4: 0 | L4: 0 | M4: 0 | N4: 0 | O4: 0 | P4: 0 | Q4: 0 | R4: 0 | S4: 0 | T4: 0 | U4: 0 | V4: 0
B5: -9 | C5: 0 | D5: 0 | E5: 0 | F5: 0 | G5: 0 | H5: 0 | I5: 0 | J5: 0 | K5: 0 | L5: 0 | M5: 0 | N5: 0 | O5: 0 | P5: 0 | Q5: 0 | R5: 0 | S5: 0 | T5: 0 | U5: 0 | V5: 0
B6: -8.5 | C6: 0 | D6: 0 | E6: 0 | F6: 0 | G6: 0 | H6: 0 | I6: 0 | J6: 0 | K6: 0 | L6: 0 | M6: 0 | N6: 0 | O6: 0 | P6: 0 | Q6: 0 | R6: 0 | S6: 0 | T6: 0 | U6: 0 | V6: 0
B7: -8 | C7: 0 | D7: 0 | E7: 0 | F7: 0 | G7: 0 | H7: 0 | I7: 0 | J7: 0 | K7: 0 | L7: 0 | M7: 0 | N7: 0 | O7: 0 | P7: 0 | Q7: 0 | R7: 0 | S7: 0 | T7: 0 | U7: 0 | V7: 0
B8: -7.5 | C8: 0 | D8: 0 | E8: 0 | F8: 0 | G8: 0 | H8: 0 | I8: 0 | J8: 0 | K8: 0 | L8: 0 | M8: 0 | N8: 0 | O8: 0 | P8: 0 | Q8: 0 | R8: 0 | S8: 0 | T8: 0 | U8: 0 | V8: 0
B9: -7 | C9: 0 | D9: 0 | E9: 0 | F9: 0 | G9: 0 | H9: 0 | I9: 0 | J9: 0 | K9: 0 | L9: 0 | M9: 0 | N9: 0 | O9: 0 | P9: 0 | Q9: 0 | R9: 0 | S9: 0 | T9: 0 | U9: 0 | V9: 0 | X9: 1 | Y9: Charge maxi | Z9: Distance | AA9: Hauteur
B10: -6.5 | C10: 0 | D10: 0 | E10: 0 | F10: 0 | G10: 0 | H10: 0 | I10: 0 | J10: 0 | K10: 0 | L10: 0 | M10: 0 | N10: 0 | O10: 0 | P10: 0 | Q10: 0 | R10: 0 | S10: 0 | T10: 0 | U10: 0 | V10: 0 | Y10: =OFFSET($B$2,MATCH($AA$10,$B$3:$B$820,0),MATCH($Z$10,$C$2:$V$2,0)) -> 10700 | Z10: ='FO-PRE-04'!F22 -> 6 | AA10: ='FO-PRE-04'!G22 -> 1
B11: -6 | C11: 0 | D11: 0 | E11: 0 | F11: 0 | G11: 0 | H11: 0 | I11: 0 | J11: 0 | K11: 0 | L11: 0 | M11: 0 | N11: 0 | O11: 0 | P11: 0 | Q11: 0 | R11: 0 | S11: 0 | T11: 0 | U11: 0 | V11: 0 | X11: 2 | Y11: Charge maxi | Z11: Distance | AA11: Hauteur
B12: -5.5 | C12: 0 | D12: 0 | E12: 0 | F12: 0 | G12: 0 | H12: 0 | I12: 0 | J12: 0 | K12: 0 | L12: 0 | M12: 0 | N12: 0 | O12: 0 | P12: 0 | Q12: 0 | R12: 0 | S12: 0 | T12: 0 | U12: 0 | V12: 0 | Y12: =(OFFSET($B$2,MATCH($AA$12,$B$3:$B$43,0),MATCH($Z$12,$C$2:$V$2,0))) -> 0 | Z12: ='FO-PRE-04'!F23 -> 4 | AA12: ='FO-PRE-04'!G23 -> 2
B13: -5 | C13: 0 | D13: 0 | E13: 0 | F13: 0 | G13: 0 | H13: 0 | I13: 0 | J13: 0 | K13: 0 | L13: 0 | M13: 0 | N13: 0 | O13: 0 | P13: 0 | Q13: 0 | R13: 0 | S13: 0 | T13: 0 | U13: 0 | V13: 0 | X13: 3 | Y13: Charge maxi | Z13: Distance | AA13: Hauteur
B14: -4.5 | C14: 0 | D14: 0 | E14: 0 | F14: 0 | G14: 0 | H14: 14100 | I14: 10700 | J14: 10700 | K14: 10700 | L14: 7800 | M14: 7800 | N14: 7800 | O14: 0 | P14: 0 | Q14: 0 | R14: 0 | S14: 0 | T14: 0 | U14: 0 | V14: 0 | Y14: =((OFFSET($B$2,MATCH($AA$10,$B$3:$B$820,0),MATCH($Z$10,$C$2:$V$2,0)))) -> 10700 | Z14: ='FO-PRE-04'!F24 -> 6 | AA14: ='FO-PRE-04'!G24 -> 2
B15: -4 | C15: 0 | D15: 0 | E15: 0 | F15: 0 | G15: 0 | H15: 14100 | I15: 10700 | J15: 10700 | K15: 10700 | L15: 7800 | M15: 7800 | N15: 7800 | O15: 0 | P15: 0 | Q15: 0 | R15: 0 | S15: 0 | T15: 0 | U15: 0 | V15: 0 | X15: 4 | Y15: Charge maxi | Z15: Distance | AA15: Hauteur
B16: -3.5 | C16: 0 | D16: 0 | E16: 0 | F16: 0 | G16: 0 | H16: 14100 | I16: 10700 | J16: 10700 | K16: 10700 | L16: 7800 | M16: 7800 | N16: 7800 | O16: 0 | P16: 0 | Q16: 0 | R16: 0 | S16: 0 | T16: 0 | U16: 0 | V16: 0 | Y16: =((OFFSET($B$2,MATCH($AA$10,$B$3:$B$820,0),MATCH($Z$10,$C$2:$V$2,0)))) -> 10700 | Z16: ='FO-PRE-04'!F25 -> 4 | AA16: ='FO-PRE-04'!G25 -> 2
B17: -3 | C17: 0 | D17: 0 | E17: 0 | F17: 0 | G17: 0 | H17: 16500 | I17: 13600 | J17: 13600 | K17: 13600 | L17: 10300 | M17: 10300 | N17: 10300 | O17: 7600 | P17: 7600 | Q17: 7600 | R17: 0 | S17: 0 | T17: 0 | U17: 0 | V17: 0 | X17: 5 | Y17: Charge maxi | Z17: Distance | AA17: Hauteur
B18: -2.5 | C18: 0 | D18: 0 | E18: 0 | F18: 0 | G18: 0 | H18: 10500 | I18: 10500 | J18: 10500 | K18: 13600 | L18: 10300 | M18: 10300 | N18: 10300 | O18: 7600 | P18: 7600 | Q18: 7600 | R18: 0 | S18: 0 | T18: 0 | U18: 0 | V18: 0 | Y18: =((OFFSET($B$2,MATCH($AA$10,$B$3:$B$820,0),MATCH($Z$10,$C$2:$V$2,0)))) -> 10700 | Z18: ='FO-PRE-04'!F26 -> 6 | AA18: ='FO-PRE-04'!G26 -> 8
B19: -2 | C19: 0 | D19: 0 | E19: 0 | F19: 0 | G19: 0 | H19: 10500 | I19: 10500 | J19: 10500 | K19: 13600 | L19: 10300 | M19: 10300 | N19: 10300 | O19: 7600 | P19: 7600 | Q19: 7600 | R19: 0 | S19: 0 | T19: 0 | U19: 0 | V19: 0
B20: -1.5 | C20: 0 | D20: 0 | E20: 0 | F20: 0 | G20: 0 | H20: 10500 | I20: 10500 | J20: 10500 | K20: 15100 | L20: 11200 | M20: 11200 | N20: 11200 | O20: 8400 | P20: 8400 | Q20: 8400 | R20: 0 | S20: 0 | T20: 0 | U20: 0 | V20: 0
B21: -1 | C21: 0 | D21: 0 | E21: 0 | F21: 0 | G21: 0 | H21: 5500 | I21: 5500 | J21: 5500 | K21: 15100 | L21: 11200 | M21: 11200 | N21: 11200 | O21: 8400 | P21: 8400 | Q21: 8400 | R21: 0 | S21: 0 | T21: 0 | U21: 0 | V21: 0
B22: -0.5 | C22: 0 | D22: 0 | E22: 0 | F22: 0 | G22: 0 | H22: 5500 | I22: 5500 | J22: 5500 | K22: 15100 | L22: 11200 | M22: 11200 | N22: 11200 | O22: 8400 | P22: 8400 | Q22: 8400 | R22: 0 | S22: 0 | T22: 0 | U22: 0 | V22: 0
B23: 0 | C23: 0 | D23: 0 | E23: 0 | F23: 0 | G23: 0 | H23: 5500 | I23: 5500 | J23: 5500 | K23: 15600 | L23: 11300 | M23: 11300 | N23: 11300 | O23: 8500 | P23: 8500 | Q23: 8500 | R23: 0 | S23: 0 | T23: 0 | U23: 0 | V23: 0
B24: 0.5 | C24: 0 | D24: 0 | E24: 0 | F24: 0 | G24: 0 | H24: 0 | I24: 0 | J24: 0 | K24: 14900 | L24: 10700 | M24: 10700 | N24: 10700 | O24: 8500 | P24: 8500 | Q24: 8500 | R24: 0 | S24: 0 | T24: 0 | U24: 0 | V24: 0
B25: 1 | C25: 0 | D25: 0 | E25: 0 | F25: 0 | G25: 0 | H25: 0 | I25: 0 | J25: 0 | K25: 14900 | L25: 10700 | M25: 10700 | N25: 10700 | O25: 8500 | P25: 8500 | Q25: 8500 | R25: 0 | S25: 0 | T25: 0 | U25: 0 | V25: 0
B26: 1.5 | C26: 0 | D26: 0 | E26: 0 | F26: 0 | G26: 0 | H26: 0 | I26: 0 | J26: 0 | K26: 14900 | L26: 10700 | M26: 10700 | N26: 10700 | O26: 8600 | P26: 8600 | Q26: 8600 | R26: 5000 | S26: 5000 | T26: 5000 | U26: 0 | V26: 0
B27: 2 | C27: 0 | D27: 0 | E27: 0 | F27: 0 | G27: 0 | H27: 0 | I27: 0 | J27: 0 | K27: 12900 | L27: 9600 | M27: 9600 | N27: 9600 | O27: 8100 | P27: 8100 | Q27: 8100 | R27: 0 | S27: 0 | T27: 0 | U27: 0 | V27: 0
B28: 2.5 | C28: 0 | D28: 0 | E28: 0 | F28: 0 | G28: 0 | H28: 0 | I28: 0 | J28: 0 | K28: 12900 | L28: 9600 | M28: 9600 | N28: 9600 | O28: 8100 | P28: 8100 | Q28: 8100 | R28: 0 | S28: 0 | T28: 0 | U28: 0 | V28: 0
B29: 3 | C29: 0 | D29: 0 | E29: 0 | F29: 0 | G29: 0 | H29: 0 | I29: 0 | J29: 0 | K29: 12900 | L29: 9600 | M29: 9600 | N29: 9600 | O29: 8100 | P29: 8100 | Q29: 8100 | R29: 0 | S29: 0 | T29: 0 | U29: 0 | V29: 0
B30: 3.5 | C30: 0 | D30: 0 | E30: 0 | F30: 0 | G30: 0 | H30: 0 | I30: 0 | J30: 0 | K30: 10200 | L30: 8400 | M30: 8400 | N30: 8400 | O30: 7500 | P30: 7500 | Q30: 7500 | R30: 0 | S30: 0 | T30: 0 | U30: 0 | V30: 0
... B43: 10 | C43: 0 | D43: 0 | E43: 0 | F43: 0 | G43: 0 | H43: 0 | I43: 0 | J43: 0 | K43: 0 | L43: 0 | M43: 0 | N43: 0 | O43: 0 | P43: 0 | Q43: 0 | R43: 0 | S43: 0 | T43: 0 | U43: 0 | V43: 0

Sheet 924 compact Jehl 2,95
B1: 924 compact 2,95 jehl | C1: distance
C2: 0.5 | D2: 1 | E2: 1.5 | F2: 2 | G2: 2.5 | H2: 3 | I2: 3.5 | J2: 4 | K2: 4.5 | L2: 5 | M2: 5.5 | N2: 6 | O2: 6.5 | P2: 7 | Q2: 7.5 | R2: 8 | S2: 8.5 | T2: 9 | U2: 9.5 | V2: 10
A3: Hauteur | B3: -10 | C3: 0 | D3: 0 | E3: 0 | F3: 0 | G3: 0 | H3: 0 | I3: 0 | J3: 0 | K3: 0 | L3: 0 | M3: 0 | N3: 0 | O3: 0 | P3: 0 | Q3: 0 | R3: 0 | S3: 0 | T3: 0 | U3: 0 | V3: 0
B4: -9.5 | C4: 0 | D4: 0 | E4: 0 | F4: 0 | G4: 0 | H4: 0 | I4: 0 | J4: 0 | K4: 0 | L4: 0 | M4: 0 | N4: 0 | O4: 0 | P4: 0 | Q4: 0 | R4: 0 | S4: 0 | T4: 0 | U4: 0 | V4: 0
B5: -9 | C5: 0 | D5: 0 | E5: 0 | F5: 0 | G5: 0 | H5: 0 | I5: 0 | J5: 0 | K5: 0 | L5: 0 | M5: 0 | N5: 0 | O5: 0 | P5: 0 | Q5: 0 | R5: 0 | S5: 0 | T5: 0 | U5: 0 | V5: 0
B6: -8.5 | C6: 0 | D6: 0 | E6: 0 | F6: 0 | G6: 0 | H6: 0 | I6: 0 | J6: 0 | K6: 0 | L6: 0 | M6: 0 | N6: 0 | O6: 0 | P6: 0 | Q6: 0 | R6: 0 | S6: 0 | T6: 0 | U6: 0 | V6: 0
B7: -8 | C7: 0 | D7: 0 | E7: 0 | F7: 0 | G7: 0 | H7: 0 | I7: 0 | J7: 0 | K7: 0 | L7: 0 | M7: 0 | N7: 0 | O7: 0 | P7: 0 | Q7: 0 | R7: 0 | S7: 0 | T7: 0 | U7: 0 | V7: 0
B8: -7.5 | C8: 0 | D8: 0 | E8: 0 | F8: 0 | G8: 0 | H8: 0 | I8: 0 | J8: 0 | K8: 0 | L8: 0 | M8: 0 | N8: 0 | O8: 0 | P8: 0 | Q8: 0 | R8: 0 | S8: 0 | T8: 0 | U8: 0 | V8: 0
B9: -7 | C9: 0 | D9: 0 | E9: 0 | F9: 0 | G9: 0 | H9: 0 | I9: 0 | J9: 0 | K9: 0 | L9: 0 | M9: 0 | N9: 0 | O9: 0 | P9: 0 | Q9: 0 | R9: 0 | S9: 0 | T9: 0 | U9: 0 | V9: 0 | X9: 1 | Y9: Charge maxi | Z9: Distance | AA9: Hauteur
B10: -6.5 | C10: 0 | D10: 0 | E10: 0 | F10: 0 | G10: 0 | H10: 0 | I10: 0 | J10: 0 | K10: 0 | L10: 0 | M10: 0 | N10: 0 | O10: 0 | P10: 0 | Q10: 0 | R10: 0 | S10: 0 | T10: 0 | U10: 0 | V10: 0 | Y10: =OFFSET($B$2,MATCH($AA$10,$B$3:$B$820,0),MATCH($Z$10,$C$2:$V$2,0)) -> 7300 | Z10: ='FO-PRE-04'!F22 -> 6 | AA10: ='FO-PRE-04'!G22 -> 1
B11: -6 | C11: 0 | D11: 0 | E11: 0 | F11: 0 | G11: 0 | H11: 0 | I11: 0 | J11: 0 | K11: 0 | L11: 0 | M11: 0 | N11: 0 | O11: 0 | P11: 0 | Q11: 0 | R11: 0 | S11: 0 | T11: 0 | U11: 0 | V11: 0 | X11: 2 | Y11: Charge maxi | Z11: Distance | AA11: Hauteur
B12: -5.5 | C12: 0 | D12: 0 | E12: 0 | F12: 0 | G12: 0 | H12: 0 | I12: 0 | J12: 0 | K12: 0 | L12: 0 | M12: 0 | N12: 0 | O12: 0 | P12: 0 | Q12: 0 | R12: 0 | S12: 0 | T12: 0 | U12: 0 | V12: 0 | Y12: =(OFFSET($B$2,MATCH($AA$12,$B$3:$B$43,0),MATCH($Z$12,$C$2:$V$2,0))) -> 9200 | Z12: ='FO-PRE-04'!F23 -> 4 | AA12: ='FO-PRE-04'!G23 -> 2
B13: -5 | C13: 0 | D13: 0 | E13: 0 | F13: 0 | G13: 0 | H13: 0 | I13: 0 | J13: 0 | K13: 0 | L13: 0 | M13: 0 | N13: 0 | O13: 0 | P13: 0 | Q13: 0 | R13: 0 | S13: 0 | T13: 0 | U13: 0 | V13: 0 | X13: 3 | Y13: Charge maxi | Z13: Distance | AA13: Hauteur
B14: -4.5 | C14: 0 | D14: 0 | E14: 0 | F14: 0 | G14: 0 | H14: 12700 | I14: 7300 | J14: 7300 | K14: 7300 | L14: 0 | M14: 0 | N14: 0 | O14: 0 | P14: 0 | Q14: 0 | R14: 0 | S14: 0 | T14: 0 | U14: 0 | V14: 0 | Y14: =((OFFSET($B$2,MATCH($AA$10,$B$3:$B$820,0),MATCH($Z$10,$C$2:$V$2,0)))) -> 7300 | Z14: ='FO-PRE-04'!F24 -> 6 | AA14: ='FO-PRE-04'!G24 -> 2
B15: -4 | C15: 0 | D15: 0 | E15: 0 | F15: 0 | G15: 0 | H15: 12700 | I15: 7300 | J15: 7300 | K15: 7300 | L15: 0 | M15: 0 | N15: 0 | O15: 0 | P15: 0 | Q15: 0 | R15: 0 | S15: 0 | T15: 0 | U15: 0 | V15: 0 | X15: 4 | Y15: Charge maxi | Z15: Distance | AA15: Hauteur
B16: -3.5 | C16: 0 | D16: 0 | E16: 0 | F16: 0 | G16: 0 | H16: 12700 | I16: 7300 | J16: 7300 | K16: 7300 | L16: 0 | M16: 0 | N16: 0 | O16: 0 | P16: 0 | Q16: 0 | R16: 0 | S16: 0 | T16: 0 | U16: 0 | V16: 0 | Y16: =((OFFSET($B$2,MATCH($AA$10,$B$3:$B$820,0),MATCH($Z$10,$C$2:$V$2,0)))) -> 7300 | Z16: ='FO-PRE-04'!F25 -> 4 | AA16: ='FO-PRE-04'!G25 -> 2
B17: -3 | C17: 0 | D17: 0 | E17: 0 | F17: 0 | G17: 0 | H17: 16400 | I17: 10400 | J17: 10400 | K17: 10400 | L17: 6900 | M17: 6900 | N17: 6900 | O17: 0 | P17: 0 | Q17: 0 | R17: 0 | S17: 0 | T17: 0 | U17: 0 | V17: 0 | X17: 5 | Y17: Charge maxi | Z17: Distance | AA17: Hauteur
B18: -2.5 | C18: 0 | D18: 0 | E18: 0 | F18: 0 | G18: 0 | H18: 16200 | I18: 10300 | J18: 10300 | K18: 10300 | L18: 6900 | M18: 6900 | N18: 6900 | O18: 0 | P18: 0 | Q18: 0 | R18: 0 | S18: 0 | T18: 0 | U18: 0 | V18: 0 | Y18: =((OFFSET($B$2,MATCH($AA$10,$B$3:$B$820,0),MATCH($Z$10,$C$2:$V$2,0)))) -> 7300 | Z18: ='FO-PRE-04'!F26 -> 6 | AA18: ='FO-PRE-04'!G26 -> 8
B19: -2 | C19: 0 | D19: 0 | E19: 0 | F19: 0 | G19: 0 | H19: 16200 | I19: 10300 | J19: 10300 | K19: 10300 | L19: 6900 | M19: 6900 | N19: 6900 | O19: 0 | P19: 0 | Q19: 0 | R19: 0 | S19: 0 | T19: 0 | U19: 0 | V19: 0
B20: -1.5 | C20: 0 | D20: 0 | E20: 0 | F20: 0 | G20: 0 | H20: 16200 | I20: 10300 | J20: 10300 | K20: 10300 | L20: 7600 | M20: 7600 | N20: 7600 | O20: 5600 | P20: 5600 | Q20: 5600 | R20: 0 | S20: 0 | T20: 0 | U20: 0 | V20: 0
B21: -1 | C21: 0 | D21: 0 | E21: 0 | F21: 0 | G21: 0 | H21: 15400 | I21: 10200 | J21: 10200 | K21: 10200 | L21: 7400 | M21: 7400 | N21: 7400 | O21: 5600 | P21: 5600 | Q21: 5600 | R21: 0 | S21: 0 | T21: 0 | U21: 0 | V21: 0
B22: -0.5 | C22: 0 | D22: 0 | E22: 0 | F22: 0 | G22: 0 | H22: 15400 | I22: 10200 | J22: 10200 | K22: 10200 | L22: 7400 | M22: 7400 | N22: 7400 | O22: 5600 | P22: 5600 | Q22: 5600 | R22: 0 | S22: 0 | T22: 0 | U22: 0 | V22: 0
B23: 0 | C23: 0 | D23: 0 | E23: 0 | F23: 0 | G23: 0 | H23: 15400 | I23: 10200 | J23: 10200 | K23: 10200 | L23: 7400 | M23: 7400 | N23: 7400 | O23: 5800 | P23: 5800 | Q23: 5800 | R23: 0 | S23: 0 | T23: 0 | U23: 0 | V23: 0
B24: 0.5 | C24: 0 | D24: 0 | E24: 0 | F24: 0 | G24: 0 | H24: 13800 | I24: 10100 | J24: 10100 | K24: 10100 | L24: 7300 | M24: 7300 | N24: 7300 | O24: 5800 | P24: 5800 | Q24: 5800 | R24: 0 | S24: 0 | T24: 0 | U24: 0 | V24: 0
B25: 1 | C25: 0 | D25: 0 | E25: 0 | F25: 0 | G25: 0 | H25: 13800 | I25: 10100 | J25: 10100 | K25: 10100 | L25: 7300 | M25: 7300 | N25: 7300 | O25: 5800 | P25: 5800 | Q25: 5800 | R25: 0 | S25: 0 | T25: 0 | U25: 0 | V25: 0
B26: 1.5 | C26: 0 | D26: 0 | E26: 0 | F26: 0 | G26: 0 | H26: 13800 | I26: 10100 | J26: 10100 | K26: 10100 | L26: 7300 | M26: 7300 | N26: 7300 | O26: 5800 | P26: 5800 | Q26: 5800 | R26: 0 | S26: 0 | T26: 0 | U26: 0 | V26: 0
B27: 2 | C27: 0 | D27: 0 | E27: 0 | F27: 0 | G27: 0 | H27: 13800 | I27: 9200 | J27: 9200 | K27: 9200 | L27: 6900 | M27: 6900 | N27: 6900 | O27: 5600 | P27: 5600 | Q27: 5600 | R27: 0 | S27: 0 | T27: 0 | U27: 0 | V27: 0
B28: 2.5 | C28: 0 | D28: 0 | E28: 0 | F28: 0 | G28: 0 | H28: 13800 | I28: 9200 | J28: 9200 | K28: 9200 | L28: 6900 | M28: 6900 | N28: 6900 | O28: 5600 | P28: 5600 | Q28: 5600 | R28: 0 | S28: 0 | T28: 0 | U28: 0 | V28: 0
B29: 3 | C29: 0 | D29: 0 | E29: 0 | F29: 0 | G29: 0 | H29: 14100 | I29: 9200 | J29: 9200 | K29: 9200 | L29: 6900 | M29: 6900 | N29: 6900 | O29: 5600 | P29: 5600 | Q29: 5600 | R29: 0 | S29: 0 | T29: 0 | U29: 0 | V29: 0
B30: 3.5 | C30: 0 | D30: 0 | E30: 0 | F30: 0 | G30: 0 | H30: 11200 | I30: 7900 | J30: 7900 | K30: 7900 | L30: 6400 | M30: 6400 | N30: 6400 | O30: 5400 | P30: 5400 | Q30: 5400 | R30: 0 | S30: 0 | T30: 0 | U30: 0 | V30: 0
