Workbook

Sheet Feuil1
A1: Numéro d'article | B1: Numéro de série | C1: Nom d'article | D1: Entrepôt | E1: Numéro du lot | F1: Stock physique | G1: Physique réservé | H1: Physique disponible | I1: Total commandé | J1: En commande | K1: Commandé réservé | L1: Total disponible | M1: Montant
A2: P005A017-A | C2: CARTOUCHE | D2: MAG01 | J2: 20 | L2: -20 | M2: 0
A3: P005A017-A | C3: CARTOUCHE | D3: MAG01 | E3: 74950 | F3: 9 | G3: 4 | H3: 5 | L3: 5 | M3: 4086.38
A4: P005A017-A | C4: CARTOUCHE | D4: MAG01 | E4: 75565 | F4: 25 | H4: 25 | L4: 25 | M4: 10714.68
A5: AA3012 | C5: Pièce de remplissage | D5: MAG01 | E5: ALAT-15-0115-068 | M5: 0
A6: AA3012 | C6: Pièce de remplissage | D6: MAG01 | E6: ALAT-15-4999-001 | M6: 0
A7: AA3012 | C7: Pièce de remplissage | D7: MAG01 | E7: ALAT-15-4999-002 | F7: 111 | H7: 111 | L7: 111 | M7: 1404.15
A8: AA3012 | C8: Pièce de remplissage | D8: MAG01 | E8: ALAT-15-4999-003 | F8: 11 | H8: 11 | L8: 11 | M8: 139.15
A9: AA3012 | C9: Pièce de remplissage | D9: MAG01 | E9: ALAT-15-4999-022 | F9: 246 | H9: 246 | L9: 246 | M9: 3111.9
A10: AA3012 | C10: Pièce de remplissage | D10: MAG01 | E10: ALAT-15-4999-023 | F10: 234 | H10: 234 | L10: 234 | M10: 2960.1

Sheet Feuil2
A1: ref | B1: dispo
A2: {=IFERROR(OFFSET(Feuil1!A$1,MATCH(0,COUNTIF(A$1:A1,Feuil1!A$2:A$100),0),),"")} -> P005A017-A | B2: =SUMPRODUCT((Feuil1!A$2:A$100=A2)*(Feuil1!H$2:H$100)) -> 30
A3: {=IFERROR(OFFSET(Feuil1!A$1,MATCH(0,COUNTIF(A$1:A2,Feuil1!A$2:A$100),0),),"")} -> AA3012 | B3: =SUMPRODUCT((Feuil1!A$2:A$100=A3)*(Feuil1!H$2:H$100)) -> 602
A4: {=IFERROR(OFFSET(Feuil1!A$1,MATCH(0,COUNTIF(A$1:A3,Feuil1!A$2:A$100),0),),"")} -> 0 | B4: =SUMPRODUCT((Feuil1!A$2:A$100=A4)*(Feuil1!H$2:H$100)) -> 0
A5: {=IFERROR(OFFSET(Feuil1!A$1,MATCH(0,COUNTIF(A$1:A4,Feuil1!A$2:A$100),0),),"")} | B5: =SUMPRODUCT((Feuil1!A$2:A$100=A5)*(Feuil1!H$2:H$100)) -> 0 | F5: la colonneA est automatiquement triée sans double
A6: {=IFERROR(OFFSET(Feuil1!A$1,MATCH(0,COUNTIF(A$1:A5,Feuil1!A$2:A$100),0),),"")} | B6: =SUMPRODUCT((Feuil1!A$2:A$100=A6)*(Feuil1!H$2:H$100)) -> 0
A7: {=IFERROR(OFFSET(Feuil1!A$1,MATCH(0,COUNTIF(A$1:A6,Feuil1!A$2:A$100),0),),"")} | B7: =SUMPRODUCT((Feuil1!A$2:A$100=A7)*(Feuil1!H$2:H$100)) -> 0
A8: {=IFERROR(OFFSET(Feuil1!A$1,MATCH(0,COUNTIF(A$1:A7,Feuil1!A$2:A$100),0),),"")} | B8: =SUMPRODUCT((Feuil1!A$2:A$100=A8)*(Feuil1!H$2:H$100)) -> 0
A9: {=IFERROR(OFFSET(Feuil1!A$1,MATCH(0,COUNTIF(A$1:A8,Feuil1!A$2:A$100),0),),"")} | B9: =SUMPRODUCT((Feuil1!A$2:A$100=A9)*(Feuil1!H$2:H$100)) -> 0
A10: {=IFERROR(OFFSET(Feuil1!A$1,MATCH(0,COUNTIF(A$1:A9,Feuil1!A$2:A$100),0),),"")} | B10: =SUMPRODUCT((Feuil1!A$2:A$100=A10)*(Feuil1!H$2:H$100)) -> 0
A11: {=IFERROR(OFFSET(Feuil1!A$1,MATCH(0,COUNTIF(A$1:A10,Feuil1!A$2:A$100),0),),"")} | B11: =SUMPRODUCT((Feuil1!A$2:A$100=A11)*(Feuil1!H$2:H$100)) -> 0
A12: {=IFERROR(OFFSET(Feuil1!A$1,MATCH(0,COUNTIF(A$1:A11,Feuil1!A$2:A$100),0),),"")} | B12: =SUMPRODUCT((Feuil1!A$2:A$100=A12)*(Feuil1!H$2:H$100)) -> 0
A13: {=IFERROR(OFFSET(Feuil1!A$1,MATCH(0,COUNTIF(A$1:A12,Feuil1!A$2:A$100),0),),"")} | B13: =SUMPRODUCT((Feuil1!A$2:A$100=A13)*(Feuil1!H$2:H$100)) -> 0
A14: {=IFERROR(OFFSET(Feuil1!A$1,MATCH(0,COUNTIF(A$1:A13,Feuil1!A$2:A$100),0),),"")} | B14: =SUMPRODUCT((Feuil1!A$2:A$100=A14)*(Feuil1!H$2:H$100)) -> 0
A15: {=IFERROR(OFFSET(Feuil1!A$1,MATCH(0,COUNTIF(A$1:A14,Feuil1!A$2:A$100),0),),"")} | B15: =SUMPRODUCT((Feuil1!A$2:A$100=A15)*(Feuil1!H$2:H$100)) -> 0
A16: {=IFERROR(OFFSET(Feuil1!A$1,MATCH(0,COUNTIF(A$1:A15,Feuil1!A$2:A$100),0),),"")} | B16: =SUMPRODUCT((Feuil1!A$2:A$100=A16)*(Feuil1!H$2:H$100)) -> 0
A17: {=IFERROR(OFFSET(Feuil1!A$1,MATCH(0,COUNTIF(A$1:A16,Feuil1!A$2:A$100),0),),"")} | B17: =SUMPRODUCT((Feuil1!A$2:A$100=A17)*(Feuil1!H$2:H$100)) -> 0
... A24: {=IFERROR(OFFSET(Feuil1!A$1,MATCH(0,COUNTIF(A$1:A23,Feuil1!A$2:A$100),0),),"")} | B24: =SUMPRODUCT((Feuil1!A$2:A$100=A24)*(Feuil1!H$2:H$100)) -> 0

Sheet Feuil3
