Workbook

Sheet (32)Flange Peq
A1: CAESAR II 2016 Ver.8.00.00.5600, (Build 150930) Date: JUN 28, 2018 Time: 11:46
A2: Job Name: PRJ238_INE_NDC12_REV03_SORTIE 2 COUDES_TORCHE
A3: Licensed To: SPLM: Edit company name in <system>\company.txt
A4: FLANGE PEQ REPORT: Flange (Equiv Pressure Method)
A5: CASE 32 (EXP) L32=L5-L20
A7: Node | B7: Axial Force N | C7: Bending Moment N.m | D7: G/C mm | E7: P Equivalent bar | F7: Rating Temperature C | G7: Allowable Pressure /Stress | H7: Ratio %
A8: 10 | B8: 1067 | C8: 369 | D8: 196.09 | E8: 2.84 | F8: -17.78 | G8: 0.00 | H8: 0.00
A9: 10 | B9: 1067 | C9: 369 | D9: 196.09 | E9: 2.84 | F9: -17.78 | G9: 0.00 | H9: 0.00
A10: 20070 | B10: 595 | C10: 670 | D10: 196.09 | E10: 4.72 | F10: -17.78 | G10: 0.00 | H10: 0.00
A11: 20090 | B11: 1256 | C11: 748 | D11: 138.18 | E11: 15.28 | F11: -17.78 | G11: 0.00 | H11: 0.00
A12: 20210 | B12: 307 | C12: 533 | D12: 196.09 | E12: 3.70 | F12: -17.78 | G12: 0.00 | H12: 0.00
A13: 2015 | B13: 1651 | C13: 187 | D13: 77.85 | E13: 23.63 | F13: -17.78 | G13: 0.00 | H13: 0.00
A14: 20040 | B14: 1651 | C14: 357 | D14: 77.85 | E14: 42.03 | F14: -17.78 | G14: 0.00 | H14: 0.00
A15: 6210 | B15: 3802 | C15: 456 | D15: 111.13 | E15: 20.84 | F15: -17.78 | G15: 0.00 | H15: 0.00
A16: 6220 | B16: 3802 | C16: 569 | D16: 111.13 | E16: 25.04 | F16: -17.78 | G16: 0.00 | H16: 0.00
A17: 6380 | B17: 1473 | C17: 296 | D17: 111.13 | E17: 12.50 | F17: -17.78 | G17: 0.00 | H17: 0.00
A18: 6490 | B18: 705 | C18: 175 | D18: 111.13 | E18: 7.23 | F18: -17.78 | G18: 0.00 | H18: 0.00
A19: 6410 | B19: 632 | C19: 198 | D19: 111.13 | E19: 8.00 | F19: -17.78 | G19: 0.00 | H19: 0.00
... A96: 290 | B96: 1380 | C96: 4279 | D96: 357.25 | E96: 4.92 | F96: -17.78 | G96: 0.00 | H96: 0.00

Sheet (31)Flange Peq
A1: CAESAR II 2016 Ver.8.00.00.5600, (Build 150930) Date: JUN 28, 2018 Time: 11:46
A2: Job Name: PRJ238_INE_NDC12_REV03_SORTIE 2 COUDES_TORCHE
A3: Licensed To: SPLM: Edit company name in <system>\company.txt
A4: FLANGE PEQ REPORT: Flange (Equiv Pressure Method)
A5: CASE 31 (EXP) L31=L6-L16
A7: Node | B7: Axial Force N | C7: Bending Moment N.m | D7: G/C mm | E7: P Equivalent bar | F7: Rating Temperature C | G7: Allowable Pressure /Stress | H7: Ratio %
A8: 10 | B8: 1581 | C8: 1192 | D8: 196.09 | E8: 8.57 | F8: -17.78 | G8: 0.00 | H8: 0.00
A9: 10 | B9: 1581 | C9: 1192 | D9: 196.09 | E9: 8.57 | F9: -17.78 | G9: 0.00 | H9: 0.00
A10: 20070 | B10: 153 | C10: 886 | D10: 196.09 | E10: 6.03 | F10: -17.78 | G10: 0.00 | H10: 0.00
A11: 20090 | B11: 1194 | C11: 677 | D11: 138.18 | E11: 13.87 | F11: -17.78 | G11: 0.00 | H11: 0.00
A12: 20210 | B12: 1345 | C12: 956 | D12: 196.09 | E12: 6.91 | F12: -17.78 | G12: 0.00 | H12: 0.00
A13: 2015 | B13: 1704 | C13: 311 | D13: 77.85 | E13: 37.15 | F13: -17.78 | G13: 0.00 | H13: 0.00
A14: 20040 | B14: 1704 | C14: 470 | D14: 77.85 | E14: 54.31 | F14: -17.78 | G14: 0.00 | H14: 0.00
A15: 6210 | B15: 1736 | C15: 687 | D15: 111.13 | E15: 27.30 | F15: -17.78 | G15: 0.00 | H15: 0.00
A16: 6220 | B16: 1736 | C16: 704 | D16: 111.13 | E16: 27.90 | F16: -17.78 | G16: 0.00 | H16: 0.00
A17: 6310 | B17: 361 | C17: 161 | D17: 111.13 | E17: 6.36 | F17: -17.78 | G17: 0.00 | H17: 0.00
A18: 6380 | B18: 450 | C18: 82 | D18: 111.13 | E18: 3.51 | F18: -17.78 | G18: 0.00 | H18: 0.00
A19: 6490 | B19: 109 | C19: 111 | D19: 111.13 | E19: 4.23 | F19: -17.78 | G19: 0.00 | H19: 0.00
... A97: 290 | B97: 232 | C97: 777 | D97: 357.25 | E97: 0.89 | F97: -17.78 | G97: 0.00 | H97: 0.00

Sheet (20)Flange Peq
A1: CAESAR II 2016 Ver.8.00.00.5600, (Build 150930) Date: JUN 28, 2018 Time: 11:46
A2: Job Name: PRJ238_INE_NDC12_REV03_SORTIE 2 COUDES_TORCHE
A3: Licensed To: SPLM: Edit company name in <system>\company.txt
A4: FLANGE PEQ REPORT: Flange (Equiv Pressure Method)
A5: CASE 20 (SUS) WNC+P2
A7: Node | B7: C lasse | C7: DN | D7: Pression | E7: Axial Force N | F7: Bending Moment N.m | G7: G/C mm | H7: C (mm) | I7: P Equivalent bar | J7: Rating Temperature C | K7: Allowable Pressure /Stress | L7: Ratio % | M7: Index
A8: 10 | B8: =IFERROR(INDEX('Input Echo'!$M$11:$M$596,MATCH('(3)Flange Peq'!$A8,'Input Echo'!$I$11:$I$596,0)),INDEX('Input Echo'!$M$11:$M$596,MATCH('(3)Flange Peq'!$A8,'Input Echo'!$J$11:$J$596,0))) -> 150 | C8: =IFERROR(INDEX('Input Echo'!$AI$11:$AI$596,MATCH('(3)Flange Peq'!$A8,'Input Echo'!$I$11:$I$596,0)),INDEX('Input Echo'!$AI$11:$AI$596,MATCH('(3)Flange Peq'!$A8,'Input Echo'!$J$11:$J$596,0))) -> 150 | D8: =IFERROR(INDEX('Input Echo'!$Z$11:$Z$596,MATCH('(3)Flange Peq'!$A8,'Input Echo'!$I$11:$I$596,0)),INDEX('Input Echo'!$Z$11:$Z$596,MATCH('(3)Flange Peq'!$A8,'Input Echo'!$J$11:$J$596,0))) -> 0 | E8: 1058 | F8: 182 | G8: 196.09 | H8: =IFERROR(INDEX('Input Echo'!$O$11:$O$596,MATCH('(3)Flange Peq'!$A8,'Input Echo'!$I$11:$I$596,0)),INDEX('Input Echo'!$O$11:$O$596,MATCH('(3)Flange Peq'!$A8,'[1]Input Echo'!$J$11:$J$600,0))) -> 241.3 | I8: =D8+4*E8*10/(PI()*G8^2)+16*F8*10^4/(PI()*G8^2*H8) -> 1.349354 | J8: -48 | K8: 19.65 | L8: =(I8/K8)*100 -> 6.8669416 | M8: =B8&C8 -> 150150
A9: 10 | B9: =IFERROR(INDEX('Input Echo'!$M$11:$M$596,MATCH('(3)Flange Peq'!$A9,'Input Echo'!$I$11:$I$596,0)),INDEX('Input Echo'!$M$11:$M$596,MATCH('(3)Flange Peq'!$A9,'Input Echo'!$J$11:$J$596,0))) -> 150 | C9: =IFERROR(INDEX('Input Echo'!$AI$11:$AI$596,MATCH('(3)Flange Peq'!$A9,'Input Echo'!$I$11:$I$596,0)),INDEX('Input Echo'!$AI$11:$AI$596,MATCH('(3)Flange Peq'!$A9,'Input Echo'!$J$11:$J$596,0))) -> 150 | D9: =IFERROR(INDEX('Input Echo'!$Z$11:$Z$596,MATCH('(3)Flange Peq'!$A9,'Input Echo'!$I$11:$I$596,0)),INDEX('Input Echo'!$Z$11:$Z$596,MATCH('(3)Flange Peq'!$A9,'Input Echo'!$J$11:$J$596,0))) -> 0 | E9: 1058 | F9: 182 | G9: 196.09 | H9: =IFERROR(INDEX('Input Echo'!$O$11:$O$596,MATCH('(3)Flange Peq'!$A9,'Input Echo'!$I$11:$I$596,0)),INDEX('Input Echo'!$O$11:$O$596,MATCH('(3)Flange Peq'!$A9,'[1]Input Echo'!$J$11:$J$600,0))) -> 241.3 | I9: =D9+4*E9*10/(PI()*G9^2)+16*F9*10^4/(PI()*G9^2*H9) -> 1.349354 | J9: -48 | K9: 19.65 | L9: =(I9/K9)*100 -> 6.8669416 | M9: =B9&C9 -> 150150
A10: 20070 | B10: =IFERROR(INDEX('Input Echo'!$M$11:$M$596,MATCH('(3)Flange Peq'!$A10,'Input Echo'!$I$11:$I$596,0)),INDEX('Input Echo'!$M$11:$M$596,MATCH('(3)Flange Peq'!$A10,'Input Echo'!$J$11:$J$596,0))) -> 0 | C10: =IFERROR(INDEX('Input Echo'!$AI$11:$AI$596,MATCH('(3)Flange Peq'!$A10,'Input Echo'!$I$11:$I$596,0)),INDEX('Input Echo'!$AI$11:$AI$596,MATCH('(3)Flange Peq'!$A10,'Input Echo'!$J$11:$J$596,0))) -> 150 | D10: =IFERROR(INDEX('Input Echo'!$Z$11:$Z$596,MATCH('(3)Flange Peq'!$A10,'Input Echo'!$I$11:$I$596,0)),INDEX('Input Echo'!$Z$11:$Z$596,MATCH('(3)Flange Peq'!$A10,'Input Echo'!$J$11:$J$596,0))) -> 0 | E10: 221 | F10: 148 | G10: 196.09 | H10: =IFERROR(INDEX('Input Echo'!$O$11:$O$596,MATCH('(3)Flange Peq'!$A10,'Input Echo'!$I$11:$I$596,0)),INDEX('Input Echo'!$O$11:$O$596,MATCH('(3)Flange Peq'!$A10,'[1]Input Echo'!$J$11:$J$600,0))) -> 0 | I10: =D10+4*E10*10/(PI()*G10^2)+16*F10*10^4/(PI()*G10^2*H10) -> #DIV/0! | J10: -48 | K10: 19.65 | L10: =(I10/K10)*100 -> #DIV/0! | M10: =B10&C10 -> 0150
A11: 20090 | B11: =IFERROR(INDEX('Input Echo'!$M$11:$M$596,MATCH('(3)Flange Peq'!$A11,'Input Echo'!$I$11:$I$596,0)),INDEX('Input Echo'!$M$11:$M$596,MATCH('(3)Flange Peq'!$A11,'Input Echo'!$J$11:$J$596,0))) -> 0 | C11: =IFERROR(INDEX('Input Echo'!$AI$11:$AI$596,MATCH('(3)Flange Peq'!$A11,'Input Echo'!$I$11:$I$596,0)),INDEX('Input Echo'!$AI$11:$AI$596,MATCH('(3)Flange Peq'!$A11,'Input Echo'!$J$11:$J$596,0))) -> 80 | D11: =IFERROR(INDEX('Input Echo'!$Z$11:$Z$596,MATCH('(3)Flange Peq'!$A11,'Input Echo'!$I$11:$I$596,0)),INDEX('Input Echo'!$Z$11:$Z$596,MATCH('(3)Flange Peq'!$A11,'Input Echo'!$J$11:$J$596,0))) -> -1 | E11: 912 | F11: 190 | G11: 138.18 | H11: =IFERROR(INDEX('Input Echo'!$O$11:$O$596,MATCH('(3)Flange Peq'!$A11,'Input Echo'!$I$11:$I$596,0)),INDEX('Input Echo'!$O$11:$O$596,MATCH('(3)Flange Peq'!$A11,'[1]Input Echo'!$J$11:$J$600,0))) -> 0 | I11: =D11+4*E11*10/(PI()*G11^2)+16*F11*10^4/(PI()*G11^2*H11) -> #DIV/0! | J11: -13 | K11: 51.02 | L11: =(I11/K11)*100 -> #DIV/0! | M11: =B11&C11 -> 080
A12: 20210 | B12: =IFERROR(INDEX('Input Echo'!$M$11:$M$596,MATCH('(3)Flange Peq'!$A12,'Input Echo'!$I$11:$I$596,0)),INDEX('Input Echo'!$M$11:$M$596,MATCH('(3)Flange Peq'!$A12,'Input Echo'!$J$11:$J$596,0))) -> 0 | C12: =IFERROR(INDEX('Input Echo'!$AI$11:$AI$596,MATCH('(3)Flange Peq'!$A12,'Input Echo'!$I$11:$I$596,0)),INDEX('Input Echo'!$AI$11:$AI$596,MATCH('(3)Flange Peq'!$A12,'Input Echo'!$J$11:$J$596,0))) -> 50 | D12: =IFERROR(INDEX('Input Echo'!$Z$11:$Z$596,MATCH('(3)Flange Peq'!$A12,'Input Echo'!$I$11:$I$596,0)),INDEX('Input Echo'!$Z$11:$Z$596,MATCH('(3)Flange Peq'!$A12,'Input Echo'!$J$11:$J$596,0))) -> -1 | E12: 747 | F12: 607 | G12: 196.09 | H12: =IFERROR(INDEX('Input Echo'!$O$11:$O$596,MATCH('(3)Flange Peq'!$A12,'Input Echo'!$I$11:$I$596,0)),INDEX('Input Echo'!$O$11:$O$596,MATCH('(3)Flange Peq'!$A12,'[1]Input Echo'!$J$11:$J$600,0))) -> 0 | I12: =D12+4*E12*10/(PI()*G12^2)+16*F12*10^4/(PI()*G12^2*H12) -> #DIV/0! | J12: -13 | K12: 51.02 | L12: =(I12/K12)*100 -> #DIV/0! | M12: =B12&C12 -> 050
A13: 2015 | B13: =IFERROR(INDEX('Input Echo'!$M$11:$M$596,MATCH('(3)Flange Peq'!$A13,'Input Echo'!$I$11:$I$596,0)),INDEX('Input Echo'!$M$11:$M$596,MATCH('(3)Flange Peq'!$A13,'Input Echo'!$J$11:$J$596,0))) -> 300 | C13: =IFERROR(INDEX('Input Echo'!$AI$11:$AI$596,MATCH('(3)Flange Peq'!$A13,'Input Echo'!$I$11:$I$596,0)),INDEX('Input Echo'!$AI$11:$AI$596,MATCH('(3)Flange Peq'!$A13,'Input Echo'!$J$11:$J$596,0))) -> 100 | D13: =IFERROR(INDEX('Input Echo'!$Z$11:$Z$596,MATCH('(3)Flange Peq'!$A13,'Input Echo'!$I$11:$I$596,0)),INDEX('Input Echo'!$Z$11:$Z$596,MATCH('(3)Flange Peq'!$A13,'Input Echo'!$J$11:$J$596,0))) -> -1 | E13: 717 | F13: 60 | G13: 77.85 | H13: =IFERROR(INDEX('Input Echo'!$O$11:$O$596,MATCH('(3)Flange Peq'!$A13,'Input Echo'!$I$11:$I$596,0)),INDEX('Input Echo'!$O$11:$O$596,MATCH('(3)Flange Peq'!$A13,'[1]Input Echo'!$J$11:$J$600,0))) -> #N/A | I13: 0 | J13: -13 | K13: 51.02 | L13: =(I13/K13)*100 -> 0 | M13: =B13&C13 -> 300100
A14: 20040 | B14: =IFERROR(INDEX('Input Echo'!$M$11:$M$596,MATCH('(3)Flange Peq'!$A14,'Input Echo'!$I$11:$I$596,0)),INDEX('Input Echo'!$M$11:$M$596,MATCH('(3)Flange Peq'!$A14,'Input Echo'!$J$11:$J$596,0))) -> 300 | C14: =IFERROR(INDEX('Input Echo'!$AI$11:$AI$596,MATCH('(3)Flange Peq'!$A14,'Input Echo'!$I$11:$I$596,0)),INDEX('Input Echo'!$AI$11:$AI$596,MATCH('(3)Flange Peq'!$A14,'Input Echo'!$J$11:$J$596,0))) -> 50 | D14: =IFERROR(INDEX('Input Echo'!$Z$11:$Z$596,MATCH('(3)Flange Peq'!$A14,'Input Echo'!$I$11:$I$596,0)),INDEX('Input Echo'!$Z$11:$Z$596,MATCH('(3)Flange Peq'!$A14,'Input Echo'!$J$11:$J$596,0))) -> -1 | E14: 717 | F14: 23 | G14: 77.85 | H14: =IFERROR(INDEX('Input Echo'!$O$11:$O$596,MATCH('(3)Flange Peq'!$A14,'Input Echo'!$I$11:$I$596,0)),INDEX('Input Echo'!$O$11:$O$596,MATCH('(3)Flange Peq'!$A14,'[1]Input Echo'!$J$11:$J$600,0))) -> #N/A | I14: 0 | J14: -48 | K14: 51.02 | L14: =(I14/K14)*100 -> 0 | M14: =B14&C14 -> 30050
A15: 6210 | B15: =IFERROR(INDEX('Input Echo'!$M$11:$M$596,MATCH('(3)Flange Peq'!$A15,'Input Echo'!$I$11:$I$596,0)),INDEX('Input Echo'!$M$11:$M$596,MATCH('(3)Flange Peq'!$A15,'Input Echo'!$J$11:$J$596,0))) -> 0 | C15: =IFERROR(INDEX('Input Echo'!$AI$11:$AI$596,MATCH('(3)Flange Peq'!$A15,'Input Echo'!$I$11:$I$596,0)),INDEX('Input Echo'!$AI$11:$AI$596,MATCH('(3)Flange Peq'!$A15,'Input Echo'!$J$11:$J$596,0))) -> 80 | D15: =IFERROR(INDEX('Input Echo'!$Z$11:$Z$596,MATCH('(3)Flange Peq'!$A15,'Input Echo'!$I$11:$I$596,0)),INDEX('Input Echo'!$Z$11:$Z$596,MATCH('(3)Flange Peq'!$A15,'Input Echo'!$J$11:$J$596,0))) -> -1 | E15: 666 | F15: 97 | G15: 111.13 | H15: =IFERROR(INDEX('Input Echo'!$O$11:$O$596,MATCH('(3)Flange Peq'!$A15,'Input Echo'!$I$11:$I$596,0)),INDEX('Input Echo'!$O$11:$O$596,MATCH('(3)Flange Peq'!$A15,'[1]Input Echo'!$J$11:$J$600,0))) -> 0 | I15: =D15+4*E15*10/(PI()*G15^2)+16*F15*10^4/(PI()*G15^2*H15) -> #DIV/0! | J15: -48 | K15: 51.02 | L15: =(I15/K15)*100 -> #DIV/0! | M15: =B15&C15 -> 080
A16: 6220 | B16: =IFERROR(INDEX('Input Echo'!$M$11:$M$596,MATCH('(3)Flange Peq'!$A16,'Input Echo'!$I$11:$I$596,0)),INDEX('Input Echo'!$M$11:$M$596,MATCH('(3)Flange Peq'!$A16,'Input Echo'!$J$11:$J$596,0))) -> 0 | C16: =IFERROR(INDEX('Input Echo'!$AI$11:$AI$596,MATCH('(3)Flange Peq'!$A16,'Input Echo'!$I$11:$I$596,0)),INDEX('Input Echo'!$AI$11:$AI$596,MATCH('(3)Flange Peq'!$A16,'Input Echo'!$J$11:$J$596,0))) -> 80 | D16: =IFERROR(INDEX('Input Echo'!$Z$11:$Z$596,MATCH('(3)Flange Peq'!$A16,'Input Echo'!$I$11:$I$596,0)),INDEX('Input Echo'!$Z$11:$Z$596,MATCH('(3)Flange Peq'!$A16,'Input Echo'!$J$11:$J$596,0))) -> -1 | E16: 602 | F16: 109 | G16: 111.13 | H16: =IFERROR(INDEX('Input Echo'!$O$11:$O$596,MATCH('(3)Flange Peq'!$A16,'Input Echo'!$I$11:$I$596,0)),INDEX('Input Echo'!$O$11:$O$596,MATCH('(3)Flange Peq'!$A16,'[1]Input Echo'!$J$11:$J$600,0))) -> 0 | I16: =D16+4*E16*10/(PI()*G16^2)+16*F16*10^4/(PI()*G16^2*H16) -> #DIV/0! | J16: -48 | K16: 51.02 | L16: =(I16/K16)*100 -> #DIV/0! | M16: =B16&C16 -> 080
A17: 6310 | B17: =IFERROR(INDEX('Input Echo'!$M$11:$M$596,MATCH('(3)Flange Peq'!$A17,'Input Echo'!$I$11:$I$596,0)),INDEX('Input Echo'!$M$11:$M$596,MATCH('(3)Flange Peq'!$A17,'Input Echo'!$J$11:$J$596,0))) -> 150 | C17: =IFERROR(INDEX('Input Echo'!$AI$11:$AI$596,MATCH('(3)Flange Peq'!$A17,'Input Echo'!$I$11:$I$596,0)),INDEX('Input Echo'!$AI$11:$AI$596,MATCH('(3)Flange Peq'!$A17,'Input Echo'!$J$11:$J$596,0))) -> 50 | D17: =IFERROR(INDEX('Input Echo'!$Z$11:$Z$596,MATCH('(3)Flange Peq'!$A17,'Input Echo'!$I$11:$I$596,0)),INDEX('Input Echo'!$Z$11:$Z$596,MATCH('(3)Flange Peq'!$A17,'Input Echo'!$J$11:$J$596,0))) -> 0 | E17: 89 | F17: 11 | G17: 111.13 | H17: =IFERROR(INDEX('Input Echo'!$O$11:$O$596,MATCH('(3)Flange Peq'!$A17,'Input Echo'!$I$11:$I$596,0)),INDEX('Input Echo'!$O$11:$O$596,MATCH('(3)Flange Peq'!$A17,'[1]Input Echo'!$J$11:$J$600,0))) -> 120.6 | I17: =D17+4*E17*10/(PI()*G17^2)+16*F17*10^4/(PI()*G17^2*H17) -> 0.46789953 | J17: -48 | K17: 19.65 | L17: =(I17/K17)*100 -> 2.3811681 | M17: =B17&C17 -> 15050
A18: 6380 | B18: =IFERROR(INDEX('Input Echo'!$M$11:$M$596,MATCH('(3)Flange Peq'!$A18,'Input Echo'!$I$11:$I$596,0)),INDEX('Input Echo'!$M$11:$M$596,MATCH('(3)Flange Peq'!$A18,'Input Echo'!$J$11:$J$596,0))) -> 150 | C18: =IFERROR(INDEX('Input Echo'!$AI$11:$AI$596,MATCH('(3)Flange Peq'!$A18,'Input Echo'!$I$11:$I$596,0)),INDEX('Input Echo'!$AI$11:$AI$596,MATCH('(3)Flange Peq'!$A18,'Input Echo'!$J$11:$J$596,0))) -> 50 | D18: =IFERROR(INDEX('Input Echo'!$Z$11:$Z$596,MATCH('(3)Flange Peq'!$A18,'Input Echo'!$I$11:$I$596,0)),INDEX('Input Echo'!$Z$11:$Z$596,MATCH('(3)Flange Peq'!$A18,'Input Echo'!$J$11:$J$596,0))) -> 0 | E18: 152 | F18: 48 | G18: 111.13 | H18: =IFERROR(INDEX('Input Echo'!$O$11:$O$596,MATCH('(3)Flange Peq'!$A18,'Input Echo'!$I$11:$I$596,0)),INDEX('Input Echo'!$O$11:$O$596,MATCH('(3)Flange Peq'!$A18,'[1]Input Echo'!$J$11:$J$600,0))) -> 120.6 | I18: =D18+4*E18*10/(PI()*G18^2)+16*F18*10^4/(PI()*G18^2*H18) -> 1.7980588 | J18: -48 | K18: 51.02 | L18: =(I18/K18)*100 -> 3.5242234 | M18: =B18&C18 -> 15050
A19: 6410 | B19: =IFERROR(INDEX('Input Echo'!$M$11:$M$596,MATCH('(3)Flange Peq'!$A19,'Input Echo'!$I$11:$I$596,0)),INDEX('Input Echo'!$M$11:$M$596,MATCH('(3)Flange Peq'!$A19,'Input Echo'!$J$11:$J$596,0))) -> 0 | C19: =IFERROR(INDEX('Input Echo'!$AI$11:$AI$596,MATCH('(3)Flange Peq'!$A19,'Input Echo'!$I$11:$I$596,0)),INDEX('Input Echo'!$AI$11:$AI$596,MATCH('(3)Flange Peq'!$A19,'Input Echo'!$J$11:$J$596,0))) -> 50 | D19: =IFERROR(INDEX('Input Echo'!$Z$11:$Z$596,MATCH('(3)Flange Peq'!$A19,'Input Echo'!$I$11:$I$596,0)),INDEX('Input Echo'!$Z$11:$Z$596,MATCH('(3)Flange Peq'!$A19,'Input Echo'!$J$11:$J$596,0))) -> 0 | E19: 104 | F19: 55 | G19: 111.13 | H19: =IFERROR(INDEX('Input Echo'!$O$11:$O$596,MATCH('(3)Flange Peq'!$A19,'Input Echo'!$I$11:$I$596,0)),INDEX('Input Echo'!$O$11:$O$596,MATCH('(3)Flange Peq'!$A19,'[1]Input Echo'!$J$11:$J$600,0))) -> 0 | I19: =D19+4*E19*10/(PI()*G19^2)+16*F19*10^4/(PI()*G19^2*H19) -> #DIV/0! | J19: -48 | K19: 51.02 | L19: =(I19/K19)*100 -> #DIV/0! | M19: =B19&C19 -> 050
A20: 6330 | B20: =IFERROR(INDEX('Input Echo'!$M$11:$M$596,MATCH('(3)Flange Peq'!$A20,'Input Echo'!$I$11:$I$596,0)),INDEX('Input Echo'!$M$11:$M$596,MATCH('(3)Flange Peq'!$A20,'Input Echo'!$J$11:$J$596,0))) -> 150 | C20: =IFERROR(INDEX('Input Echo'!$AI$11:$AI$596,MATCH('(3)Flange Peq'!$A20,'Input Echo'!$I$11:$I$596,0)),INDEX('Input Echo'!$AI$11:$AI$596,MATCH('(3)Flange Peq'!$A20,'Input Echo'!$J$11:$J$596,0))) -> 25 | D20: =IFERROR(INDEX('Input Echo'!$Z$11:$Z$596,MATCH('(3)Flange Peq'!$A20,'Input Echo'!$I$11:$I$596,0)),INDEX('Input Echo'!$Z$11:$Z$596,MATCH('(3)Flange Peq'!$A20,'Input Echo'!$J$11:$J$596,0))) -> 0 | E20: 135 | F20: 50 | G20: 111.13 | H20: =IFERROR(INDEX('Input Echo'!$O$11:$O$596,MATCH('(3)Flange Peq'!$A20,'Input Echo'!$I$11:$I$596,0)),INDEX('Input Echo'!$O$11:$O$596,MATCH('(3)Flange Peq'!$A20,'[1]Input Echo'!$J$11:$J$600,0))) -> #N/A | I20: 0 | J20: -48 | K20: 19.65 | L20: =(I20/K20)*100 -> 0 | M20: =B20&C20 -> 15025
A21: 74 | B21: =IFERROR(INDEX('Input Echo'!$M$11:$M$596,MATCH('(3)Flange Peq'!$A21,'Input Echo'!$I$11:$I$596,0)),INDEX('Input Echo'!$M$11:$M$596,MATCH('(3)Flange Peq'!$A21,'Input Echo'!$J$11:$J$596,0))) -> 150 | C21: =IFERROR(INDEX('Input Echo'!$AI$11:$AI$596,MATCH('(3)Flange Peq'!$A21,'Input Echo'!$I$11:$I$596,0)),INDEX('Input Echo'!$AI$11:$AI$596,MATCH('(3)Flange Peq'!$A21,'Input Echo'!$J$11:$J$596,0))) -> 50 | D21: =IFERROR(INDEX('Input Echo'!$Z$11:$Z$596,MATCH('(3)Flange Peq'!$A21,'Input Echo'!$I$11:$I$596,0)),INDEX('Input Echo'!$Z$11:$Z$596,MATCH('(3)Flange Peq'!$A21,'Input Echo'!$J$11:$J$596,0))) -> 0 | E21: 701 | F21: 77 | G21: 111.13 | H21: =IFERROR(INDEX('Input Echo'!$O$11:$O$596,MATCH('(3)Flange Peq'!$A21,'Input Echo'!$I$11:$I$596,0)),INDEX('Input Echo'!$O$11:$O$596,MATCH('(3)Flange Peq'!$A21,'[1]Input Echo'!$J$11:$J$600,0))) -> 120.6 | I21: =D21+4*E21*10/(PI()*G21^2)+16*F21*10^4/(PI()*G21^2*H21) -> 3.3557126 | J21: -48 | K21: 51.02 | L21: =(I21/K21)*100 -> 6.5772494 | M21: =B21&C21 -> 15050
A22: 7400 | B22: =IFERROR(INDEX('Input Echo'!$M$11:$M$596,MATCH('(3)Flange Peq'!$A22,'Input Echo'!$I$11:$I$596,0)),INDEX('Input Echo'!$M$11:$M$596,MATCH('(3)Flange Peq'!$A22,'Input Echo'!$J$11:$J$596,0))) -> 150 | C22: =IFERROR(INDEX('Input Echo'!$AI$11:$AI$596,MATCH('(3)Flange Peq'!$A22,'Input Echo'!$I$11:$I$596,0)),INDEX('Input Echo'!$AI$11:$AI$596,MATCH('(3)Flange Peq'!$A22,'Input Echo'!$J$11:$J$596,0))) -> 50 | D22: =IFERROR(INDEX('Input Echo'!$Z$11:$Z$596,MATCH('(3)Flange Peq'!$A22,'Input Echo'!$I$11:$I$596,0)),INDEX('Input Echo'!$Z$11:$Z$596,MATCH('(3)Flange Peq'!$A22,'Input Echo'!$J$11:$J$596,0))) -> 0 | E22: 637 | F22: 88 | G22: 111.13 | H22: =IFERROR(INDEX('Input Echo'!$O$11:$O$596,MATCH('(3)Flange Peq'!$A22,'Input Echo'!$I$11:$I$596,0)),INDEX('Input Echo'!$O$11:$O$596,MATCH('(3)Flange Peq'!$A22,'[1]Input Echo'!$J$11:$J$600,0))) -> 120.6 | I22: =D22+4*E22*10/(PI()*G22^2)+16*F22*10^4/(PI()*G22^2*H22) -> 3.6658732 | J22: -48 | K22: 51.02 | L22: =(I22/K22)*100 -> 7.185169 | M22: =B22&C22 -> 15050
A23: 7412 | B23: =IFERROR(INDEX('Input Echo'!$M$11:$M$596,MATCH('(3)Flange Peq'!$A23,'Input Echo'!$I$11:$I$596,0)),INDEX('Input Echo'!$M$11:$M$596,MATCH('(3)Flange Peq'!$A23,'Input Echo'!$J$11:$J$596,0))) -> 150 | C23: =IFERROR(INDEX('Input Echo'!$AI$11:$AI$596,MATCH('(3)Flange Peq'!$A23,'Input Echo'!$I$11:$I$596,0)),INDEX('Input Echo'!$AI$11:$AI$596,MATCH('(3)Flange Peq'!$A23,'Input Echo'!$J$11:$J$596,0))) -> 50 | D23: =IFERROR(INDEX('Input Echo'!$Z$11:$Z$596,MATCH('(3)Flange Peq'!$A23,'Input Echo'!$I$11:$I$596,0)),INDEX('Input Echo'!$Z$11:$Z$596,MATCH('(3)Flange Peq'!$A23,'Input Echo'!$J$11:$J$596,0))) -> 0 | E23: 96 | F23: 12 | G23: 77.85 | H23: =IFERROR(INDEX('Input Echo'!$O$11:$O$596,MATCH('(3)Flange Peq'!$A23,'Input Echo'!$I$11:$I$596,0)),INDEX('Input Echo'!$O$11:$O$596,MATCH('(3)Flange Peq'!$A23,'[1]Input Echo'!$J$11:$J$600,0))) -> 120.6 | I23: =D23+4*E23*10/(PI()*G23^2)+16*F23*10^4/(PI()*G23^2*H23) -> 1.0378356 | J23: -48 | K23: 51.02 | L23: =(I23/K23)*100 -> 2.0341741 | M23: =B23&C23 -> 15050
A24: 7414 | B24: =IFERROR(INDEX('Input Echo'!$M$11:$M$596,MATCH('(3)Flange Peq'!$A24,'Input Echo'!$I$11:$I$596,0)),INDEX('Input Echo'!$M$11:$M$596,MATCH('(3)Flange Peq'!$A24,'Input Echo'!$J$11:$J$596,0))) -> 150 | C24: =IFERROR(INDEX('Input Echo'!$AI$11:$AI$596,MATCH('(3)Flange Peq'!$A24,'Input Echo'!$I$11:$I$596,0)),INDEX('Input Echo'!$AI$11:$AI$596,MATCH('(3)Flange Peq'!$A24,'Input Echo'!$J$11:$J$596,0))) -> 150 | D24: =IFERROR(INDEX('Input Echo'!$Z$11:$Z$596,MATCH('(3)Flange Peq'!$A24,'Input Echo'!$I$11:$I$596,0)),INDEX('Input Echo'!$Z$11:$Z$596,MATCH('(3)Flange Peq'!$A24,'Input Echo'!$J$11:$J$596,0))) -> 0 | E24: 83 | F24: 70 | G24: 77.85 | H24: =IFERROR(INDEX('Input Echo'!$O$11:$O$596,MATCH('(3)Flange Peq'!$A24,'Input Echo'!$I$11:$I$596,0)),INDEX('Input Echo'!$O$11:$O$596,MATCH('(3)Flange Peq'!$A24,'[1]Input Echo'!$J$11:$J$600,0))) -> 241.3 | I24: =D24+4*E24*10/(PI()*G24^2)+16*F24*10^4/(PI()*G24^2*H24) -> 2.6121445 | J24: -48 | K24: 51.02 | L24: =(I24/K24)*100 -> 5.1198443 | M24: =B24&C24 -> 150150
A25: 7470 | B25: =IFERROR(INDEX('Input Echo'!$M$11:$M$596,MATCH('(3)Flange Peq'!$A25,'Input Echo'!$I$11:$I$596,0)),INDEX('Input Echo'!$M$11:$M$596,MATCH('(3)Flange Peq'!$A25,'Input Echo'!$J$11:$J$596,0))) -> 150 | C25: =IFERROR(INDEX('Input Echo'!$AI$11:$AI$596,MATCH('(3)Flange Peq'!$A25,'Input Echo'!$I$11:$I$596,0)),INDEX('Input Echo'!$AI$11:$AI$596,MATCH('(3)Flange Peq'!$A25,'Input Echo'!$J$11:$J$596,0))) -> 150 | D25: =IFERROR(INDEX('Input Echo'!$Z$11:$Z$596,MATCH('(3)Flange Peq'!$A25,'Input Echo'!$I$11:$I$596,0)),INDEX('Input Echo'!$Z$11:$Z$596,MATCH('(3)Flange Peq'!$A25,'Input Echo'!$J$11:$J$596,0))) -> 0 | E25: 51 | F25: 8 | G25: 111.13 | H25: =IFERROR(INDEX('Input Echo'!$O$11:$O$596,MATCH('(3)Flange Peq'!$A25,'Input Echo'!$I$11:$I$596,0)),INDEX('Input Echo'!$O$11:$O$596,MATCH('(3)Flange Peq'!$A25,'[1]Input Echo'!$J$11:$J$600,0))) -> 241.3 | I25: =D25+4*E25*10/(PI()*G25^2)+16*F25*10^4/(PI()*G25^2*H25) -> 0.1893022 | J25: -48 | K25: 19.65 | L25: =(I25/K25)*100 -> 0.96336995 | M25: =B25&C25 -> 150150
A26: 7560 | B26: =IFERROR(INDEX('Input Echo'!$M$11:$M$596,MATCH('(3)Flange Peq'!$A26,'Input Echo'!$I$11:$I$596,0)),INDEX('Input Echo'!$M$11:$M$596,MATCH('(3)Flange Peq'!$A26,'Input Echo'!$J$11:$J$596,0))) -> 150 | C26: =IFERROR(INDEX('Input Echo'!$AI$11:$AI$596,MATCH('(3)Flange Peq'!$A26,'Input Echo'!$I$11:$I$596,0)),INDEX('Input Echo'!$AI$11:$AI$596,MATCH('(3)Flange Peq'!$A26,'Input Echo'!$J$11:$J$596,0))) -> 150 | D26: =IFERROR(INDEX('Input Echo'!$Z$11:$Z$596,MATCH('(3)Flange Peq'!$A26,'Input Echo'!$I$11:$I$596,0)),INDEX('Input Echo'!$Z$11:$Z$596,MATCH('(3)Flange Peq'!$A26,'Input Echo'!$J$11:$J$596,0))) -> 0 | E26: 45 | F26: 31 | G26: 77.85 | H26: =IFERROR(INDEX('Input Echo'!$O$11:$O$596,MATCH('(3)Flange Peq'!$A26,'Input Echo'!$I$11:$I$596,0)),INDEX('Input Echo'!$O$11:$O$596,MATCH('(3)Flange Peq'!$A26,'[1]Input Echo'!$J$11:$J$600,0))) -> 241.3 | I26: =D26+4*E26*10/(PI()*G26^2)+16*F26*10^4/(PI()*G26^2*H26) -> 1.1741238 | J26: -48 | K26: 51.02 | L26: =(I26/K26)*100 -> 2.301301 | M26: =B26&C26 -> 150150
A27: 7640 | B27: =IFERROR(INDEX('Input Echo'!$M$11:$M$596,MATCH('(3)Flange Peq'!$A27,'Input Echo'!$I$11:$I$596,0)),INDEX('Input Echo'!$M$11:$M$596,MATCH('(3)Flange Peq'!$A27,'Input Echo'!$J$11:$J$596,0))) -> 0 | C27: =IFERROR(INDEX('Input Echo'!$AI$11:$AI$596,MATCH('(3)Flange Peq'!$A27,'Input Echo'!$I$11:$I$596,0)),INDEX('Input Echo'!$AI$11:$AI$596,MATCH('(3)Flange Peq'!$A27,'Input Echo'!$J$11:$J$596,0))) -> 50 | D27: =IFERROR(INDEX('Input Echo'!$Z$11:$Z$596,MATCH('(3)Flange Peq'!$A27,'Input Echo'!$I$11:$I$596,0)),INDEX('Input Echo'!$Z$11:$Z$596,MATCH('(3)Flange Peq'!$A27,'Input Echo'!$J$11:$J$596,0))) -> 0 | E27: 430 | F27: 22 | G27: 111.13 | H27: =IFERROR(INDEX('Input Echo'!$O$11:$O$596,MATCH('(3)Flange Peq'!$A27,'Input Echo'!$I$11:$I$596,0)),INDEX('Input Echo'!$O$11:$O$596,MATCH('(3)Flange Peq'!$A27,'[1]Input Echo'!$J$11:$J$600,0))) -> 0 | I27: =D27+4*E27*10/(PI()*G27^2)+16*F27*10^4/(PI()*G27^2*H27) -> #DIV/0! | J27: -48 | K27: 51.02 | L27: =(I27/K27)*100 -> #DIV/0! | M27: =B27&C27 -> 050
A28: 7650 | B28: =IFERROR(INDEX('Input Echo'!$M$11:$M$596,MATCH('(3)Flange Peq'!$A28,'Input Echo'!$I$11:$I$596,0)),INDEX('Input Echo'!$M$11:$M$596,MATCH('(3)Flange Peq'!$A28,'Input Echo'!$J$11:$J$596,0))) -> 0 | C28: =IFERROR(INDEX('Input Echo'!$AI$11:$AI$596,MATCH('(3)Flange Peq'!$A28,'Input Echo'!$I$11:$I$596,0)),INDEX('Input Echo'!$AI$11:$AI$596,MATCH('(3)Flange Peq'!$A28,'Input Echo'!$J$11:$J$596,0))) -> 50 | D28: =IFERROR(INDEX('Input Echo'!$Z$11:$Z$596,MATCH('(3)Flange Peq'!$A28,'Input Echo'!$I$11:$I$596,0)),INDEX('Input Echo'!$Z$11:$Z$596,MATCH('(3)Flange Peq'!$A28,'Input Echo'!$J$11:$J$596,0))) -> 0 | E28: 500 | F28: 25 | G28: 111.13 | H28: =IFERROR(INDEX('Input Echo'!$O$11:$O$596,MATCH('(3)Flange Peq'!$A28,'Input Echo'!$I$11:$I$596,0)),INDEX('Input Echo'!$O$11:$O$596,MATCH('(3)Flange Peq'!$A28,'[1]Input Echo'!$J$11:$J$600,0))) -> 0 | I28: =D28+4*E28*10/(PI()*G28^2)+16*F28*10^4/(PI()*G28^2*H28) -> #DIV/0! | J28: -48 | K28: 51.02 | L28: =(I28/K28)*100 -> #DIV/0! | M28: =B28&C28 -> 050
A29: 89 | B29: =IFERROR(INDEX('Input Echo'!$M$11:$M$596,MATCH('(3)Flange Peq'!$A29,'Input Echo'!$I$11:$I$596,0)),INDEX('Input Echo'!$M$11:$M$596,MATCH('(3)Flange Peq'!$A29,'Input Echo'!$J$11:$J$596,0))) -> 0 | C29: =IFERROR(INDEX('Input Echo'!$AI$11:$AI$596,MATCH('(3)Flange Peq'!$A29,'Input Echo'!$I$11:$I$596,0)),INDEX('Input Echo'!$AI$11:$AI$596,MATCH('(3)Flange Peq'!$A29,'Input Echo'!$J$11:$J$596,0))) -> 50 | D29: =IFERROR(INDEX('Input Echo'!$Z$11:$Z$596,MATCH('(3)Flange Peq'!$A29,'Input Echo'!$I$11:$I$596,0)),INDEX('Input Echo'!$Z$11:$Z$596,MATCH('(3)Flange Peq'!$A29,'Input Echo'!$J$11:$J$596,0))) -> 0 | E29: 656 | F29: 109 | G29: 77.85 | H29: =IFERROR(INDEX('Input Echo'!$O$11:$O$596,MATCH('(3)Flange Peq'!$A29,'Input Echo'!$I$11:$I$596,0)),INDEX('Input Echo'!$O$11:$O$596,MATCH('(3)Flange Peq'!$A29,'[1]Input Echo'!$J$11:$J$600,0))) -> 0 | I29: =D29+4*E29*10/(PI()*G29^2)+16*F29*10^4/(PI()*G29^2*H29) -> #DIV/0! | J29: -48 | K29: 19.65 | L29: =(I29/K29)*100 -> #DIV/0! | M29: =B29&C29 -> 050
A30: 8930 | B30: =IFERROR(INDEX('Input Echo'!$M$11:$M$596,MATCH('(3)Flange Peq'!$A30,'Input Echo'!$I$11:$I$596,0)),INDEX('Input Echo'!$M$11:$M$596,MATCH('(3)Flange Peq'!$A30,'Input Echo'!$J$11:$J$596,0))) -> 0 | C30: =IFERROR(INDEX('Input Echo'!$AI$11:$AI$596,MATCH('(3)Flange Peq'!$A30,'Input Echo'!$I$11:$I$596,0)),INDEX('Input Echo'!$AI$11:$AI$596,MATCH('(3)Flange Peq'!$A30,'Input Echo'!$J$11:$J$596,0))) -> 50 | D30: =IFERROR(INDEX('Input Echo'!$Z$11:$Z$596,MATCH('(3)Flange Peq'!$A30,'Input Echo'!$I$11:$I$596,0)),INDEX('Input Echo'!$Z$11:$Z$596,MATCH('(3)Flange Peq'!$A30,'Input Echo'!$J$11:$J$596,0))) -> 0 | E30: 78 | F30: 40 | G30: 77.85 | H30: =IFERROR(INDEX('Input Echo'!$O$11:$O$596,MATCH('(3)Flange Peq'!$A30,'Input Echo'!$I$11:$I$596,0)),INDEX('Input Echo'!$O$11:$O$596,MATCH('(3)Flange Peq'!$A30,'[1]Input Echo'!$J$11:$J$600,0))) -> 0 | I30: =D30+4*E30*10/(PI()*G30^2)+16*F30*10^4/(PI()*G30^2*H30) -> #DIV/0! | J30: -48 | K30: 19.65 | L30: =(I30/K30)*100 -> #DIV/0! | M30: =B30&C30 -> 050
A31: 9030 | B31: =IFERROR(INDEX('Input Echo'!$M$11:$M$596,MATCH('(3)Flange Peq'!$A31,'Input Echo'!$I$11:$I$596,0)),INDEX('Input Echo'!$M$11:$M$596,MATCH('(3)Flange Peq'!$A31,'Input Echo'!$J$11:$J$596,0))) -> 0 | C31: =IFERROR(INDEX('Input Echo'!$AI$11:$AI$596,MATCH('(3)Flange Peq'!$A31,'Input Echo'!$I$11:$I$596,0)),INDEX('Input Echo'!$AI$11:$AI$596,MATCH('(3)Flange Peq'!$A31,'Input Echo'!$J$11:$J$596,0))) -> 50 | D31: =IFERROR(INDEX('Input Echo'!$Z$11:$Z$596,MATCH('(3)Flange Peq'!$A31,'Input Echo'!$I$11:$I$596,0)),INDEX('Input Echo'!$Z$11:$Z$596,MATCH('(3)Flange Peq'!$A31,'Input Echo'!$J$11:$J$596,0))) -> 0 | E31: 18 | F31: 19 | G31: 61.98 | H31: =IFERROR(INDEX('Input Echo'!$O$11:$O$596,MATCH('(3)Flange Peq'!$A31,'Input Echo'!$I$11:$I$596,0)),INDEX('Input Echo'!$O$11:$O$596,MATCH('(3)Flange Peq'!$A31,'[1]Input Echo'!$J$11:$J$600,0))) -> 0 | I31: =D31+4*E31*10/(PI()*G31^2)+16*F31*10^4/(PI()*G31^2*H31) -> #DIV/0! | J31: -48 | K31: 51.02 | L31: =(I31/K31)*100 -> #DIV/0! | M31: =B31&C31 -> 050
A32: 9040 | B32: =IFERROR(INDEX('Input Echo'!$M$11:$M$596,MATCH('(3)Flange Peq'!$A32,'Input Echo'!$I$11:$I$596,0)),INDEX('Input Echo'!$M$11:$M$596,MATCH('(3)Flange Peq'!$A32,'Input Echo'!$J$11:$J$596,0))) -> 0 | C32: =IFERROR(INDEX('Input Echo'!$AI$11:$AI$596,MATCH('(3)Flange Peq'!$A32,'Input Echo'!$I$11:$I$596,0)),INDEX('Input Echo'!$AI$11:$AI$596,MATCH('(3)Flange Peq'!$A32,'Input Echo'!$J$11:$J$596,0))) -> 50 | D32: =IFERROR(INDEX('Input Echo'!$Z$11:$Z$596,MATCH('(3)Flange Peq'!$A32,'Input Echo'!$I$11:$I$596,0)),INDEX('Input Echo'!$Z$11:$Z$596,MATCH('(3)Flange Peq'!$A32,'Input Echo'!$J$11:$J$596,0))) -> 0 | E32: 18 | F32: 17 | G32: 61.98 | H32: =IFERROR(INDEX('Input Echo'!$O$11:$O$596,MATCH('(3)Flange Peq'!$A32,'Input Echo'!$I$11:$I$596,0)),INDEX('Input Echo'!$O$11:$O$596,MATCH('(3)Flange Peq'!$A32,'[1]Input Echo'!$J$11:$J$600,0))) -> 0 | I32: =D32+4*E32*10/(PI()*G32^2)+16*F32*10^4/(PI()*G32^2*H32) -> #DIV/0! | J32: -48 | K32: 51.02 | L32: =(I32/K32)*100 -> #DIV/0! | M32: =B32&C32 -> 050
A33: 9160 | B33: =IFERROR(INDEX('Input Echo'!$M$11:$M$596,MATCH('(3)Flange Peq'!$A33,'Input Echo'!$I$11:$I$596,0)),INDEX('Input Echo'!$M$11:$M$596,MATCH('(3)Flange Peq'!$A33,'Input Echo'!$J$11:$J$596,0))) -> 150 | C33: =IFERROR(INDEX('Input Echo'!$AI$11:$AI$596,MATCH('(3)Flange Peq'!$A33,'Input Echo'!$I$11:$I$596,0)),INDEX('Input Echo'!$AI$11:$AI$596,MATCH('(3)Flange Peq'!$A33,'Input Echo'!$J$11:$J$596,0))) -> 400 | D33: =IFERROR(INDEX('Input Echo'!$Z$11:$Z$596,MATCH('(3)Flange Peq'!$A33,'Input Echo'!$I$11:$I$596,0)),INDEX('Input Echo'!$Z$11:$Z$596,MATCH('(3)Flange Peq'!$A33,'Input Echo'!$J$11:$J$596,0))) -> 0 | E33: 13 | F33: 16 | G33: 61.98 | H33: =IFERROR(INDEX('Input Echo'!$O$11:$O$596,MATCH('(3)Flange Peq'!$A33,'Input Echo'!$I$11:$I$596,0)),INDEX('Input Echo'!$O$11:$O$596,MATCH('(3)Flange Peq'!$A33,'[1]Input Echo'!$J$11:$J$600,0))) -> #N/A | I33: 0 | J33: -48 | K33: 51.02 | L33: =(I33/K33)*100 -> 0 | M33: =B33&C33 -> 150400
A34: 102 | B34: =IFERROR(INDEX('Input Echo'!$M$11:$M$596,MATCH('(3)Flange Peq'!$A34,'Input Echo'!$I$11:$I$596,0)),INDEX('Input Echo'!$M$11:$M$596,MATCH('(3)Flange Peq'!$A34,'Input Echo'!$J$11:$J$596,0))) -> 0 | C34: =IFERROR(INDEX('Input Echo'!$AI$11:$AI$596,MATCH('(3)Flange Peq'!$A34,'Input Echo'!$I$11:$I$596,0)),INDEX('Input Echo'!$AI$11:$AI$596,MATCH('(3)Flange Peq'!$A34,'Input Echo'!$J$11:$J$596,0))) -> 80 | D34: =IFERROR(INDEX('Input Echo'!$Z$11:$Z$596,MATCH('(3)Flange Peq'!$A34,'Input Echo'!$I$11:$I$596,0)),INDEX('Input Echo'!$Z$11:$Z$596,MATCH('(3)Flange Peq'!$A34,'Input Echo'!$J$11:$J$596,0))) -> 0 | E34: 731 | F34: 142 | G34: 77.85 | H34: =IFERROR(INDEX('Input Echo'!$O$11:$O$596,MATCH('(3)Flange Peq'!$A34,'Input Echo'!$I$11:$I$596,0)),INDEX('Input Echo'!$O$11:$O$596,MATCH('(3)Flange Peq'!$A34,'[1]Input Echo'!$J$11:$J$600,0))) -> 0 | I34: =D34+4*E34*10/(PI()*G34^2)+16*F34*10^4/(PI()*G34^2*H34) -> #DIV/0! | J34: -48 | K34: 19.65 | L34: =(I34/K34)*100 -> #DIV/0! | M34: =B34&C34 -> 080
A35: 30030 | B35: =IFERROR(INDEX('Input Echo'!$M$11:$M$596,MATCH('(3)Flange Peq'!$A35,'Input Echo'!$I$11:$I$596,0)),INDEX('Input Echo'!$M$11:$M$596,MATCH('(3)Flange Peq'!$A35,'Input Echo'!$J$11:$J$596,0))) -> 0 | C35: =IFERROR(INDEX('Input Echo'!$AI$11:$AI$596,MATCH('(3)Flange Peq'!$A35,'Input Echo'!$I$11:$I$596,0)),INDEX('Input Echo'!$AI$11:$AI$596,MATCH('(3)Flange Peq'!$A35,'Input Echo'!$J$11:$J$596,0))) -> 100 | D35: =IFERROR(INDEX('Input Echo'!$Z$11:$Z$596,MATCH('(3)Flange Peq'!$A35,'Input Echo'!$I$11:$I$596,0)),INDEX('Input Echo'!$Z$11:$Z$596,MATCH('(3)Flange Peq'!$A35,'Input Echo'!$J$11:$J$596,0))) -> 0 | E35: 151 | F35: 41 | G35: 77.85 | H35: =IFERROR(INDEX('Input Echo'!$O$11:$O$596,MATCH('(3)Flange Peq'!$A35,'Input Echo'!$I$11:$I$596,0)),INDEX('Input Echo'!$O$11:$O$596,MATCH('(3)Flange Peq'!$A35,'[1]Input Echo'!$J$11:$J$600,0))) -> 0 | I35: =D35+4*E35*10/(PI()*G35^2)+16*F35*10^4/(PI()*G35^2*H35) -> #DIV/0! | J35: -48 | K35: 19.65 | L35: =(I35/K35)*100 -> #DIV/0! | M35: =B35&C35 -> 0100
A36: 30140 | B36: =IFERROR(INDEX('Input Echo'!$M$11:$M$596,MATCH('(3)Flange Peq'!$A36,'Input Echo'!$I$11:$I$596,0)),INDEX('Input Echo'!$M$11:$M$596,MATCH('(3)Flange Peq'!$A36,'Input Echo'!$J$11:$J$596,0))) -> 0 | C36: =IFERROR(INDEX('Input Echo'!$AI$11:$AI$596,MATCH('(3)Flange Peq'!$A36,'Input Echo'!$I$11:$I$596,0)),INDEX('Input Echo'!$AI$11:$AI$596,MATCH('(3)Flange Peq'!$A36,'Input Echo'!$J$11:$J$596,0))) -> 50 | D36: =IFERROR(INDEX('Input Echo'!$Z$11:$Z$596,MATCH('(3)Flange Peq'!$A36,'Input Echo'!$I$11:$I$596,0)),INDEX('Input Echo'!$Z$11:$Z$596,MATCH('(3)Flange Peq'!$A36,'Input Echo'!$J$11:$J$596,0))) -> 0 | E36: 35 | F36: 40 | G36: 61.98 | H36: =IFERROR(INDEX('Input Echo'!$O$11:$O$596,MATCH('(3)Flange Peq'!$A36,'Input Echo'!$I$11:$I$596,0)),INDEX('Input Echo'!$O$11:$O$596,MATCH('(3)Flange Peq'!$A36,'[1]Input Echo'!$J$11:$J$600,0))) -> 0 | I36: =D36+4*E36*10/(PI()*G36^2)+16*F36*10^4/(PI()*G36^2*H36) -> #DIV/0! | J36: -48 | K36: 51.02 | L36: =(I36/K36)*100 -> #DIV/0! | M36: =B36&C36 -> 050
A37: 30140 | B37: =IFERROR(INDEX('Input Echo'!$M$11:$M$596,MATCH('(3)Flange Peq'!$A37,'Input Echo'!$I$11:$I$596,0)),INDEX('Input Echo'!$M$11:$M$596,MATCH('(3)Flange Peq'!$A37,'Input Echo'!$J$11:$J$596,0))) -> 0 | C37: =IFERROR(INDEX('Input Echo'!$AI$11:$AI$596,MATCH('(3)Flange Peq'!$A37,'Input Echo'!$I$11:$I$596,0)),INDEX('Input Echo'!$AI$11:$AI$596,MATCH('(3)Flange Peq'!$A37,'Input Echo'!$J$11:$J$596,0))) -> 100 | D37: =IFERROR(INDEX('Input Echo'!$Z$11:$Z$596,MATCH('(3)Flange Peq'!$A37,'Input Echo'!$I$11:$I$596,0)),INDEX('Input Echo'!$Z$11:$Z$596,MATCH('(3)Flange Peq'!$A37,'Input Echo'!$J$11:$J$596,0))) -> 0 | E37: 35 | F37: 40 | G37: 61.98 | H37: =IFERROR(INDEX('Input Echo'!$O$11:$O$596,MATCH('(3)Flange Peq'!$A37,'Input Echo'!$I$11:$I$596,0)),INDEX('Input Echo'!$O$11:$O$596,MATCH('(3)Flange Peq'!$A37,'[1]Input Echo'!$J$11:$J$600,0))) -> 0 | I37: =D37+4*E37*10/(PI()*G37^2)+16*F37*10^4/(PI()*G37^2*H37) -> #DIV/0! | J37: -48 | K37: 51.02 | L37: =(I37/K37)*100 -> #DIV/0! | M37: =B37&C37 -> 0100
A38: 30180 | B38: =IFERROR(INDEX('Input Echo'!$M$11:$M$596,MATCH('(3)Flange Peq'!$A38,'Input Echo'!$I$11:$I$596,0)),INDEX('Input Echo'!$M$11:$M$596,MATCH('(3)Flange Peq'!$A38,'Input Echo'!$J$11:$J$596,0))) -> 0 | C38: =IFERROR(INDEX('Input Echo'!$AI$11:$AI$596,MATCH('(3)Flange Peq'!$A38,'Input Echo'!$I$11:$I$596,0)),INDEX('Input Echo'!$AI$11:$AI$596,MATCH('(3)Flange Peq'!$A38,'Input Echo'!$J$11:$J$596,0))) -> 100 | D38: =IFERROR(INDEX('Input Echo'!$Z$11:$Z$596,MATCH('(3)Flange Peq'!$A38,'Input Echo'!$I$11:$I$596,0)),INDEX('Input Echo'!$Z$11:$Z$596,MATCH('(3)Flange Peq'!$A38,'Input Echo'!$J$11:$J$596,0))) -> 0 | E38: 37 | F38: 50 | G38: 61.98 | H38: =IFERROR(INDEX('Input Echo'!$O$11:$O$596,MATCH('(3)Flange Peq'!$A38,'Input Echo'!$I$11:$I$596,0)),INDEX('Input Echo'!$O$11:$O$596,MATCH('(3)Flange Peq'!$A38,'[1]Input Echo'!$J$11:$J$600,0))) -> 0 | I38: =D38+4*E38*10/(PI()*G38^2)+16*F38*10^4/(PI()*G38^2*H38) -> #DIV/0! | J38: -48 | K38: 51.02 | L38: =(I38/K38)*100 -> #DIV/0! | M38: =B38&C38 -> 0100
A39: 30190 | B39: =IFERROR(INDEX('Input Echo'!$M$11:$M$596,MATCH('(3)Flange Peq'!$A39,'Input Echo'!$I$11:$I$596,0)),INDEX('Input Echo'!$M$11:$M$596,MATCH('(3)Flange Peq'!$A39,'Input Echo'!$J$11:$J$596,0))) -> 0 | C39: =IFERROR(INDEX('Input Echo'!$AI$11:$AI$596,MATCH('(3)Flange Peq'!$A39,'Input Echo'!$I$11:$I$596,0)),INDEX('Input Echo'!$AI$11:$AI$596,MATCH('(3)Flange Peq'!$A39,'Input Echo'!$J$11:$J$596,0))) -> 80 | D39: =IFERROR(INDEX('Input Echo'!$Z$11:$Z$596,MATCH('(3)Flange Peq'!$A39,'Input Echo'!$I$11:$I$596,0)),INDEX('Input Echo'!$Z$11:$Z$596,MATCH('(3)Flange Peq'!$A39,'Input Echo'!$J$11:$J$596,0))) -> 0 | E39: 37 | F39: 56 | G39: 61.98 | H39: =IFERROR(INDEX('Input Echo'!$O$11:$O$596,MATCH('(3)Flange Peq'!$A39,'Input Echo'!$I$11:$I$596,0)),INDEX('Input Echo'!$O$11:$O$596,MATCH('(3)Flange Peq'!$A39,'[1]Input Echo'!$J$11:$J$600,0))) -> 0 | I39: =D39+4*E39*10/(PI()*G39^2)+16*F39*10^4/(PI()*G39^2*H39) -> #DIV/0! | J39: -48 | K39: 51.02 | L39: =(I39/K39)*100 -> #DIV/0! | M39: =B39&C39 -> 080
A40: 112 | B40: =IFERROR(INDEX('Input Echo'!$M$11:$M$596,MATCH('(3)Flange Peq'!$A40,'Input Echo'!$I$11:$I$596,0)),INDEX('Input Echo'!$M$11:$M$596,MATCH('(3)Flange Peq'!$A40,'Input Echo'!$J$11:$J$596,0))) -> 0 | C40: =IFERROR(INDEX('Input Echo'!$AI$11:$AI$596,MATCH('(3)Flange Peq'!$A40,'Input Echo'!$I$11:$I$596,0)),INDEX('Input Echo'!$AI$11:$AI$596,MATCH('(3)Flange Peq'!$A40,'Input Echo'!$J$11:$J$596,0))) -> 50 | D40: =IFERROR(INDEX('Input Echo'!$Z$11:$Z$596,MATCH('(3)Flange Peq'!$A40,'Input Echo'!$I$11:$I$596,0)),INDEX('Input Echo'!$Z$11:$Z$596,MATCH('(3)Flange Peq'!$A40,'Input Echo'!$J$11:$J$596,0))) -> 0 | E40: 1857 | F40: 195 | G40: 196.09 | H40: =IFERROR(INDEX('Input Echo'!$O$11:$O$596,MATCH('(3)Flange Peq'!$A40,'Input Echo'!$I$11:$I$596,0)),INDEX('Input Echo'!$O$11:$O$596,MATCH('(3)Flange Peq'!$A40,'[1]Input Echo'!$J$11:$J$600,0))) -> 0 | I40: =D40+4*E40*10/(PI()*G40^2)+16*F40*10^4/(PI()*G40^2*H40) -> #DIV/0! | J40: -48 | K40: 19.65 | L40: =(I40/K40)*100 -> #DIV/0! | M40: =B40&C40 -> 050
A41: 11230 | B41: =IFERROR(INDEX('Input Echo'!$M$11:$M$596,MATCH('(3)Flange Peq'!$A41,'Input Echo'!$I$11:$I$596,0)),INDEX('Input Echo'!$M$11:$M$596,MATCH('(3)Flange Peq'!$A41,'Input Echo'!$J$11:$J$596,0))) -> 0 | C41: =IFERROR(INDEX('Input Echo'!$AI$11:$AI$596,MATCH('(3)Flange Peq'!$A41,'Input Echo'!$I$11:$I$596,0)),INDEX('Input Echo'!$AI$11:$AI$596,MATCH('(3)Flange Peq'!$A41,'Input Echo'!$J$11:$J$596,0))) -> 50 | D41: =IFERROR(INDEX('Input Echo'!$Z$11:$Z$596,MATCH('(3)Flange Peq'!$A41,'Input Echo'!$I$11:$I$596,0)),INDEX('Input Echo'!$Z$11:$Z$596,MATCH('(3)Flange Peq'!$A41,'Input Echo'!$J$11:$J$596,0))) -> 0 | E41: 1206 | F41: 415 | G41: 196.09 | H41: =IFERROR(INDEX('Input Echo'!$O$11:$O$596,MATCH('(3)Flange Peq'!$A41,'Input Echo'!$I$11:$I$596,0)),INDEX('Input Echo'!$O$11:$O$596,MATCH('(3)Flange Peq'!$A41,'[1]Input Echo'!$J$11:$J$600,0))) -> 0 | I41: =D41+4*E41*10/(PI()*G41^2)+16*F41*10^4/(PI()*G41^2*H41) -> #DIV/0! | J41: -48 | K41: 19.65 | L41: =(I41/K41)*100 -> #DIV/0! | M41: =B41&C41 -> 050
A42: 11260 | B42: =IFERROR(INDEX('Input Echo'!$M$11:$M$596,MATCH('(3)Flange Peq'!$A42,'Input Echo'!$I$11:$I$596,0)),INDEX('Input Echo'!$M$11:$M$596,MATCH('(3)Flange Peq'!$A42,'Input Echo'!$J$11:$J$596,0))) -> 0 | C42: =IFERROR(INDEX('Input Echo'!$AI$11:$AI$596,MATCH('(3)Flange Peq'!$A42,'Input Echo'!$I$11:$I$596,0)),INDEX('Input Echo'!$AI$11:$AI$596,MATCH('(3)Flange Peq'!$A42,'Input Echo'!$J$11:$J$596,0))) -> 50 | D42: =IFERROR(INDEX('Input Echo'!$Z$11:$Z$596,MATCH('(3)Flange Peq'!$A42,'Input Echo'!$I$11:$I$596,0)),INDEX('Input Echo'!$Z$11:$Z$596,MATCH('(3)Flange Peq'!$A42,'Input Echo'!$J$11:$J$596,0))) -> 0 | E42: 371 | F42: 359 | G42: 138.18 | H42: =IFERROR(INDEX('Input Echo'!$O$11:$O$596,MATCH('(3)Flange Peq'!$A42,'Input Echo'!$I$11:$I$596,0)),INDEX('Input Echo'!$O$11:$O$596,MATCH('(3)Flange Peq'!$A42,'[1]Input Echo'!$J$11:$J$600,0))) -> #N/A | I42: 0 | J42: -13 | K42: 51.02 | L42: =(I42/K42)*100 -> 0 | M42: =B42&C42 -> 050
A43: 11294 | B43: =IFERROR(INDEX('Input Echo'!$M$11:$M$596,MATCH('(3)Flange Peq'!$A43,'Input Echo'!$I$11:$I$596,0)),INDEX('Input Echo'!$M$11:$M$596,MATCH('(3)Flange Peq'!$A43,'Input Echo'!$J$11:$J$596,0))) -> 0 | C43: =IFERROR(INDEX('Input Echo'!$AI$11:$AI$596,MATCH('(3)Flange Peq'!$A43,'Input Echo'!$I$11:$I$596,0)),INDEX('Input Echo'!$AI$11:$AI$596,MATCH('(3)Flange Peq'!$A43,'Input Echo'!$J$11:$J$596,0))) -> 250 | D43: =IFERROR(INDEX('Input Echo'!$Z$11:$Z$596,MATCH('(3)Flange Peq'!$A43,'Input Echo'!$I$11:$I$596,0)),INDEX('Input Echo'!$Z$11:$Z$596,MATCH('(3)Flange Peq'!$A43,'Input Echo'!$J$11:$J$596,0))) -> 0 | E43: 1278 | F43: 48 | G43: 77.85 | H43: =IFERROR(INDEX('Input Echo'!$O$11:$O$596,MATCH('(3)Flange Peq'!$A43,'Input Echo'!$I$11:$I$596,0)),INDEX('Input Echo'!$O$11:$O$596,MATCH('(3)Flange Peq'!$A43,'[1]Input Echo'!$J$11:$J$600,0))) -> 0 | I43: 0 | J43: -13 | K43: 51.02 | L43: =(I43/K43)*100 -> 0 | M43: =B43&C43 -> 0250
A44: 1140 | B44: =IFERROR(INDEX('Input Echo'!$M$11:$M$596,MATCH('(3)Flange Peq'!$A44,'Input Echo'!$I$11:$I$596,0)),INDEX('Input Echo'!$M$11:$M$596,MATCH('(3)Flange Peq'!$A44,'Input Echo'!$J$11:$J$596,0))) -> 300 | C44: =IFERROR(INDEX('Input Echo'!$AI$11:$AI$596,MATCH('(3)Flange Peq'!$A44,'Input Echo'!$I$11:$I$596,0)),INDEX('Input Echo'!$AI$11:$AI$596,MATCH('(3)Flange Peq'!$A44,'Input Echo'!$J$11:$J$596,0))) -> 100 | D44: =IFERROR(INDEX('Input Echo'!$Z$11:$Z$596,MATCH('(3)Flange Peq'!$A44,'Input Echo'!$I$11:$I$596,0)),INDEX('Input Echo'!$Z$11:$Z$596,MATCH('(3)Flange Peq'!$A44,'Input Echo'!$J$11:$J$596,0))) -> -1 | E44: 403 | F44: 109 | G44: 77.85 | H44: =IFERROR(INDEX('Input Echo'!$O$11:$O$596,MATCH('(3)Flange Peq'!$A44,'Input Echo'!$I$11:$I$596,0)),INDEX('Input Echo'!$O$11:$O$596,MATCH('(3)Flange Peq'!$A44,'[1]Input Echo'!$J$11:$J$600,0))) -> 200 | I44: =D44+4*E44*10/(PI()*G44^2)+16*F44*10^4/(PI()*G44^2*H44) -> 4.4264686 | J44: -48 | K44: 19.65 | L44: =(I44/K44)*100 -> 22.526558 | M44: =B44&C44 -> 300100
A45: 11470 | B45: =IFERROR(INDEX('Input Echo'!$M$11:$M$596,MATCH('(3)Flange Peq'!$A45,'Input Echo'!$I$11:$I$596,0)),INDEX('Input Echo'!$M$11:$M$596,MATCH('(3)Flange Peq'!$A45,'Input Echo'!$J$11:$J$596,0))) -> 300 | C45: =IFERROR(INDEX('Input Echo'!$AI$11:$AI$596,MATCH('(3)Flange Peq'!$A45,'Input Echo'!$I$11:$I$596,0)),INDEX('Input Echo'!$AI$11:$AI$596,MATCH('(3)Flange Peq'!$A45,'Input Echo'!$J$11:$J$596,0))) -> 150 | D45: =IFERROR(INDEX('Input Echo'!$Z$11:$Z$596,MATCH('(3)Flange Peq'!$A45,'Input Echo'!$I$11:$I$596,0)),INDEX('Input Echo'!$Z$11:$Z$596,MATCH('(3)Flange Peq'!$A45,'Input Echo'!$J$11:$J$596,0))) -> -1 | E45: 167 | F45: 26 | G45: 77.85 | H45: =IFERROR(INDEX('Input Echo'!$O$11:$O$596,MATCH('(3)Flange Peq'!$A45,'Input Echo'!$I$11:$I$596,0)),INDEX('Input Echo'!$O$11:$O$596,MATCH('(3)Flange Peq'!$A45,'[1]Input Echo'!$J$11:$J$600,0))) -> #N/A | I45: 0 | J45: -48 | K45: 19.65 | L45: =(I45/K45)*100 -> 0 | M45: =B45&C45 -> 300150
A46: 11920 | B46: =IFERROR(INDEX('Input Echo'!$M$11:$M$596,MATCH('(3)Flange Peq'!$A46,'Input Echo'!$I$11:$I$596,0)),INDEX('Input Echo'!$M$11:$M$596,MATCH('(3)Flange Peq'!$A46,'Input Echo'!$J$11:$J$596,0))) -> 300 | C46: =IFERROR(INDEX('Input Echo'!$AI$11:$AI$596,MATCH('(3)Flange Peq'!$A46,'Input Echo'!$I$11:$I$596,0)),INDEX('Input Echo'!$AI$11:$AI$596,MATCH('(3)Flange Peq'!$A46,'Input Echo'!$J$11:$J$596,0))) -> 80 | D46: =IFERROR(INDEX('Input Echo'!$Z$11:$Z$596,MATCH('(3)Flange Peq'!$A46,'Input Echo'!$I$11:$I$596,0)),INDEX('Input Echo'!$Z$11:$Z$596,MATCH('(3)Flange Peq'!$A46,'Input Echo'!$J$11:$J$596,0))) -> -1 | E46: 0 | F46: 14 | G46: 77.85 | H46: =IFERROR(INDEX('Input Echo'!$O$11:$O$596,MATCH('(3)Flange Peq'!$A46,'Input Echo'!$I$11:$I$596,0)),INDEX('Input Echo'!$O$11:$O$596,MATCH('(3)Flange Peq'!$A46,'[1]Input Echo'!$J$11:$J$600,0))) -> #N/A | I46: 0 | J46: -48 | K46: 51.02 | L46: =(I46/K46)*100 -> 0 | M46: =B46&C46 -> 30080
A47: 11970 | B47: =IFERROR(INDEX('Input Echo'!$M$11:$M$596,MATCH('(3)Flange Peq'!$A47,'Input Echo'!$I$11:$I$596,0)),INDEX('Input Echo'!$M$11:$M$596,MATCH('(3)Flange Peq'!$A47,'Input Echo'!$J$11:$J$596,0))) -> 0 | C47: =IFERROR(INDEX('Input Echo'!$AI$11:$AI$596,MATCH('(3)Flange Peq'!$A47,'Input Echo'!$I$11:$I$596,0)),INDEX('Input Echo'!$AI$11:$AI$596,MATCH('(3)Flange Peq'!$A47,'Input Echo'!$J$11:$J$596,0))) -> 50 | D47: =IFERROR(INDEX('Input Echo'!$Z$11:$Z$596,MATCH('(3)Flange Peq'!$A47,'Input Echo'!$I$11:$I$596,0)),INDEX('Input Echo'!$Z$11:$Z$596,MATCH('(3)Flange Peq'!$A47,'Input Echo'!$J$11:$J$596,0))) -> 0 | E47: 0 | F47: 123 | G47: 77.85 | H47: =IFERROR(INDEX('Input Echo'!$O$11:$O$596,MATCH('(3)Flange Peq'!$A47,'Input Echo'!$I$11:$I$596,0)),INDEX('Input Echo'!$O$11:$O$596,MATCH('(3)Flange Peq'!$A47,'[1]Input Echo'!$J$11:$J$600,0))) -> 0 | I47: =D47+4*E47*10/(PI()*G47^2)+16*F47*10^4/(PI()*G47^2*H47) -> #DIV/0! | J47: -48 | K47: 51.02 | L47: =(I47/K47)*100 -> #DIV/0! | M47: =B47&C47 -> 050
A48: 11800 | B48: =IFERROR(INDEX('Input Echo'!$M$11:$M$596,MATCH('(3)Flange Peq'!$A48,'Input Echo'!$I$11:$I$596,0)),INDEX('Input Echo'!$M$11:$M$596,MATCH('(3)Flange Peq'!$A48,'Input Echo'!$J$11:$J$596,0))) -> 0 | C48: =IFERROR(INDEX('Input Echo'!$AI$11:$AI$596,MATCH('(3)Flange Peq'!$A48,'Input Echo'!$I$11:$I$596,0)),INDEX('Input Echo'!$AI$11:$AI$596,MATCH('(3)Flange Peq'!$A48,'Input Echo'!$J$11:$J$596,0))) -> 80 | D48: =IFERROR(INDEX('Input Echo'!$Z$11:$Z$596,MATCH('(3)Flange Peq'!$A48,'Input Echo'!$I$11:$I$596,0)),INDEX('Input Echo'!$Z$11:$Z$596,MATCH('(3)Flange Peq'!$A48,'Input Echo'!$J$11:$J$596,0))) -> 0 | E48: 0 | F48: 33 | G48: 77.85 | H48: =IFERROR(INDEX('Input Echo'!$O$11:$O$596,MATCH('(3)Flange Peq'!$A48,'Input Echo'!$I$11:$I$596,0)),INDEX('Input Echo'!$O$11:$O$596,MATCH('(3)Flange Peq'!$A48,'[1]Input Echo'!$J$11:$J$600,0))) -> 0 | I48: =D48+4*E48*10/(PI()*G48^2)+16*F48*10^4/(PI()*G48^2*H48) -> #DIV/0! | J48: -48 | K48: 51.02 | L48: =(I48/K48)*100 -> #DIV/0! | M48: =B48&C48 -> 080
A49: 11820 | B49: =IFERROR(INDEX('Input Echo'!$M$11:$M$596,MATCH('(3)Flange Peq'!$A49,'Input Echo'!$I$11:$I$596,0)),INDEX('Input Echo'!$M$11:$M$596,MATCH('(3)Flange Peq'!$A49,'Input Echo'!$J$11:$J$596,0))) -> 0 | C49: =IFERROR(INDEX('Input Echo'!$AI$11:$AI$596,MATCH('(3)Flange Peq'!$A49,'Input Echo'!$I$11:$I$596,0)),INDEX('Input Echo'!$AI$11:$AI$596,MATCH('(3)Flange Peq'!$A49,'Input Echo'!$J$11:$J$596,0))) -> 80 | D49: =IFERROR(INDEX('Input Echo'!$Z$11:$Z$596,MATCH('(3)Flange Peq'!$A49,'Input Echo'!$I$11:$I$596,0)),INDEX('Input Echo'!$Z$11:$Z$596,MATCH('(3)Flange Peq'!$A49,'Input Echo'!$J$11:$J$596,0))) -> 0 | E49: 0 | F49: 15 | G49: 77.85 | H49: =IFERROR(INDEX('Input Echo'!$O$11:$O$596,MATCH('(3)Flange Peq'!$A49,'Input Echo'!$I$11:$I$596,0)),INDEX('Input Echo'!$O$11:$O$596,MATCH('(3)Flange Peq'!$A49,'[1]Input Echo'!$J$11:$J$600,0))) -> 0 | I49: =D49+4*E49*10/(PI()*G49^2)+16*F49*10^4/(PI()*G49^2*H49) -> #DIV/0! | J49: -48 | K49: 51.02 | L49: =(I49/K49)*100 -> #DIV/0! | M49: =B49&C49 -> 080
A50: 11850 | B50: =IFERROR(INDEX('Input Echo'!$M$11:$M$596,MATCH('(3)Flange Peq'!$A50,'Input Echo'!$I$11:$I$596,0)),INDEX('Input Echo'!$M$11:$M$596,MATCH('(3)Flange Peq'!$A50,'Input Echo'!$J$11:$J$596,0))) -> 0 | C50: =IFERROR(INDEX('Input Echo'!$AI$11:$AI$596,MATCH('(3)Flange Peq'!$A50,'Input Echo'!$I$11:$I$596,0)),INDEX('Input Echo'!$AI$11:$AI$596,MATCH('(3)Flange Peq'!$A50,'Input Echo'!$J$11:$J$596,0))) -> 200 | D50: =IFERROR(INDEX('Input Echo'!$Z$11:$Z$596,MATCH('(3)Flange Peq'!$A50,'Input Echo'!$I$11:$I$596,0)),INDEX('Input Echo'!$Z$11:$Z$596,MATCH('(3)Flange Peq'!$A50,'Input Echo'!$J$11:$J$596,0))) -> -1 | E50: 0 | F50: 3 | G50: 77.85 | H50: =IFERROR(INDEX('Input Echo'!$O$11:$O$596,MATCH('(3)Flange Peq'!$A50,'Input Echo'!$I$11:$I$596,0)),INDEX('Input Echo'!$O$11:$O$596,MATCH('(3)Flange Peq'!$A50,'[1]Input Echo'!$J$11:$J$600,0))) -> 0 | I50: =D50+4*E50*10/(PI()*G50^2)+16*F50*10^4/(PI()*G50^2*H50) -> #DIV/0! | J50: -48 | K50: 51.02 | L50: =(I50/K50)*100 -> #DIV/0! | M50: =B50&C50 -> 0200
A51: 11670 | B51: =IFERROR(INDEX('Input Echo'!$M$11:$M$596,MATCH('(3)Flange Peq'!$A51,'Input Echo'!$I$11:$I$596,0)),INDEX('Input Echo'!$M$11:$M$596,MATCH('(3)Flange Peq'!$A51,'Input Echo'!$J$11:$J$596,0))) -> 300 | C51: =IFERROR(INDEX('Input Echo'!$AI$11:$AI$596,MATCH('(3)Flange Peq'!$A51,'Input Echo'!$I$11:$I$596,0)),INDEX('Input Echo'!$AI$11:$AI$596,MATCH('(3)Flange Peq'!$A51,'Input Echo'!$J$11:$J$596,0))) -> 80 | D51: =IFERROR(INDEX('Input Echo'!$Z$11:$Z$596,MATCH('(3)Flange Peq'!$A51,'Input Echo'!$I$11:$I$596,0)),INDEX('Input Echo'!$Z$11:$Z$596,MATCH('(3)Flange Peq'!$A51,'Input Echo'!$J$11:$J$596,0))) -> 0 | E51: 0 | F51: 22 | G51: 77.85 | H51: =IFERROR(INDEX('Input Echo'!$O$11:$O$596,MATCH('(3)Flange Peq'!$A51,'Input Echo'!$I$11:$I$596,0)),INDEX('Input Echo'!$O$11:$O$596,MATCH('(3)Flange Peq'!$A51,'[1]Input Echo'!$J$11:$J$600,0))) -> 168.3 | I51: =D51+4*E51*10/(PI()*G51^2)+16*F51*10^4/(PI()*G51^2*H51) -> 1.0984782 | J51: -48 | K51: 51.02 | L51: =(I51/K51)*100 -> 2.1530345 | M51: =B51&C51 -> 30080
A52: 11690 | B52: =IFERROR(INDEX('Input Echo'!$M$11:$M$596,MATCH('(3)Flange Peq'!$A52,'Input Echo'!$I$11:$I$596,0)),INDEX('Input Echo'!$M$11:$M$596,MATCH('(3)Flange Peq'!$A52,'Input Echo'!$J$11:$J$596,0))) -> 0 | C52: =IFERROR(INDEX('Input Echo'!$AI$11:$AI$596,MATCH('(3)Flange Peq'!$A52,'Input Echo'!$I$11:$I$596,0)),INDEX('Input Echo'!$AI$11:$AI$596,MATCH('(3)Flange Peq'!$A52,'Input Echo'!$J$11:$J$596,0))) -> 80 | D52: =IFERROR(INDEX('Input Echo'!$Z$11:$Z$596,MATCH('(3)Flange Peq'!$A52,'Input Echo'!$I$11:$I$596,0)),INDEX('Input Echo'!$Z$11:$Z$596,MATCH('(3)Flange Peq'!$A52,'Input Echo'!$J$11:$J$596,0))) -> 0 | E52: 0 | F52: 34 | G52: 77.85 | H52: =IFERROR(INDEX('Input Echo'!$O$11:$O$596,MATCH('(3)Flange Peq'!$A52,'Input Echo'!$I$11:$I$596,0)),INDEX('Input Echo'!$O$11:$O$596,MATCH('(3)Flange Peq'!$A52,'[1]Input Echo'!$J$11:$J$600,0))) -> 0 | I52: =D52+4*E52*10/(PI()*G52^2)+16*F52*10^4/(PI()*G52^2*H52) -> #DIV/0! | J52: -48 | K52: 51.02 | L52: =(I52/K52)*100 -> #DIV/0! | M52: =B52&C52 -> 080
A53: 178 | B53: =IFERROR(INDEX('Input Echo'!$M$11:$M$596,MATCH('(3)Flange Peq'!$A53,'Input Echo'!$I$11:$I$596,0)),INDEX('Input Echo'!$M$11:$M$596,MATCH('(3)Flange Peq'!$A53,'Input Echo'!$J$11:$J$596,0))) -> 0 | C53: =IFERROR(INDEX('Input Echo'!$AI$11:$AI$596,MATCH('(3)Flange Peq'!$A53,'Input Echo'!$I$11:$I$596,0)),INDEX('Input Echo'!$AI$11:$AI$596,MATCH('(3)Flange Peq'!$A53,'Input Echo'!$J$11:$J$596,0))) -> 50 | D53: =IFERROR(INDEX('Input Echo'!$Z$11:$Z$596,MATCH('(3)Flange Peq'!$A53,'Input Echo'!$I$11:$I$596,0)),INDEX('Input Echo'!$Z$11:$Z$596,MATCH('(3)Flange Peq'!$A53,'Input Echo'!$J$11:$J$596,0))) -> 0 | E53: 8336 | F53: 349 | G53: 442.98 | H53: =IFERROR(INDEX('Input Echo'!$O$11:$O$596,MATCH('(3)Flange Peq'!$A53,'Input Echo'!$I$11:$I$596,0)),INDEX('Input Echo'!$O$11:$O$596,MATCH('(3)Flange Peq'!$A53,'[1]Input Echo'!$J$11:$J$600,0))) -> 0 | I53: =D53+4*E53*10/(PI()*G53^2)+16*F53*10^4/(PI()*G53^2*H53) -> #DIV/0! | J53: -48 | K53: 19.65 | L53: =(I53/K53)*100 -> #DIV/0! | M53: =B53&C53 -> 050
A54: 19450 | B54: =IFERROR(INDEX('Input Echo'!$M$11:$M$596,MATCH('(3)Flange Peq'!$A54,'Input Echo'!$I$11:$I$596,0)),INDEX('Input Echo'!$M$11:$M$596,MATCH('(3)Flange Peq'!$A54,'Input Echo'!$J$11:$J$596,0))) -> 0 | C54: =IFERROR(INDEX('Input Echo'!$AI$11:$AI$596,MATCH('(3)Flange Peq'!$A54,'Input Echo'!$I$11:$I$596,0)),INDEX('Input Echo'!$AI$11:$AI$596,MATCH('(3)Flange Peq'!$A54,'Input Echo'!$J$11:$J$596,0))) -> 50 | D54: =IFERROR(INDEX('Input Echo'!$Z$11:$Z$596,MATCH('(3)Flange Peq'!$A54,'Input Echo'!$I$11:$I$596,0)),INDEX('Input Echo'!$Z$11:$Z$596,MATCH('(3)Flange Peq'!$A54,'Input Echo'!$J$11:$J$596,0))) -> 0 | E54: 128 | F54: 304 | G54: 111.13 | H54: =IFERROR(INDEX('Input Echo'!$O$11:$O$596,MATCH('(3)Flange Peq'!$A54,'Input Echo'!$I$11:$I$596,0)),INDEX('Input Echo'!$O$11:$O$596,MATCH('(3)Flange Peq'!$A54,'[1]Input Echo'!$J$11:$J$600,0))) -> 0 | I54: =D54+4*E54*10/(PI()*G54^2)+16*F54*10^4/(PI()*G54^2*H54) -> #DIV/0! | J54: -48 | K54: 19.65 | L54: =(I54/K54)*100 -> #DIV/0! | M54: =B54&C54 -> 050
A55: 19480 | B55: =IFERROR(INDEX('Input Echo'!$M$11:$M$596,MATCH('(3)Flange Peq'!$A55,'Input Echo'!$I$11:$I$596,0)),INDEX('Input Echo'!$M$11:$M$596,MATCH('(3)Flange Peq'!$A55,'Input Echo'!$J$11:$J$596,0))) -> 0 | C55: =IFERROR(INDEX('Input Echo'!$AI$11:$AI$596,MATCH('(3)Flange Peq'!$A55,'Input Echo'!$I$11:$I$596,0)),INDEX('Input Echo'!$AI$11:$AI$596,MATCH('(3)Flange Peq'!$A55,'Input Echo'!$J$11:$J$596,0))) -> 60 | D55: =IFERROR(INDEX('Input Echo'!$Z$11:$Z$596,MATCH('(3)Flange Peq'!$A55,'Input Echo'!$I$11:$I$596,0)),INDEX('Input Echo'!$Z$11:$Z$596,MATCH('(3)Flange Peq'!$A55,'Input Echo'!$J$11:$J$596,0))) -> -1 | E55: 133 | F55: 344 | G55: 77.85 | H55: =IFERROR(INDEX('Input Echo'!$O$11:$O$596,MATCH('(3)Flange Peq'!$A55,'Input Echo'!$I$11:$I$596,0)),INDEX('Input Echo'!$O$11:$O$596,MATCH('(3)Flange Peq'!$A55,'[1]Input Echo'!$J$11:$J$600,0))) -> 0 | I55: =D55+4*E55*10/(PI()*G55^2)+16*F55*10^4/(PI()*G55^2*H55) -> #DIV/0! | J55: -48 | K55: 51.02 | L55: =(I55/K55)*100 -> #DIV/0! | M55: =B55&C55 -> 060
A56: 2030 | B56: =IFERROR(INDEX('Input Echo'!$M$11:$M$596,MATCH('(3)Flange Peq'!$A56,'Input Echo'!$I$11:$I$596,0)),INDEX('Input Echo'!$M$11:$M$596,MATCH('(3)Flange Peq'!$A56,'Input Echo'!$J$11:$J$596,0))) -> 0 | C56: =IFERROR(INDEX('Input Echo'!$AI$11:$AI$596,MATCH('(3)Flange Peq'!$A56,'Input Echo'!$I$11:$I$596,0)),INDEX('Input Echo'!$AI$11:$AI$596,MATCH('(3)Flange Peq'!$A56,'Input Echo'!$J$11:$J$596,0))) -> 80 | D56: =IFERROR(INDEX('Input Echo'!$Z$11:$Z$596,MATCH('(3)Flange Peq'!$A56,'Input Echo'!$I$11:$I$596,0)),INDEX('Input Echo'!$Z$11:$Z$596,MATCH('(3)Flange Peq'!$A56,'Input Echo'!$J$11:$J$596,0))) -> -1 | E56: 21 | F56: 46 | G56: 77.85 | H56: =IFERROR(INDEX('Input Echo'!$O$11:$O$596,MATCH('(3)Flange Peq'!$A56,'Input Echo'!$I$11:$I$596,0)),INDEX('Input Echo'!$O$11:$O$596,MATCH('(3)Flange Peq'!$A56,'[1]Input Echo'!$J$11:$J$600,0))) -> 0 | I56: =D56+4*E56*10/(PI()*G56^2)+16*F56*10^4/(PI()*G56^2*H56) -> #DIV/0! | J56: -48 | K56: 19.6 | L56: =(I56/K56)*100 -> #DIV/0! | M56: =B56&C56 -> 080
A57: 3080 | B57: =IFERROR(INDEX('Input Echo'!$M$11:$M$596,MATCH('(3)Flange Peq'!$A57,'Input Echo'!$I$11:$I$596,0)),INDEX('Input Echo'!$M$11:$M$596,MATCH('(3)Flange Peq'!$A57,'Input Echo'!$J$11:$J$596,0))) -> 0 | C57: =IFERROR(INDEX('Input Echo'!$AI$11:$AI$596,MATCH('(3)Flange Peq'!$A57,'Input Echo'!$I$11:$I$596,0)),INDEX('Input Echo'!$AI$11:$AI$596,MATCH('(3)Flange Peq'!$A57,'Input Echo'!$J$11:$J$596,0))) -> 80 | D57: =IFERROR(INDEX('Input Echo'!$Z$11:$Z$596,MATCH('(3)Flange Peq'!$A57,'Input Echo'!$I$11:$I$596,0)),INDEX('Input Echo'!$Z$11:$Z$596,MATCH('(3)Flange Peq'!$A57,'Input Echo'!$J$11:$J$596,0))) -> -1 | E57: 114 | F57: 88 | G57: 138.18 | H57: =IFERROR(INDEX('Input Echo'!$O$11:$O$596,MATCH('(3)Flange Peq'!$A57,'Input Echo'!$I$11:$I$596,0)),INDEX('Input Echo'!$O$11:$O$596,MATCH('(3)Flange Peq'!$A57,'[1]Input Echo'!$J$11:$J$600,0))) -> 0 | I57: =D57+4*E57*10/(PI()*G57^2)+16*F57*10^4/(PI()*G57^2*H57) -> #DIV/0! | J57: -48 | K57: 19.65 | L57: =(I57/K57)*100 -> #DIV/0! | M57: =B57&C57 -> 080
A58: 3110 | B58: =IFERROR(INDEX('Input Echo'!$M$11:$M$596,MATCH('(3)Flange Peq'!$A58,'Input Echo'!$I$11:$I$596,0)),INDEX('Input Echo'!$M$11:$M$596,MATCH('(3)Flange Peq'!$A58,'Input Echo'!$J$11:$J$596,0))) -> 300 | C58: =IFERROR(INDEX('Input Echo'!$AI$11:$AI$596,MATCH('(3)Flange Peq'!$A58,'Input Echo'!$I$11:$I$596,0)),INDEX('Input Echo'!$AI$11:$AI$596,MATCH('(3)Flange Peq'!$A58,'Input Echo'!$J$11:$J$596,0))) -> 100 | D58: =IFERROR(INDEX('Input Echo'!$Z$11:$Z$596,MATCH('(3)Flange Peq'!$A58,'Input Echo'!$I$11:$I$596,0)),INDEX('Input Echo'!$Z$11:$Z$596,MATCH('(3)Flange Peq'!$A58,'Input Echo'!$J$11:$J$596,0))) -> -1 | E58: 1333 | F58: 183 | G58: 111.13 | H58: =IFERROR(INDEX('Input Echo'!$O$11:$O$596,MATCH('(3)Flange Peq'!$A58,'Input Echo'!$I$11:$I$596,0)),INDEX('Input Echo'!$O$11:$O$596,MATCH('(3)Flange Peq'!$A58,'[1]Input Echo'!$J$11:$J$600,0))) -> 200 | I58: =D58+4*E58*10/(PI()*G58^2)+16*F58*10^4/(PI()*G58^2*H58) -> 4.1476505 | J58: -48 | K58: 51.02 | L58: =(I58/K58)*100 -> 8.1294601 | M58: =B58&C58 -> 300100
... A64: 10070 | B64: =IFERROR(INDEX('Input Echo'!$M$11:$M$596,MATCH('(3)Flange Peq'!$A64,'Input Echo'!$I$11:$I$596,0)),INDEX('Input Echo'!$M$11:$M$596,MATCH('(3)Flange Peq'!$A64,'Input Echo'!$J$11:$J$596,0))) -> 300 | C64: =IFERROR(INDEX('Input Echo'!$AI$11:$AI$596,MATCH('(3)Flange Peq'!$A64,'Input Echo'!$I$11:$I$596,0)),INDEX('Input Echo'!$AI$11:$AI$596,MATCH('(3)Flange Peq'!$A64,'Input Echo'!$J$11:$J$596,0))) -> 40 | D64: =IFERROR(INDEX('Input Echo'!$Z$11:$Z$596,MATCH('(3)Flange Peq'!$A64,'Input Echo'!$I$11:$I$596,0)),INDEX('Input Echo'!$Z$11:$Z$596,MATCH('(3)Flange Peq'!$A64,'Input Echo'!$J$11:$J$596,0))) -> -1 | E64: 420 | F64: 69 | G64: 77.85 | H64: =IFERROR(INDEX('Input Echo'!$O$11:$O$596,MATCH('(3)Flange Peq'!$A64,'Input Echo'!$I$11:$I$596,0)),INDEX('Input Echo'!$O$11:$O$596,MATCH('(3)Flange Peq'!$A64,'[1]Input Echo'!$J$11:$J$600,0))) -> 114.3 | I64: =D64+4*E64*10/(PI()*G64^2)+16*F64*10^4/(PI()*G64^2*H64) -> 4.955246 | J64: -48 | K64: 19.65 | L64: =(I64/K64)*100 -> 25.217537 | M64: =B64&C64 -> 30040
A65: 10090 | B65: =IFERROR(INDEX('Input Echo'!$M$11:$M$596,MATCH('(3)Flange Peq'!$A65,'Input Echo'!$I$11:$I$596,0)),INDEX('Input Echo'!$M$11:$M$596,MATCH('(3)Flange Peq'!$A65,'Input Echo'!$J$11:$J$596,0))) -> 300 | C65: =IFERROR(INDEX('Input Echo'!$AI$11:$AI$596,MATCH('(3)Flange Peq'!$A65,'Input Echo'!$I$11:$I$596,0)),INDEX('Input Echo'!$AI$11:$AI$596,MATCH('(3)Flange Peq'!$A65,'Input Echo'!$J$11:$J$596,0))) -> 25 | D65: =IFERROR(INDEX('Input Echo'!$Z$11:$Z$596,MATCH('(3)Flange Peq'!$A65,'Input Echo'!$I$11:$I$596,0)),INDEX('Input Echo'!$Z$11:$Z$596,MATCH('(3)Flange Peq'!$A65,'Input Echo'!$J$11:$J$596,0))) -> -1 | E65: 420 | F65: 64 | G65: 77.85 | H65: =IFERROR(INDEX('Input Echo'!$O$11:$O$596,MATCH('(3)Flange Peq'!$A65,'Input Echo'!$I$11:$I$596,0)),INDEX('Input Echo'!$O$11:$O$596,MATCH('(3)Flange Peq'!$A65,'[1]Input Echo'!$J$11:$J$600,0))) -> #N/A | I65: 0 | J65: -48 | K65: 19.65 | L65: =(I65/K65)*100 -> 0 | M65: =B65&C65 -> 30025
A66: 10100 | B66: =IFERROR(INDEX('Input Echo'!$M$11:$M$596,MATCH('(3)Flange Peq'!$A66,'Input Echo'!$I$11:$I$596,0)),INDEX('Input Echo'!$M$11:$M$596,MATCH('(3)Flange Peq'!$A66,'Input Echo'!$J$11:$J$596,0))) -> 0 | C66: =IFERROR(INDEX('Input Echo'!$AI$11:$AI$596,MATCH('(3)Flange Peq'!$A66,'Input Echo'!$I$11:$I$596,0)),INDEX('Input Echo'!$AI$11:$AI$596,MATCH('(3)Flange Peq'!$A66,'Input Echo'!$J$11:$J$596,0))) -> 40 | D66: =IFERROR(INDEX('Input Echo'!$Z$11:$Z$596,MATCH('(3)Flange Peq'!$A66,'Input Echo'!$I$11:$I$596,0)),INDEX('Input Echo'!$Z$11:$Z$596,MATCH('(3)Flange Peq'!$A66,'Input Echo'!$J$11:$J$596,0))) -> -1 | E66: 420 | F66: 59 | G66: 77.85 | H66: =IFERROR(INDEX('Input Echo'!$O$11:$O$596,MATCH('(3)Flange Peq'!$A66,'Input Echo'!$I$11:$I$596,0)),INDEX('Input Echo'!$O$11:$O$596,MATCH('(3)Flange Peq'!$A66,'[1]Input Echo'!$J$11:$J$600,0))) -> 0 | I66: =D66+4*E66*10/(PI()*G66^2)+16*F66*10^4/(PI()*G66^2*H66) -> #DIV/0! | J66: -48 | K66: 51.02 | L66: =(I66/K66)*100 -> #DIV/0! | M66: =B66&C66 -> 040
A67: 240 | B67: =IFERROR(INDEX('Input Echo'!$M$11:$M$596,MATCH('(3)Flange Peq'!$A67,'Input Echo'!$I$11:$I$596,0)),INDEX('Input Echo'!$M$11:$M$596,MATCH('(3)Flange Peq'!$A67,'Input Echo'!$J$11:$J$596,0))) -> 0 | C67: =IFERROR(INDEX('Input Echo'!$AI$11:$AI$596,MATCH('(3)Flange Peq'!$A67,'Input Echo'!$I$11:$I$596,0)),INDEX('Input Echo'!$AI$11:$AI$596,MATCH('(3)Flange Peq'!$A67,'Input Echo'!$J$11:$J$596,0))) -> 40 | D67: =IFERROR(INDEX('Input Echo'!$Z$11:$Z$596,MATCH('(3)Flange Peq'!$A67,'Input Echo'!$I$11:$I$596,0)),INDEX('Input Echo'!$Z$11:$Z$596,MATCH('(3)Flange Peq'!$A67,'Input Echo'!$J$11:$J$596,0))) -> -1 | E67: 34 | F67: 3674 | G67: 302.39 | H67: =IFERROR(INDEX('Input Echo'!$O$11:$O$596,MATCH('(3)Flange Peq'!$A67,'Input Echo'!$I$11:$I$596,0)),INDEX('Input Echo'!$O$11:$O$596,MATCH('(3)Flange Peq'!$A67,'[1]Input Echo'!$J$11:$J$600,0))) -> 0 | I67: =D67+4*E67*10/(PI()*G67^2)+16*F67*10^4/(PI()*G67^2*H67) -> #DIV/0! | J67: -48 | K67: 19.65 | L67: =(I67/K67)*100 -> #DIV/0! | M67: =B67&C67 -> 040
A68: 270 | B68: =IFERROR(INDEX('Input Echo'!$M$11:$M$596,MATCH('(3)Flange Peq'!$A68,'Input Echo'!$I$11:$I$596,0)),INDEX('Input Echo'!$M$11:$M$596,MATCH('(3)Flange Peq'!$A68,'Input Echo'!$J$11:$J$596,0))) -> 0 | C68: =IFERROR(INDEX('Input Echo'!$AI$11:$AI$596,MATCH('(3)Flange Peq'!$A68,'Input Echo'!$I$11:$I$596,0)),INDEX('Input Echo'!$AI$11:$AI$596,MATCH('(3)Flange Peq'!$A68,'Input Echo'!$J$11:$J$596,0))) -> 40 | D68: =IFERROR(INDEX('Input Echo'!$Z$11:$Z$596,MATCH('(3)Flange Peq'!$A68,'Input Echo'!$I$11:$I$596,0)),INDEX('Input Echo'!$Z$11:$Z$596,MATCH('(3)Flange Peq'!$A68,'Input Echo'!$J$11:$J$596,0))) -> -1 | E68: 5990 | F68: 4583 | G68: 248.54 | H68: =IFERROR(INDEX('Input Echo'!$O$11:$O$596,MATCH('(3)Flange Peq'!$A68,'Input Echo'!$I$11:$I$596,0)),INDEX('Input Echo'!$O$11:$O$596,MATCH('(3)Flange Peq'!$A68,'[1]Input Echo'!$J$11:$J$600,0))) -> 0 | I68: =D68+4*E68*10/(PI()*G68^2)+16*F68*10^4/(PI()*G68^2*H68) -> #DIV/0! | J68: -48 | K68: 41.37 | L68: =(I68/K68)*100 -> #DIV/0! | M68: =B68&C68 -> 040
A69: 285 | B69: =IFERROR(INDEX('Input Echo'!$M$11:$M$596,MATCH('(3)Flange Peq'!$A69,'Input Echo'!$I$11:$I$596,0)),INDEX('Input Echo'!$M$11:$M$596,MATCH('(3)Flange Peq'!$A69,'Input Echo'!$J$11:$J$596,0))) -> 0 | C69: =IFERROR(INDEX('Input Echo'!$AI$11:$AI$596,MATCH('(3)Flange Peq'!$A69,'Input Echo'!$I$11:$I$596,0)),INDEX('Input Echo'!$AI$11:$AI$596,MATCH('(3)Flange Peq'!$A69,'Input Echo'!$J$11:$J$596,0))) -> 40 | D69: =IFERROR(INDEX('Input Echo'!$Z$11:$Z$596,MATCH('(3)Flange Peq'!$A69,'Input Echo'!$I$11:$I$596,0)),INDEX('Input Echo'!$Z$11:$Z$596,MATCH('(3)Flange Peq'!$A69,'Input Echo'!$J$11:$J$596,0))) -> -1 | E69: 6640 | F69: 4580 | G69: 248.54 | H69: =IFERROR(INDEX('Input Echo'!$O$11:$O$596,MATCH('(3)Flange Peq'!$A69,'Input Echo'!$I$11:$I$596,0)),INDEX('Input Echo'!$O$11:$O$596,MATCH('(3)Flange Peq'!$A69,'[1]Input Echo'!$J$11:$J$600,0))) -> 0 | I69: =D69+4*E69*10/(PI()*G69^2)+16*F69*10^4/(PI()*G69^2*H69) -> #DIV/0! | J69: -48 | K69: 41.37 | L69: =(I69/K69)*100 -> #DIV/0! | M69: =B69&C69 -> 040
A70: 290 | B70: =IFERROR(INDEX('Input Echo'!$M$11:$M$596,MATCH('(3)Flange Peq'!$A70,'Input Echo'!$I$11:$I$596,0)),INDEX('Input Echo'!$M$11:$M$596,MATCH('(3)Flange Peq'!$A70,'Input Echo'!$J$11:$J$596,0))) -> 0 | C70: =IFERROR(INDEX('Input Echo'!$AI$11:$AI$596,MATCH('(3)Flange Peq'!$A70,'Input Echo'!$I$11:$I$596,0)),INDEX('Input Echo'!$AI$11:$AI$596,MATCH('(3)Flange Peq'!$A70,'Input Echo'!$J$11:$J$596,0))) -> 40 | D70: =IFERROR(INDEX('Input Echo'!$Z$11:$Z$596,MATCH('(3)Flange Peq'!$A70,'Input Echo'!$I$11:$I$596,0)),INDEX('Input Echo'!$Z$11:$Z$596,MATCH('(3)Flange Peq'!$A70,'Input Echo'!$J$11:$J$596,0))) -> -1 | E70: 7260 | F70: 4578 | G70: 357.25 | H70: =IFERROR(INDEX('Input Echo'!$O$11:$O$596,MATCH('(3)Flange Peq'!$A70,'Input Echo'!$I$11:$I$596,0)),INDEX('Input Echo'!$O$11:$O$596,MATCH('(3)Flange Peq'!$A70,'[1]Input Echo'!$J$11:$J$600,0))) -> 0 | I70: =D70+4*E70*10/(PI()*G70^2)+16*F70*10^4/(PI()*G70^2*H70) -> #DIV/0! | J70: -48 | K70: 41.37 | L70: =(I70/K70)*100 -> #DIV/0! | M70: =B70&C70 -> 040
A104: Nœud | B104: Classe | C104: DN | D104: F (N) | E104: Mf (N.m) | F104: Peq(bar) | G104: ratio
A105: =IFERROR(INDEX(A8:A100,MATCH(F105:F300,I8:I300,0)),INDEX(A8:A100,MATCH(F105:F600,M8:M300,0))) -> 7414 | B105: 150 | C105: 150 | D105: =IFERROR(INDEX(E8:E100,MATCH(F105:F600,I8:I300,0)),INDEX(E8:E100,MATCH(F105:F600,M8:M300,0))) -> 83 | E105: =IFERROR(INDEX(F8:F100,MATCH(F105:F600,I8:I300,0)),INDEX(E8:F100,MATCH(F105:F600,M8:M300,0))) -> 70 | F105: {=MAX(IF(M8:M300=150&150,I8:I300))} -> 2.6121445 | G105: =IFERROR(INDEX(L8:L100,MATCH(F105:F600,I8:I300,0)),INDEX(L8:L100,MATCH(F105:F600,M8:M300,0))) -> 5.1198443
A106: =IFERROR(INDEX(A9:A101,MATCH(F106:F301,I9:I301,0)),INDEX(A9:A101,MATCH(F106:F601,M9:M301,0))) -> 7400 | B106: 150 | C106: 50 | D106: =IFERROR(INDEX(E9:E101,MATCH(F106:F601,I9:I301,0)),INDEX(E9:E101,MATCH(F106:F601,M9:M301,0))) -> 637 | E106: =IFERROR(INDEX(F9:F101,MATCH(F106:F601,I9:I301,0)),INDEX(E9:F101,MATCH(F106:F601,M9:M301,0))) -> 88 | F106: {=MAX(IF(M8:M300=150&50,I8:I300))} -> 3.6658732 | G106: =IFERROR(INDEX(L9:L101,MATCH(F106:F601,I9:I301,0)),INDEX(L9:L101,MATCH(F106:F601,M9:M301,0))) -> 7.185169
A107: =IFERROR(INDEX(A10:A102,MATCH(F107:F302,I10:I302,0)),INDEX(A10:A102,MATCH(F107:F602,M10:M302,0))) -> 2015 | B107: 150 | C107: 25 | D107: =IFERROR(INDEX(E10:E102,MATCH(F107:F602,I10:I302,0)),INDEX(E10:E102,MATCH(F107:F602,M10:M302,0))) -> 717 | E107: =IFERROR(INDEX(F10:F102,MATCH(F107:F602,I10:I302,0)),INDEX(E10:F102,MATCH(F107:F602,M10:M302,0))) -> 60 | F107: {=MAX(IF(M8:M300=150&25,I8:I300))} -> 0 | G107: =IFERROR(INDEX(L10:L102,MATCH(F107:F602,I10:I302,0)),INDEX(L10:L102,MATCH(F107:F602,M10:M302,0))) -> 0
A108: =IFERROR(INDEX(A11:A103,MATCH(F108:F303,I11:I303,0)),INDEX(A11:A103,MATCH(F108:F603,M11:M303,0))) -> 2015 | B108: 150 | C108: 100 | D108: =IFERROR(INDEX(E11:E103,MATCH(F108:F603,I11:I303,0)),INDEX(E11:E103,MATCH(F108:F603,M11:M303,0))) -> 717 | E108: =IFERROR(INDEX(F11:F103,MATCH(F108:F603,I11:I303,0)),INDEX(E11:F103,MATCH(F108:F603,M11:M303,0))) -> 60 | F108: {=MAX(IF(M8:M300=150&100,I8:I300))} -> 0 | G108: =IFERROR(INDEX(L11:L103,MATCH(F108:F603,I11:I303,0)),INDEX(L11:L103,MATCH(F108:F603,M11:M303,0))) -> 0
A109: =IFERROR(INDEX(A12:A104,MATCH(F109:F304,I12:I304,0)),INDEX(A12:A104,MATCH(F109:F604,M12:M304,0))) -> 2015 | B109: 150 | C109: 250 | D109: =IFERROR(INDEX(E12:E104,MATCH(F109:F604,I12:I304,0)),INDEX(E12:E104,MATCH(F109:F604,M12:M304,0))) -> 717 | E109: =IFERROR(INDEX(F12:F104,MATCH(F109:F604,I12:I304,0)),INDEX(E12:F104,MATCH(F109:F604,M12:M304,0))) -> 60 | F109: {=MAX(IF(M8:M300=150&250,I8:I300))} -> 0 | G109: =IFERROR(INDEX(L12:L104,MATCH(F109:F604,I12:I304,0)),INDEX(L12:L104,MATCH(F109:F604,M12:M304,0))) -> 0
A110: =IFERROR(INDEX(A13:A105,MATCH(F110:F305,I13:I305,0)),INDEX(A13:A105,MATCH(F110:F605,M13:M305,0))) -> 2015 | B110: 150 | C110: 400 | D110: =IFERROR(INDEX(E13:E105,MATCH(F110:F605,I13:I305,0)),INDEX(E13:E105,MATCH(F110:F605,M13:M305,0))) -> 717 | E110: =IFERROR(INDEX(F13:F105,MATCH(F110:F605,I13:I305,0)),INDEX(E13:F105,MATCH(F110:F605,M13:M305,0))) -> 60 | F110: {=MAX(IF(M8:M300=150&400,I8:I300))} -> 0 | G110: =IFERROR(INDEX(L13:L105,MATCH(F110:F605,I13:I305,0)),INDEX(L13:L105,MATCH(F110:F605,M13:M305,0))) -> 0
A111: =IFERROR(INDEX(A14:A106,MATCH(F111:F306,I14:I306,0)),INDEX(A14:A106,MATCH(F111:F606,M14:M306,0))) -> 20040 | B111: 150 | C111: 80 | D111: =IFERROR(INDEX(E14:E106,MATCH(F111:F606,I14:I306,0)),INDEX(E14:E106,MATCH(F111:F606,M14:M306,0))) -> 717 | E111: =IFERROR(INDEX(F14:F106,MATCH(F111:F606,I14:I306,0)),INDEX(E14:F106,MATCH(F111:F606,M14:M306,0))) -> 23 | F111: {=MAX(IF(M8:M300=150&80,I8:I300))} -> 0 | G111: =IFERROR(INDEX(L14:L106,MATCH(F111:F606,I14:I306,0)),INDEX(L14:L106,MATCH(F111:F606,M14:M306,0))) -> 0
A112: =IFERROR(INDEX(A15:A107,MATCH(F112:F307,I15:I307,0)),INDEX(A15:A107,MATCH(F112:F607,M15:M307,0))) -> 6330 | B112: 300 | C112: 150 | D112: =IFERROR(INDEX(E15:E107,MATCH(F112:F607,I15:I307,0)),INDEX(E15:E107,MATCH(F112:F607,M15:M307,0))) -> 135 | E112: =IFERROR(INDEX(F15:F107,MATCH(F112:F607,I15:I307,0)),INDEX(E15:F107,MATCH(F112:F607,M15:M307,0))) -> 50 | F112: {=MAX(IF(M8:M300=300&150,I8:I300))} -> 0 | G112: =IFERROR(INDEX(L15:L107,MATCH(F112:F607,I15:I307,0)),INDEX(L15:L107,MATCH(F112:F607,M15:M307,0))) -> 0
A113: =IFERROR(INDEX(A16:A108,MATCH(F113:F308,I16:I308,0)),INDEX(A16:A108,MATCH(F113:F608,M16:M308,0))) -> 6330 | B113: 300 | C113: 50 | D113: =IFERROR(INDEX(E16:E108,MATCH(F113:F608,I16:I308,0)),INDEX(E16:E108,MATCH(F113:F608,M16:M308,0))) -> 135 | E113: =IFERROR(INDEX(F16:F108,MATCH(F113:F608,I16:I308,0)),INDEX(E16:F108,MATCH(F113:F608,M16:M308,0))) -> 50 | F113: {=MAX(IF(M8:M300=300&50,I8:I300))} -> 0 | G113: =IFERROR(INDEX(L16:L108,MATCH(F113:F608,I16:I308,0)),INDEX(L16:L108,MATCH(F113:F608,M16:M308,0))) -> 0
A114: =IFERROR(INDEX(A17:A109,MATCH(F114:F309,I17:I309,0)),INDEX(A17:A109,MATCH(F114:F609,M17:M309,0))) -> 6330 | B114: 300 | C114: 25 | D114: =IFERROR(INDEX(E17:E109,MATCH(F114:F609,I17:I309,0)),INDEX(E17:E109,MATCH(F114:F609,M17:M309,0))) -> 135 | E114: =IFERROR(INDEX(F17:F109,MATCH(F114:F609,I17:I309,0)),INDEX(E17:F109,MATCH(F114:F609,M17:M309,0))) -> 50 | F114: {=MAX(IF(M8:M300=300&25,I8:I300))} -> 0 | G114: =IFERROR(INDEX(L17:L109,MATCH(F114:F609,I17:I309,0)),INDEX(L17:L109,MATCH(F114:F609,M17:M309,0))) -> 0
A115: =IFERROR(INDEX(A18:A110,MATCH(F115:F310,I18:I310,0)),INDEX(A18:A110,MATCH(F115:F610,M18:M310,0))) -> 1140 | B115: 300 | C115: 100 | D115: =IFERROR(INDEX(E18:E110,MATCH(F115:F610,I18:I310,0)),INDEX(E18:E110,MATCH(F115:F610,M18:M310,0))) -> 403 | E115: =IFERROR(INDEX(F18:F110,MATCH(F115:F610,I18:I310,0)),INDEX(E18:F110,MATCH(F115:F610,M18:M310,0))) -> 109 | F115: {=MAX(IF(M8:M300=300&100,I8:I300))} -> 4.4264686 | G115: =IFERROR(INDEX(L18:L110,MATCH(F115:F610,I18:I310,0)),INDEX(L18:L110,MATCH(F115:F610,M18:M310,0))) -> 22.526558
A116: =IFERROR(INDEX(A19:A111,MATCH(F116:F311,I19:I311,0)),INDEX(A19:A111,MATCH(F116:F611,M19:M311,0))) -> 6330 | B116: 300 | C116: 250 | D116: =IFERROR(INDEX(E19:E111,MATCH(F116:F611,I19:I311,0)),INDEX(E19:E111,MATCH(F116:F611,M19:M311,0))) -> 135 | E116: =IFERROR(INDEX(F19:F111,MATCH(F116:F611,I19:I311,0)),INDEX(E19:F111,MATCH(F116:F611,M19:M311,0))) -> 50 | F116: {=MAX(IF(M8:M300=300&250,I8:I300))} -> 0 | G116: =IFERROR(INDEX(L19:L111,MATCH(F116:F611,I19:I311,0)),INDEX(L19:L111,MATCH(F116:F611,M19:M311,0))) -> 0
A117: =IFERROR(INDEX(A20:A112,MATCH(F117:F312,I20:I312,0)),INDEX(A20:A112,MATCH(F117:F612,M20:M312,0))) -> 6330 | B117: 300 | C117: 400 | D117: =IFERROR(INDEX(E20:E112,MATCH(F117:F612,I20:I312,0)),INDEX(E20:E112,MATCH(F117:F612,M20:M312,0))) -> 135 | E117: =IFERROR(INDEX(F20:F112,MATCH(F117:F612,I20:I312,0)),INDEX(E20:F112,MATCH(F117:F612,M20:M312,0))) -> 50 | F117: {=MAX(IF(M8:M300=300&400,I8:I300))} -> 0 | G117: =IFERROR(INDEX(L20:L112,MATCH(F117:F612,I20:I312,0)),INDEX(L20:L112,MATCH(F117:F612,M20:M312,0))) -> 0
A118: =IFERROR(INDEX(A21:A113,MATCH(F118:F313,I21:I313,0)),INDEX(A21:A113,MATCH(F118:F613,M21:M313,0))) -> 11670 | B118: 300 | C118: 80 | D118: =IFERROR(INDEX(E21:E113,MATCH(F118:F613,I21:I313,0)),INDEX(E21:E113,MATCH(F118:F613,M21:M313,0))) -> 0 | E118: =IFERROR(INDEX(F21:F113,MATCH(F118:F613,I21:I313,0)),INDEX(E21:F113,MATCH(F118:F613,M21:M313,0))) -> 22 | F118: {=MAX(IF(M8:M300=300&80,I8:I300))} -> 1.0984782 | G118: =IFERROR(INDEX(L21:L113,MATCH(F118:F613,I21:I313,0)),INDEX(L21:L113,MATCH(F118:F613,M21:M313,0))) -> 2.1530345
A119: =IFERROR(INDEX(A22:A114,MATCH(F119:F314,I22:I314,0)),INDEX(A22:A114,MATCH(F119:F614,M22:M314,0))) -> 10220 | B119: 300 | C119: 40 | D119: =IFERROR(INDEX(E22:E114,MATCH(F119:F614,I22:I314,0)),INDEX(E22:E114,MATCH(F119:F614,M22:M314,0))) -> 2557 | E119: =IFERROR(INDEX(F22:F114,MATCH(F119:F614,I22:I314,0)),INDEX(E22:F114,MATCH(F119:F614,M22:M314,0))) -> 1619 | F119: {=MAX(IF(M8:M300=300&40,I8:I300))} -> 38.486703 | G119: =IFERROR(INDEX(L22:L114,MATCH(F119:F614,I22:I314,0)),INDEX(L22:L114,MATCH(F119:F614,M22:M314,0))) -> 93.030464

Sheet (19)Flange Peq
A1: CAESAR II 2016 Ver.8.00.00.5600, (Build 150930) Date: JUN 28, 2018 Time: 11:46
A2: Job Name: PRJ238_INE_NDC12_REV03_SORTIE 2 COUDES_TORCHE
A3: Licensed To: SPLM: Edit company name in <system>\company.txt
A4: FLANGE PEQ REPORT: Flange (Equiv Pressure Method)
A5: CASE 19 (OCC) W+P1+F3
A7: Node | B7: Classe | C7: DN | D7: Pression | E7: Axial Force N | F7: Bending Moment N.m | G7: G/C mm | H7: C (mm) | I7: P Equivalent bar | J7: Rating Temperature C | K7: Allowable Pressure /Stress | L7: Ratio % | M7: Index
A8: 10 | B8: =IFERROR(INDEX('Input Echo'!$M$11:$M$596,MATCH('(3)Flange Peq'!$A8,'Input Echo'!$I$11:$I$596,0)),INDEX('Input Echo'!$M$11:$M$596,MATCH('(3)Flange Peq'!$A8,'Input Echo'!$J$11:$J$596,0))) -> 150 | C8: =IFERROR(INDEX('Input Echo'!$AI$11:$AI$596,MATCH('(3)Flange Peq'!$A8,'Input Echo'!$I$11:$I$596,0)),INDEX('Input Echo'!$AI$11:$AI$596,MATCH('(3)Flange Peq'!$A8,'Input Echo'!$J$11:$J$596,0))) -> 150 | D8: =IFERROR(INDEX('Input Echo'!$Y$11:$Y$596,MATCH('(3)Flange Peq'!$A8,'Input Echo'!$I$11:$I$596,0)),INDEX('Input Echo'!$Y$11:$Y$596,MATCH('(3)Flange Peq'!$A8,'Input Echo'!$J$11:$J$596,0))) -> 10 | E8: 1077 | F8: 274 | G8: 196.09 | H8: =IFERROR(INDEX('Input Echo'!$O$11:$O$596,MATCH('(3)Flange Peq'!$A8,'Input Echo'!$I$11:$I$596,0)),INDEX('Input Echo'!$O$11:$O$596,MATCH('(3)Flange Peq'!$A8,'[1]Input Echo'!$J$11:$J$600,0))) -> 241.3 | I8: =D8+4*E8*10/(PI()*G8^2)+16*F8*10^4/(PI()*G8^2*H8) -> 11.860644 | J8: 110 | K8: 17.31 | L8: =(I8/K8)*100 -> 68.519027 | M8: =B8&C8 -> 150150
A9: 10 | B9: =IFERROR(INDEX('Input Echo'!$M$11:$M$596,MATCH('(3)Flange Peq'!$A9,'Input Echo'!$I$11:$I$596,0)),INDEX('Input Echo'!$M$11:$M$596,MATCH('(3)Flange Peq'!$A9,'Input Echo'!$J$11:$J$596,0))) -> 150 | C9: =IFERROR(INDEX('Input Echo'!$AI$11:$AI$596,MATCH('(3)Flange Peq'!$A9,'Input Echo'!$I$11:$I$596,0)),INDEX('Input Echo'!$AI$11:$AI$596,MATCH('(3)Flange Peq'!$A9,'Input Echo'!$J$11:$J$596,0))) -> 150 | D9: =IFERROR(INDEX('Input Echo'!$Y$11:$Y$596,MATCH('(3)Flange Peq'!$A9,'Input Echo'!$I$11:$I$596,0)),INDEX('Input Echo'!$Y$11:$Y$596,MATCH('(3)Flange Peq'!$A9,'Input Echo'!$J$11:$J$596,0))) -> 10 | E9: 1077 | F9: 274 | G9: 196.09 | H9: =IFERROR(INDEX('Input Echo'!$O$11:$O$596,MATCH('(3)Flange Peq'!$A9,'Input Echo'!$I$11:$I$596,0)),INDEX('Input Echo'!$O$11:$O$596,MATCH('(3)Flange Peq'!$A9,'[1]Input Echo'!$J$11:$J$600,0))) -> 241.3 | I9: =D9+4*E9*10/(PI()*G9^2)+16*F9*10^4/(PI()*G9^2*H9) -> 11.860644 | J9: 110 | K9: 17.31 | L9: =(I9/K9)*100 -> 68.519027 | M9: =B9&C9 -> 150150
A10: 20070 | B10: =IFERROR(INDEX('Input Echo'!$M$11:$M$596,MATCH('(3)Flange Peq'!$A10,'Input Echo'!$I$11:$I$596,0)),INDEX('Input Echo'!$M$11:$M$596,MATCH('(3)Flange Peq'!$A10,'Input Echo'!$J$11:$J$596,0))) -> 0 | C10: =IFERROR(INDEX('Input Echo'!$AI$11:$AI$596,MATCH('(3)Flange Peq'!$A10,'Input Echo'!$I$11:$I$596,0)),INDEX('Input Echo'!$AI$11:$AI$596,MATCH('(3)Flange Peq'!$A10,'Input Echo'!$J$11:$J$596,0))) -> 150 | D10: =IFERROR(INDEX('Input Echo'!$Y$11:$Y$596,MATCH('(3)Flange Peq'!$A10,'Input Echo'!$I$11:$I$596,0)),INDEX('Input Echo'!$Y$11:$Y$596,MATCH('(3)Flange Peq'!$A10,'Input Echo'!$J$11:$J$596,0))) -> 10 | E10: 32 | F10: 212 | G10: 196.09 | H10: =IFERROR(INDEX('Input Echo'!$O$11:$O$596,MATCH('(3)Flange Peq'!$A10,'Input Echo'!$I$11:$I$596,0)),INDEX('Input Echo'!$O$11:$O$596,MATCH('(3)Flange Peq'!$A10,'[1]Input Echo'!$J$11:$J$600,0))) -> 0 | I10: =D10+4*E10*10/(PI()*G10^2)+16*F10*10^4/(PI()*G10^2*H10) -> #DIV/0! | J10: 110 | K10: 17.31 | L10: =(I10/K10)*100 -> #DIV/0! | M10: =B10&C10 -> 0150
A11: 20090 | B11: =IFERROR(INDEX('Input Echo'!$M$11:$M$596,MATCH('(3)Flange Peq'!$A11,'Input Echo'!$I$11:$I$596,0)),INDEX('Input Echo'!$M$11:$M$596,MATCH('(3)Flange Peq'!$A11,'Input Echo'!$J$11:$J$596,0))) -> 0 | C11: =IFERROR(INDEX('Input Echo'!$AI$11:$AI$596,MATCH('(3)Flange Peq'!$A11,'Input Echo'!$I$11:$I$596,0)),INDEX('Input Echo'!$AI$11:$AI$596,MATCH('(3)Flange Peq'!$A11,'Input Echo'!$J$11:$J$596,0))) -> 80 | D11: =IFERROR(INDEX('Input Echo'!$Y$11:$Y$596,MATCH('(3)Flange Peq'!$A11,'Input Echo'!$I$11:$I$596,0)),INDEX('Input Echo'!$Y$11:$Y$596,MATCH('(3)Flange Peq'!$A11,'Input Echo'!$J$11:$J$596,0))) -> 10 | E11: 903 | F11: 237 | G11: 138.18 | H11: =IFERROR(INDEX('Input Echo'!$O$11:$O$596,MATCH('(3)Flange Peq'!$A11,'Input Echo'!$I$11:$I$596,0)),INDEX('Input Echo'!$O$11:$O$596,MATCH('(3)Flange Peq'!$A11,'[1]Input Echo'!$J$11:$J$600,0))) -> 0 | I11: =D11+4*E11*10/(PI()*G11^2)+16*F11*10^4/(PI()*G11^2*H11) -> #DIV/0! | J11: 100 | K11: 46.68 | L11: =(I11/K11)*100 -> #DIV/0! | M11: =B11&C11 -> 080
A12: 20210 | B12: =IFERROR(INDEX('Input Echo'!$M$11:$M$596,MATCH('(3)Flange Peq'!$A12,'Input Echo'!$I$11:$I$596,0)),INDEX('Input Echo'!$M$11:$M$596,MATCH('(3)Flange Peq'!$A12,'Input Echo'!$J$11:$J$596,0))) -> 0 | C12: =IFERROR(INDEX('Input Echo'!$AI$11:$AI$596,MATCH('(3)Flange Peq'!$A12,'Input Echo'!$I$11:$I$596,0)),INDEX('Input Echo'!$AI$11:$AI$596,MATCH('(3)Flange Peq'!$A12,'Input Echo'!$J$11:$J$596,0))) -> 50 | D12: =IFERROR(INDEX('Input Echo'!$Y$11:$Y$596,MATCH('(3)Flange Peq'!$A12,'Input Echo'!$I$11:$I$596,0)),INDEX('Input Echo'!$Y$11:$Y$596,MATCH('(3)Flange Peq'!$A12,'Input Echo'!$J$11:$J$596,0))) -> 20 | E12: 740 | F12: 616 | G12: 196.09 | H12: =IFERROR(INDEX('Input Echo'!$O$11:$O$596,MATCH('(3)Flange Peq'!$A12,'Input Echo'!$I$11:$I$596,0)),INDEX('Input Echo'!$O$11:$O$596,MATCH('(3)Flange Peq'!$A12,'[1]Input Echo'!$J$11:$J$600,0))) -> 0 | I12: =D12+4*E12*10/(PI()*G12^2)+16*F12*10^4/(PI()*G12^2*H12) -> #DIV/0! | J12: 100 | K12: 46.68 | L12: =(I12/K12)*100 -> #DIV/0! | M12: =B12&C12 -> 050
A13: 2015 | B13: =IFERROR(INDEX('Input Echo'!$M$11:$M$596,MATCH('(3)Flange Peq'!$A13,'Input Echo'!$I$11:$I$596,0)),INDEX('Input Echo'!$M$11:$M$596,MATCH('(3)Flange Peq'!$A13,'Input Echo'!$J$11:$J$596,0))) -> 300 | C13: =IFERROR(INDEX('Input Echo'!$AI$11:$AI$596,MATCH('(3)Flange Peq'!$A13,'Input Echo'!$I$11:$I$596,0)),INDEX('Input Echo'!$AI$11:$AI$596,MATCH('(3)Flange Peq'!$A13,'Input Echo'!$J$11:$J$596,0))) -> 100 | D13: =IFERROR(INDEX('Input Echo'!$Y$11:$Y$596,MATCH('(3)Flange Peq'!$A13,'Input Echo'!$I$11:$I$596,0)),INDEX('Input Echo'!$Y$11:$Y$596,MATCH('(3)Flange Peq'!$A13,'Input Echo'!$J$11:$J$596,0))) -> 20 | E13: 413 | F13: 43 | G13: 77.85 | H13: =IFERROR(INDEX('Input Echo'!$O$11:$O$596,MATCH('(3)Flange Peq'!$A13,'Input Echo'!$I$11:$I$596,0)),INDEX('Input Echo'!$O$11:$O$596,MATCH('(3)Flange Peq'!$A13,'[1]Input Echo'!$J$11:$J$600,0))) -> #N/A | I13: 0 | J13: 100 | K13: 46.68 | L13: =(I13/K13)*100 -> 0 | M13: =B13&C13 -> 300100
A14: 20040 | B14: =IFERROR(INDEX('Input Echo'!$M$11:$M$596,MATCH('(3)Flange Peq'!$A14,'Input Echo'!$I$11:$I$596,0)),INDEX('Input Echo'!$M$11:$M$596,MATCH('(3)Flange Peq'!$A14,'Input Echo'!$J$11:$J$596,0))) -> 300 | C14: =IFERROR(INDEX('Input Echo'!$AI$11:$AI$596,MATCH('(3)Flange Peq'!$A14,'Input Echo'!$I$11:$I$596,0)),INDEX('Input Echo'!$AI$11:$AI$596,MATCH('(3)Flange Peq'!$A14,'Input Echo'!$J$11:$J$596,0))) -> 50 | D14: =IFERROR(INDEX('Input Echo'!$Y$11:$Y$596,MATCH('(3)Flange Peq'!$A14,'Input Echo'!$I$11:$I$596,0)),INDEX('Input Echo'!$Y$11:$Y$596,MATCH('(3)Flange Peq'!$A14,'Input Echo'!$J$11:$J$596,0))) -> 20 | E14: 413 | F14: 70 | G14: 77.85 | H14: =IFERROR(INDEX('Input Echo'!$O$11:$O$596,MATCH('(3)Flange Peq'!$A14,'Input Echo'!$I$11:$I$596,0)),INDEX('Input Echo'!$O$11:$O$596,MATCH('(3)Flange Peq'!$A14,'[1]Input Echo'!$J$11:$J$600,0))) -> #N/A | I14: 0 | J14: 110 | K14: 46.37 | L14: =(I14/K14)*100 -> 0 | M14: =B14&C14 -> 30050
A15: 6210 | B15: =IFERROR(INDEX('Input Echo'!$M$11:$M$596,MATCH('(3)Flange Peq'!$A15,'Input Echo'!$I$11:$I$596,0)),INDEX('Input Echo'!$M$11:$M$596,MATCH('(3)Flange Peq'!$A15,'Input Echo'!$J$11:$J$596,0))) -> 0 | C15: =IFERROR(INDEX('Input Echo'!$AI$11:$AI$596,MATCH('(3)Flange Peq'!$A15,'Input Echo'!$I$11:$I$596,0)),INDEX('Input Echo'!$AI$11:$AI$596,MATCH('(3)Flange Peq'!$A15,'Input Echo'!$J$11:$J$596,0))) -> 80 | D15: =IFERROR(INDEX('Input Echo'!$Y$11:$Y$596,MATCH('(3)Flange Peq'!$A15,'Input Echo'!$I$11:$I$596,0)),INDEX('Input Echo'!$Y$11:$Y$596,MATCH('(3)Flange Peq'!$A15,'Input Echo'!$J$11:$J$596,0))) -> 10 | E15: 880 | F15: 177 | G15: 111.13 | H15: =IFERROR(INDEX('Input Echo'!$O$11:$O$596,MATCH('(3)Flange Peq'!$A15,'Input Echo'!$I$11:$I$596,0)),INDEX('Input Echo'!$O$11:$O$596,MATCH('(3)Flange Peq'!$A15,'[1]Input Echo'!$J$11:$J$600,0))) -> 0 | I15: =D15+4*E15*10/(PI()*G15^2)+16*F15*10^4/(PI()*G15^2*H15) -> #DIV/0! | J15: 110 | K15: 46.37 | L15: =(I15/K15)*100 -> #DIV/0! | M15: =B15&C15 -> 080
A16: 6220 | B16: =IFERROR(INDEX('Input Echo'!$M$11:$M$596,MATCH('(3)Flange Peq'!$A16,'Input Echo'!$I$11:$I$596,0)),INDEX('Input Echo'!$M$11:$M$596,MATCH('(3)Flange Peq'!$A16,'Input Echo'!$J$11:$J$596,0))) -> 0 | C16: =IFERROR(INDEX('Input Echo'!$AI$11:$AI$596,MATCH('(3)Flange Peq'!$A16,'Input Echo'!$I$11:$I$596,0)),INDEX('Input Echo'!$AI$11:$AI$596,MATCH('(3)Flange Peq'!$A16,'Input Echo'!$J$11:$J$596,0))) -> 80 | D16: =IFERROR(INDEX('Input Echo'!$Y$11:$Y$596,MATCH('(3)Flange Peq'!$A16,'Input Echo'!$I$11:$I$596,0)),INDEX('Input Echo'!$Y$11:$Y$596,MATCH('(3)Flange Peq'!$A16,'Input Echo'!$J$11:$J$596,0))) -> 10 | E16: 816 | F16: 187 | G16: 111.13 | H16: =IFERROR(INDEX('Input Echo'!$O$11:$O$596,MATCH('(3)Flange Peq'!$A16,'Input Echo'!$I$11:$I$596,0)),INDEX('Input Echo'!$O$11:$O$596,MATCH('(3)Flange Peq'!$A16,'[1]Input Echo'!$J$11:$J$600,0))) -> 0 | I16: =D16+4*E16*10/(PI()*G16^2)+16*F16*10^4/(PI()*G16^2*H16) -> #DIV/0! | J16: 110 | K16: 46.37 | L16: =(I16/K16)*100 -> #DIV/0! | M16: =B16&C16 -> 080
A17: 6310 | B17: =IFERROR(INDEX('Input Echo'!$M$11:$M$596,MATCH('(3)Flange Peq'!$A17,'Input Echo'!$I$11:$I$596,0)),INDEX('Input Echo'!$M$11:$M$596,MATCH('(3)Flange Peq'!$A17,'Input Echo'!$J$11:$J$596,0))) -> 150 | C17: =IFERROR(INDEX('Input Echo'!$AI$11:$AI$596,MATCH('(3)Flange Peq'!$A17,'Input Echo'!$I$11:$I$596,0)),INDEX('Input Echo'!$AI$11:$AI$596,MATCH('(3)Flange Peq'!$A17,'Input Echo'!$J$11:$J$596,0))) -> 50 | D17: =IFERROR(INDEX('Input Echo'!$Y$11:$Y$596,MATCH('(3)Flange Peq'!$A17,'Input Echo'!$I$11:$I$596,0)),INDEX('Input Echo'!$Y$11:$Y$596,MATCH('(3)Flange Peq'!$A17,'Input Echo'!$J$11:$J$596,0))) -> 10 | E17: 120 | F17: 17 | G17: 111.13 | H17: =IFERROR(INDEX('Input Echo'!$O$11:$O$596,MATCH('(3)Flange Peq'!$A17,'Input Echo'!$I$11:$I$596,0)),INDEX('Input Echo'!$O$11:$O$596,MATCH('(3)Flange Peq'!$A17,'[1]Input Echo'!$J$11:$J$600,0))) -> 120.6 | I17: =D17+4*E17*10/(PI()*G17^2)+16*F17*10^4/(PI()*G17^2*H17) -> 10.705029 | J17: 110 | K17: 17.31 | L17: =(I17/K17)*100 -> 61.84303 | M17: =B17&C17 -> 15050
A18: 6380 | B18: =IFERROR(INDEX('Input Echo'!$M$11:$M$596,MATCH('(3)Flange Peq'!$A18,'Input Echo'!$I$11:$I$596,0)),INDEX('Input Echo'!$M$11:$M$596,MATCH('(3)Flange Peq'!$A18,'Input Echo'!$J$11:$J$596,0))) -> 150 | C18: =IFERROR(INDEX('Input Echo'!$AI$11:$AI$596,MATCH('(3)Flange Peq'!$A18,'Input Echo'!$I$11:$I$596,0)),INDEX('Input Echo'!$AI$11:$AI$596,MATCH('(3)Flange Peq'!$A18,'Input Echo'!$J$11:$J$596,0))) -> 50 | D18: =IFERROR(INDEX('Input Echo'!$Y$11:$Y$596,MATCH('(3)Flange Peq'!$A18,'Input Echo'!$I$11:$I$596,0)),INDEX('Input Echo'!$Y$11:$Y$596,MATCH('(3)Flange Peq'!$A18,'Input Echo'!$J$11:$J$596,0))) -> 10 | E18: 244 | F18: 66 | G18: 111.13 | H18: =IFERROR(INDEX('Input Echo'!$O$11:$O$596,MATCH('(3)Flange Peq'!$A18,'Input Echo'!$I$11:$I$596,0)),INDEX('Input Echo'!$O$11:$O$596,MATCH('(3)Flange Peq'!$A18,'[1]Input Echo'!$J$11:$J$600,0))) -> 120.6 | I18: =D18+4*E18*10/(PI()*G18^2)+16*F18*10^4/(PI()*G18^2*H18) -> 12.508415 | J18: 52 | K18: 49.96 | L18: =(I18/K18)*100 -> 25.036859 | M18: =B18&C18 -> 15050
A19: 6490 | B19: =IFERROR(INDEX('Input Echo'!$M$11:$M$596,MATCH('(3)Flange Peq'!$A19,'Input Echo'!$I$11:$I$596,0)),INDEX('Input Echo'!$M$11:$M$596,MATCH('(3)Flange Peq'!$A19,'Input Echo'!$J$11:$J$596,0))) -> 0 | C19: =IFERROR(INDEX('Input Echo'!$AI$11:$AI$596,MATCH('(3)Flange Peq'!$A19,'Input Echo'!$I$11:$I$596,0)),INDEX('Input Echo'!$AI$11:$AI$596,MATCH('(3)Flange Peq'!$A19,'Input Echo'!$J$11:$J$596,0))) -> 50 | D19: =IFERROR(INDEX('Input Echo'!$Y$11:$Y$596,MATCH('(3)Flange Peq'!$A19,'Input Echo'!$I$11:$I$596,0)),INDEX('Input Echo'!$Y$11:$Y$596,MATCH('(3)Flange Peq'!$A19,'Input Echo'!$J$11:$J$596,0))) -> 10 | E19: 109 | F19: 31 | G19: 111.13 | H19: =IFERROR(INDEX('Input Echo'!$O$11:$O$596,MATCH('(3)Flange Peq'!$A19,'Input Echo'!$I$11:$I$596,0)),INDEX('Input Echo'!$O$11:$O$596,MATCH('(3)Flange Peq'!$A19,'[1]Input Echo'!$J$11:$J$600,0))) -> 0 | I19: =D19+4*E19*10/(PI()*G19^2)+16*F19*10^4/(PI()*G19^2*H19) -> #DIV/0! | J19: 52 | K19: 49.96 | L19: =(I19/K19)*100 -> #DIV/0! | M19: =B19&C19 -> 050
A20: 6410 | B20: =IFERROR(INDEX('Input Echo'!$M$11:$M$596,MATCH('(3)Flange Peq'!$A20,'Input Echo'!$I$11:$I$596,0)),INDEX('Input Echo'!$M$11:$M$596,MATCH('(3)Flange Peq'!$A20,'Input Echo'!$J$11:$J$596,0))) -> 150 | C20: =IFERROR(INDEX('Input Echo'!$AI$11:$AI$596,MATCH('(3)Flange Peq'!$A20,'Input Echo'!$I$11:$I$596,0)),INDEX('Input Echo'!$AI$11:$AI$596,MATCH('(3)Flange Peq'!$A20,'Input Echo'!$J$11:$J$596,0))) -> 25 | D20: =IFERROR(INDEX('Input Echo'!$Y$11:$Y$596,MATCH('(3)Flange Peq'!$A20,'Input Echo'!$I$11:$I$596,0)),INDEX('Input Echo'!$Y$11:$Y$596,MATCH('(3)Flange Peq'!$A20,'Input Echo'!$J$11:$J$596,0))) -> 10 | E20: 195 | F20: 63 | G20: 111.13 | H20: =IFERROR(INDEX('Input Echo'!$O$11:$O$596,MATCH('(3)Flange Peq'!$A20,'Input Echo'!$I$11:$I$596,0)),INDEX('Input Echo'!$O$11:$O$596,MATCH('(3)Flange Peq'!$A20,'[1]Input Echo'!$J$11:$J$600,0))) -> #N/A | I20: 0 | J20: 52 | K20: 49.96 | L20: =(I20/K20)*100 -> 0 | M20: =B20&C20 -> 15025
A21: 6330 | B21: =IFERROR(INDEX('Input Echo'!$M$11:$M$596,MATCH('(3)Flange Peq'!$A21,'Input Echo'!$I$11:$I$596,0)),INDEX('Input Echo'!$M$11:$M$596,MATCH('(3)Flange Peq'!$A21,'Input Echo'!$J$11:$J$596,0))) -> 150 | C21: =IFERROR(INDEX('Input Echo'!$AI$11:$AI$596,MATCH('(3)Flange Peq'!$A21,'Input Echo'!$I$11:$I$596,0)),INDEX('Input Echo'!$AI$11:$AI$596,MATCH('(3)Flange Peq'!$A21,'Input Echo'!$J$11:$J$596,0))) -> 50 | D21: =IFERROR(INDEX('Input Echo'!$Y$11:$Y$596,MATCH('(3)Flange Peq'!$A21,'Input Echo'!$I$11:$I$596,0)),INDEX('Input Echo'!$Y$11:$Y$596,MATCH('(3)Flange Peq'!$A21,'Input Echo'!$J$11:$J$596,0))) -> 10 | E21: 77 | F21: 41 | G21: 111.13 | H21: =IFERROR(INDEX('Input Echo'!$O$11:$O$596,MATCH('(3)Flange Peq'!$A21,'Input Echo'!$I$11:$I$596,0)),INDEX('Input Echo'!$O$11:$O$596,MATCH('(3)Flange Peq'!$A21,'[1]Input Echo'!$J$11:$J$600,0))) -> 120.6 | I21: =D21+4*E21*10/(PI()*G21^2)+16*F21*10^4/(PI()*G21^2*H21) -> 11.481372 | J21: 110 | K21: 17.31 | L21: =(I21/K21)*100 -> 66.327973 | M21: =B21&C21 -> 15050
A22: 6250 | B22: =IFERROR(INDEX('Input Echo'!$M$11:$M$596,MATCH('(3)Flange Peq'!$A22,'Input Echo'!$I$11:$I$596,0)),INDEX('Input Echo'!$M$11:$M$596,MATCH('(3)Flange Peq'!$A22,'Input Echo'!$J$11:$J$596,0))) -> 150 | C22: =IFERROR(INDEX('Input Echo'!$AI$11:$AI$596,MATCH('(3)Flange Peq'!$A22,'Input Echo'!$I$11:$I$596,0)),INDEX('Input Echo'!$AI$11:$AI$596,MATCH('(3)Flange Peq'!$A22,'Input Echo'!$J$11:$J$596,0))) -> 50 | D22: =IFERROR(INDEX('Input Echo'!$Y$11:$Y$596,MATCH('(3)Flange Peq'!$A22,'Input Echo'!$I$11:$I$596,0)),INDEX('Input Echo'!$Y$11:$Y$596,MATCH('(3)Flange Peq'!$A22,'Input Echo'!$J$11:$J$596,0))) -> 10 | E22: 195 | F22: 37 | G22: 111.13 | H22: =IFERROR(INDEX('Input Echo'!$O$11:$O$596,MATCH('(3)Flange Peq'!$A22,'Input Echo'!$I$11:$I$596,0)),INDEX('Input Echo'!$O$11:$O$596,MATCH('(3)Flange Peq'!$A22,'[1]Input Echo'!$J$11:$J$600,0))) -> 120.6 | I22: =D22+4*E22*10/(PI()*G22^2)+16*F22*10^4/(PI()*G22^2*H22) -> 11.466248 | J22: 110 | K22: 46.37 | L22: =(I22/K22)*100 -> 24.727729 | M22: =B22&C22 -> 15050
A23: 74 | B23: =IFERROR(INDEX('Input Echo'!$M$11:$M$596,MATCH('(3)Flange Peq'!$A23,'Input Echo'!$I$11:$I$596,0)),INDEX('Input Echo'!$M$11:$M$596,MATCH('(3)Flange Peq'!$A23,'Input Echo'!$J$11:$J$596,0))) -> 150 | C23: =IFERROR(INDEX('Input Echo'!$AI$11:$AI$596,MATCH('(3)Flange Peq'!$A23,'Input Echo'!$I$11:$I$596,0)),INDEX('Input Echo'!$AI$11:$AI$596,MATCH('(3)Flange Peq'!$A23,'Input Echo'!$J$11:$J$596,0))) -> 50 | D23: =IFERROR(INDEX('Input Echo'!$Y$11:$Y$596,MATCH('(3)Flange Peq'!$A23,'Input Echo'!$I$11:$I$596,0)),INDEX('Input Echo'!$Y$11:$Y$596,MATCH('(3)Flange Peq'!$A23,'Input Echo'!$J$11:$J$596,0))) -> 10 | E23: 836 | F23: 136 | G23: 111.13 | H23: =IFERROR(INDEX('Input Echo'!$O$11:$O$596,MATCH('(3)Flange Peq'!$A23,'Input Echo'!$I$11:$I$596,0)),INDEX('Input Echo'!$O$11:$O$596,MATCH('(3)Flange Peq'!$A23,'[1]Input Echo'!$J$11:$J$600,0))) -> 120.6 | I23: =D23+4*E23*10/(PI()*G23^2)+16*F23*10^4/(PI()*G23^2*H23) -> 15.512388 | J23: 110 | K23: 46.37 | L23: =(I23/K23)*100 -> 33.4535 | M23: =B23&C23 -> 15050
A24: 7400 | B24: =IFERROR(INDEX('Input Echo'!$M$11:$M$596,MATCH('(3)Flange Peq'!$A24,'Input Echo'!$I$11:$I$596,0)),INDEX('Input Echo'!$M$11:$M$596,MATCH('(3)Flange Peq'!$A24,'Input Echo'!$J$11:$J$596,0))) -> 150 | C24: =IFERROR(INDEX('Input Echo'!$AI$11:$AI$596,MATCH('(3)Flange Peq'!$A24,'Input Echo'!$I$11:$I$596,0)),INDEX('Input Echo'!$AI$11:$AI$596,MATCH('(3)Flange Peq'!$A24,'Input Echo'!$J$11:$J$596,0))) -> 150 | D24: =IFERROR(INDEX('Input Echo'!$Y$11:$Y$596,MATCH('(3)Flange Peq'!$A24,'Input Echo'!$I$11:$I$596,0)),INDEX('Input Echo'!$Y$11:$Y$596,MATCH('(3)Flange Peq'!$A24,'Input Echo'!$J$11:$J$596,0))) -> 10 | E24: 772 | F24: 143 | G24: 111.13 | H24: =IFERROR(INDEX('Input Echo'!$O$11:$O$596,MATCH('(3)Flange Peq'!$A24,'Input Echo'!$I$11:$I$596,0)),INDEX('Input Echo'!$O$11:$O$596,MATCH('(3)Flange Peq'!$A24,'[1]Input Echo'!$J$11:$J$600,0))) -> 241.3 | I24: =D24+4*E24*10/(PI()*G24^2)+16*F24*10^4/(PI()*G24^2*H24) -> 13.239827 | J24: 110 | K24: 46.37 | L24: =(I24/K24)*100 -> 28.552571 | M24: =B24&C24 -> 150150
A25: 7412 | B25: =IFERROR(INDEX('Input Echo'!$M$11:$M$596,MATCH('(3)Flange Peq'!$A25,'Input Echo'!$I$11:$I$596,0)),INDEX('Input Echo'!$M$11:$M$596,MATCH('(3)Flange Peq'!$A25,'Input Echo'!$J$11:$J$596,0))) -> 150 | C25: =IFERROR(INDEX('Input Echo'!$AI$11:$AI$596,MATCH('(3)Flange Peq'!$A25,'Input Echo'!$I$11:$I$596,0)),INDEX('Input Echo'!$AI$11:$AI$596,MATCH('(3)Flange Peq'!$A25,'Input Echo'!$J$11:$J$596,0))) -> 150 | D25: =IFERROR(INDEX('Input Echo'!$Y$11:$Y$596,MATCH('(3)Flange Peq'!$A25,'Input Echo'!$I$11:$I$596,0)),INDEX('Input Echo'!$Y$11:$Y$596,MATCH('(3)Flange Peq'!$A25,'Input Echo'!$J$11:$J$596,0))) -> 10 | E25: 110 | F25: 23 | G25: 77.85 | H25: =IFERROR(INDEX('Input Echo'!$O$11:$O$596,MATCH('(3)Flange Peq'!$A25,'Input Echo'!$I$11:$I$596,0)),INDEX('Input Echo'!$O$11:$O$596,MATCH('(3)Flange Peq'!$A25,'[1]Input Echo'!$J$11:$J$600,0))) -> 241.3 | I25: =D25+4*E25*10/(PI()*G25^2)+16*F25*10^4/(PI()*G25^2*H25) -> 11.032076 | J25: 110 | K25: 46.37 | L25: =(I25/K25)*100 -> 23.791407 | M25: =B25&C25 -> 150150
A26: 7414 | B26: =IFERROR(INDEX('Input Echo'!$M$11:$M$596,MATCH('(3)Flange Peq'!$A26,'Input Echo'!$I$11:$I$596,0)),INDEX('Input Echo'!$M$11:$M$596,MATCH('(3)Flange Peq'!$A26,'Input Echo'!$J$11:$J$596,0))) -> 150 | C26: =IFERROR(INDEX('Input Echo'!$AI$11:$AI$596,MATCH('(3)Flange Peq'!$A26,'Input Echo'!$I$11:$I$596,0)),INDEX('Input Echo'!$AI$11:$AI$596,MATCH('(3)Flange Peq'!$A26,'Input Echo'!$J$11:$J$596,0))) -> 150 | D26: =IFERROR(INDEX('Input Echo'!$Y$11:$Y$596,MATCH('(3)Flange Peq'!$A26,'Input Echo'!$I$11:$I$596,0)),INDEX('Input Echo'!$Y$11:$Y$596,MATCH('(3)Flange Peq'!$A26,'Input Echo'!$J$11:$J$596,0))) -> 10 | E26: 112 | F26: 75 | G26: 77.85 | H26: =IFERROR(INDEX('Input Echo'!$O$11:$O$596,MATCH('(3)Flange Peq'!$A26,'Input Echo'!$I$11:$I$596,0)),INDEX('Input Echo'!$O$11:$O$596,MATCH('(3)Flange Peq'!$A26,'[1]Input Echo'!$J$11:$J$600,0))) -> 241.3 | I26: =D26+4*E26*10/(PI()*G26^2)+16*F26*10^4/(PI()*G26^2*H26) -> 12.847196 | J26: 110 | K26: 46.37 | L26: =(I26/K26)*100 -> 27.705835 | M26: =B26&C26 -> 150150
A27: 7470 | B27: =IFERROR(INDEX('Input Echo'!$M$11:$M$596,MATCH('(3)Flange Peq'!$A27,'Input Echo'!$I$11:$I$596,0)),INDEX('Input Echo'!$M$11:$M$596,MATCH('(3)Flange Peq'!$A27,'Input Echo'!$J$11:$J$596,0))) -> 0 | C27: =IFERROR(INDEX('Input Echo'!$AI$11:$AI$596,MATCH('(3)Flange Peq'!$A27,'Input Echo'!$I$11:$I$596,0)),INDEX('Input Echo'!$AI$11:$AI$596,MATCH('(3)Flange Peq'!$A27,'Input Echo'!$J$11:$J$596,0))) -> 50 | D27: =IFERROR(INDEX('Input Echo'!$Y$11:$Y$596,MATCH('(3)Flange Peq'!$A27,'Input Echo'!$I$11:$I$596,0)),INDEX('Input Echo'!$Y$11:$Y$596,MATCH('(3)Flange Peq'!$A27,'Input Echo'!$J$11:$J$596,0))) -> 10 | E27: 62 | F27: 12 | G27: 111.13 | H27: =IFERROR(INDEX('Input Echo'!$O$11:$O$596,MATCH('(3)Flange Peq'!$A27,'Input Echo'!$I$11:$I$596,0)),INDEX('Input Echo'!$O$11:$O$596,MATCH('(3)Flange Peq'!$A27,'[1]Input Echo'!$J$11:$J$600,0))) -> 0 | I27: =D27+4*E27*10/(PI()*G27^2)+16*F27*10^4/(PI()*G27^2*H27) -> #DIV/0! | J27: 110 | K27: 17.31 | L27: =(I27/K27)*100 -> #DIV/0! | M27: =B27&C27 -> 050
A28: 7560 | B28: =IFERROR(INDEX('Input Echo'!$M$11:$M$596,MATCH('(3)Flange Peq'!$A28,'Input Echo'!$I$11:$I$596,0)),INDEX('Input Echo'!$M$11:$M$596,MATCH('(3)Flange Peq'!$A28,'Input Echo'!$J$11:$J$596,0))) -> 0 | C28: =IFERROR(INDEX('Input Echo'!$AI$11:$AI$596,MATCH('(3)Flange Peq'!$A28,'Input Echo'!$I$11:$I$596,0)),INDEX('Input Echo'!$AI$11:$AI$596,MATCH('(3)Flange Peq'!$A28,'Input Echo'!$J$11:$J$596,0))) -> 50 | D28: =IFERROR(INDEX('Input Echo'!$Y$11:$Y$596,MATCH('(3)Flange Peq'!$A28,'Input Echo'!$I$11:$I$596,0)),INDEX('Input Echo'!$Y$11:$Y$596,MATCH('(3)Flange Peq'!$A28,'Input Echo'!$J$11:$J$596,0))) -> 10 | E28: 101 | F28: 44 | G28: 77.85 | H28: =IFERROR(INDEX('Input Echo'!$O$11:$O$596,MATCH('(3)Flange Peq'!$A28,'Input Echo'!$I$11:$I$596,0)),INDEX('Input Echo'!$O$11:$O$596,MATCH('(3)Flange Peq'!$A28,'[1]Input Echo'!$J$11:$J$600,0))) -> 0 | I28: =D28+4*E28*10/(PI()*G28^2)+16*F28*10^4/(PI()*G28^2*H28) -> #DIV/0! | J28: 52 | K28: 49.96 | L28: =(I28/K28)*100 -> #DIV/0! | M28: =B28&C28 -> 050
A29: 7640 | B29: =IFERROR(INDEX('Input Echo'!$M$11:$M$596,MATCH('(3)Flange Peq'!$A29,'Input Echo'!$I$11:$I$596,0)),INDEX('Input Echo'!$M$11:$M$596,MATCH('(3)Flange Peq'!$A29,'Input Echo'!$J$11:$J$596,0))) -> 0 | C29: =IFERROR(INDEX('Input Echo'!$AI$11:$AI$596,MATCH('(3)Flange Peq'!$A29,'Input Echo'!$I$11:$I$596,0)),INDEX('Input Echo'!$AI$11:$AI$596,MATCH('(3)Flange Peq'!$A29,'Input Echo'!$J$11:$J$596,0))) -> 50 | D29: =IFERROR(INDEX('Input Echo'!$Y$11:$Y$596,MATCH('(3)Flange Peq'!$A29,'Input Echo'!$I$11:$I$596,0)),INDEX('Input Echo'!$Y$11:$Y$596,MATCH('(3)Flange Peq'!$A29,'Input Echo'!$J$11:$J$596,0))) -> 10 | E29: 422 | F29: 22 | G29: 111.13 | H29: =IFERROR(INDEX('Input Echo'!$O$11:$O$596,MATCH('(3)Flange Peq'!$A29,'Input Echo'!$I$11:$I$596,0)),INDEX('Input Echo'!$O$11:$O$596,MATCH('(3)Flange Peq'!$A29,'[1]Input Echo'!$J$11:$J$600,0))) -> 0 | I29: =D29+4*E29*10/(PI()*G29^2)+16*F29*10^4/(PI()*G29^2*H29) -> #DIV/0! | J29: 52 | K29: 49.96 | L29: =(I29/K29)*100 -> #DIV/0! | M29: =B29&C29 -> 050
A30: 7650 | B30: =IFERROR(INDEX('Input Echo'!$M$11:$M$596,MATCH('(3)Flange Peq'!$A30,'Input Echo'!$I$11:$I$596,0)),INDEX('Input Echo'!$M$11:$M$596,MATCH('(3)Flange Peq'!$A30,'Input Echo'!$J$11:$J$596,0))) -> 0 | C30: =IFERROR(INDEX('Input Echo'!$AI$11:$AI$596,MATCH('(3)Flange Peq'!$A30,'Input Echo'!$I$11:$I$596,0)),INDEX('Input Echo'!$AI$11:$AI$596,MATCH('(3)Flange Peq'!$A30,'Input Echo'!$J$11:$J$596,0))) -> 50 | D30: =IFERROR(INDEX('Input Echo'!$Y$11:$Y$596,MATCH('(3)Flange Peq'!$A30,'Input Echo'!$I$11:$I$596,0)),INDEX('Input Echo'!$Y$11:$Y$596,MATCH('(3)Flange Peq'!$A30,'Input Echo'!$J$11:$J$596,0))) -> 10 | E30: 492 | F30: 25 | G30: 111.13 | H30: =IFERROR(INDEX('Input Echo'!$O$11:$O$596,MATCH('(3)Flange Peq'!$A30,'Input Echo'!$I$11:$I$596,0)),INDEX('Input Echo'!$O$11:$O$596,MATCH('(3)Flange Peq'!$A30,'[1]Input Echo'!$J$11:$J$600,0))) -> 0 | I30: =D30+4*E30*10/(PI()*G30^2)+16*F30*10^4/(PI()*G30^2*H30) -> #DIV/0! | J30: 52 | K30: 49.96 | L30: =(I30/K30)*100 -> #DIV/0! | M30: =B30&C30 -> 050
A31: 7760 | B31: =IFERROR(INDEX('Input Echo'!$M$11:$M$596,MATCH('(3)Flange Peq'!$A31,'Input Echo'!$I$11:$I$596,0)),INDEX('Input Echo'!$M$11:$M$596,MATCH('(3)Flange Peq'!$A31,'Input Echo'!$J$11:$J$596,0))) -> 0 | C31: =IFERROR(INDEX('Input Echo'!$AI$11:$AI$596,MATCH('(3)Flange Peq'!$A31,'Input Echo'!$I$11:$I$596,0)),INDEX('Input Echo'!$AI$11:$AI$596,MATCH('(3)Flange Peq'!$A31,'Input Echo'!$J$11:$J$596,0))) -> 50 | D31: =IFERROR(INDEX('Input Echo'!$Y$11:$Y$596,MATCH('(3)Flange Peq'!$A31,'Input Echo'!$I$11:$I$596,0)),INDEX('Input Echo'!$Y$11:$Y$596,MATCH('(3)Flange Peq'!$A31,'Input Echo'!$J$11:$J$596,0))) -> 10 | E31: 0 | F31: 2 | G31: 138.18 | H31: =IFERROR(INDEX('Input Echo'!$O$11:$O$596,MATCH('(3)Flange Peq'!$A31,'Input Echo'!$I$11:$I$596,0)),INDEX('Input Echo'!$O$11:$O$596,MATCH('(3)Flange Peq'!$A31,'[1]Input Echo'!$J$11:$J$600,0))) -> 0 | I31: =D31+4*E31*10/(PI()*G31^2)+16*F31*10^4/(PI()*G31^2*H31) -> #DIV/0! | J31: 52 | K31: 49.96 | L31: =(I31/K31)*100 -> #DIV/0! | M31: =B31&C31 -> 050
A32: 7760 | B32: =IFERROR(INDEX('Input Echo'!$M$11:$M$596,MATCH('(3)Flange Peq'!$A32,'Input Echo'!$I$11:$I$596,0)),INDEX('Input Echo'!$M$11:$M$596,MATCH('(3)Flange Peq'!$A32,'Input Echo'!$J$11:$J$596,0))) -> 0 | C32: =IFERROR(INDEX('Input Echo'!$AI$11:$AI$596,MATCH('(3)Flange Peq'!$A32,'Input Echo'!$I$11:$I$596,0)),INDEX('Input Echo'!$AI$11:$AI$596,MATCH('(3)Flange Peq'!$A32,'Input Echo'!$J$11:$J$596,0))) -> 50 | D32: =IFERROR(INDEX('Input Echo'!$Y$11:$Y$596,MATCH('(3)Flange Peq'!$A32,'Input Echo'!$I$11:$I$596,0)),INDEX('Input Echo'!$Y$11:$Y$596,MATCH('(3)Flange Peq'!$A32,'Input Echo'!$J$11:$J$596,0))) -> 10 | E32: 0 | F32: 2 | G32: 138.18 | H32: =IFERROR(INDEX('Input Echo'!$O$11:$O$596,MATCH('(3)Flange Peq'!$A32,'Input Echo'!$I$11:$I$596,0)),INDEX('Input Echo'!$O$11:$O$596,MATCH('(3)Flange Peq'!$A32,'[1]Input Echo'!$J$11:$J$600,0))) -> 0 | I32: =D32+4*E32*10/(PI()*G32^2)+16*F32*10^4/(PI()*G32^2*H32) -> #DIV/0! | J32: 52 | K32: 49.96 | L32: =(I32/K32)*100 -> #DIV/0! | M32: =B32&C32 -> 050
A33: 7710 | B33: =IFERROR(INDEX('Input Echo'!$M$11:$M$596,MATCH('(3)Flange Peq'!$A33,'Input Echo'!$I$11:$I$596,0)),INDEX('Input Echo'!$M$11:$M$596,MATCH('(3)Flange Peq'!$A33,'Input Echo'!$J$11:$J$596,0))) -> 150 | C33: =IFERROR(INDEX('Input Echo'!$AI$11:$AI$596,MATCH('(3)Flange Peq'!$A33,'Input Echo'!$I$11:$I$596,0)),INDEX('Input Echo'!$AI$11:$AI$596,MATCH('(3)Flange Peq'!$A33,'Input Echo'!$J$11:$J$596,0))) -> 400 | D33: =IFERROR(INDEX('Input Echo'!$Y$11:$Y$596,MATCH('(3)Flange Peq'!$A33,'Input Echo'!$I$11:$I$596,0)),INDEX('Input Echo'!$Y$11:$Y$596,MATCH('(3)Flange Peq'!$A33,'Input Echo'!$J$11:$J$596,0))) -> 10 | E33: 53 | F33: 68 | G33: 138.18 | H33: =IFERROR(INDEX('Input Echo'!$O$11:$O$596,MATCH('(3)Flange Peq'!$A33,'Input Echo'!$I$11:$I$596,0)),INDEX('Input Echo'!$O$11:$O$596,MATCH('(3)Flange Peq'!$A33,'[1]Input Echo'!$J$11:$J$600,0))) -> #N/A | I33: 0 | J33: 52 | K33: 49.96 | L33: =(I33/K33)*100 -> 0 | M33: =B33&C33 -> 150400
A34: 7490 | B34: =IFERROR(INDEX('Input Echo'!$M$11:$M$596,MATCH('(3)Flange Peq'!$A34,'Input Echo'!$I$11:$I$596,0)),INDEX('Input Echo'!$M$11:$M$596,MATCH('(3)Flange Peq'!$A34,'Input Echo'!$J$11:$J$596,0))) -> 0 | C34: =IFERROR(INDEX('Input Echo'!$AI$11:$AI$596,MATCH('(3)Flange Peq'!$A34,'Input Echo'!$I$11:$I$596,0)),INDEX('Input Echo'!$AI$11:$AI$596,MATCH('(3)Flange Peq'!$A34,'Input Echo'!$J$11:$J$596,0))) -> 80 | D34: =IFERROR(INDEX('Input Echo'!$Y$11:$Y$596,MATCH('(3)Flange Peq'!$A34,'Input Echo'!$I$11:$I$596,0)),INDEX('Input Echo'!$Y$11:$Y$596,MATCH('(3)Flange Peq'!$A34,'Input Echo'!$J$11:$J$596,0))) -> 10 | E34: 38 | F34: 19 | G34: 138.18 | H34: =IFERROR(INDEX('Input Echo'!$O$11:$O$596,MATCH('(3)Flange Peq'!$A34,'Input Echo'!$I$11:$I$596,0)),INDEX('Input Echo'!$O$11:$O$596,MATCH('(3)Flange Peq'!$A34,'[1]Input Echo'!$J$11:$J$600,0))) -> 0 | I34: =D34+4*E34*10/(PI()*G34^2)+16*F34*10^4/(PI()*G34^2*H34) -> #DIV/0! | J34: 110 | K34: 46.37 | L34: =(I34/K34)*100 -> #DIV/0! | M34: =B34&C34 -> 080
A35: 88 | B35: =IFERROR(INDEX('Input Echo'!$M$11:$M$596,MATCH('(3)Flange Peq'!$A35,'Input Echo'!$I$11:$I$596,0)),INDEX('Input Echo'!$M$11:$M$596,MATCH('(3)Flange Peq'!$A35,'Input Echo'!$J$11:$J$596,0))) -> 0 | C35: =IFERROR(INDEX('Input Echo'!$AI$11:$AI$596,MATCH('(3)Flange Peq'!$A35,'Input Echo'!$I$11:$I$596,0)),INDEX('Input Echo'!$AI$11:$AI$596,MATCH('(3)Flange Peq'!$A35,'Input Echo'!$J$11:$J$596,0))) -> 100 | D35: =IFERROR(INDEX('Input Echo'!$Y$11:$Y$596,MATCH('(3)Flange Peq'!$A35,'Input Echo'!$I$11:$I$596,0)),INDEX('Input Echo'!$Y$11:$Y$596,MATCH('(3)Flange Peq'!$A35,'Input Echo'!$J$11:$J$596,0))) -> 10 | E35: 680 | F35: 94 | G35: 77.85 | H35: =IFERROR(INDEX('Input Echo'!$O$11:$O$596,MATCH('(3)Flange Peq'!$A35,'Input Echo'!$I$11:$I$596,0)),INDEX('Input Echo'!$O$11:$O$596,MATCH('(3)Flange Peq'!$A35,'[1]Input Echo'!$J$11:$J$600,0))) -> 0 | I35: =D35+4*E35*10/(PI()*G35^2)+16*F35*10^4/(PI()*G35^2*H35) -> #DIV/0! | J35: 110 | K35: 17.31 | L35: =(I35/K35)*100 -> #DIV/0! | M35: =B35&C35 -> 0100
A36: 89 | B36: =IFERROR(INDEX('Input Echo'!$M$11:$M$596,MATCH('(3)Flange Peq'!$A36,'Input Echo'!$I$11:$I$596,0)),INDEX('Input Echo'!$M$11:$M$596,MATCH('(3)Flange Peq'!$A36,'Input Echo'!$J$11:$J$596,0))) -> 0 | C36: =IFERROR(INDEX('Input Echo'!$AI$11:$AI$596,MATCH('(3)Flange Peq'!$A36,'Input Echo'!$I$11:$I$596,0)),INDEX('Input Echo'!$AI$11:$AI$596,MATCH('(3)Flange Peq'!$A36,'Input Echo'!$J$11:$J$596,0))) -> 50 | D36: =IFERROR(INDEX('Input Echo'!$Y$11:$Y$596,MATCH('(3)Flange Peq'!$A36,'Input Echo'!$I$11:$I$596,0)),INDEX('Input Echo'!$Y$11:$Y$596,MATCH('(3)Flange Peq'!$A36,'Input Echo'!$J$11:$J$596,0))) -> 10 | E36: 653 | F36: 96 | G36: 77.85 | H36: =IFERROR(INDEX('Input Echo'!$O$11:$O$596,MATCH('(3)Flange Peq'!$A36,'Input Echo'!$I$11:$I$596,0)),INDEX('Input Echo'!$O$11:$O$596,MATCH('(3)Flange Peq'!$A36,'[1]Input Echo'!$J$11:$J$600,0))) -> 0 | I36: =D36+4*E36*10/(PI()*G36^2)+16*F36*10^4/(PI()*G36^2*H36) -> #DIV/0! | J36: 110 | K36: 17.31 | L36: =(I36/K36)*100 -> #DIV/0! | M36: =B36&C36 -> 050
A37: 8930 | B37: =IFERROR(INDEX('Input Echo'!$M$11:$M$596,MATCH('(3)Flange Peq'!$A37,'Input Echo'!$I$11:$I$596,0)),INDEX('Input Echo'!$M$11:$M$596,MATCH('(3)Flange Peq'!$A37,'Input Echo'!$J$11:$J$596,0))) -> 0 | C37: =IFERROR(INDEX('Input Echo'!$AI$11:$AI$596,MATCH('(3)Flange Peq'!$A37,'Input Echo'!$I$11:$I$596,0)),INDEX('Input Echo'!$AI$11:$AI$596,MATCH('(3)Flange Peq'!$A37,'Input Echo'!$J$11:$J$596,0))) -> 100 | D37: =IFERROR(INDEX('Input Echo'!$Y$11:$Y$596,MATCH('(3)Flange Peq'!$A37,'Input Echo'!$I$11:$I$596,0)),INDEX('Input Echo'!$Y$11:$Y$596,MATCH('(3)Flange Peq'!$A37,'Input Echo'!$J$11:$J$596,0))) -> 10 | E37: 77 | F37: 44 | G37: 77.85 | H37: =IFERROR(INDEX('Input Echo'!$O$11:$O$596,MATCH('(3)Flange Peq'!$A37,'Input Echo'!$I$11:$I$596,0)),INDEX('Input Echo'!$O$11:$O$596,MATCH('(3)Flange Peq'!$A37,'[1]Input Echo'!$J$11:$J$600,0))) -> 0 | I37: =D37+4*E37*10/(PI()*G37^2)+16*F37*10^4/(PI()*G37^2*H37) -> #DIV/0! | J37: 110 | K37: 17.31 | L37: =(I37/K37)*100 -> #DIV/0! | M37: =B37&C37 -> 0100
A38: 9030 | B38: =IFERROR(INDEX('Input Echo'!$M$11:$M$596,MATCH('(3)Flange Peq'!$A38,'Input Echo'!$I$11:$I$596,0)),INDEX('Input Echo'!$M$11:$M$596,MATCH('(3)Flange Peq'!$A38,'Input Echo'!$J$11:$J$596,0))) -> 0 | C38: =IFERROR(INDEX('Input Echo'!$AI$11:$AI$596,MATCH('(3)Flange Peq'!$A38,'Input Echo'!$I$11:$I$596,0)),INDEX('Input Echo'!$AI$11:$AI$596,MATCH('(3)Flange Peq'!$A38,'Input Echo'!$J$11:$J$596,0))) -> 100 | D38: =IFERROR(INDEX('Input Echo'!$Y$11:$Y$596,MATCH('(3)Flange Peq'!$A38,'Input Echo'!$I$11:$I$596,0)),INDEX('Input Echo'!$Y$11:$Y$596,MATCH('(3)Flange Peq'!$A38,'Input Echo'!$J$11:$J$596,0))) -> 10 | E38: 14 | F38: 19 | G38: 61.98 | H38: =IFERROR(INDEX('Input Echo'!$O$11:$O$596,MATCH('(3)Flange Peq'!$A38,'Input Echo'!$I$11:$I$596,0)),INDEX('Input Echo'!$O$11:$O$596,MATCH('(3)Flange Peq'!$A38,'[1]Input Echo'!$J$11:$J$600,0))) -> 0 | I38: =D38+4*E38*10/(PI()*G38^2)+16*F38*10^4/(PI()*G38^2*H38) -> #DIV/0! | J38: 52 | K38: 49.96 | L38: =(I38/K38)*100 -> #DIV/0! | M38: =B38&C38 -> 0100
A39: 9040 | B39: =IFERROR(INDEX('Input Echo'!$M$11:$M$596,MATCH('(3)Flange Peq'!$A39,'Input Echo'!$I$11:$I$596,0)),INDEX('Input Echo'!$M$11:$M$596,MATCH('(3)Flange Peq'!$A39,'Input Echo'!$J$11:$J$596,0))) -> 0 | C39: =IFERROR(INDEX('Input Echo'!$AI$11:$AI$596,MATCH('(3)Flange Peq'!$A39,'Input Echo'!$I$11:$I$596,0)),INDEX('Input Echo'!$AI$11:$AI$596,MATCH('(3)Flange Peq'!$A39,'Input Echo'!$J$11:$J$596,0))) -> 80 | D39: =IFERROR(INDEX('Input Echo'!$Y$11:$Y$596,MATCH('(3)Flange Peq'!$A39,'Input Echo'!$I$11:$I$596,0)),INDEX('Input Echo'!$Y$11:$Y$596,MATCH('(3)Flange Peq'!$A39,'Input Echo'!$J$11:$J$596,0))) -> 17 | E39: 14 | F39: 17 | G39: 61.98 | H39: =IFERROR(INDEX('Input Echo'!$O$11:$O$596,MATCH('(3)Flange Peq'!$A39,'Input Echo'!$I$11:$I$596,0)),INDEX('Input Echo'!$O$11:$O$596,MATCH('(3)Flange Peq'!$A39,'[1]Input Echo'!$J$11:$J$600,0))) -> 0 | I39: =D39+4*E39*10/(PI()*G39^2)+16*F39*10^4/(PI()*G39^2*H39) -> #DIV/0! | J39: 52 | K39: 49.96 | L39: =(I39/K39)*100 -> #DIV/0! | M39: =B39&C39 -> 080
A40: 9160 | B40: =IFERROR(INDEX('Input Echo'!$M$11:$M$596,MATCH('(3)Flange Peq'!$A40,'Input Echo'!$I$11:$I$596,0)),INDEX('Input Echo'!$M$11:$M$596,MATCH('(3)Flange Peq'!$A40,'Input Echo'!$J$11:$J$596,0))) -> 0 | C40: =IFERROR(INDEX('Input Echo'!$AI$11:$AI$596,MATCH('(3)Flange Peq'!$A40,'Input Echo'!$I$11:$I$596,0)),INDEX('Input Echo'!$AI$11:$AI$596,MATCH('(3)Flange Peq'!$A40,'Input Echo'!$J$11:$J$596,0))) -> 50 | D40: =IFERROR(INDEX('Input Echo'!$Y$11:$Y$596,MATCH('(3)Flange Peq'!$A40,'Input Echo'!$I$11:$I$596,0)),INDEX('Input Echo'!$Y$11:$Y$596,MATCH('(3)Flange Peq'!$A40,'Input Echo'!$J$11:$J$596,0))) -> 17 | E40: 12 | F40: 15 | G40: 61.98 | H40: =IFERROR(INDEX('Input Echo'!$O$11:$O$596,MATCH('(3)Flange Peq'!$A40,'Input Echo'!$I$11:$I$596,0)),INDEX('Input Echo'!$O$11:$O$596,MATCH('(3)Flange Peq'!$A40,'[1]Input Echo'!$J$11:$J$600,0))) -> 0 | I40: =D40+4*E40*10/(PI()*G40^2)+16*F40*10^4/(PI()*G40^2*H40) -> #DIV/0! | J40: 52 | K40: 49.96 | L40: =(I40/K40)*100 -> #DIV/0! | M40: =B40&C40 -> 050
A41: 92 | B41: =IFERROR(INDEX('Input Echo'!$M$11:$M$596,MATCH('(3)Flange Peq'!$A41,'Input Echo'!$I$11:$I$596,0)),INDEX('Input Echo'!$M$11:$M$596,MATCH('(3)Flange Peq'!$A41,'Input Echo'!$J$11:$J$596,0))) -> 0 | C41: =IFERROR(INDEX('Input Echo'!$AI$11:$AI$596,MATCH('(3)Flange Peq'!$A41,'Input Echo'!$I$11:$I$596,0)),INDEX('Input Echo'!$AI$11:$AI$596,MATCH('(3)Flange Peq'!$A41,'Input Echo'!$J$11:$J$596,0))) -> 50 | D41: =IFERROR(INDEX('Input Echo'!$Y$11:$Y$596,MATCH('(3)Flange Peq'!$A41,'Input Echo'!$I$11:$I$596,0)),INDEX('Input Echo'!$Y$11:$Y$596,MATCH('(3)Flange Peq'!$A41,'Input Echo'!$J$11:$J$596,0))) -> 10 | E41: 0 | F41: 0 | G41: 39.75 | H41: =IFERROR(INDEX('Input Echo'!$O$11:$O$596,MATCH('(3)Flange Peq'!$A41,'Input Echo'!$I$11:$I$596,0)),INDEX('Input Echo'!$O$11:$O$596,MATCH('(3)Flange Peq'!$A41,'[1]Input Echo'!$J$11:$J$600,0))) -> 0 | I41: =D41+4*E41*10/(PI()*G41^2)+16*F41*10^4/(PI()*G41^2*H41) -> #DIV/0! | J41: 110 | K41: 17.31 | L41: =(I41/K41)*100 -> #DIV/0! | M41: =B41&C41 -> 050
A42: 102 | B42: =IFERROR(INDEX('Input Echo'!$M$11:$M$596,MATCH('(3)Flange Peq'!$A42,'Input Echo'!$I$11:$I$596,0)),INDEX('Input Echo'!$M$11:$M$596,MATCH('(3)Flange Peq'!$A42,'Input Echo'!$J$11:$J$596,0))) -> 0 | C42: =IFERROR(INDEX('Input Echo'!$AI$11:$AI$596,MATCH('(3)Flange Peq'!$A42,'Input Echo'!$I$11:$I$596,0)),INDEX('Input Echo'!$AI$11:$AI$596,MATCH('(3)Flange Peq'!$A42,'Input Echo'!$J$11:$J$596,0))) -> 50 | D42: =IFERROR(INDEX('Input Echo'!$Y$11:$Y$596,MATCH('(3)Flange Peq'!$A42,'Input Echo'!$I$11:$I$596,0)),INDEX('Input Echo'!$Y$11:$Y$596,MATCH('(3)Flange Peq'!$A42,'Input Echo'!$J$11:$J$596,0))) -> 17 | E42: 733 | F42: 137 | G42: 77.85 | H42: =IFERROR(INDEX('Input Echo'!$O$11:$O$596,MATCH('(3)Flange Peq'!$A42,'Input Echo'!$I$11:$I$596,0)),INDEX('Input Echo'!$O$11:$O$596,MATCH('(3)Flange Peq'!$A42,'[1]Input Echo'!$J$11:$J$600,0))) -> #N/A | I42: 0 | J42: 110 | K42: 17.31 | L42: =(I42/K42)*100 -> 0 | M42: =B42&C42 -> 050
A43: 102 | B43: =IFERROR(INDEX('Input Echo'!$M$11:$M$596,MATCH('(3)Flange Peq'!$A43,'Input Echo'!$I$11:$I$596,0)),INDEX('Input Echo'!$M$11:$M$596,MATCH('(3)Flange Peq'!$A43,'Input Echo'!$J$11:$J$596,0))) -> 0 | C43: =IFERROR(INDEX('Input Echo'!$AI$11:$AI$596,MATCH('(3)Flange Peq'!$A43,'Input Echo'!$I$11:$I$596,0)),INDEX('Input Echo'!$AI$11:$AI$596,MATCH('(3)Flange Peq'!$A43,'Input Echo'!$J$11:$J$596,0))) -> 250 | D43: =IFERROR(INDEX('Input Echo'!$Y$11:$Y$596,MATCH('(3)Flange Peq'!$A43,'Input Echo'!$I$11:$I$596,0)),INDEX('Input Echo'!$Y$11:$Y$596,MATCH('(3)Flange Peq'!$A43,'Input Echo'!$J$11:$J$596,0))) -> 10 | E43: 733 | F43: 137 | G43: 77.85 | H43: =IFERROR(INDEX('Input Echo'!$O$11:$O$596,MATCH('(3)Flange Peq'!$A43,'Input Echo'!$I$11:$I$596,0)),INDEX('Input Echo'!$O$11:$O$596,MATCH('(3)Flange Peq'!$A43,'[1]Input Echo'!$J$11:$J$600,0))) -> 0 | I43: 0 | J43: 110 | K43: 17.31 | L43: =(I43/K43)*100 -> 0 | M43: =B43&C43 -> 0250
A44: 30030 | B44: =IFERROR(INDEX('Input Echo'!$M$11:$M$596,MATCH('(3)Flange Peq'!$A44,'Input Echo'!$I$11:$I$596,0)),INDEX('Input Echo'!$M$11:$M$596,MATCH('(3)Flange Peq'!$A44,'Input Echo'!$J$11:$J$596,0))) -> 300 | C44: =IFERROR(INDEX('Input Echo'!$AI$11:$AI$596,MATCH('(3)Flange Peq'!$A44,'Input Echo'!$I$11:$I$596,0)),INDEX('Input Echo'!$AI$11:$AI$596,MATCH('(3)Flange Peq'!$A44,'Input Echo'!$J$11:$J$596,0))) -> 100 | D44: =IFERROR(INDEX('Input Echo'!$Y$11:$Y$596,MATCH('(3)Flange Peq'!$A44,'Input Echo'!$I$11:$I$596,0)),INDEX('Input Echo'!$Y$11:$Y$596,MATCH('(3)Flange Peq'!$A44,'Input Echo'!$J$11:$J$596,0))) -> 20 | E44: 159 | F44: 33 | G44: 77.85 | H44: =IFERROR(INDEX('Input Echo'!$O$11:$O$596,MATCH('(3)Flange Peq'!$A44,'Input Echo'!$I$11:$I$596,0)),INDEX('Input Echo'!$O$11:$O$596,MATCH('(3)Flange Peq'!$A44,'[1]Input Echo'!$J$11:$J$600,0))) -> 200 | I44: =D44+4*E44*10/(PI()*G44^2)+16*F44*10^4/(PI()*G44^2*H44) -> 21.720588 | J44: 110 | K44: 17.31 | L44: =(I44/K44)*100 -> 125.48 | M44: =B44&C44 -> 300100
A45: 30060 | B45: =IFERROR(INDEX('Input Echo'!$M$11:$M$596,MATCH('(3)Flange Peq'!$A45,'Input Echo'!$I$11:$I$596,0)),INDEX('Input Echo'!$M$11:$M$596,MATCH('(3)Flange Peq'!$A45,'Input Echo'!$J$11:$J$596,0))) -> 300 | C45: =IFERROR(INDEX('Input Echo'!$AI$11:$AI$596,MATCH('(3)Flange Peq'!$A45,'Input Echo'!$I$11:$I$596,0)),INDEX('Input Echo'!$AI$11:$AI$596,MATCH('(3)Flange Peq'!$A45,'Input Echo'!$J$11:$J$596,0))) -> 150 | D45: =IFERROR(INDEX('Input Echo'!$Y$11:$Y$596,MATCH('(3)Flange Peq'!$A45,'Input Echo'!$I$11:$I$596,0)),INDEX('Input Echo'!$Y$11:$Y$596,MATCH('(3)Flange Peq'!$A45,'Input Echo'!$J$11:$J$596,0))) -> 20 | E45: 405 | F45: 70 | G45: 39.75 | H45: =IFERROR(INDEX('Input Echo'!$O$11:$O$596,MATCH('(3)Flange Peq'!$A45,'Input Echo'!$I$11:$I$596,0)),INDEX('Input Echo'!$O$11:$O$596,MATCH('(3)Flange Peq'!$A45,'[1]Input Echo'!$J$11:$J$600,0))) -> #N/A | I45: 0 | J45: 52 | K45: 49.96 | L45: =(I45/K45)*100 -> 0 | M45: =B45&C45 -> 300150
A46: 30140 | B46: =IFERROR(INDEX('Input Echo'!$M$11:$M$596,MATCH('(3)Flange Peq'!$A46,'Input Echo'!$I$11:$I$596,0)),INDEX('Input Echo'!$M$11:$M$596,MATCH('(3)Flange Peq'!$A46,'Input Echo'!$J$11:$J$596,0))) -> 300 | C46: =IFERROR(INDEX('Input Echo'!$AI$11:$AI$596,MATCH('(3)Flange Peq'!$A46,'Input Echo'!$I$11:$I$596,0)),INDEX('Input Echo'!$AI$11:$AI$596,MATCH('(3)Flange Peq'!$A46,'Input Echo'!$J$11:$J$596,0))) -> 80 | D46: =IFERROR(INDEX('Input Echo'!$Y$11:$Y$596,MATCH('(3)Flange Peq'!$A46,'Input Echo'!$I$11:$I$596,0)),INDEX('Input Echo'!$Y$11:$Y$596,MATCH('(3)Flange Peq'!$A46,'Input Echo'!$J$11:$J$596,0))) -> 20 | E46: 36 | F46: 39 | G46: 61.98 | H46: =IFERROR(INDEX('Input Echo'!$O$11:$O$596,MATCH('(3)Flange Peq'!$A46,'Input Echo'!$I$11:$I$596,0)),INDEX('Input Echo'!$O$11:$O$596,MATCH('(3)Flange Peq'!$A46,'[1]Input Echo'!$J$11:$J$600,0))) -> #N/A | I46: 0 | J46: 52 | K46: 49.96 | L46: =(I46/K46)*100 -> 0 | M46: =B46&C46 -> 30080
A47: 30140 | B47: =IFERROR(INDEX('Input Echo'!$M$11:$M$596,MATCH('(3)Flange Peq'!$A47,'Input Echo'!$I$11:$I$596,0)),INDEX('Input Echo'!$M$11:$M$596,MATCH('(3)Flange Peq'!$A47,'Input Echo'!$J$11:$J$596,0))) -> 0 | C47: =IFERROR(INDEX('Input Echo'!$AI$11:$AI$596,MATCH('(3)Flange Peq'!$A47,'Input Echo'!$I$11:$I$596,0)),INDEX('Input Echo'!$AI$11:$AI$596,MATCH('(3)Flange Peq'!$A47,'Input Echo'!$J$11:$J$596,0))) -> 50 | D47: =IFERROR(INDEX('Input Echo'!$Y$11:$Y$596,MATCH('(3)Flange Peq'!$A47,'Input Echo'!$I$11:$I$596,0)),INDEX('Input Echo'!$Y$11:$Y$596,MATCH('(3)Flange Peq'!$A47,'Input Echo'!$J$11:$J$596,0))) -> 10 | E47: 36 | F47: 39 | G47: 61.98 | H47: =IFERROR(INDEX('Input Echo'!$O$11:$O$596,MATCH('(3)Flange Peq'!$A47,'Input Echo'!$I$11:$I$596,0)),INDEX('Input Echo'!$O$11:$O$596,MATCH('(3)Flange Peq'!$A47,'[1]Input Echo'!$J$11:$J$600,0))) -> 0 | I47: =D47+4*E47*10/(PI()*G47^2)+16*F47*10^4/(PI()*G47^2*H47) -> #DIV/0! | J47: 52 | K47: 49.96 | L47: =(I47/K47)*100 -> #DIV/0! | M47: =B47&C47 -> 050
A48: 30180 | B48: =IFERROR(INDEX('Input Echo'!$M$11:$M$596,MATCH('(3)Flange Peq'!$A48,'Input Echo'!$I$11:$I$596,0)),INDEX('Input Echo'!$M$11:$M$596,MATCH('(3)Flange Peq'!$A48,'Input Echo'!$J$11:$J$596,0))) -> 0 | C48: =IFERROR(INDEX('Input Echo'!$AI$11:$AI$596,MATCH('(3)Flange Peq'!$A48,'Input Echo'!$I$11:$I$596,0)),INDEX('Input Echo'!$AI$11:$AI$596,MATCH('(3)Flange Peq'!$A48,'Input Echo'!$J$11:$J$596,0))) -> 80 | D48: =IFERROR(INDEX('Input Echo'!$Y$11:$Y$596,MATCH('(3)Flange Peq'!$A48,'Input Echo'!$I$11:$I$596,0)),INDEX('Input Echo'!$Y$11:$Y$596,MATCH('(3)Flange Peq'!$A48,'Input Echo'!$J$11:$J$596,0))) -> 10 | E48: 36 | F48: 49 | G48: 61.98 | H48: =IFERROR(INDEX('Input Echo'!$O$11:$O$596,MATCH('(3)Flange Peq'!$A48,'Input Echo'!$I$11:$I$596,0)),INDEX('Input Echo'!$O$11:$O$596,MATCH('(3)Flange Peq'!$A48,'[1]Input Echo'!$J$11:$J$600,0))) -> 0 | I48: =D48+4*E48*10/(PI()*G48^2)+16*F48*10^4/(PI()*G48^2*H48) -> #DIV/0! | J48: 52 | K48: 49.96 | L48: =(I48/K48)*100 -> #DIV/0! | M48: =B48&C48 -> 080
A49: 30190 | B49: =IFERROR(INDEX('Input Echo'!$M$11:$M$596,MATCH('(3)Flange Peq'!$A49,'Input Echo'!$I$11:$I$596,0)),INDEX('Input Echo'!$M$11:$M$596,MATCH('(3)Flange Peq'!$A49,'Input Echo'!$J$11:$J$596,0))) -> 0 | C49: =IFERROR(INDEX('Input Echo'!$AI$11:$AI$596,MATCH('(3)Flange Peq'!$A49,'Input Echo'!$I$11:$I$596,0)),INDEX('Input Echo'!$AI$11:$AI$596,MATCH('(3)Flange Peq'!$A49,'Input Echo'!$J$11:$J$596,0))) -> 80 | D49: =IFERROR(INDEX('Input Echo'!$Y$11:$Y$596,MATCH('(3)Flange Peq'!$A49,'Input Echo'!$I$11:$I$596,0)),INDEX('Input Echo'!$Y$11:$Y$596,MATCH('(3)Flange Peq'!$A49,'Input Echo'!$J$11:$J$596,0))) -> 10 | E49: 36 | F49: 55 | G49: 61.98 | H49: =IFERROR(INDEX('Input Echo'!$O$11:$O$596,MATCH('(3)Flange Peq'!$A49,'Input Echo'!$I$11:$I$596,0)),INDEX('Input Echo'!$O$11:$O$596,MATCH('(3)Flange Peq'!$A49,'[1]Input Echo'!$J$11:$J$600,0))) -> 0 | I49: =D49+4*E49*10/(PI()*G49^2)+16*F49*10^4/(PI()*G49^2*H49) -> #DIV/0! | J49: 52 | K49: 49.96 | L49: =(I49/K49)*100 -> #DIV/0! | M49: =B49&C49 -> 080
A50: 30275 | B50: =IFERROR(INDEX('Input Echo'!$M$11:$M$596,MATCH('(3)Flange Peq'!$A50,'Input Echo'!$I$11:$I$596,0)),INDEX('Input Echo'!$M$11:$M$596,MATCH('(3)Flange Peq'!$A50,'Input Echo'!$J$11:$J$596,0))) -> 0 | C50: =IFERROR(INDEX('Input Echo'!$AI$11:$AI$596,MATCH('(3)Flange Peq'!$A50,'Input Echo'!$I$11:$I$596,0)),INDEX('Input Echo'!$AI$11:$AI$596,MATCH('(3)Flange Peq'!$A50,'Input Echo'!$J$11:$J$596,0))) -> 200 | D50: =IFERROR(INDEX('Input Echo'!$Y$11:$Y$596,MATCH('(3)Flange Peq'!$A50,'Input Echo'!$I$11:$I$596,0)),INDEX('Input Echo'!$Y$11:$Y$596,MATCH('(3)Flange Peq'!$A50,'Input Echo'!$J$11:$J$596,0))) -> 10 | E50: 27 | F50: 12 | G50: 61.98 | H50: =IFERROR(INDEX('Input Echo'!$O$11:$O$596,MATCH('(3)Flange Peq'!$A50,'Input Echo'!$I$11:$I$596,0)),INDEX('Input Echo'!$O$11:$O$596,MATCH('(3)Flange Peq'!$A50,'[1]Input Echo'!$J$11:$J$600,0))) -> 0 | I50: =D50+4*E50*10/(PI()*G50^2)+16*F50*10^4/(PI()*G50^2*H50) -> #DIV/0! | J50: 52 | K50: 49.96 | L50: =(I50/K50)*100 -> #DIV/0! | M50: =B50&C50 -> 0200
A51: 112 | B51: =IFERROR(INDEX('Input Echo'!$M$11:$M$596,MATCH('(3)Flange Peq'!$A51,'Input Echo'!$I$11:$I$596,0)),INDEX('Input Echo'!$M$11:$M$596,MATCH('(3)Flange Peq'!$A51,'Input Echo'!$J$11:$J$596,0))) -> 300 | C51: =IFERROR(INDEX('Input Echo'!$AI$11:$AI$596,MATCH('(3)Flange Peq'!$A51,'Input Echo'!$I$11:$I$596,0)),INDEX('Input Echo'!$AI$11:$AI$596,MATCH('(3)Flange Peq'!$A51,'Input Echo'!$J$11:$J$596,0))) -> 80 | D51: =IFERROR(INDEX('Input Echo'!$Y$11:$Y$596,MATCH('(3)Flange Peq'!$A51,'Input Echo'!$I$11:$I$596,0)),INDEX('Input Echo'!$Y$11:$Y$596,MATCH('(3)Flange Peq'!$A51,'Input Echo'!$J$11:$J$596,0))) -> 10 | E51: 2152 | F51: 3689 | G51: 196.09 | H51: =IFERROR(INDEX('Input Echo'!$O$11:$O$596,MATCH('(3)Flange Peq'!$A51,'Input Echo'!$I$11:$I$596,0)),INDEX('Input Echo'!$O$11:$O$596,MATCH('(3)Flange Peq'!$A51,'[1]Input Echo'!$J$11:$J$600,0))) -> 168.3 | I51: =D51+4*E51*10/(PI()*G51^2)+16*F51*10^4/(PI()*G51^2*H51) -> 39.745048 | J51: 110 | K51: 17.31 | L51: =(I51/K51)*100 -> 229.60744 | M51: =B51&C51 -> 30080
A52: 112 | B52: =IFERROR(INDEX('Input Echo'!$M$11:$M$596,MATCH('(3)Flange Peq'!$A52,'Input Echo'!$I$11:$I$596,0)),INDEX('Input Echo'!$M$11:$M$596,MATCH('(3)Flange Peq'!$A52,'Input Echo'!$J$11:$J$596,0))) -> 0 | C52: =IFERROR(INDEX('Input Echo'!$AI$11:$AI$596,MATCH('(3)Flange Peq'!$A52,'Input Echo'!$I$11:$I$596,0)),INDEX('Input Echo'!$AI$11:$AI$596,MATCH('(3)Flange Peq'!$A52,'Input Echo'!$J$11:$J$596,0))) -> 80 | D52: =IFERROR(INDEX('Input Echo'!$Y$11:$Y$596,MATCH('(3)Flange Peq'!$A52,'Input Echo'!$I$11:$I$596,0)),INDEX('Input Echo'!$Y$11:$Y$596,MATCH('(3)Flange Peq'!$A52,'Input Echo'!$J$11:$J$596,0))) -> 10 | E52: 2152 | F52: 3689 | G52: 196.09 | H52: =IFERROR(INDEX('Input Echo'!$O$11:$O$596,MATCH('(3)Flange Peq'!$A52,'Input Echo'!$I$11:$I$596,0)),INDEX('Input Echo'!$O$11:$O$596,MATCH('(3)Flange Peq'!$A52,'[1]Input Echo'!$J$11:$J$600,0))) -> 0 | I52: =D52+4*E52*10/(PI()*G52^2)+16*F52*10^4/(PI()*G52^2*H52) -> #DIV/0! | J52: 110 | K52: 17.31 | L52: =(I52/K52)*100 -> #DIV/0! | M52: =B52&C52 -> 080
A53: 11230 | B53: =IFERROR(INDEX('Input Echo'!$M$11:$M$596,MATCH('(3)Flange Peq'!$A53,'Input Echo'!$I$11:$I$596,0)),INDEX('Input Echo'!$M$11:$M$596,MATCH('(3)Flange Peq'!$A53,'Input Echo'!$J$11:$J$596,0))) -> 0 | C53: =IFERROR(INDEX('Input Echo'!$AI$11:$AI$596,MATCH('(3)Flange Peq'!$A53,'Input Echo'!$I$11:$I$596,0)),INDEX('Input Echo'!$AI$11:$AI$596,MATCH('(3)Flange Peq'!$A53,'Input Echo'!$J$11:$J$596,0))) -> 50 | D53: =IFERROR(INDEX('Input Echo'!$Y$11:$Y$596,MATCH('(3)Flange Peq'!$A53,'Input Echo'!$I$11:$I$596,0)),INDEX('Input Echo'!$Y$11:$Y$596,MATCH('(3)Flange Peq'!$A53,'Input Echo'!$J$11:$J$596,0))) -> 10 | E53: 27831 | F53: 153 | G53: 196.09 | H53: =IFERROR(INDEX('Input Echo'!$O$11:$O$596,MATCH('(3)Flange Peq'!$A53,'Input Echo'!$I$11:$I$596,0)),INDEX('Input Echo'!$O$11:$O$596,MATCH('(3)Flange Peq'!$A53,'[1]Input Echo'!$J$11:$J$600,0))) -> 0 | I53: =D53+4*E53*10/(PI()*G53^2)+16*F53*10^4/(PI()*G53^2*H53) -> #DIV/0! | J53: 110 | K53: 17.31 | L53: =(I53/K53)*100 -> #DIV/0! | M53: =B53&C53 -> 050
A54: 11260 | B54: =IFERROR(INDEX('Input Echo'!$M$11:$M$596,MATCH('(3)Flange Peq'!$A54,'Input Echo'!$I$11:$I$596,0)),INDEX('Input Echo'!$M$11:$M$596,MATCH('(3)Flange Peq'!$A54,'Input Echo'!$J$11:$J$596,0))) -> 0 | C54: =IFERROR(INDEX('Input Echo'!$AI$11:$AI$596,MATCH('(3)Flange Peq'!$A54,'Input Echo'!$I$11:$I$596,0)),INDEX('Input Echo'!$AI$11:$AI$596,MATCH('(3)Flange Peq'!$A54,'Input Echo'!$J$11:$J$596,0))) -> 50 | D54: =IFERROR(INDEX('Input Echo'!$Y$11:$Y$596,MATCH('(3)Flange Peq'!$A54,'Input Echo'!$I$11:$I$596,0)),INDEX('Input Echo'!$Y$11:$Y$596,MATCH('(3)Flange Peq'!$A54,'Input Echo'!$J$11:$J$596,0))) -> 10 | E54: 5938 | F54: 1042 | G54: 138.18 | H54: =IFERROR(INDEX('Input Echo'!$O$11:$O$596,MATCH('(3)Flange Peq'!$A54,'Input Echo'!$I$11:$I$596,0)),INDEX('Input Echo'!$O$11:$O$596,MATCH('(3)Flange Peq'!$A54,'[1]Input Echo'!$J$11:$J$600,0))) -> 0 | I54: =D54+4*E54*10/(PI()*G54^2)+16*F54*10^4/(PI()*G54^2*H54) -> #DIV/0! | J54: 100 | K54: 46.68 | L54: =(I54/K54)*100 -> #DIV/0! | M54: =B54&C54 -> 050
A55: 11292 | B55: =IFERROR(INDEX('Input Echo'!$M$11:$M$596,MATCH('(3)Flange Peq'!$A55,'Input Echo'!$I$11:$I$596,0)),INDEX('Input Echo'!$M$11:$M$596,MATCH('(3)Flange Peq'!$A55,'Input Echo'!$J$11:$J$596,0))) -> 0 | C55: =IFERROR(INDEX('Input Echo'!$AI$11:$AI$596,MATCH('(3)Flange Peq'!$A55,'Input Echo'!$I$11:$I$596,0)),INDEX('Input Echo'!$AI$11:$AI$596,MATCH('(3)Flange Peq'!$A55,'Input Echo'!$J$11:$J$596,0))) -> 60 | D55: =IFERROR(INDEX('Input Echo'!$Y$11:$Y$596,MATCH('(3)Flange Peq'!$A55,'Input Echo'!$I$11:$I$596,0)),INDEX('Input Echo'!$Y$11:$Y$596,MATCH('(3)Flange Peq'!$A55,'Input Echo'!$J$11:$J$596,0))) -> 20 | E55: 3292 | F55: 346 | G55: 77.85 | H55: =IFERROR(INDEX('Input Echo'!$O$11:$O$596,MATCH('(3)Flange Peq'!$A55,'Input Echo'!$I$11:$I$596,0)),INDEX('Input Echo'!$O$11:$O$596,MATCH('(3)Flange Peq'!$A55,'[1]Input Echo'!$J$11:$J$600,0))) -> 0 | I55: =D55+4*E55*10/(PI()*G55^2)+16*F55*10^4/(PI()*G55^2*H55) -> #DIV/0! | J55: 100 | K55: 46.68 | L55: =(I55/K55)*100 -> #DIV/0! | M55: =B55&C55 -> 060
A56: 11294 | B56: =IFERROR(INDEX('Input Echo'!$M$11:$M$596,MATCH('(3)Flange Peq'!$A56,'Input Echo'!$I$11:$I$596,0)),INDEX('Input Echo'!$M$11:$M$596,MATCH('(3)Flange Peq'!$A56,'Input Echo'!$J$11:$J$596,0))) -> 0 | C56: =IFERROR(INDEX('Input Echo'!$AI$11:$AI$596,MATCH('(3)Flange Peq'!$A56,'Input Echo'!$I$11:$I$596,0)),INDEX('Input Echo'!$AI$11:$AI$596,MATCH('(3)Flange Peq'!$A56,'Input Echo'!$J$11:$J$596,0))) -> 80 | D56: =IFERROR(INDEX('Input Echo'!$Y$11:$Y$596,MATCH('(3)Flange Peq'!$A56,'Input Echo'!$I$11:$I$596,0)),INDEX('Input Echo'!$Y$11:$Y$596,MATCH('(3)Flange Peq'!$A56,'Input Echo'!$J$11:$J$596,0))) -> 20 | E56: 3292 | F56: 490 | G56: 77.85 | H56: =IFERROR(INDEX('Input Echo'!$O$11:$O$596,MATCH('(3)Flange Peq'!$A56,'Input Echo'!$I$11:$I$596,0)),INDEX('Input Echo'!$O$11:$O$596,MATCH('(3)Flange Peq'!$A56,'[1]Input Echo'!$J$11:$J$600,0))) -> 0 | I56: =D56+4*E56*10/(PI()*G56^2)+16*F56*10^4/(PI()*G56^2*H56) -> #DIV/0! | J56: 100 | K56: 46.68 | L56: =(I56/K56)*100 -> #DIV/0! | M56: =B56&C56 -> 080
A57: 11355 | B57: =IFERROR(INDEX('Input Echo'!$M$11:$M$596,MATCH('(3)Flange Peq'!$A57,'Input Echo'!$I$11:$I$596,0)),INDEX('Input Echo'!$M$11:$M$596,MATCH('(3)Flange Peq'!$A57,'Input Echo'!$J$11:$J$596,0))) -> 0 | C57: =IFERROR(INDEX('Input Echo'!$AI$11:$AI$596,MATCH('(3)Flange Peq'!$A57,'Input Echo'!$I$11:$I$596,0)),INDEX('Input Echo'!$AI$11:$AI$596,MATCH('(3)Flange Peq'!$A57,'Input Echo'!$J$11:$J$596,0))) -> 80 | D57: =IFERROR(INDEX('Input Echo'!$Y$11:$Y$596,MATCH('(3)Flange Peq'!$A57,'Input Echo'!$I$11:$I$596,0)),INDEX('Input Echo'!$Y$11:$Y$596,MATCH('(3)Flange Peq'!$A57,'Input Echo'!$J$11:$J$596,0))) -> 20 | E57: 308 | F57: 465 | G57: 196.09 | H57: =IFERROR(INDEX('Input Echo'!$O$11:$O$596,MATCH('(3)Flange Peq'!$A57,'Input Echo'!$I$11:$I$596,0)),INDEX('Input Echo'!$O$11:$O$596,MATCH('(3)Flange Peq'!$A57,'[1]Input Echo'!$J$11:$J$600,0))) -> 0 | I57: =D57+4*E57*10/(PI()*G57^2)+16*F57*10^4/(PI()*G57^2*H57) -> #DIV/0! | J57: 100 | K57: 46.68 | L57: =(I57/K57)*100 -> #DIV/0! | M57: =B57&C57 -> 080
A58: 1140 | B58: =IFERROR(INDEX('Input Echo'!$M$11:$M$596,MATCH('(3)Flange Peq'!$A58,'Input Echo'!$I$11:$I$596,0)),INDEX('Input Echo'!$M$11:$M$596,MATCH('(3)Flange Peq'!$A58,'Input Echo'!$J$11:$J$596,0))) -> 300 | C58: =IFERROR(INDEX('Input Echo'!$AI$11:$AI$596,MATCH('(3)Flange Peq'!$A58,'Input Echo'!$I$11:$I$596,0)),INDEX('Input Echo'!$AI$11:$AI$596,MATCH('(3)Flange Peq'!$A58,'Input Echo'!$J$11:$J$596,0))) -> 100 | D58: =IFERROR(INDEX('Input Echo'!$Y$11:$Y$596,MATCH('(3)Flange Peq'!$A58,'Input Echo'!$I$11:$I$596,0)),INDEX('Input Echo'!$Y$11:$Y$596,MATCH('(3)Flange Peq'!$A58,'Input Echo'!$J$11:$J$596,0))) -> 20 | E58: 402 | F58: 111 | G58: 77.85 | H58: =IFERROR(INDEX('Input Echo'!$O$11:$O$596,MATCH('(3)Flange Peq'!$A58,'Input Echo'!$I$11:$I$596,0)),INDEX('Input Echo'!$O$11:$O$596,MATCH('(3)Flange Peq'!$A58,'[1]Input Echo'!$J$11:$J$600,0))) -> 200 | I58: =D58+4*E58*10/(PI()*G58^2)+16*F58*10^4/(PI()*G58^2*H58) -> 25.508401 | J58: 110 | K58: 17.31 | L58: =(I58/K58)*100 -> 147.36223 | M58: =B58&C58 -> 300100
... A64: 11565 | B64: =IFERROR(INDEX('Input Echo'!$M$11:$M$596,MATCH('(3)Flange Peq'!$A64,'Input Echo'!$I$11:$I$596,0)),INDEX('Input Echo'!$M$11:$M$596,MATCH('(3)Flange Peq'!$A64,'Input Echo'!$J$11:$J$596,0))) -> 300 | C64: =IFERROR(INDEX('Input Echo'!$AI$11:$AI$596,MATCH('(3)Flange Peq'!$A64,'Input Echo'!$I$11:$I$596,0)),INDEX('Input Echo'!$AI$11:$AI$596,MATCH('(3)Flange Peq'!$A64,'Input Echo'!$J$11:$J$596,0))) -> 40 | D64: =IFERROR(INDEX('Input Echo'!$Y$11:$Y$596,MATCH('(3)Flange Peq'!$A64,'Input Echo'!$I$11:$I$596,0)),INDEX('Input Echo'!$Y$11:$Y$596,MATCH('(3)Flange Peq'!$A64,'Input Echo'!$J$11:$J$596,0))) -> 20 | E64: 4 | F64: 4 | G64: 77.85 | H64: =IFERROR(INDEX('Input Echo'!$O$11:$O$596,MATCH('(3)Flange Peq'!$A64,'Input Echo'!$I$11:$I$596,0)),INDEX('Input Echo'!$O$11:$O$596,MATCH('(3)Flange Peq'!$A64,'[1]Input Echo'!$J$11:$J$600,0))) -> 114.3 | I64: =D64+4*E64*10/(PI()*G64^2)+16*F64*10^4/(PI()*G64^2*H64) -> 20.302484 | J64: 52 | K64: 49.96 | L64: =(I64/K64)*100 -> 40.637478 | M64: =B64&C64 -> 30040
A65: 11565 | B65: =IFERROR(INDEX('Input Echo'!$M$11:$M$596,MATCH('(3)Flange Peq'!$A65,'Input Echo'!$I$11:$I$596,0)),INDEX('Input Echo'!$M$11:$M$596,MATCH('(3)Flange Peq'!$A65,'Input Echo'!$J$11:$J$596,0))) -> 300 | C65: =IFERROR(INDEX('Input Echo'!$AI$11:$AI$596,MATCH('(3)Flange Peq'!$A65,'Input Echo'!$I$11:$I$596,0)),INDEX('Input Echo'!$AI$11:$AI$596,MATCH('(3)Flange Peq'!$A65,'Input Echo'!$J$11:$J$596,0))) -> 25 | D65: =IFERROR(INDEX('Input Echo'!$Y$11:$Y$596,MATCH('(3)Flange Peq'!$A65,'Input Echo'!$I$11:$I$596,0)),INDEX('Input Echo'!$Y$11:$Y$596,MATCH('(3)Flange Peq'!$A65,'Input Echo'!$J$11:$J$596,0))) -> 20 | E65: 4 | F65: 4 | G65: 77.85 | H65: =IFERROR(INDEX('Input Echo'!$O$11:$O$596,MATCH('(3)Flange Peq'!$A65,'Input Echo'!$I$11:$I$596,0)),INDEX('Input Echo'!$O$11:$O$596,MATCH('(3)Flange Peq'!$A65,'[1]Input Echo'!$J$11:$J$600,0))) -> #N/A | I65: 0 | J65: 52 | K65: 49.96 | L65: =(I65/K65)*100 -> 0 | M65: =B65&C65 -> 30025
A66: 11900 | B66: =IFERROR(INDEX('Input Echo'!$M$11:$M$596,MATCH('(3)Flange Peq'!$A66,'Input Echo'!$I$11:$I$596,0)),INDEX('Input Echo'!$M$11:$M$596,MATCH('(3)Flange Peq'!$A66,'Input Echo'!$J$11:$J$596,0))) -> 0 | C66: =IFERROR(INDEX('Input Echo'!$AI$11:$AI$596,MATCH('(3)Flange Peq'!$A66,'Input Echo'!$I$11:$I$596,0)),INDEX('Input Echo'!$AI$11:$AI$596,MATCH('(3)Flange Peq'!$A66,'Input Echo'!$J$11:$J$596,0))) -> 40 | D66: =IFERROR(INDEX('Input Echo'!$Y$11:$Y$596,MATCH('(3)Flange Peq'!$A66,'Input Echo'!$I$11:$I$596,0)),INDEX('Input Echo'!$Y$11:$Y$596,MATCH('(3)Flange Peq'!$A66,'Input Echo'!$J$11:$J$596,0))) -> 20 | E66: 0 | F66: 7 | G66: 77.85 | H66: =IFERROR(INDEX('Input Echo'!$O$11:$O$596,MATCH('(3)Flange Peq'!$A66,'Input Echo'!$I$11:$I$596,0)),INDEX('Input Echo'!$O$11:$O$596,MATCH('(3)Flange Peq'!$A66,'[1]Input Echo'!$J$11:$J$600,0))) -> 0 | I66: =D66+4*E66*10/(PI()*G66^2)+16*F66*10^4/(PI()*G66^2*H66) -> #DIV/0! | J66: 52 | K66: 49.96 | L66: =(I66/K66)*100 -> #DIV/0! | M66: =B66&C66 -> 040
A67: 11920 | B67: =IFERROR(INDEX('Input Echo'!$M$11:$M$596,MATCH('(3)Flange Peq'!$A67,'Input Echo'!$I$11:$I$596,0)),INDEX('Input Echo'!$M$11:$M$596,MATCH('(3)Flange Peq'!$A67,'Input Echo'!$J$11:$J$596,0))) -> 0 | C67: =IFERROR(INDEX('Input Echo'!$AI$11:$AI$596,MATCH('(3)Flange Peq'!$A67,'Input Echo'!$I$11:$I$596,0)),INDEX('Input Echo'!$AI$11:$AI$596,MATCH('(3)Flange Peq'!$A67,'Input Echo'!$J$11:$J$596,0))) -> 40 | D67: =IFERROR(INDEX('Input Echo'!$Y$11:$Y$596,MATCH('(3)Flange Peq'!$A67,'Input Echo'!$I$11:$I$596,0)),INDEX('Input Echo'!$Y$11:$Y$596,MATCH('(3)Flange Peq'!$A67,'Input Echo'!$J$11:$J$596,0))) -> 20 | E67: 0 | F67: 14 | G67: 77.85 | H67: =IFERROR(INDEX('Input Echo'!$O$11:$O$596,MATCH('(3)Flange Peq'!$A67,'Input Echo'!$I$11:$I$596,0)),INDEX('Input Echo'!$O$11:$O$596,MATCH('(3)Flange Peq'!$A67,'[1]Input Echo'!$J$11:$J$600,0))) -> 0 | I67: =D67+4*E67*10/(PI()*G67^2)+16*F67*10^4/(PI()*G67^2*H67) -> #DIV/0! | J67: 52 | K67: 49.96 | L67: =(I67/K67)*100 -> #DIV/0! | M67: =B67&C67 -> 040
A68: 11950 | B68: =IFERROR(INDEX('Input Echo'!$M$11:$M$596,MATCH('(3)Flange Peq'!$A68,'Input Echo'!$I$11:$I$596,0)),INDEX('Input Echo'!$M$11:$M$596,MATCH('(3)Flange Peq'!$A68,'Input Echo'!$J$11:$J$596,0))) -> 0 | C68: =IFERROR(INDEX('Input Echo'!$AI$11:$AI$596,MATCH('(3)Flange Peq'!$A68,'Input Echo'!$I$11:$I$596,0)),INDEX('Input Echo'!$AI$11:$AI$596,MATCH('(3)Flange Peq'!$A68,'Input Echo'!$J$11:$J$596,0))) -> 40 | D68: =IFERROR(INDEX('Input Echo'!$Y$11:$Y$596,MATCH('(3)Flange Peq'!$A68,'Input Echo'!$I$11:$I$596,0)),INDEX('Input Echo'!$Y$11:$Y$596,MATCH('(3)Flange Peq'!$A68,'Input Echo'!$J$11:$J$596,0))) -> 20 | E68: 0 | F68: 40 | G68: 77.85 | H68: =IFERROR(INDEX('Input Echo'!$O$11:$O$596,MATCH('(3)Flange Peq'!$A68,'Input Echo'!$I$11:$I$596,0)),INDEX('Input Echo'!$O$11:$O$596,MATCH('(3)Flange Peq'!$A68,'[1]Input Echo'!$J$11:$J$600,0))) -> 0 | I68: =D68+4*E68*10/(PI()*G68^2)+16*F68*10^4/(PI()*G68^2*H68) -> #DIV/0! | J68: 52 | K68: 49.96 | L68: =(I68/K68)*100 -> #DIV/0! | M68: =B68&C68 -> 040
A69: 11970 | B69: =IFERROR(INDEX('Input Echo'!$M$11:$M$596,MATCH('(3)Flange Peq'!$A69,'Input Echo'!$I$11:$I$596,0)),INDEX('Input Echo'!$M$11:$M$596,MATCH('(3)Flange Peq'!$A69,'Input Echo'!$J$11:$J$596,0))) -> 0 | C69: =IFERROR(INDEX('Input Echo'!$AI$11:$AI$596,MATCH('(3)Flange Peq'!$A69,'Input Echo'!$I$11:$I$596,0)),INDEX('Input Echo'!$AI$11:$AI$596,MATCH('(3)Flange Peq'!$A69,'Input Echo'!$J$11:$J$596,0))) -> 40 | D69: =IFERROR(INDEX('Input Echo'!$Y$11:$Y$596,MATCH('(3)Flange Peq'!$A69,'Input Echo'!$I$11:$I$596,0)),INDEX('Input Echo'!$Y$11:$Y$596,MATCH('(3)Flange Peq'!$A69,'Input Echo'!$J$11:$J$596,0))) -> 20 | E69: 0 | F69: 123 | G69: 77.85 | H69: =IFERROR(INDEX('Input Echo'!$O$11:$O$596,MATCH('(3)Flange Peq'!$A69,'Input Echo'!$I$11:$I$596,0)),INDEX('Input Echo'!$O$11:$O$596,MATCH('(3)Flange Peq'!$A69,'[1]Input Echo'!$J$11:$J$600,0))) -> 0 | I69: =D69+4*E69*10/(PI()*G69^2)+16*F69*10^4/(PI()*G69^2*H69) -> #DIV/0! | J69: 52 | K69: 49.96 | L69: =(I69/K69)*100 -> #DIV/0! | M69: =B69&C69 -> 040
A70: 11780 | B70: =IFERROR(INDEX('Input Echo'!$M$11:$M$596,MATCH('(3)Flange Peq'!$A70,'Input Echo'!$I$11:$I$596,0)),INDEX('Input Echo'!$M$11:$M$596,MATCH('(3)Flange Peq'!$A70,'Input Echo'!$J$11:$J$596,0))) -> 0 | C70: =IFERROR(INDEX('Input Echo'!$AI$11:$AI$596,MATCH('(3)Flange Peq'!$A70,'Input Echo'!$I$11:$I$596,0)),INDEX('Input Echo'!$AI$11:$AI$596,MATCH('(3)Flange Peq'!$A70,'Input Echo'!$J$11:$J$596,0))) -> 40 | D70: =IFERROR(INDEX('Input Echo'!$Y$11:$Y$596,MATCH('(3)Flange Peq'!$A70,'Input Echo'!$I$11:$I$596,0)),INDEX('Input Echo'!$Y$11:$Y$596,MATCH('(3)Flange Peq'!$A70,'Input Echo'!$J$11:$J$596,0))) -> 20 | E70: 0 | F70: 23 | G70: 77.85 | H70: =IFERROR(INDEX('Input Echo'!$O$11:$O$596,MATCH('(3)Flange Peq'!$A70,'Input Echo'!$I$11:$I$596,0)),INDEX('Input Echo'!$O$11:$O$596,MATCH('(3)Flange Peq'!$A70,'[1]Input Echo'!$J$11:$J$600,0))) -> 0 | I70: =D70+4*E70*10/(PI()*G70^2)+16*F70*10^4/(PI()*G70^2*H70) -> #DIV/0! | J70: 52 | K70: 49.96 | L70: =(I70/K70)*100 -> #DIV/0! | M70: =B70&C70 -> 040
A71: 11800 | B71: =IFERROR(INDEX('Input Echo'!$M$11:$M$596,MATCH('(3)Flange Peq'!$A71,'Input Echo'!$I$11:$I$596,0)),INDEX('Input Echo'!$M$11:$M$596,MATCH('(3)Flange Peq'!$A71,'Input Echo'!$J$11:$J$596,0))) -> 300 | C71: =IFERROR(INDEX('Input Echo'!$AI$11:$AI$596,MATCH('(3)Flange Peq'!$A71,'Input Echo'!$I$11:$I$596,0)),INDEX('Input Echo'!$AI$11:$AI$596,MATCH('(3)Flange Peq'!$A71,'Input Echo'!$J$11:$J$596,0))) -> 150 | D71: =IFERROR(INDEX('Input Echo'!$Y$11:$Y$596,MATCH('(3)Flange Peq'!$A71,'Input Echo'!$I$11:$I$596,0)),INDEX('Input Echo'!$Y$11:$Y$596,MATCH('(3)Flange Peq'!$A71,'Input Echo'!$J$11:$J$596,0))) -> 20 | E71: 0 | F71: 33 | G71: 77.85 | H71: =IFERROR(INDEX('Input Echo'!$O$11:$O$596,MATCH('(3)Flange Peq'!$A71,'Input Echo'!$I$11:$I$596,0)),INDEX('Input Echo'!$O$11:$O$596,MATCH('(3)Flange Peq'!$A71,'[1]Input Echo'!$J$11:$J$600,0))) -> 200 | I71: =D71+4*E71*10/(PI()*G71^2)+16*F71*10^4/(PI()*G71^2*H71) -> 21.386554 | J71: 52 | K71: 49.96 | L71: =(I71/K71)*100 -> 42.807354 | M71: =B71&C71 -> 300150
A72: 11820 | B72: =IFERROR(INDEX('Input Echo'!$M$11:$M$596,MATCH('(3)Flange Peq'!$A72,'Input Echo'!$I$11:$I$596,0)),INDEX('Input Echo'!$M$11:$M$596,MATCH('(3)Flange Peq'!$A72,'Input Echo'!$J$11:$J$596,0))) -> 300 | C72: =IFERROR(INDEX('Input Echo'!$AI$11:$AI$596,MATCH('(3)Flange Peq'!$A72,'Input Echo'!$I$11:$I$596,0)),INDEX('Input Echo'!$AI$11:$AI$596,MATCH('(3)Flange Peq'!$A72,'Input Echo'!$J$11:$J$596,0))) -> 50 | D72: =IFERROR(INDEX('Input Echo'!$Y$11:$Y$596,MATCH('(3)Flange Peq'!$A72,'Input Echo'!$I$11:$I$596,0)),INDEX('Input Echo'!$Y$11:$Y$596,MATCH('(3)Flange Peq'!$A72,'Input Echo'!$J$11:$J$596,0))) -> 20 | E72: 0 | F72: 15 | G72: 77.85 | H72: =IFERROR(INDEX('Input Echo'!$O$11:$O$596,MATCH('(3)Flange Peq'!$A72,'Input Echo'!$I$11:$I$596,0)),INDEX('Input Echo'!$O$11:$O$596,MATCH('(3)Flange Peq'!$A72,'[1]Input Echo'!$J$11:$J$600,0))) -> 127 | I72: =D72+4*E72*10/(PI()*G72^2)+16*F72*10^4/(PI()*G72^2*H72) -> 20.992523 | J72: 52 | K72: 49.96 | L72: =(I72/K72)*100 -> 42.01866 | M72: =B72&C72 -> 30050
A73: 11850 | B73: =IFERROR(INDEX('Input Echo'!$M$11:$M$596,MATCH('(3)Flange Peq'!$A73,'Input Echo'!$I$11:$I$596,0)),INDEX('Input Echo'!$M$11:$M$596,MATCH('(3)Flange Peq'!$A73,'Input Echo'!$J$11:$J$596,0))) -> 300 | C73: =IFERROR(INDEX('Input Echo'!$AI$11:$AI$596,MATCH('(3)Flange Peq'!$A73,'Input Echo'!$I$11:$I$596,0)),INDEX('Input Echo'!$AI$11:$AI$596,MATCH('(3)Flange Peq'!$A73,'Input Echo'!$J$11:$J$596,0))) -> 50 | D73: =IFERROR(INDEX('Input Echo'!$Y$11:$Y$596,MATCH('(3)Flange Peq'!$A73,'Input Echo'!$I$11:$I$596,0)),INDEX('Input Echo'!$Y$11:$Y$596,MATCH('(3)Flange Peq'!$A73,'Input Echo'!$J$11:$J$596,0))) -> 20 | E73: 0 | F73: 3 | G73: 77.85 | H73: =IFERROR(INDEX('Input Echo'!$O$11:$O$596,MATCH('(3)Flange Peq'!$A73,'Input Echo'!$I$11:$I$596,0)),INDEX('Input Echo'!$O$11:$O$596,MATCH('(3)Flange Peq'!$A73,'[1]Input Echo'!$J$11:$J$600,0))) -> 127 | I73: =D73+4*E73*10/(PI()*G73^2)+16*F73*10^4/(PI()*G73^2*H73) -> 20.198505 | J73: 52 | K73: 49.96 | L73: =(I73/K73)*100 -> 40.429353 | M73: =B73&C73 -> 30050
A74: 11670 | B74: =IFERROR(INDEX('Input Echo'!$M$11:$M$596,MATCH('(3)Flange Peq'!$A74,'Input Echo'!$I$11:$I$596,0)),INDEX('Input Echo'!$M$11:$M$596,MATCH('(3)Flange Peq'!$A74,'Input Echo'!$J$11:$J$596,0))) -> 300 | C74: =IFERROR(INDEX('Input Echo'!$AI$11:$AI$596,MATCH('(3)Flange Peq'!$A74,'Input Echo'!$I$11:$I$596,0)),INDEX('Input Echo'!$AI$11:$AI$596,MATCH('(3)Flange Peq'!$A74,'Input Echo'!$J$11:$J$596,0))) -> 150 | D74: =IFERROR(INDEX('Input Echo'!$Y$11:$Y$596,MATCH('(3)Flange Peq'!$A74,'Input Echo'!$I$11:$I$596,0)),INDEX('Input Echo'!$Y$11:$Y$596,MATCH('(3)Flange Peq'!$A74,'Input Echo'!$J$11:$J$596,0))) -> 20 | E74: 0 | F74: 22 | G74: 77.85 | H74: =IFERROR(INDEX('Input Echo'!$O$11:$O$596,MATCH('(3)Flange Peq'!$A74,'Input Echo'!$I$11:$I$596,0)),INDEX('Input Echo'!$O$11:$O$596,MATCH('(3)Flange Peq'!$A74,'[1]Input Echo'!$J$11:$J$600,0))) -> 269.9 | I74: =D74+4*E74*10/(PI()*G74^2)+16*F74*10^4/(PI()*G74^2*H74) -> 20.684972 | J74: 52 | K74: 49.96 | L74: =(I74/K74)*100 -> 41.403066 | M74: =B74&C74 -> 300150
A75: 11690 | B75: =IFERROR(INDEX('Input Echo'!$M$11:$M$596,MATCH('(3)Flange Peq'!$A75,'Input Echo'!$I$11:$I$596,0)),INDEX('Input Echo'!$M$11:$M$596,MATCH('(3)Flange Peq'!$A75,'Input Echo'!$J$11:$J$596,0))) -> 300 | C75: =IFERROR(INDEX('Input Echo'!$AI$11:$AI$596,MATCH('(3)Flange Peq'!$A75,'Input Echo'!$I$11:$I$596,0)),INDEX('Input Echo'!$AI$11:$AI$596,MATCH('(3)Flange Peq'!$A75,'Input Echo'!$J$11:$J$596,0))) -> 50 | D75: =IFERROR(INDEX('Input Echo'!$Y$11:$Y$596,MATCH('(3)Flange Peq'!$A75,'Input Echo'!$I$11:$I$596,0)),INDEX('Input Echo'!$Y$11:$Y$596,MATCH('(3)Flange Peq'!$A75,'Input Echo'!$J$11:$J$596,0))) -> 10 | E75: 0 | F75: 34 | G75: 77.85 | H75: =IFERROR(INDEX('Input Echo'!$O$11:$O$596,MATCH('(3)Flange Peq'!$A75,'Input Echo'!$I$11:$I$596,0)),INDEX('Input Echo'!$O$11:$O$596,MATCH('(3)Flange Peq'!$A75,'[1]Input Echo'!$J$11:$J$600,0))) -> 127 | I75: =D75+4*E75*10/(PI()*G75^2)+16*F75*10^4/(PI()*G75^2*H75) -> 12.249718 | J75: 52 | K75: 49.96 | L75: =(I75/K75)*100 -> 24.519051 | M75: =B75&C75 -> 30050
A76: 11700 | B76: =IFERROR(INDEX('Input Echo'!$M$11:$M$596,MATCH('(3)Flange Peq'!$A76,'Input Echo'!$I$11:$I$596,0)),INDEX('Input Echo'!$M$11:$M$596,MATCH('(3)Flange Peq'!$A76,'Input Echo'!$J$11:$J$596,0))) -> 300 | C76: =IFERROR(INDEX('Input Echo'!$AI$11:$AI$596,MATCH('(3)Flange Peq'!$A76,'Input Echo'!$I$11:$I$596,0)),INDEX('Input Echo'!$AI$11:$AI$596,MATCH('(3)Flange Peq'!$A76,'Input Echo'!$J$11:$J$596,0))) -> 50 | D76: =IFERROR(INDEX('Input Echo'!$Y$11:$Y$596,MATCH('(3)Flange Peq'!$A76,'Input Echo'!$I$11:$I$596,0)),INDEX('Input Echo'!$Y$11:$Y$596,MATCH('(3)Flange Peq'!$A76,'Input Echo'!$J$11:$J$596,0))) -> 10 | E76: 0 | F76: 19 | G76: 77.85 | H76: =IFERROR(INDEX('Input Echo'!$O$11:$O$596,MATCH('(3)Flange Peq'!$A76,'Input Echo'!$I$11:$I$596,0)),INDEX('Input Echo'!$O$11:$O$596,MATCH('(3)Flange Peq'!$A76,'[1]Input Echo'!$J$11:$J$600,0))) -> 127 | I76: =D76+4*E76*10/(PI()*G76^2)+16*F76*10^4/(PI()*G76^2*H76) -> 11.257195 | J76: 52 | K76: 49.96 | L76: =(I76/K76)*100 -> 22.532417 | M76: =B76&C76 -> 30050
A77: 11725 | B77: =IFERROR(INDEX('Input Echo'!$M$11:$M$596,MATCH('(3)Flange Peq'!$A77,'Input Echo'!$I$11:$I$596,0)),INDEX('Input Echo'!$M$11:$M$596,MATCH('(3)Flange Peq'!$A77,'Input Echo'!$J$11:$J$596,0))) -> 0 | C77: =IFERROR(INDEX('Input Echo'!$AI$11:$AI$596,MATCH('(3)Flange Peq'!$A77,'Input Echo'!$I$11:$I$596,0)),INDEX('Input Echo'!$AI$11:$AI$596,MATCH('(3)Flange Peq'!$A77,'Input Echo'!$J$11:$J$596,0))) -> 50 | D77: =IFERROR(INDEX('Input Echo'!$Y$11:$Y$596,MATCH('(3)Flange Peq'!$A77,'Input Echo'!$I$11:$I$596,0)),INDEX('Input Echo'!$Y$11:$Y$596,MATCH('(3)Flange Peq'!$A77,'Input Echo'!$J$11:$J$596,0))) -> 10 | E77: 0 | F77: 2 | G77: 77.85 | H77: =IFERROR(INDEX('Input Echo'!$O$11:$O$596,MATCH('(3)Flange Peq'!$A77,'Input Echo'!$I$11:$I$596,0)),INDEX('Input Echo'!$O$11:$O$596,MATCH('(3)Flange Peq'!$A77,'[1]Input Echo'!$J$11:$J$600,0))) -> 0 | I77: =D77+4*E77*10/(PI()*G77^2)+16*F77*10^4/(PI()*G77^2*H77) -> #DIV/0! | J77: 52 | K77: 49.96 | L77: =(I77/K77)*100 -> #DIV/0! | M77: =B77&C77 -> 050
... A79: 19450 | B79: =IFERROR(INDEX('Input Echo'!$M$11:$M$596,MATCH('(3)Flange Peq'!$A79,'Input Echo'!$I$11:$I$596,0)),INDEX('Input Echo'!$M$11:$M$596,MATCH('(3)Flange Peq'!$A79,'Input Echo'!$J$11:$J$596,0))) -> 0 | C79: =IFERROR(INDEX('Input Echo'!$AI$11:$AI$596,MATCH('(3)Flange Peq'!$A79,'Input Echo'!$I$11:$I$596,0)),INDEX('Input Echo'!$AI$11:$AI$596,MATCH('(3)Flange Peq'!$A79,'Input Echo'!$J$11:$J$596,0))) -> 50 | D79: =IFERROR(INDEX('Input Echo'!$Y$11:$Y$596,MATCH('(3)Flange Peq'!$A79,'Input Echo'!$I$11:$I$596,0)),INDEX('Input Echo'!$Y$11:$Y$596,MATCH('(3)Flange Peq'!$A79,'Input Echo'!$J$11:$J$596,0))) -> 10 | E79: 1334 | F79: 898 | G79: 111.13 | H79: =IFERROR(INDEX('Input Echo'!$O$11:$O$596,MATCH('(3)Flange Peq'!$A79,'Input Echo'!$I$11:$I$596,0)),INDEX('Input Echo'!$O$11:$O$596,MATCH('(3)Flange Peq'!$A79,'[1]Input Echo'!$J$11:$J$600,0))) -> 0 | I79: =D79+4*E79*10/(PI()*G79^2)+16*F79*10^4/(PI()*G79^2*H79) -> #DIV/0! | J79: 110 | K79: 17.31 | L79: =(I79/K79)*100 -> #DIV/0! | M79: =B79&C79 -> 050
A80: 19480 | B80: =IFERROR(INDEX('Input Echo'!$M$11:$M$596,MATCH('(3)Flange Peq'!$A80,'Input Echo'!$I$11:$I$596,0)),INDEX('Input Echo'!$M$11:$M$596,MATCH('(3)Flange Peq'!$A80,'Input Echo'!$J$11:$J$596,0))) -> 0 | C80: =IFERROR(INDEX('Input Echo'!$AI$11:$AI$596,MATCH('(3)Flange Peq'!$A80,'Input Echo'!$I$11:$I$596,0)),INDEX('Input Echo'!$AI$11:$AI$596,MATCH('(3)Flange Peq'!$A80,'Input Echo'!$J$11:$J$596,0))) -> 50 | D80: =IFERROR(INDEX('Input Echo'!$Y$11:$Y$596,MATCH('(3)Flange Peq'!$A80,'Input Echo'!$I$11:$I$596,0)),INDEX('Input Echo'!$Y$11:$Y$596,MATCH('(3)Flange Peq'!$A80,'Input Echo'!$J$11:$J$596,0))) -> 10 | E80: 1541 | F80: 483 | G80: 77.85 | H80: =IFERROR(INDEX('Input Echo'!$O$11:$O$596,MATCH('(3)Flange Peq'!$A80,'Input Echo'!$I$11:$I$596,0)),INDEX('Input Echo'!$O$11:$O$596,MATCH('(3)Flange Peq'!$A80,'[1]Input Echo'!$J$11:$J$600,0))) -> #N/A | I80: 0 | J80: 110 | K80: 46.37 | L80: =(I80/K80)*100 -> 0 | M80: =B80&C80 -> 050
A81: 19630 | B81: =IFERROR(INDEX('Input Echo'!$M$11:$M$596,MATCH('(3)Flange Peq'!$A81,'Input Echo'!$I$11:$I$596,0)),INDEX('Input Echo'!$M$11:$M$596,MATCH('(3)Flange Peq'!$A81,'Input Echo'!$J$11:$J$596,0))) -> 0 | C81: =IFERROR(INDEX('Input Echo'!$AI$11:$AI$596,MATCH('(3)Flange Peq'!$A81,'Input Echo'!$I$11:$I$596,0)),INDEX('Input Echo'!$AI$11:$AI$596,MATCH('(3)Flange Peq'!$A81,'Input Echo'!$J$11:$J$596,0))) -> 50 | D81: =IFERROR(INDEX('Input Echo'!$Y$11:$Y$596,MATCH('(3)Flange Peq'!$A81,'Input Echo'!$I$11:$I$596,0)),INDEX('Input Echo'!$Y$11:$Y$596,MATCH('(3)Flange Peq'!$A81,'Input Echo'!$J$11:$J$596,0))) -> 10 | E81: 11019 | F81: 983 | G81: 138.18 | H81: =IFERROR(INDEX('Input Echo'!$O$11:$O$596,MATCH('(3)Flange Peq'!$A81,'Input Echo'!$I$11:$I$596,0)),INDEX('Input Echo'!$O$11:$O$596,MATCH('(3)Flange Peq'!$A81,'[1]Input Echo'!$J$11:$J$600,0))) -> 0 | I81: =D81+4*E81*10/(PI()*G81^2)+16*F81*10^4/(PI()*G81^2*H81) -> #DIV/0! | J81: 110 | K81: 17.31 | L81: =(I81/K81)*100 -> #DIV/0! | M81: =B81&C81 -> 050
A82: 19660 | B82: =IFERROR(INDEX('Input Echo'!$M$11:$M$596,MATCH('(3)Flange Peq'!$A82,'Input Echo'!$I$11:$I$596,0)),INDEX('Input Echo'!$M$11:$M$596,MATCH('(3)Flange Peq'!$A82,'Input Echo'!$J$11:$J$596,0))) -> 0 | C82: =IFERROR(INDEX('Input Echo'!$AI$11:$AI$596,MATCH('(3)Flange Peq'!$A82,'Input Echo'!$I$11:$I$596,0)),INDEX('Input Echo'!$AI$11:$AI$596,MATCH('(3)Flange Peq'!$A82,'Input Echo'!$J$11:$J$596,0))) -> 50 | D82: =IFERROR(INDEX('Input Echo'!$Y$11:$Y$596,MATCH('(3)Flange Peq'!$A82,'Input Echo'!$I$11:$I$596,0)),INDEX('Input Echo'!$Y$11:$Y$596,MATCH('(3)Flange Peq'!$A82,'Input Echo'!$J$11:$J$596,0))) -> 10 | E82: 3587 | F82: 822 | G82: 111.13 | H82: =IFERROR(INDEX('Input Echo'!$O$11:$O$596,MATCH('(3)Flange Peq'!$A82,'Input Echo'!$I$11:$I$596,0)),INDEX('Input Echo'!$O$11:$O$596,MATCH('(3)Flange Peq'!$A82,'[1]Input Echo'!$J$11:$J$600,0))) -> 0 | I82: =D82+4*E82*10/(PI()*G82^2)+16*F82*10^4/(PI()*G82^2*H82) -> #DIV/0! | J82: 110 | K82: 34.03 | L82: =(I82/K82)*100 -> #DIV/0! | M82: =B82&C82 -> 050
A83: 2030 | B83: =IFERROR(INDEX('Input Echo'!$M$11:$M$596,MATCH('(3)Flange Peq'!$A83,'Input Echo'!$I$11:$I$596,0)),INDEX('Input Echo'!$M$11:$M$596,MATCH('(3)Flange Peq'!$A83,'Input Echo'!$J$11:$J$596,0))) -> 0 | C83: =IFERROR(INDEX('Input Echo'!$AI$11:$AI$596,MATCH('(3)Flange Peq'!$A83,'Input Echo'!$I$11:$I$596,0)),INDEX('Input Echo'!$AI$11:$AI$596,MATCH('(3)Flange Peq'!$A83,'Input Echo'!$J$11:$J$596,0))) -> 50 | D83: =IFERROR(INDEX('Input Echo'!$Y$11:$Y$596,MATCH('(3)Flange Peq'!$A83,'Input Echo'!$I$11:$I$596,0)),INDEX('Input Echo'!$Y$11:$Y$596,MATCH('(3)Flange Peq'!$A83,'Input Echo'!$J$11:$J$596,0))) -> 10 | E83: 1156 | F83: 178 | G83: 77.85 | H83: =IFERROR(INDEX('Input Echo'!$O$11:$O$596,MATCH('(3)Flange Peq'!$A83,'Input Echo'!$I$11:$I$596,0)),INDEX('Input Echo'!$O$11:$O$596,MATCH('(3)Flange Peq'!$A83,'[1]Input Echo'!$J$11:$J$600,0))) -> 0 | I83: =D83+4*E83*10/(PI()*G83^2)+16*F83*10^4/(PI()*G83^2*H83) -> #DIV/0! | J83: 110 | K83: 17.32 | L83: =(I83/K83)*100 -> #DIV/0! | M83: =B83&C83 -> 050
A84: 3080 | B84: =IFERROR(INDEX('Input Echo'!$M$11:$M$596,MATCH('(3)Flange Peq'!$A84,'Input Echo'!$I$11:$I$596,0)),INDEX('Input Echo'!$M$11:$M$596,MATCH('(3)Flange Peq'!$A84,'Input Echo'!$J$11:$J$596,0))) -> 0 | C84: =IFERROR(INDEX('Input Echo'!$AI$11:$AI$596,MATCH('(3)Flange Peq'!$A84,'Input Echo'!$I$11:$I$596,0)),INDEX('Input Echo'!$AI$11:$AI$596,MATCH('(3)Flange Peq'!$A84,'Input Echo'!$J$11:$J$596,0))) -> 50 | D84: =IFERROR(INDEX('Input Echo'!$Y$11:$Y$596,MATCH('(3)Flange Peq'!$A84,'Input Echo'!$I$11:$I$596,0)),INDEX('Input Echo'!$Y$11:$Y$596,MATCH('(3)Flange Peq'!$A84,'Input Echo'!$J$11:$J$596,0))) -> 10 | E84: 602 | F84: 1609 | G84: 138.18 | H84: =IFERROR(INDEX('Input Echo'!$O$11:$O$596,MATCH('(3)Flange Peq'!$A84,'Input Echo'!$I$11:$I$596,0)),INDEX('Input Echo'!$O$11:$O$596,MATCH('(3)Flange Peq'!$A84,'[1]Input Echo'!$J$11:$J$600,0))) -> #N/A | I84: 0 | J84: 70 | K84: 18.65 | L84: =(I84/K84)*100 -> 0 | M84: =B84&C84 -> 050
A85: 3110 | B85: =IFERROR(INDEX('Input Echo'!$M$11:$M$596,MATCH('(3)Flange Peq'!$A85,'Input Echo'!$I$11:$I$596,0)),INDEX('Input Echo'!$M$11:$M$596,MATCH('(3)Flange Peq'!$A85,'Input Echo'!$J$11:$J$596,0))) -> 0 | C85: =IFERROR(INDEX('Input Echo'!$AI$11:$AI$596,MATCH('(3)Flange Peq'!$A85,'Input Echo'!$I$11:$I$596,0)),INDEX('Input Echo'!$AI$11:$AI$596,MATCH('(3)Flange Peq'!$A85,'Input Echo'!$J$11:$J$596,0))) -> 50 | D85: =IFERROR(INDEX('Input Echo'!$Y$11:$Y$596,MATCH('(3)Flange Peq'!$A85,'Input Echo'!$I$11:$I$596,0)),INDEX('Input Echo'!$Y$11:$Y$596,MATCH('(3)Flange Peq'!$A85,'Input Echo'!$J$11:$J$596,0))) -> 10 | E85: 2260 | F85: 1211 | G85: 111.13 | H85: =IFERROR(INDEX('Input Echo'!$O$11:$O$596,MATCH('(3)Flange Peq'!$A85,'Input Echo'!$I$11:$I$596,0)),INDEX('Input Echo'!$O$11:$O$596,MATCH('(3)Flange Peq'!$A85,'[1]Input Echo'!$J$11:$J$600,0))) -> 0 | I85: =D85+4*E85*10/(PI()*G85^2)+16*F85*10^4/(PI()*G85^2*H85) -> #DIV/0! | J85: 52 | K85: 49.96 | L85: =(I85/K85)*100 -> #DIV/0! | M85: =B85&C85 -> 050
A86: 3180 | B86: =IFERROR(INDEX('Input Echo'!$M$11:$M$596,MATCH('(3)Flange Peq'!$A86,'Input Echo'!$I$11:$I$596,0)),INDEX('Input Echo'!$M$11:$M$596,MATCH('(3)Flange Peq'!$A86,'Input Echo'!$J$11:$J$596,0))) -> 0 | C86: =IFERROR(INDEX('Input Echo'!$AI$11:$AI$596,MATCH('(3)Flange Peq'!$A86,'Input Echo'!$I$11:$I$596,0)),INDEX('Input Echo'!$AI$11:$AI$596,MATCH('(3)Flange Peq'!$A86,'Input Echo'!$J$11:$J$596,0))) -> 50 | D86: =IFERROR(INDEX('Input Echo'!$Y$11:$Y$596,MATCH('(3)Flange Peq'!$A86,'Input Echo'!$I$11:$I$596,0)),INDEX('Input Echo'!$Y$11:$Y$596,MATCH('(3)Flange Peq'!$A86,'Input Echo'!$J$11:$J$596,0))) -> 10 | E86: 1319 | F86: 2883 | G86: 357.25 | H86: =IFERROR(INDEX('Input Echo'!$O$11:$O$596,MATCH('(3)Flange Peq'!$A86,'Input Echo'!$I$11:$I$596,0)),INDEX('Input Echo'!$O$11:$O$596,MATCH('(3)Flange Peq'!$A86,'[1]Input Echo'!$J$11:$J$600,0))) -> 0 | I86: =D86+4*E86*10/(PI()*G86^2)+16*F86*10^4/(PI()*G86^2*H86) -> #DIV/0! | J86: 52 | K86: 49.96 | L86: =(I86/K86)*100 -> #DIV/0! | M86: =B86&C86 -> 050
A87: 10130 | B87: =IFERROR(INDEX('Input Echo'!$M$11:$M$596,MATCH('(3)Flange Peq'!$A87,'Input Echo'!$I$11:$I$596,0)),INDEX('Input Echo'!$M$11:$M$596,MATCH('(3)Flange Peq'!$A87,'Input Echo'!$J$11:$J$596,0))) -> 0 | C87: =IFERROR(INDEX('Input Echo'!$AI$11:$AI$596,MATCH('(3)Flange Peq'!$A87,'Input Echo'!$I$11:$I$596,0)),INDEX('Input Echo'!$AI$11:$AI$596,MATCH('(3)Flange Peq'!$A87,'Input Echo'!$J$11:$J$596,0))) -> 50 | D87: =IFERROR(INDEX('Input Echo'!$Y$11:$Y$596,MATCH('(3)Flange Peq'!$A87,'Input Echo'!$I$11:$I$596,0)),INDEX('Input Echo'!$Y$11:$Y$596,MATCH('(3)Flange Peq'!$A87,'Input Echo'!$J$11:$J$596,0))) -> 10 | E87: 1058 | F87: 1704 | G87: 138.18 | H87: =IFERROR(INDEX('Input Echo'!$O$11:$O$596,MATCH('(3)Flange Peq'!$A87,'Input Echo'!$I$11:$I$596,0)),INDEX('Input Echo'!$O$11:$O$596,MATCH('(3)Flange Peq'!$A87,'[1]Input Echo'!$J$11:$J$600,0))) -> 0 | I87: =D87+4*E87*10/(PI()*G87^2)+16*F87*10^4/(PI()*G87^2*H87) -> #DIV/0! | J87: 70 | K87: 18.65 | L87: =(I87/K87)*100 -> #DIV/0! | M87: =B87&C87 -> 050
A88: 10160 | B88: =IFERROR(INDEX('Input Echo'!$M$11:$M$596,MATCH('(3)Flange Peq'!$A88,'Input Echo'!$I$11:$I$596,0)),INDEX('Input Echo'!$M$11:$M$596,MATCH('(3)Flange Peq'!$A88,'Input Echo'!$J$11:$J$596,0))) -> 0 | C88: =IFERROR(INDEX('Input Echo'!$AI$11:$AI$596,MATCH('(3)Flange Peq'!$A88,'Input Echo'!$I$11:$I$596,0)),INDEX('Input Echo'!$AI$11:$AI$596,MATCH('(3)Flange Peq'!$A88,'Input Echo'!$J$11:$J$596,0))) -> 50 | D88: =IFERROR(INDEX('Input Echo'!$Y$11:$Y$596,MATCH('(3)Flange Peq'!$A88,'Input Echo'!$I$11:$I$596,0)),INDEX('Input Echo'!$Y$11:$Y$596,MATCH('(3)Flange Peq'!$A88,'Input Echo'!$J$11:$J$596,0))) -> 10 | E88: 2231 | F88: 569 | G88: 111.13 | H88: =IFERROR(INDEX('Input Echo'!$O$11:$O$596,MATCH('(3)Flange Peq'!$A88,'Input Echo'!$I$11:$I$596,0)),INDEX('Input Echo'!$O$11:$O$596,MATCH('(3)Flange Peq'!$A88,'[1]Input Echo'!$J$11:$J$600,0))) -> 0 | I88: =D88+4*E88*10/(PI()*G88^2)+16*F88*10^4/(PI()*G88^2*H88) -> #DIV/0! | J88: 110 | K88: 34.03 | L88: =(I88/K88)*100 -> #DIV/0! | M88: =B88&C88 -> 050
A89: 10220 | B89: =IFERROR(INDEX('Input Echo'!$M$11:$M$596,MATCH('(3)Flange Peq'!$A89,'Input Echo'!$I$11:$I$596,0)),INDEX('Input Echo'!$M$11:$M$596,MATCH('(3)Flange Peq'!$A89,'Input Echo'!$J$11:$J$596,0))) -> 0 | C89: =IFERROR(INDEX('Input Echo'!$AI$11:$AI$596,MATCH('(3)Flange Peq'!$A89,'Input Echo'!$I$11:$I$596,0)),INDEX('Input Echo'!$AI$11:$AI$596,MATCH('(3)Flange Peq'!$A89,'Input Echo'!$J$11:$J$596,0))) -> 50 | D89: =IFERROR(INDEX('Input Echo'!$Y$11:$Y$596,MATCH('(3)Flange Peq'!$A89,'Input Echo'!$I$11:$I$596,0)),INDEX('Input Echo'!$Y$11:$Y$596,MATCH('(3)Flange Peq'!$A89,'Input Echo'!$J$11:$J$596,0))) -> 17 | E89: 2738 | F89: 2283 | G89: 138.18 | H89: =IFERROR(INDEX('Input Echo'!$O$11:$O$596,MATCH('(3)Flange Peq'!$A89,'Input Echo'!$I$11:$I$596,0)),INDEX('Input Echo'!$O$11:$O$596,MATCH('(3)Flange Peq'!$A89,'[1]Input Echo'!$J$11:$J$600,0))) -> 0 | I89: =D89+4*E89*10/(PI()*G89^2)+16*F89*10^4/(PI()*G89^2*H89) -> #DIV/0! | J89: 110 | K89: 34.03 | L89: =(I89/K89)*100 -> #DIV/0! | M89: =B89&C89 -> 050
A90: 10200 | B90: =IFERROR(INDEX('Input Echo'!$M$11:$M$596,MATCH('(3)Flange Peq'!$A90,'Input Echo'!$I$11:$I$596,0)),INDEX('Input Echo'!$M$11:$M$596,MATCH('(3)Flange Peq'!$A90,'Input Echo'!$J$11:$J$596,0))) -> 0 | C90: =IFERROR(INDEX('Input Echo'!$AI$11:$AI$596,MATCH('(3)Flange Peq'!$A90,'Input Echo'!$I$11:$I$596,0)),INDEX('Input Echo'!$AI$11:$AI$596,MATCH('(3)Flange Peq'!$A90,'Input Echo'!$J$11:$J$596,0))) -> 80 | D90: =IFERROR(INDEX('Input Echo'!$Y$11:$Y$596,MATCH('(3)Flange Peq'!$A90,'Input Echo'!$I$11:$I$596,0)),INDEX('Input Echo'!$Y$11:$Y$596,MATCH('(3)Flange Peq'!$A90,'Input Echo'!$J$11:$J$596,0))) -> 17 | E90: 651 | F90: 47 | G90: 138.18 | H90: =IFERROR(INDEX('Input Echo'!$O$11:$O$596,MATCH('(3)Flange Peq'!$A90,'Input Echo'!$I$11:$I$596,0)),INDEX('Input Echo'!$O$11:$O$596,MATCH('(3)Flange Peq'!$A90,'[1]Input Echo'!$J$11:$J$600,0))) -> 0 | I90: =D90+4*E90*10/(PI()*G90^2)+16*F90*10^4/(PI()*G90^2*H90) -> #DIV/0! | J90: 110 | K90: 34.03 | L90: =(I90/K90)*100 -> #DIV/0! | M90: =B90&C90 -> 080
A91: 10070 | B91: =IFERROR(INDEX('Input Echo'!$M$11:$M$596,MATCH('(3)Flange Peq'!$A91,'Input Echo'!$I$11:$I$596,0)),INDEX('Input Echo'!$M$11:$M$596,MATCH('(3)Flange Peq'!$A91,'Input Echo'!$J$11:$J$596,0))) -> 0 | C91: =IFERROR(INDEX('Input Echo'!$AI$11:$AI$596,MATCH('(3)Flange Peq'!$A91,'Input Echo'!$I$11:$I$596,0)),INDEX('Input Echo'!$AI$11:$AI$596,MATCH('(3)Flange Peq'!$A91,'Input Echo'!$J$11:$J$596,0))) -> 100 | D91: =IFERROR(INDEX('Input Echo'!$Y$11:$Y$596,MATCH('(3)Flange Peq'!$A91,'Input Echo'!$I$11:$I$596,0)),INDEX('Input Echo'!$Y$11:$Y$596,MATCH('(3)Flange Peq'!$A91,'Input Echo'!$J$11:$J$596,0))) -> 20 | E91: 651 | F91: 95 | G91: 77.85 | H91: =IFERROR(INDEX('Input Echo'!$O$11:$O$596,MATCH('(3)Flange Peq'!$A91,'Input Echo'!$I$11:$I$596,0)),INDEX('Input Echo'!$O$11:$O$596,MATCH('(3)Flange Peq'!$A91,'[1]Input Echo'!$J$11:$J$600,0))) -> 0 | I91: =D91+4*E91*10/(PI()*G91^2)+16*F91*10^4/(PI()*G91^2*H91) -> #DIV/0! | J91: 70 | K91: 18.65 | L91: =(I91/K91)*100 -> #DIV/0! | M91: =B91&C91 -> 0100
A92: 10090 | B92: =IFERROR(INDEX('Input Echo'!$M$11:$M$596,MATCH('(3)Flange Peq'!$A92,'Input Echo'!$I$11:$I$596,0)),INDEX('Input Echo'!$M$11:$M$596,MATCH('(3)Flange Peq'!$A92,'Input Echo'!$J$11:$J$596,0))) -> 300 | C92: =IFERROR(INDEX('Input Echo'!$AI$11:$AI$596,MATCH('(3)Flange Peq'!$A92,'Input Echo'!$I$11:$I$596,0)),INDEX('Input Echo'!$AI$11:$AI$596,MATCH('(3)Flange Peq'!$A92,'Input Echo'!$J$11:$J$596,0))) -> 300 | D92: =IFERROR(INDEX('Input Echo'!$Y$11:$Y$596,MATCH('(3)Flange Peq'!$A92,'Input Echo'!$I$11:$I$596,0)),INDEX('Input Echo'!$Y$11:$Y$596,MATCH('(3)Flange Peq'!$A92,'Input Echo'!$J$11:$J$596,0))) -> 20 | E92: 651 | F92: 93 | G92: 77.85 | H92: =IFERROR(INDEX('Input Echo'!$O$11:$O$596,MATCH('(3)Flange Peq'!$A92,'Input Echo'!$I$11:$I$596,0)),INDEX('Input Echo'!$O$11:$O$596,MATCH('(3)Flange Peq'!$A92,'[1]Input Echo'!$J$11:$J$600,0))) -> #N/A | I92: 0 | J92: 70 | K92: 18.65 | L92: =(I92/K92)*100 -> 0 | M92: =B92&C92 -> 300300
A93: 10100 | B93: =IFERROR(INDEX('Input Echo'!$M$11:$M$596,MATCH('(3)Flange Peq'!$A93,'Input Echo'!$I$11:$I$596,0)),INDEX('Input Echo'!$M$11:$M$596,MATCH('(3)Flange Peq'!$A93,'Input Echo'!$J$11:$J$596,0))) -> 300 | C93: =IFERROR(INDEX('Input Echo'!$AI$11:$AI$596,MATCH('(3)Flange Peq'!$A93,'Input Echo'!$I$11:$I$596,0)),INDEX('Input Echo'!$AI$11:$AI$596,MATCH('(3)Flange Peq'!$A93,'Input Echo'!$J$11:$J$596,0))) -> 100 | D93: =IFERROR(INDEX('Input Echo'!$Y$11:$Y$596,MATCH('(3)Flange Peq'!$A93,'Input Echo'!$I$11:$I$596,0)),INDEX('Input Echo'!$Y$11:$Y$596,MATCH('(3)Flange Peq'!$A93,'Input Echo'!$J$11:$J$596,0))) -> 17 | E93: 651 | F93: 88 | G93: 77.85 | H93: =IFERROR(INDEX('Input Echo'!$O$11:$O$596,MATCH('(3)Flange Peq'!$A93,'Input Echo'!$I$11:$I$596,0)),INDEX('Input Echo'!$O$11:$O$596,MATCH('(3)Flange Peq'!$A93,'[1]Input Echo'!$J$11:$J$600,0))) -> #N/A | I93: 0 | J93: 70 | K93: 48.62 | L93: =(I93/K93)*100 -> 0 | M93: =B93&C93 -> 300100
A94: 240 | B94: =IFERROR(INDEX('Input Echo'!$M$11:$M$596,MATCH('(3)Flange Peq'!$A94,'Input Echo'!$I$11:$I$596,0)),INDEX('Input Echo'!$M$11:$M$596,MATCH('(3)Flange Peq'!$A94,'Input Echo'!$J$11:$J$596,0))) -> 300 | C94: =IFERROR(INDEX('Input Echo'!$AI$11:$AI$596,MATCH('(3)Flange Peq'!$A94,'Input Echo'!$I$11:$I$596,0)),INDEX('Input Echo'!$AI$11:$AI$596,MATCH('(3)Flange Peq'!$A94,'Input Echo'!$J$11:$J$596,0))) -> 50 | D94: =IFERROR(INDEX('Input Echo'!$Y$11:$Y$596,MATCH('(3)Flange Peq'!$A94,'Input Echo'!$I$11:$I$596,0)),INDEX('Input Echo'!$Y$11:$Y$596,MATCH('(3)Flange Peq'!$A94,'Input Echo'!$J$11:$J$596,0))) -> 10 | E94: 1703 | F94: 8957 | G94: 302.39 | H94: =IFERROR(INDEX('Input Echo'!$O$11:$O$596,MATCH('(3)Flange Peq'!$A94,'Input Echo'!$I$11:$I$596,0)),INDEX('Input Echo'!$O$11:$O$596,MATCH('(3)Flange Peq'!$A94,'[1]Input Echo'!$J$11:$J$600,0))) -> 127 | I94: =D94+4*E94*10/(PI()*G94^2)+16*F94*10^4/(PI()*G94^2*H94) -> 49.519179 | J94: 70 | K94: 18.65 | L94: =(I94/K94)*100 -> 265.51839 | M94: =B94&C94 -> 30050
A95: 270 | B95: =IFERROR(INDEX('Input Echo'!$M$11:$M$596,MATCH('(3)Flange Peq'!$A95,'Input Echo'!$I$11:$I$596,0)),INDEX('Input Echo'!$M$11:$M$596,MATCH('(3)Flange Peq'!$A95,'Input Echo'!$J$11:$J$596,0))) -> 0 | C95: =IFERROR(INDEX('Input Echo'!$AI$11:$AI$596,MATCH('(3)Flange Peq'!$A95,'Input Echo'!$I$11:$I$596,0)),INDEX('Input Echo'!$AI$11:$AI$596,MATCH('(3)Flange Peq'!$A95,'Input Echo'!$J$11:$J$596,0))) -> 200 | D95: =IFERROR(INDEX('Input Echo'!$Y$11:$Y$596,MATCH('(3)Flange Peq'!$A95,'Input Echo'!$I$11:$I$596,0)),INDEX('Input Echo'!$Y$11:$Y$596,MATCH('(3)Flange Peq'!$A95,'Input Echo'!$J$11:$J$596,0))) -> 17 | E95: 8107 | F95: 14931 | G95: 248.54 | H95: =IFERROR(INDEX('Input Echo'!$O$11:$O$596,MATCH('(3)Flange Peq'!$A95,'Input Echo'!$I$11:$I$596,0)),INDEX('Input Echo'!$O$11:$O$596,MATCH('(3)Flange Peq'!$A95,'[1]Input Echo'!$J$11:$J$600,0))) -> 0 | I95: =D95+4*E95*10/(PI()*G95^2)+16*F95*10^4/(PI()*G95^2*H95) -> #DIV/0! | J95: 110 | K95: 34.03 | L95: =(I95/K95)*100 -> #DIV/0! | M95: =B95&C95 -> 0200
A96: 285 | B96: =IFERROR(INDEX('Input Echo'!$M$11:$M$596,MATCH('(3)Flange Peq'!$A96,'Input Echo'!$I$11:$I$596,0)),INDEX('Input Echo'!$M$11:$M$596,MATCH('(3)Flange Peq'!$A96,'Input Echo'!$J$11:$J$596,0))) -> 300 | C96: =IFERROR(INDEX('Input Echo'!$AI$11:$AI$596,MATCH('(3)Flange Peq'!$A96,'Input Echo'!$I$11:$I$596,0)),INDEX('Input Echo'!$AI$11:$AI$596,MATCH('(3)Flange Peq'!$A96,'Input Echo'!$J$11:$J$596,0))) -> 300 | D96: =IFERROR(INDEX('Input Echo'!$Y$11:$Y$596,MATCH('(3)Flange Peq'!$A96,'Input Echo'!$I$11:$I$596,0)),INDEX('Input Echo'!$Y$11:$Y$596,MATCH('(3)Flange Peq'!$A96,'Input Echo'!$J$11:$J$596,0))) -> 17 | E96: 8758 | F96: 23674 | G96: 248.54 | H96: =IFERROR(INDEX('Input Echo'!$O$11:$O$596,MATCH('(3)Flange Peq'!$A96,'Input Echo'!$I$11:$I$596,0)),INDEX('Input Echo'!$O$11:$O$596,MATCH('(3)Flange Peq'!$A96,'[1]Input Echo'!$J$11:$J$600,0))) -> 405.8 | I96: =D96+4*E96*10/(PI()*G96^2)+16*F96*10^4/(PI()*G96^2*H96) -> 66.904307 | J96: 110 | K96: 34.03 | L96: =(I96/K96)*100 -> 196.6039 | M96: =B96&C96 -> 300300
A97: 290 | B97: =IFERROR(INDEX('Input Echo'!$M$11:$M$596,MATCH('(3)Flange Peq'!$A97,'Input Echo'!$I$11:$I$596,0)),INDEX('Input Echo'!$M$11:$M$596,MATCH('(3)Flange Peq'!$A97,'Input Echo'!$J$11:$J$596,0))) -> 300 | C97: =IFERROR(INDEX('Input Echo'!$AI$11:$AI$596,MATCH('(3)Flange Peq'!$A97,'Input Echo'!$I$11:$I$596,0)),INDEX('Input Echo'!$AI$11:$AI$596,MATCH('(3)Flange Peq'!$A97,'Input Echo'!$J$11:$J$596,0))) -> 300 | D97: =IFERROR(INDEX('Input Echo'!$Y$11:$Y$596,MATCH('(3)Flange Peq'!$A97,'Input Echo'!$I$11:$I$596,0)),INDEX('Input Echo'!$Y$11:$Y$596,MATCH('(3)Flange Peq'!$A97,'Input Echo'!$J$11:$J$596,0))) -> 17 | E97: 9378 | F97: 29011 | G97: 357.25 | H97: =IFERROR(INDEX('Input Echo'!$O$11:$O$596,MATCH('(3)Flange Peq'!$A97,'Input Echo'!$I$11:$I$596,0)),INDEX('Input Echo'!$O$11:$O$596,MATCH('(3)Flange Peq'!$A97,'[1]Input Echo'!$J$11:$J$600,0))) -> #N/A | I97: 0 | J97: 110 | K97: 34.03 | L97: =(I97/K97)*100 -> 0 | M97: =B97&C97 -> 300300
A104: Nœud | B104: Classe | C104: DN | D104: F (N) | E104: Mf (N.m) | F104: Peq(bar) | G104: ratio
A105: =IFERROR(INDEX(A8:A300,MATCH(F105:F600,I8:I300,0)),INDEX(A8:A300,MATCH(F105:F600,M8:M300,0))) -> 7400 | B105: 150 | C105: 150 | D105: =IFERROR(INDEX(E8:E100,MATCH(F105:F600,I8:I300,0)),INDEX(E8:E100,MATCH(F105:F600,M8:M300,0))) -> 772 | E105: =IFERROR(INDEX(F8:F100,MATCH(F105:F600,I8:I300,0)),INDEX(E8:F100,MATCH(F105:F600,M8:M300,0))) -> 143 | F105: {=MAX(IF(M8:M300=150&150,I8:I300))} -> 13.239827 | G105: =IFERROR(INDEX(L8:L100,MATCH(F105:F600,I8:I300,0)),INDEX(L8:L100,MATCH(F105:F600,M8:M300,0))) -> 28.552571
A106: =IFERROR(INDEX(A9:A301,MATCH(F106:F601,I9:I301,0)),INDEX(A9:A301,MATCH(F106:F601,M9:M301,0))) -> 74 | B106: 150 | C106: 50 | D106: =IFERROR(INDEX(E9:E101,MATCH(F106:F601,I9:I301,0)),INDEX(E9:E101,MATCH(F106:F601,M9:M301,0))) -> 836 | E106: =IFERROR(INDEX(F9:F101,MATCH(F106:F601,I9:I301,0)),INDEX(E9:F101,MATCH(F106:F601,M9:M301,0))) -> 136 | F106: {=MAX(IF(M8:M300=150&50,I8:I300))} -> 15.512388 | G106: =IFERROR(INDEX(L9:L101,MATCH(F106:F601,I9:I301,0)),INDEX(L9:L101,MATCH(F106:F601,M9:M301,0))) -> 33.4535
A107: =IFERROR(INDEX(A10:A302,MATCH(F107:F602,I10:I302,0)),INDEX(A10:A302,MATCH(F107:F602,M10:M302,0))) -> 2015 | B107: 150 | C107: 25 | D107: =IFERROR(INDEX(E10:E102,MATCH(F107:F602,I10:I302,0)),INDEX(E10:E102,MATCH(F107:F602,M10:M302,0))) -> 413 | E107: =IFERROR(INDEX(F10:F102,MATCH(F107:F602,I10:I302,0)),INDEX(E10:F102,MATCH(F107:F602,M10:M302,0))) -> 43 | F107: {=MAX(IF(M8:M300=150&25,I8:I300))} -> 0 | G107: =IFERROR(INDEX(L10:L102,MATCH(F107:F602,I10:I302,0)),INDEX(L10:L102,MATCH(F107:F602,M10:M302,0))) -> 0
A108: =IFERROR(INDEX(A11:A303,MATCH(F108:F603,I11:I303,0)),INDEX(A11:A303,MATCH(F108:F603,M11:M303,0))) -> 2015 | B108: 150 | C108: 100 | D108: =IFERROR(INDEX(E11:E103,MATCH(F108:F603,I11:I303,0)),INDEX(E11:E103,MATCH(F108:F603,M11:M303,0))) -> 413 | E108: =IFERROR(INDEX(F11:F103,MATCH(F108:F603,I11:I303,0)),INDEX(E11:F103,MATCH(F108:F603,M11:M303,0))) -> 43 | F108: {=MAX(IF(M8:M300=150&100,I8:I300))} -> 0 | G108: =IFERROR(INDEX(L11:L103,MATCH(F108:F603,I11:I303,0)),INDEX(L11:L103,MATCH(F108:F603,M11:M303,0))) -> 0
A109: =IFERROR(INDEX(A12:A304,MATCH(F109:F604,I12:I304,0)),INDEX(A12:A304,MATCH(F109:F604,M12:M304,0))) -> 2015 | B109: 150 | C109: 250 | D109: =IFERROR(INDEX(E12:E104,MATCH(F109:F604,I12:I304,0)),INDEX(E12:E104,MATCH(F109:F604,M12:M304,0))) -> 413 | E109: =IFERROR(INDEX(F12:F104,MATCH(F109:F604,I12:I304,0)),INDEX(E12:F104,MATCH(F109:F604,M12:M304,0))) -> 43 | F109: {=MAX(IF(M8:M300=150&250,I8:I300))} -> 0 | G109: =IFERROR(INDEX(L12:L104,MATCH(F109:F604,I12:I304,0)),INDEX(L12:L104,MATCH(F109:F604,M12:M304,0))) -> 0
A110: =IFERROR(INDEX(A13:A305,MATCH(F110:F605,I13:I305,0)),INDEX(A13:A305,MATCH(F110:F605,M13:M305,0))) -> 2015 | B110: 150 | C110: 400 | D110: =IFERROR(INDEX(E13:E105,MATCH(F110:F605,I13:I305,0)),INDEX(E13:E105,MATCH(F110:F605,M13:M305,0))) -> 413 | E110: =IFERROR(INDEX(F13:F105,MATCH(F110:F605,I13:I305,0)),INDEX(E13:F105,MATCH(F110:F605,M13:M305,0))) -> 43 | F110: {=MAX(IF(M8:M300=150&400,I8:I300))} -> 0 | G110: =IFERROR(INDEX(L13:L105,MATCH(F110:F605,I13:I305,0)),INDEX(L13:L105,MATCH(F110:F605,M13:M305,0))) -> 0
A111: =IFERROR(INDEX(A14:A306,MATCH(F111:F606,I14:I306,0)),INDEX(A14:A306,MATCH(F111:F606,M14:M306,0))) -> 20040 | B111: 150 | C111: 80 | D111: =IFERROR(INDEX(E14:E106,MATCH(F111:F606,I14:I306,0)),INDEX(E14:E106,MATCH(F111:F606,M14:M306,0))) -> 413 | E111: =IFERROR(INDEX(F14:F106,MATCH(F111:F606,I14:I306,0)),INDEX(E14:F106,MATCH(F111:F606,M14:M306,0))) -> 70 | F111: {=MAX(IF(M8:M300=150&80,I8:I300))} -> 0 | G111: =IFERROR(INDEX(L14:L106,MATCH(F111:F606,I14:I306,0)),INDEX(L14:L106,MATCH(F111:F606,M14:M306,0))) -> 0
A112: =IFERROR(INDEX(A15:A307,MATCH(F112:F607,I15:I307,0)),INDEX(A15:A307,MATCH(F112:F607,M15:M307,0))) -> 11800 | B112: 300 | C112: 150 | D112: =IFERROR(INDEX(E15:E107,MATCH(F112:F607,I15:I307,0)),INDEX(E15:E107,MATCH(F112:F607,M15:M307,0))) -> 0 | E112: =IFERROR(INDEX(F15:F107,MATCH(F112:F607,I15:I307,0)),INDEX(E15:F107,MATCH(F112:F607,M15:M307,0))) -> 33 | F112: {=MAX(IF(M8:M300=300&150,I8:I300))} -> 21.386554 | G112: =IFERROR(INDEX(L15:L107,MATCH(F112:F607,I15:I307,0)),INDEX(L15:L107,MATCH(F112:F607,M15:M307,0))) -> 42.807354
A113: =IFERROR(INDEX(A16:A308,MATCH(F113:F608,I16:I308,0)),INDEX(A16:A308,MATCH(F113:F608,M16:M308,0))) -> 240 | B113: 300 | C113: 50 | D113: =IFERROR(INDEX(E16:E108,MATCH(F113:F608,I16:I308,0)),INDEX(E16:E108,MATCH(F113:F608,M16:M308,0))) -> 1703 | E113: =IFERROR(INDEX(F16:F108,MATCH(F113:F608,I16:I308,0)),INDEX(E16:F108,MATCH(F113:F608,M16:M308,0))) -> 8957 | F113: {=MAX(IF(M8:M300=300&50,I8:I300))} -> 49.519179 | G113: =IFERROR(INDEX(L16:L108,MATCH(F113:F608,I16:I308,0)),INDEX(L16:L108,MATCH(F113:F608,M16:M308,0))) -> 265.51839
...

Sheet (18)Flange Peq
A1: CAESAR II 2016 Ver.8.00.00.5600, (Build 150930) Date: JUN 28, 2018 Time: 11:46
A2: Job Name: PRJ238_INE_NDC12_REV03_SORTIE 2 COUDES_TORCHE
A3: Licensed To: SPLM: Edit company name in <system>\company.txt
A4: FLANGE PEQ REPORT: Flange (Equiv Pressure Method)
A5: CASE 18 (OCC) W+P1+F2
A7: Node | B7: Classe | C7: DN | D7: Pression | E7: Axial Force N | F7: Bending Moment N.m | G7: G/C mm | H7: C (mm) | I7: P Equivalent bar | J7: Rating Temperature C | K7: Allowable Pressure /Stress | L7: Ratio % | M7: Index
A8: 10 | B8: =IFERROR(INDEX('Input Echo'!$M$11:$M$596,MATCH('(3)Flange Peq'!$A8,'Input Echo'!$I$11:$I$596,0)),INDEX('Input Echo'!$M$11:$M$596,MATCH('(3)Flange Peq'!$A8,'Input Echo'!$J$11:$J$596,0))) -> 150 | C8: =IFERROR(INDEX('Input Echo'!$AI$11:$AI$596,MATCH('(3)Flange Peq'!$A8,'Input Echo'!$I$11:$I$596,0)),INDEX('Input Echo'!$AI$11:$AI$596,MATCH('(3)Flange Peq'!$A8,'Input Echo'!$J$11:$J$596,0))) -> 150 | D8: =IFERROR(INDEX('Input Echo'!$Y$11:$Y$596,MATCH('(3)Flange Peq'!$A8,'Input Echo'!$I$11:$I$596,0)),INDEX('Input Echo'!$Y$11:$Y$596,MATCH('(3)Flange Peq'!$A8,'Input Echo'!$J$11:$J$596,0))) -> 10 | E8: 2983 | F8: 485 | G8: 196.09 | H8: =IFERROR(INDEX('Input Echo'!$O$11:$O$596,MATCH('(3)Flange Peq'!$A8,'Input Echo'!$I$11:$I$596,0)),INDEX('Input Echo'!$O$11:$O$596,MATCH('(3)Flange Peq'!$A8,'[1]Input Echo'!$J$11:$J$600,0))) -> 241.3 | I8: =D8+4*E8*10/(PI()*G8^2)+16*F8*10^4/(PI()*G8^2*H8) -> 13.64998 | J8: 110 | K8: 17.31 | L8: =(I8/K8)*100 -> 78.85604 | M8: =B8&C8 -> 150150
A9: 10 | B9: =IFERROR(INDEX('Input Echo'!$M$11:$M$596,MATCH('(3)Flange Peq'!$A9,'Input Echo'!$I$11:$I$596,0)),INDEX('Input Echo'!$M$11:$M$596,MATCH('(3)Flange Peq'!$A9,'Input Echo'!$J$11:$J$596,0))) -> 150 | C9: =IFERROR(INDEX('Input Echo'!$AI$11:$AI$596,MATCH('(3)Flange Peq'!$A9,'Input Echo'!$I$11:$I$596,0)),INDEX('Input Echo'!$AI$11:$AI$596,MATCH('(3)Flange Peq'!$A9,'Input Echo'!$J$11:$J$596,0))) -> 150 | D9: =IFERROR(INDEX('Input Echo'!$Y$11:$Y$596,MATCH('(3)Flange Peq'!$A9,'Input Echo'!$I$11:$I$596,0)),INDEX('Input Echo'!$Y$11:$Y$596,MATCH('(3)Flange Peq'!$A9,'Input Echo'!$J$11:$J$596,0))) -> 10 | E9: 2983 | F9: 485 | G9: 196.09 | H9: =IFERROR(INDEX('Input Echo'!$O$11:$O$596,MATCH('(3)Flange Peq'!$A9,'Input Echo'!$I$11:$I$596,0)),INDEX('Input Echo'!$O$11:$O$596,MATCH('(3)Flange Peq'!$A9,'[1]Input Echo'!$J$11:$J$600,0))) -> 241.3 | I9: =D9+4*E9*10/(PI()*G9^2)+16*F9*10^4/(PI()*G9^2*H9) -> 13.64998 | J9: 110 | K9: 17.31 | L9: =(I9/K9)*100 -> 78.85604 | M9: =B9&C9 -> 150150
A10: 20070 | B10: =IFERROR(INDEX('Input Echo'!$M$11:$M$596,MATCH('(3)Flange Peq'!$A10,'Input Echo'!$I$11:$I$596,0)),INDEX('Input Echo'!$M$11:$M$596,MATCH('(3)Flange Peq'!$A10,'Input Echo'!$J$11:$J$596,0))) -> 0 | C10: =IFERROR(INDEX('Input Echo'!$AI$11:$AI$596,MATCH('(3)Flange Peq'!$A10,'Input Echo'!$I$11:$I$596,0)),INDEX('Input Echo'!$AI$11:$AI$596,MATCH('(3)Flange Peq'!$A10,'Input Echo'!$J$11:$J$596,0))) -> 150 | D10: =IFERROR(INDEX('Input Echo'!$Y$11:$Y$596,MATCH('(3)Flange Peq'!$A10,'Input Echo'!$I$11:$I$596,0)),INDEX('Input Echo'!$Y$11:$Y$596,MATCH('(3)Flange Peq'!$A10,'Input Echo'!$J$11:$J$596,0))) -> 10 | E10: 15850 | F10: 337 | G10: 196.09 | H10: =IFERROR(INDEX('Input Echo'!$O$11:$O$596,MATCH('(3)Flange Peq'!$A10,'Input Echo'!$I$11:$I$596,0)),INDEX('Input Echo'!$O$11:$O$596,MATCH('(3)Flange Peq'!$A10,'[1]Input Echo'!$J$11:$J$600,0))) -> 0 | I10: =D10+4*E10*10/(PI()*G10^2)+16*F10*10^4/(PI()*G10^2*H10) -> #DIV/0! | J10: 110 | K10: 17.31 | L10: =(I10/K10)*100 -> #DIV/0! | M10: =B10&C10 -> 0150
A11: 20090 | B11: =IFERROR(INDEX('Input Echo'!$M$11:$M$596,MATCH('(3)Flange Peq'!$A11,'Input Echo'!$I$11:$I$596,0)),INDEX('Input Echo'!$M$11:$M$596,MATCH('(3)Flange Peq'!$A11,'Input Echo'!$J$11:$J$596,0))) -> 0 | C11: =IFERROR(INDEX('Input Echo'!$AI$11:$AI$596,MATCH('(3)Flange Peq'!$A11,'Input Echo'!$I$11:$I$596,0)),INDEX('Input Echo'!$AI$11:$AI$596,MATCH('(3)Flange Peq'!$A11,'Input Echo'!$J$11:$J$596,0))) -> 80 | D11: =IFERROR(INDEX('Input Echo'!$Y$11:$Y$596,MATCH('(3)Flange Peq'!$A11,'Input Echo'!$I$11:$I$596,0)),INDEX('Input Echo'!$Y$11:$Y$596,MATCH('(3)Flange Peq'!$A11,'Input Echo'!$J$11:$J$596,0))) -> 10 | E11: 4692 | F11: 3935 | G11: 138.18 | H11: =IFERROR(INDEX('Input Echo'!$O$11:$O$596,MATCH('(3)Flange Peq'!$A11,'Input Echo'!$I$11:$I$596,0)),INDEX('Input Echo'!$O$11:$O$596,MATCH('(3)Flange Peq'!$A11,'[1]Input Echo'!$J$11:$J$600,0))) -> 0 | I11: =D11+4*E11*10/(PI()*G11^2)+16*F11*10^4/(PI()*G11^2*H11) -> #DIV/0! | J11: 100 | K11: 46.68 | L11: =(I11/K11)*100 -> #DIV/0! | M11: =B11&C11 -> 080
A12: 20210 | B12: =IFERROR(INDEX('Input Echo'!$M$11:$M$596,MATCH('(3)Flange Peq'!$A12,'Input Echo'!$I$11:$I$596,0)),INDEX('Input Echo'!$M$11:$M$596,MATCH('(3)Flange Peq'!$A12,'Input Echo'!$J$11:$J$596,0))) -> 0 | C12: =IFERROR(INDEX('Input Echo'!$AI$11:$AI$596,MATCH('(3)Flange Peq'!$A12,'Input Echo'!$I$11:$I$596,0)),INDEX('Input Echo'!$AI$11:$AI$596,MATCH('(3)Flange Peq'!$A12,'Input Echo'!$J$11:$J$596,0))) -> 50 | D12: =IFERROR(INDEX('Input Echo'!$Y$11:$Y$596,MATCH('(3)Flange Peq'!$A12,'Input Echo'!$I$11:$I$596,0)),INDEX('Input Echo'!$Y$11:$Y$596,MATCH('(3)Flange Peq'!$A12,'Input Echo'!$J$11:$J$596,0))) -> 20 | E12: 784 | F12: 597 | G12: 196.09 | H12: =IFERROR(INDEX('Input Echo'!$O$11:$O$596,MATCH('(3)Flange Peq'!$A12,'Input Echo'!$I$11:$I$596,0)),INDEX('Input Echo'!$O$11:$O$596,MATCH('(3)Flange Peq'!$A12,'[1]Input Echo'!$J$11:$J$600,0))) -> 0 | I12: =D12+4*E12*10/(PI()*G12^2)+16*F12*10^4/(PI()*G12^2*H12) -> #DIV/0! | J12: 100 | K12: 46.68 | L12: =(I12/K12)*100 -> #DIV/0! | M12: =B12&C12 -> 050
A13: 2015 | B13: =IFERROR(INDEX('Input Echo'!$M$11:$M$596,MATCH('(3)Flange Peq'!$A13,'Input Echo'!$I$11:$I$596,0)),INDEX('Input Echo'!$M$11:$M$596,MATCH('(3)Flange Peq'!$A13,'Input Echo'!$J$11:$J$596,0))) -> 300 | C13: =IFERROR(INDEX('Input Echo'!$AI$11:$AI$596,MATCH('(3)Flange Peq'!$A13,'Input Echo'!$I$11:$I$596,0)),INDEX('Input Echo'!$AI$11:$AI$596,MATCH('(3)Flange Peq'!$A13,'Input Echo'!$J$11:$J$596,0))) -> 100 | D13: =IFERROR(INDEX('Input Echo'!$Y$11:$Y$596,MATCH('(3)Flange Peq'!$A13,'Input Echo'!$I$11:$I$596,0)),INDEX('Input Echo'!$Y$11:$Y$596,MATCH('(3)Flange Peq'!$A13,'Input Echo'!$J$11:$J$596,0))) -> 20 | E13: 13068 | F13: 70 | G13: 77.85 | H13: =IFERROR(INDEX('Input Echo'!$O$11:$O$596,MATCH('(3)Flange Peq'!$A13,'Input Echo'!$I$11:$I$596,0)),INDEX('Input Echo'!$O$11:$O$596,MATCH('(3)Flange Peq'!$A13,'[1]Input Echo'!$J$11:$J$600,0))) -> #N/A | I13: 0 | J13: 100 | K13: 46.68 | L13: =(I13/K13)*100 -> 0 | M13: =B13&C13 -> 300100
A14: 20040 | B14: =IFERROR(INDEX('Input Echo'!$M$11:$M$596,MATCH('(3)Flange Peq'!$A14,'Input Echo'!$I$11:$I$596,0)),INDEX('Input Echo'!$M$11:$M$596,MATCH('(3)Flange Peq'!$A14,'Input Echo'!$J$11:$J$596,0))) -> 300 | C14: =IFERROR(INDEX('Input Echo'!$AI$11:$AI$596,MATCH('(3)Flange Peq'!$A14,'Input Echo'!$I$11:$I$596,0)),INDEX('Input Echo'!$AI$11:$AI$596,MATCH('(3)Flange Peq'!$A14,'Input Echo'!$J$11:$J$596,0))) -> 50 | D14: =IFERROR(INDEX('Input Echo'!$Y$11:$Y$596,MATCH('(3)Flange Peq'!$A14,'Input Echo'!$I$11:$I$596,0)),INDEX('Input Echo'!$Y$11:$Y$596,MATCH('(3)Flange Peq'!$A14,'Input Echo'!$J$11:$J$596,0))) -> 20 | E14: 13068 | F14: 45 | G14: 77.85 | H14: =IFERROR(INDEX('Input Echo'!$O$11:$O$596,MATCH('(3)Flange Peq'!$A14,'Input Echo'!$I$11:$I$596,0)),INDEX('Input Echo'!$O$11:$O$596,MATCH('(3)Flange Peq'!$A14,'[1]Input Echo'!$J$11:$J$600,0))) -> #N/A | I14: 0 | J14: 110 | K14: 46.37 | L14: =(I14/K14)*100 -> 0 | M14: =B14&C14 -> 30050
A15: 6210 | B15: =IFERROR(INDEX('Input Echo'!$M$11:$M$596,MATCH('(3)Flange Peq'!$A15,'Input Echo'!$I$11:$I$596,0)),INDEX('Input Echo'!$M$11:$M$596,MATCH('(3)Flange Peq'!$A15,'Input Echo'!$J$11:$J$596,0))) -> 0 | C15: =IFERROR(INDEX('Input Echo'!$AI$11:$AI$596,MATCH('(3)Flange Peq'!$A15,'Input Echo'!$I$11:$I$596,0)),INDEX('Input Echo'!$AI$11:$AI$596,MATCH('(3)Flange Peq'!$A15,'Input Echo'!$J$11:$J$596,0))) -> 80 | D15: =IFERROR(INDEX('Input Echo'!$Y$11:$Y$596,MATCH('(3)Flange Peq'!$A15,'Input Echo'!$I$11:$I$596,0)),INDEX('Input Echo'!$Y$11:$Y$596,MATCH('(3)Flange Peq'!$A15,'Input Echo'!$J$11:$J$596,0))) -> 10 | E15: 757 | F15: 142 | G15: 111.13 | H15: =IFERROR(INDEX('Input Echo'!$O$11:$O$596,MATCH('(3)Flange Peq'!$A15,'Input Echo'!$I$11:$I$596,0)),INDEX('Input Echo'!$O$11:$O$596,MATCH('(3)Flange Peq'!$A15,'[1]Input Echo'!$J$11:$J$600,0))) -> 0 | I15: =D15+4*E15*10/(PI()*G15^2)+16*F15*10^4/(PI()*G15^2*H15) -> #DIV/0! | J15: 110 | K15: 46.37 | L15: =(I15/K15)*100 -> #DIV/0! | M15: =B15&C15 -> 080
A16: 6220 | B16: =IFERROR(INDEX('Input Echo'!$M$11:$M$596,MATCH('(3)Flange Peq'!$A16,'Input Echo'!$I$11:$I$596,0)),INDEX('Input Echo'!$M$11:$M$596,MATCH('(3)Flange Peq'!$A16,'Input Echo'!$J$11:$J$596,0))) -> 0 | C16: =IFERROR(INDEX('Input Echo'!$AI$11:$AI$596,MATCH('(3)Flange Peq'!$A16,'Input Echo'!$I$11:$I$596,0)),INDEX('Input Echo'!$AI$11:$AI$596,MATCH('(3)Flange Peq'!$A16,'Input Echo'!$J$11:$J$596,0))) -> 80 | D16: =IFERROR(INDEX('Input Echo'!$Y$11:$Y$596,MATCH('(3)Flange Peq'!$A16,'Input Echo'!$I$11:$I$596,0)),INDEX('Input Echo'!$Y$11:$Y$596,MATCH('(3)Flange Peq'!$A16,'Input Echo'!$J$11:$J$596,0))) -> 10 | E16: 693 | F16: 151 | G16: 111.13 | H16: =IFERROR(INDEX('Input Echo'!$O$11:$O$596,MATCH('(3)Flange Peq'!$A16,'Input Echo'!$I$11:$I$596,0)),INDEX('Input Echo'!$O$11:$O$596,MATCH('(3)Flange Peq'!$A16,'[1]Input Echo'!$J$11:$J$600,0))) -> 0 | I16: =D16+4*E16*10/(PI()*G16^2)+16*F16*10^4/(PI()*G16^2*H16) -> #DIV/0! | J16: 110 | K16: 46.37 | L16: =(I16/K16)*100 -> #DIV/0! | M16: =B16&C16 -> 080
A17: 6310 | B17: =IFERROR(INDEX('Input Echo'!$M$11:$M$596,MATCH('(3)Flange Peq'!$A17,'Input Echo'!$I$11:$I$596,0)),INDEX('Input Echo'!$M$11:$M$596,MATCH('(3)Flange Peq'!$A17,'Input Echo'!$J$11:$J$596,0))) -> 150 | C17: =IFERROR(INDEX('Input Echo'!$AI$11:$AI$596,MATCH('(3)Flange Peq'!$A17,'Input Echo'!$I$11:$I$596,0)),INDEX('Input Echo'!$AI$11:$AI$596,MATCH('(3)Flange Peq'!$A17,'Input Echo'!$J$11:$J$596,0))) -> 50 | D17: =IFERROR(INDEX('Input Echo'!$Y$11:$Y$596,MATCH('(3)Flange Peq'!$A17,'Input Echo'!$I$11:$I$596,0)),INDEX('Input Echo'!$Y$11:$Y$596,MATCH('(3)Flange Peq'!$A17,'Input Echo'!$J$11:$J$596,0))) -> 10 | E17: 102 | F17: 15 | G17: 111.13 | H17: =IFERROR(INDEX('Input Echo'!$O$11:$O$596,MATCH('(3)Flange Peq'!$A17,'Input Echo'!$I$11:$I$596,0)),INDEX('Input Echo'!$O$11:$O$596,MATCH('(3)Flange Peq'!$A17,'[1]Input Echo'!$J$11:$J$600,0))) -> 120.6 | I17: =D17+4*E17*10/(PI()*G17^2)+16*F17*10^4/(PI()*G17^2*H17) -> 10.618081 | J17: 110 | K17: 17.31 | L17: =(I17/K17)*100 -> 61.340736 | M17: =B17&C17 -> 15050
A18: 6380 | B18: =IFERROR(INDEX('Input Echo'!$M$11:$M$596,MATCH('(3)Flange Peq'!$A18,'Input Echo'!$I$11:$I$596,0)),INDEX('Input Echo'!$M$11:$M$596,MATCH('(3)Flange Peq'!$A18,'Input Echo'!$J$11:$J$596,0))) -> 150 | C18: =IFERROR(INDEX('Input Echo'!$AI$11:$AI$596,MATCH('(3)Flange Peq'!$A18,'Input Echo'!$I$11:$I$596,0)),INDEX('Input Echo'!$AI$11:$AI$596,MATCH('(3)Flange Peq'!$A18,'Input Echo'!$J$11:$J$596,0))) -> 50 | D18: =IFERROR(INDEX('Input Echo'!$Y$11:$Y$596,MATCH('(3)Flange Peq'!$A18,'Input Echo'!$I$11:$I$596,0)),INDEX('Input Echo'!$Y$11:$Y$596,MATCH('(3)Flange Peq'!$A18,'Input Echo'!$J$11:$J$596,0))) -> 10 | E18: 204 | F18: 53 | G18: 111.13 | H18: =IFERROR(INDEX('Input Echo'!$O$11:$O$596,MATCH('(3)Flange Peq'!$A18,'Input Echo'!$I$11:$I$596,0)),INDEX('Input Echo'!$O$11:$O$596,MATCH('(3)Flange Peq'!$A18,'[1]Input Echo'!$J$11:$J$600,0))) -> 120.6 | I18: =D18+4*E18*10/(PI()*G18^2)+16*F18*10^4/(PI()*G18^2*H18) -> 12.022643 | J18: 52 | K18: 49.96 | L18: =(I18/K18)*100 -> 24.064538 | M18: =B18&C18 -> 15050
A19: 6490 | B19: =IFERROR(INDEX('Input Echo'!$M$11:$M$596,MATCH('(3)Flange Peq'!$A19,'Input Echo'!$I$11:$I$596,0)),INDEX('Input Echo'!$M$11:$M$596,MATCH('(3)Flange Peq'!$A19,'Input Echo'!$J$11:$J$596,0))) -> 0 | C19: =IFERROR(INDEX('Input Echo'!$AI$11:$AI$596,MATCH('(3)Flange Peq'!$A19,'Input Echo'!$I$11:$I$596,0)),INDEX('Input Echo'!$AI$11:$AI$596,MATCH('(3)Flange Peq'!$A19,'Input Echo'!$J$11:$J$596,0))) -> 50 | D19: =IFERROR(INDEX('Input Echo'!$Y$11:$Y$596,MATCH('(3)Flange Peq'!$A19,'Input Echo'!$I$11:$I$596,0)),INDEX('Input Echo'!$Y$11:$Y$596,MATCH('(3)Flange Peq'!$A19,'Input Echo'!$J$11:$J$596,0))) -> 10 | E19: 107 | F19: 11 | G19: 111.13 | H19: =IFERROR(INDEX('Input Echo'!$O$11:$O$596,MATCH('(3)Flange Peq'!$A19,'Input Echo'!$I$11:$I$596,0)),INDEX('Input Echo'!$O$11:$O$596,MATCH('(3)Flange Peq'!$A19,'[1]Input Echo'!$J$11:$J$600,0))) -> 0 | I19: =D19+4*E19*10/(PI()*G19^2)+16*F19*10^4/(PI()*G19^2*H19) -> #DIV/0! | J19: 52 | K19: 49.96 | L19: =(I19/K19)*100 -> #DIV/0! | M19: =B19&C19 -> 050
A20: 6410 | B20: =IFERROR(INDEX('Input Echo'!$M$11:$M$596,MATCH('(3)Flange Peq'!$A20,'Input Echo'!$I$11:$I$596,0)),INDEX('Input Echo'!$M$11:$M$596,MATCH('(3)Flange Peq'!$A20,'Input Echo'!$J$11:$J$596,0))) -> 150 | C20: =IFERROR(INDEX('Input Echo'!$AI$11:$AI$596,MATCH('(3)Flange Peq'!$A20,'Input Echo'!$I$11:$I$596,0)),INDEX('Input Echo'!$AI$11:$AI$596,MATCH('(3)Flange Peq'!$A20,'Input Echo'!$J$11:$J$596,0))) -> 25 | D20: =IFERROR(INDEX('Input Echo'!$Y$11:$Y$596,MATCH('(3)Flange Peq'!$A20,'Input Echo'!$I$11:$I$596,0)),INDEX('Input Echo'!$Y$11:$Y$596,MATCH('(3)Flange Peq'!$A20,'Input Echo'!$J$11:$J$596,0))) -> 10 | E20: 111 | F20: 58 | G20: 111.13 | H20: =IFERROR(INDEX('Input Echo'!$O$11:$O$596,MATCH('(3)Flange Peq'!$A20,'Input Echo'!$I$11:$I$596,0)),INDEX('Input Echo'!$O$11:$O$596,MATCH('(3)Flange Peq'!$A20,'[1]Input Echo'!$J$11:$J$600,0))) -> #N/A | I20: 0 | J20: 52 | K20: 49.96 | L20: =(I20/K20)*100 -> 0 | M20: =B20&C20 -> 15025
A21: 6330 | B21: =IFERROR(INDEX('Input Echo'!$M$11:$M$596,MATCH('(3)Flange Peq'!$A21,'Input Echo'!$I$11:$I$596,0)),INDEX('Input Echo'!$M$11:$M$596,MATCH('(3)Flange Peq'!$A21,'Input Echo'!$J$11:$J$596,0))) -> 150 | C21: =IFERROR(INDEX('Input Echo'!$AI$11:$AI$596,MATCH('(3)Flange Peq'!$A21,'Input Echo'!$I$11:$I$596,0)),INDEX('Input Echo'!$AI$11:$AI$596,MATCH('(3)Flange Peq'!$A21,'Input Echo'!$J$11:$J$596,0))) -> 50 | D21: =IFERROR(INDEX('Input Echo'!$Y$11:$Y$596,MATCH('(3)Flange Peq'!$A21,'Input Echo'!$I$11:$I$596,0)),INDEX('Input Echo'!$Y$11:$Y$596,MATCH('(3)Flange Peq'!$A21,'Input Echo'!$J$11:$J$596,0))) -> 10 | E21: 117 | F21: 47 | G21: 111.13 | H21: =IFERROR(INDEX('Input Echo'!$O$11:$O$596,MATCH('(3)Flange Peq'!$A21,'Input Echo'!$I$11:$I$596,0)),INDEX('Input Echo'!$O$11:$O$596,MATCH('(3)Flange Peq'!$A21,'[1]Input Echo'!$J$11:$J$600,0))) -> 120.6 | I21: =D21+4*E21*10/(PI()*G21^2)+16*F21*10^4/(PI()*G21^2*H21) -> 11.72778 | J21: 110 | K21: 17.31 | L21: =(I21/K21)*100 -> 67.751472 | M21: =B21&C21 -> 15050
A22: 6250 | B22: =IFERROR(INDEX('Input Echo'!$M$11:$M$596,MATCH('(3)Flange Peq'!$A22,'Input Echo'!$I$11:$I$596,0)),INDEX('Input Echo'!$M$11:$M$596,MATCH('(3)Flange Peq'!$A22,'Input Echo'!$J$11:$J$596,0))) -> 150 | C22: =IFERROR(INDEX('Input Echo'!$AI$11:$AI$596,MATCH('(3)Flange Peq'!$A22,'Input Echo'!$I$11:$I$596,0)),INDEX('Input Echo'!$AI$11:$AI$596,MATCH('(3)Flange Peq'!$A22,'Input Echo'!$J$11:$J$596,0))) -> 50 | D22: =IFERROR(INDEX('Input Echo'!$Y$11:$Y$596,MATCH('(3)Flange Peq'!$A22,'Input Echo'!$I$11:$I$596,0)),INDEX('Input Echo'!$Y$11:$Y$596,MATCH('(3)Flange Peq'!$A22,'Input Echo'!$J$11:$J$596,0))) -> 10 | E22: 111 | F22: 27 | G22: 111.13 | H22: =IFERROR(INDEX('Input Echo'!$O$11:$O$596,MATCH('(3)Flange Peq'!$A22,'Input Echo'!$I$11:$I$596,0)),INDEX('Input Echo'!$O$11:$O$596,MATCH('(3)Flange Peq'!$A22,'[1]Input Echo'!$J$11:$J$600,0))) -> 120.6 | I22: =D22+4*E22*10/(PI()*G22^2)+16*F22*10^4/(PI()*G22^2*H22) -> 11.037698 | J22: 110 | K22: 46.37 | L22: =(I22/K22)*100 -> 23.803532 | M22: =B22&C22 -> 15050
A23: 74 | B23: =IFERROR(INDEX('Input Echo'!$M$11:$M$596,MATCH('(3)Flange Peq'!$A23,'Input Echo'!$I$11:$I$596,0)),INDEX('Input Echo'!$M$11:$M$596,MATCH('(3)Flange Peq'!$A23,'Input Echo'!$J$11:$J$596,0))) -> 150 | C23: =IFERROR(INDEX('Input Echo'!$AI$11:$AI$596,MATCH('(3)Flange Peq'!$A23,'Input Echo'!$I$11:$I$596,0)),INDEX('Input Echo'!$AI$11:$AI$596,MATCH('(3)Flange Peq'!$A23,'Input Echo'!$J$11:$J$596,0))) -> 50 | D23: =IFERROR(INDEX('Input Echo'!$Y$11:$Y$596,MATCH('(3)Flange Peq'!$A23,'Input Echo'!$I$11:$I$596,0)),INDEX('Input Echo'!$Y$11:$Y$596,MATCH('(3)Flange Peq'!$A23,'Input Echo'!$J$11:$J$596,0))) -> 10 | E23: 711 | F23: 88 | G23: 111.13 | H23: =IFERROR(INDEX('Input Echo'!$O$11:$O$596,MATCH('(3)Flange Peq'!$A23,'Input Echo'!$I$11:$I$596,0)),INDEX('Input Echo'!$O$11:$O$596,MATCH('(3)Flange Peq'!$A23,'[1]Input Echo'!$J$11:$J$600,0))) -> 120.6 | I23: =D23+4*E23*10/(PI()*G23^2)+16*F23*10^4/(PI()*G23^2*H23) -> 13.742165 | J23: 110 | K23: 46.37 | L23: =(I23/K23)*100 -> 29.635897 | M23: =B23&C23 -> 15050
A24: 7400 | B24: =IFERROR(INDEX('Input Echo'!$M$11:$M$596,MATCH('(3)Flange Peq'!$A24,'Input Echo'!$I$11:$I$596,0)),INDEX('Input Echo'!$M$11:$M$596,MATCH('(3)Flange Peq'!$A24,'Input Echo'!$J$11:$J$596,0))) -> 150 | C24: =IFERROR(INDEX('Input Echo'!$AI$11:$AI$596,MATCH('(3)Flange Peq'!$A24,'Input Echo'!$I$11:$I$596,0)),INDEX('Input Echo'!$AI$11:$AI$596,MATCH('(3)Flange Peq'!$A24,'Input Echo'!$J$11:$J$596,0))) -> 150 | D24: =IFERROR(INDEX('Input Echo'!$Y$11:$Y$596,MATCH('(3)Flange Peq'!$A24,'Input Echo'!$I$11:$I$596,0)),INDEX('Input Echo'!$Y$11:$Y$596,MATCH('(3)Flange Peq'!$A24,'Input Echo'!$J$11:$J$596,0))) -> 10 | E24: 647 | F24: 99 | G24: 111.13 | H24: =IFERROR(INDEX('Input Echo'!$O$11:$O$596,MATCH('(3)Flange Peq'!$A24,'Input Echo'!$I$11:$I$596,0)),INDEX('Input Echo'!$O$11:$O$596,MATCH('(3)Flange Peq'!$A24,'[1]Input Echo'!$J$11:$J$600,0))) -> 241.3 | I24: =D24+4*E24*10/(PI()*G24^2)+16*F24*10^4/(PI()*G24^2*H24) -> 12.358981 | J24: 110 | K24: 46.37 | L24: =(I24/K24)*100 -> 26.652968 | M24: =B24&C24 -> 150150
A25: 7412 | B25: =IFERROR(INDEX('Input Echo'!$M$11:$M$596,MATCH('(3)Flange Peq'!$A25,'Input Echo'!$I$11:$I$596,0)),INDEX('Input Echo'!$M$11:$M$596,MATCH('(3)Flange Peq'!$A25,'Input Echo'!$J$11:$J$596,0))) -> 150 | C25: =IFERROR(INDEX('Input Echo'!$AI$11:$AI$596,MATCH('(3)Flange Peq'!$A25,'Input Echo'!$I$11:$I$596,0)),INDEX('Input Echo'!$AI$11:$AI$596,MATCH('(3)Flange Peq'!$A25,'Input Echo'!$J$11:$J$596,0))) -> 150 | D25: =IFERROR(INDEX('Input Echo'!$Y$11:$Y$596,MATCH('(3)Flange Peq'!$A25,'Input Echo'!$I$11:$I$596,0)),INDEX('Input Echo'!$Y$11:$Y$596,MATCH('(3)Flange Peq'!$A25,'Input Echo'!$J$11:$J$596,0))) -> 10 | E25: 99 | F25: 14 | G25: 77.85 | H25: =IFERROR(INDEX('Input Echo'!$O$11:$O$596,MATCH('(3)Flange Peq'!$A25,'Input Echo'!$I$11:$I$596,0)),INDEX('Input Echo'!$O$11:$O$596,MATCH('(3)Flange Peq'!$A25,'[1]Input Echo'!$J$11:$J$600,0))) -> 241.3 | I25: =D25+4*E25*10/(PI()*G25^2)+16*F25*10^4/(PI()*G25^2*H25) -> 10.695538 | J25: 110 | K25: 46.37 | L25: =(I25/K25)*100 -> 23.065642 | M25: =B25&C25 -> 150150
A26: 7414 | B26: =IFERROR(INDEX('Input Echo'!$M$11:$M$596,MATCH('(3)Flange Peq'!$A26,'Input Echo'!$I$11:$I$596,0)),INDEX('Input Echo'!$M$11:$M$596,MATCH('(3)Flange Peq'!$A26,'Input Echo'!$J$11:$J$596,0))) -> 150 | C26: =IFERROR(INDEX('Input Echo'!$AI$11:$AI$596,MATCH('(3)Flange Peq'!$A26,'Input Echo'!$I$11:$I$596,0)),INDEX('Input Echo'!$AI$11:$AI$596,MATCH('(3)Flange Peq'!$A26,'Input Echo'!$J$11:$J$596,0))) -> 150 | D26: =IFERROR(INDEX('Input Echo'!$Y$11:$Y$596,MATCH('(3)Flange Peq'!$A26,'Input Echo'!$I$11:$I$596,0)),INDEX('Input Echo'!$Y$11:$Y$596,MATCH('(3)Flange Peq'!$A26,'Input Echo'!$J$11:$J$596,0))) -> 10 | E26: 88 | F26: 70 | G26: 77.85 | H26: =IFERROR(INDEX('Input Echo'!$O$11:$O$596,MATCH('(3)Flange Peq'!$A26,'Input Echo'!$I$11:$I$596,0)),INDEX('Input Echo'!$O$11:$O$596,MATCH('(3)Flange Peq'!$A26,'[1]Input Echo'!$J$11:$J$600,0))) -> 241.3 | I26: =D26+4*E26*10/(PI()*G26^2)+16*F26*10^4/(PI()*G26^2*H26) -> 12.622649 | J26: 110 | K26: 46.37 | L26: =(I26/K26)*100 -> 27.221585 | M26: =B26&C26 -> 150150
A27: 7470 | B27: =IFERROR(INDEX('Input Echo'!$M$11:$M$596,MATCH('(3)Flange Peq'!$A27,'Input Echo'!$I$11:$I$596,0)),INDEX('Input Echo'!$M$11:$M$596,MATCH('(3)Flange Peq'!$A27,'Input Echo'!$J$11:$J$596,0))) -> 0 | C27: =IFERROR(INDEX('Input Echo'!$AI$11:$AI$596,MATCH('(3)Flange Peq'!$A27,'Input Echo'!$I$11:$I$596,0)),INDEX('Input Echo'!$AI$11:$AI$596,MATCH('(3)Flange Peq'!$A27,'Input Echo'!$J$11:$J$596,0))) -> 50 | D27: =IFERROR(INDEX('Input Echo'!$Y$11:$Y$596,MATCH('(3)Flange Peq'!$A27,'Input Echo'!$I$11:$I$596,0)),INDEX('Input Echo'!$Y$11:$Y$596,MATCH('(3)Flange Peq'!$A27,'Input Echo'!$J$11:$J$596,0))) -> 10 | E27: 57 | F27: 9 | G27: 111.13 | H27: =IFERROR(INDEX('Input Echo'!$O$11:$O$596,MATCH('(3)Flange Peq'!$A27,'Input Echo'!$I$11:$I$596,0)),INDEX('Input Echo'!$O$11:$O$596,MATCH('(3)Flange Peq'!$A27,'[1]Input Echo'!$J$11:$J$600,0))) -> 0 | I27: =D27+4*E27*10/(PI()*G27^2)+16*F27*10^4/(PI()*G27^2*H27) -> #DIV/0! | J27: 110 | K27: 17.31 | L27: =(I27/K27)*100 -> #DIV/0! | M27: =B27&C27 -> 050
A28: 7560 | B28: =IFERROR(INDEX('Input Echo'!$M$11:$M$596,MATCH('(3)Flange Peq'!$A28,'Input Echo'!$I$11:$I$596,0)),INDEX('Input Echo'!$M$11:$M$596,MATCH('(3)Flange Peq'!$A28,'Input Echo'!$J$11:$J$596,0))) -> 0 | C28: =IFERROR(INDEX('Input Echo'!$AI$11:$AI$596,MATCH('(3)Flange Peq'!$A28,'Input Echo'!$I$11:$I$596,0)),INDEX('Input Echo'!$AI$11:$AI$596,MATCH('(3)Flange Peq'!$A28,'Input Echo'!$J$11:$J$596,0))) -> 50 | D28: =IFERROR(INDEX('Input Echo'!$Y$11:$Y$596,MATCH('(3)Flange Peq'!$A28,'Input Echo'!$I$11:$I$596,0)),INDEX('Input Echo'!$Y$11:$Y$596,MATCH('(3)Flange Peq'!$A28,'Input Echo'!$J$11:$J$596,0))) -> 10 | E28: 51 | F28: 32 | G28: 77.85 | H28: =IFERROR(INDEX('Input Echo'!$O$11:$O$596,MATCH('(3)Flange Peq'!$A28,'Input Echo'!$I$11:$I$596,0)),INDEX('Input Echo'!$O$11:$O$596,MATCH('(3)Flange Peq'!$A28,'[1]Input Echo'!$J$11:$J$600,0))) -> 0 | I28: =D28+4*E28*10/(PI()*G28^2)+16*F28*10^4/(PI()*G28^2*H28) -> #DIV/0! | J28: 52 | K28: 49.96 | L28: =(I28/K28)*100 -> #DIV/0! | M28: =B28&C28 -> 050
A29: 7640 | B29: =IFERROR(INDEX('Input Echo'!$M$11:$M$596,MATCH('(3)Flange Peq'!$A29,'Input Echo'!$I$11:$I$596,0)),INDEX('Input Echo'!$M$11:$M$596,MATCH('(3)Flange Peq'!$A29,'Input Echo'!$J$11:$J$596,0))) -> 0 | C29: =IFERROR(INDEX('Input Echo'!$AI$11:$AI$596,MATCH('(3)Flange Peq'!$A29,'Input Echo'!$I$11:$I$596,0)),INDEX('Input Echo'!$AI$11:$AI$596,MATCH('(3)Flange Peq'!$A29,'Input Echo'!$J$11:$J$596,0))) -> 50 | D29: =IFERROR(INDEX('Input Echo'!$Y$11:$Y$596,MATCH('(3)Flange Peq'!$A29,'Input Echo'!$I$11:$I$596,0)),INDEX('Input Echo'!$Y$11:$Y$596,MATCH('(3)Flange Peq'!$A29,'Input Echo'!$J$11:$J$596,0))) -> 10 | E29: 435 | F29: 24 | G29: 111.13 | H29: =IFERROR(INDEX('Input Echo'!$O$11:$O$596,MATCH('(3)Flange Peq'!$A29,'Input Echo'!$I$11:$I$596,0)),INDEX('Input Echo'!$O$11:$O$596,MATCH('(3)Flange Peq'!$A29,'[1]Input Echo'!$J$11:$J$600,0))) -> 0 | I29: =D29+4*E29*10/(PI()*G29^2)+16*F29*10^4/(PI()*G29^2*H29) -> #DIV/0! | J29: 52 | K29: 49.96 | L29: =(I29/K29)*100 -> #DIV/0! | M29: =B29&C29 -> 050
A30: 7650 | B30: =IFERROR(INDEX('Input Echo'!$M$11:$M$596,MATCH('(3)Flange Peq'!$A30,'Input Echo'!$I$11:$I$596,0)),INDEX('Input Echo'!$M$11:$M$596,MATCH('(3)Flange Peq'!$A30,'Input Echo'!$J$11:$J$596,0))) -> 0 | C30: =IFERROR(INDEX('Input Echo'!$AI$11:$AI$596,MATCH('(3)Flange Peq'!$A30,'Input Echo'!$I$11:$I$596,0)),INDEX('Input Echo'!$AI$11:$AI$596,MATCH('(3)Flange Peq'!$A30,'Input Echo'!$J$11:$J$596,0))) -> 50 | D30: =IFERROR(INDEX('Input Echo'!$Y$11:$Y$596,MATCH('(3)Flange Peq'!$A30,'Input Echo'!$I$11:$I$596,0)),INDEX('Input Echo'!$Y$11:$Y$596,MATCH('(3)Flange Peq'!$A30,'Input Echo'!$J$11:$J$596,0))) -> 10 | E30: 505 | F30: 27 | G30: 111.13 | H30: =IFERROR(INDEX('Input Echo'!$O$11:$O$596,MATCH('(3)Flange Peq'!$A30,'Input Echo'!$I$11:$I$596,0)),INDEX('Input Echo'!$O$11:$O$596,MATCH('(3)Flange Peq'!$A30,'[1]Input Echo'!$J$11:$J$600,0))) -> 0 | I30: =D30+4*E30*10/(PI()*G30^2)+16*F30*10^4/(PI()*G30^2*H30) -> #DIV/0! | J30: 52 | K30: 49.96 | L30: =(I30/K30)*100 -> #DIV/0! | M30: =B30&C30 -> 050
A31: 7760 | B31: =IFERROR(INDEX('Input Echo'!$M$11:$M$596,MATCH('(3)Flange Peq'!$A31,'Input Echo'!$I$11:$I$596,0)),INDEX('Input Echo'!$M$11:$M$596,MATCH('(3)Flange Peq'!$A31,'Input Echo'!$J$11:$J$596,0))) -> 0 | C31: =IFERROR(INDEX('Input Echo'!$AI$11:$AI$596,MATCH('(3)Flange Peq'!$A31,'Input Echo'!$I$11:$I$596,0)),INDEX('Input Echo'!$AI$11:$AI$596,MATCH('(3)Flange Peq'!$A31,'Input Echo'!$J$11:$J$596,0))) -> 50 | D31: =IFERROR(INDEX('Input Echo'!$Y$11:$Y$596,MATCH('(3)Flange Peq'!$A31,'Input Echo'!$I$11:$I$596,0)),INDEX('Input Echo'!$Y$11:$Y$596,MATCH('(3)Flange Peq'!$A31,'Input Echo'!$J$11:$J$596,0))) -> 10 | E31: 0 | F31: 2 | G31: 138.18 | H31: =IFERROR(INDEX('Input Echo'!$O$11:$O$596,MATCH('(3)Flange Peq'!$A31,'Input Echo'!$I$11:$I$596,0)),INDEX('Input Echo'!$O$11:$O$596,MATCH('(3)Flange Peq'!$A31,'[1]Input Echo'!$J$11:$J$600,0))) -> 0 | I31: =D31+4*E31*10/(PI()*G31^2)+16*F31*10^4/(PI()*G31^2*H31) -> #DIV/0! | J31: 52 | K31: 49.96 | L31: =(I31/K31)*100 -> #DIV/0! | M31: =B31&C31 -> 050
A32: 7760 | B32: =IFERROR(INDEX('Input Echo'!$M$11:$M$596,MATCH('(3)Flange Peq'!$A32,'Input Echo'!$I$11:$I$596,0)),INDEX('Input Echo'!$M$11:$M$596,MATCH('(3)Flange Peq'!$A32,'Input Echo'!$J$11:$J$596,0))) -> 0 | C32: =IFERROR(INDEX('Input Echo'!$AI$11:$AI$596,MATCH('(3)Flange Peq'!$A32,'Input Echo'!$I$11:$I$596,0)),INDEX('Input Echo'!$AI$11:$AI$596,MATCH('(3)Flange Peq'!$A32,'Input Echo'!$J$11:$J$596,0))) -> 50 | D32: =IFERROR(INDEX('Input Echo'!$Y$11:$Y$596,MATCH('(3)Flange Peq'!$A32,'Input Echo'!$I$11:$I$596,0)),INDEX('Input Echo'!$Y$11:$Y$596,MATCH('(3)Flange Peq'!$A32,'Input Echo'!$J$11:$J$596,0))) -> 10 | E32: 0 | F32: 2 | G32: 138.18 | H32: =IFERROR(INDEX('Input Echo'!$O$11:$O$596,MATCH('(3)Flange Peq'!$A32,'Input Echo'!$I$11:$I$596,0)),INDEX('Input Echo'!$O$11:$O$596,MATCH('(3)Flange Peq'!$A32,'[1]Input Echo'!$J$11:$J$600,0))) -> 0 | I32: =D32+4*E32*10/(PI()*G32^2)+16*F32*10^4/(PI()*G32^2*H32) -> #DIV/0! | J32: 52 | K32: 49.96 | L32: =(I32/K32)*100 -> #DIV/0! | M32: =B32&C32 -> 050
A33: 7710 | B33: =IFERROR(INDEX('Input Echo'!$M$11:$M$596,MATCH('(3)Flange Peq'!$A33,'Input Echo'!$I$11:$I$596,0)),INDEX('Input Echo'!$M$11:$M$596,MATCH('(3)Flange Peq'!$A33,'Input Echo'!$J$11:$J$596,0))) -> 150 | C33: =IFERROR(INDEX('Input Echo'!$AI$11:$AI$596,MATCH('(3)Flange Peq'!$A33,'Input Echo'!$I$11:$I$596,0)),INDEX('Input Echo'!$AI$11:$AI$596,MATCH('(3)Flange Peq'!$A33,'Input Echo'!$J$11:$J$596,0))) -> 400 | D33: =IFERROR(INDEX('Input Echo'!$Y$11:$Y$596,MATCH('(3)Flange Peq'!$A33,'Input Echo'!$I$11:$I$596,0)),INDEX('Input Echo'!$Y$11:$Y$596,MATCH('(3)Flange Peq'!$A33,'Input Echo'!$J$11:$J$596,0))) -> 10 | E33: 51 | F33: 64 | G33: 138.18 | H33: =IFERROR(INDEX('Input Echo'!$O$11:$O$596,MATCH('(3)Flange Peq'!$A33,'Input Echo'!$I$11:$I$596,0)),INDEX('Input Echo'!$O$11:$O$596,MATCH('(3)Flange Peq'!$A33,'[1]Input Echo'!$J$11:$J$600,0))) -> #N/A | I33: 0 | J33: 52 | K33: 49.96 | L33: =(I33/K33)*100 -> 0 | M33: =B33&C33 -> 150400
A34: 7490 | B34: =IFERROR(INDEX('Input Echo'!$M$11:$M$596,MATCH('(3)Flange Peq'!$A34,'Input Echo'!$I$11:$I$596,0)),INDEX('Input Echo'!$M$11:$M$596,MATCH('(3)Flange Peq'!$A34,'Input Echo'!$J$11:$J$596,0))) -> 0 | C34: =IFERROR(INDEX('Input Echo'!$AI$11:$AI$596,MATCH('(3)Flange Peq'!$A34,'Input Echo'!$I$11:$I$596,0)),INDEX('Input Echo'!$AI$11:$AI$596,MATCH('(3)Flange Peq'!$A34,'Input Echo'!$J$11:$J$596,0))) -> 80 | D34: =IFERROR(INDEX('Input Echo'!$Y$11:$Y$596,MATCH('(3)Flange Peq'!$A34,'Input Echo'!$I$11:$I$596,0)),INDEX('Input Echo'!$Y$11:$Y$596,MATCH('(3)Flange Peq'!$A34,'Input Echo'!$J$11:$J$596,0))) -> 10 | E34: 70 | F34: 23 | G34: 138.18 | H34: =IFERROR(INDEX('Input Echo'!$O$11:$O$596,MATCH('(3)Flange Peq'!$A34,'Input Echo'!$I$11:$I$596,0)),INDEX('Input Echo'!$O$11:$O$596,MATCH('(3)Flange Peq'!$A34,'[1]Input Echo'!$J$11:$J$600,0))) -> 0 | I34: =D34+4*E34*10/(PI()*G34^2)+16*F34*10^4/(PI()*G34^2*H34) -> #DIV/0! | J34: 110 | K34: 46.37 | L34: =(I34/K34)*100 -> #DIV/0! | M34: =B34&C34 -> 080
A35: 88 | B35: =IFERROR(INDEX('Input Echo'!$M$11:$M$596,MATCH('(3)Flange Peq'!$A35,'Input Echo'!$I$11:$I$596,0)),INDEX('Input Echo'!$M$11:$M$596,MATCH('(3)Flange Peq'!$A35,'Input Echo'!$J$11:$J$596,0))) -> 0 | C35: =IFERROR(INDEX('Input Echo'!$AI$11:$AI$596,MATCH('(3)Flange Peq'!$A35,'Input Echo'!$I$11:$I$596,0)),INDEX('Input Echo'!$AI$11:$AI$596,MATCH('(3)Flange Peq'!$A35,'Input Echo'!$J$11:$J$596,0))) -> 100 | D35: =IFERROR(INDEX('Input Echo'!$Y$11:$Y$596,MATCH('(3)Flange Peq'!$A35,'Input Echo'!$I$11:$I$596,0)),INDEX('Input Echo'!$Y$11:$Y$596,MATCH('(3)Flange Peq'!$A35,'Input Echo'!$J$11:$J$596,0))) -> 10 | E35: 683 | F35: 110 | G35: 77.85 | H35: =IFERROR(INDEX('Input Echo'!$O$11:$O$596,MATCH('(3)Flange Peq'!$A35,'Input Echo'!$I$11:$I$596,0)),INDEX('Input Echo'!$O$11:$O$596,MATCH('(3)Flange Peq'!$A35,'[1]Input Echo'!$J$11:$J$600,0))) -> 0 | I35: =D35+4*E35*10/(PI()*G35^2)+16*F35*10^4/(PI()*G35^2*H35) -> #DIV/0! | J35: 110 | K35: 17.31 | L35: =(I35/K35)*100 -> #DIV/0! | M35: =B35&C35 -> 0100
A36: 89 | B36: =IFERROR(INDEX('Input Echo'!$M$11:$M$596,MATCH('(3)Flange Peq'!$A36,'Input Echo'!$I$11:$I$596,0)),INDEX('Input Echo'!$M$11:$M$596,MATCH('(3)Flange Peq'!$A36,'Input Echo'!$J$11:$J$596,0))) -> 0 | C36: =IFERROR(INDEX('Input Echo'!$AI$11:$AI$596,MATCH('(3)Flange Peq'!$A36,'Input Echo'!$I$11:$I$596,0)),INDEX('Input Echo'!$AI$11:$AI$596,MATCH('(3)Flange Peq'!$A36,'Input Echo'!$J$11:$J$596,0))) -> 50 | D36: =IFERROR(INDEX('Input Echo'!$Y$11:$Y$596,MATCH('(3)Flange Peq'!$A36,'Input Echo'!$I$11:$I$596,0)),INDEX('Input Echo'!$Y$11:$Y$596,MATCH('(3)Flange Peq'!$A36,'Input Echo'!$J$11:$J$596,0))) -> 10 | E36: 656 | F36: 108 | G36: 77.85 | H36: =IFERROR(INDEX('Input Echo'!$O$11:$O$596,MATCH('(3)Flange Peq'!$A36,'Input Echo'!$I$11:$I$596,0)),INDEX('Input Echo'!$O$11:$O$596,MATCH('(3)Flange Peq'!$A36,'[1]Input Echo'!$J$11:$J$600,0))) -> 0 | I36: =D36+4*E36*10/(PI()*G36^2)+16*F36*10^4/(PI()*G36^2*H36) -> #DIV/0! | J36: 110 | K36: 17.31 | L36: =(I36/K36)*100 -> #DIV/0! | M36: =B36&C36 -> 050
A37: 8930 | B37: =IFERROR(INDEX('Input Echo'!$M$11:$M$596,MATCH('(3)Flange Peq'!$A37,'Input Echo'!$I$11:$I$596,0)),INDEX('Input Echo'!$M$11:$M$596,MATCH('(3)Flange Peq'!$A37,'Input Echo'!$J$11:$J$596,0))) -> 0 | C37: =IFERROR(INDEX('Input Echo'!$AI$11:$AI$596,MATCH('(3)Flange Peq'!$A37,'Input Echo'!$I$11:$I$596,0)),INDEX('Input Echo'!$AI$11:$AI$596,MATCH('(3)Flange Peq'!$A37,'Input Echo'!$J$11:$J$596,0))) -> 100 | D37: =IFERROR(INDEX('Input Echo'!$Y$11:$Y$596,MATCH('(3)Flange Peq'!$A37,'Input Echo'!$I$11:$I$596,0)),INDEX('Input Echo'!$Y$11:$Y$596,MATCH('(3)Flange Peq'!$A37,'Input Echo'!$J$11:$J$596,0))) -> 10 | E37: 77 | F37: 39 | G37: 77.85 | H37: =IFERROR(INDEX('Input Echo'!$O$11:$O$596,MATCH('(3)Flange Peq'!$A37,'Input Echo'!$I$11:$I$596,0)),INDEX('Input Echo'!$O$11:$O$596,MATCH('(3)Flange Peq'!$A37,'[1]Input Echo'!$J$11:$J$600,0))) -> 0 | I37: =D37+4*E37*10/(PI()*G37^2)+16*F37*10^4/(PI()*G37^2*H37) -> #DIV/0! | J37: 110 | K37: 17.31 | L37: =(I37/K37)*100 -> #DIV/0! | M37: =B37&C37 -> 0100
A38: 9030 | B38: =IFERROR(INDEX('Input Echo'!$M$11:$M$596,MATCH('(3)Flange Peq'!$A38,'Input Echo'!$I$11:$I$596,0)),INDEX('Input Echo'!$M$11:$M$596,MATCH('(3)Flange Peq'!$A38,'Input Echo'!$J$11:$J$596,0))) -> 0 | C38: =IFERROR(INDEX('Input Echo'!$AI$11:$AI$596,MATCH('(3)Flange Peq'!$A38,'Input Echo'!$I$11:$I$596,0)),INDEX('Input Echo'!$AI$11:$AI$596,MATCH('(3)Flange Peq'!$A38,'Input Echo'!$J$11:$J$596,0))) -> 100 | D38: =IFERROR(INDEX('Input Echo'!$Y$11:$Y$596,MATCH('(3)Flange Peq'!$A38,'Input Echo'!$I$11:$I$596,0)),INDEX('Input Echo'!$Y$11:$Y$596,MATCH('(3)Flange Peq'!$A38,'Input Echo'!$J$11:$J$596,0))) -> 10 | E38: 18 | F38: 18 | G38: 61.98 | H38: =IFERROR(INDEX('Input Echo'!$O$11:$O$596,MATCH('(3)Flange Peq'!$A38,'Input Echo'!$I$11:$I$596,0)),INDEX('Input Echo'!$O$11:$O$596,MATCH('(3)Flange Peq'!$A38,'[1]Input Echo'!$J$11:$J$600,0))) -> 0 | I38: =D38+4*E38*10/(PI()*G38^2)+16*F38*10^4/(PI()*G38^2*H38) -> #DIV/0! | J38: 52 | K38: 49.96 | L38: =(I38/K38)*100 -> #DIV/0! | M38: =B38&C38 -> 0100
A39: 9040 | B39: =IFERROR(INDEX('Input Echo'!$M$11:$M$596,MATCH('(3)Flange Peq'!$A39,'Input Echo'!$I$11:$I$596,0)),INDEX('Input Echo'!$M$11:$M$596,MATCH('(3)Flange Peq'!$A39,'Input Echo'!$J$11:$J$596,0))) -> 0 | C39: =IFERROR(INDEX('Input Echo'!$AI$11:$AI$596,MATCH('(3)Flange Peq'!$A39,'Input Echo'!$I$11:$I$596,0)),INDEX('Input Echo'!$AI$11:$AI$596,MATCH('(3)Flange Peq'!$A39,'Input Echo'!$J$11:$J$596,0))) -> 80 | D39: =IFERROR(INDEX('Input Echo'!$Y$11:$Y$596,MATCH('(3)Flange Peq'!$A39,'Input Echo'!$I$11:$I$596,0)),INDEX('Input Echo'!$Y$11:$Y$596,MATCH('(3)Flange Peq'!$A39,'Input Echo'!$J$11:$J$596,0))) -> 17 | E39: 18 | F39: 17 | G39: 61.98 | H39: =IFERROR(INDEX('Input Echo'!$O$11:$O$596,MATCH('(3)Flange Peq'!$A39,'Input Echo'!$I$11:$I$596,0)),INDEX('Input Echo'!$O$11:$O$596,MATCH('(3)Flange Peq'!$A39,'[1]Input Echo'!$J$11:$J$600,0))) -> 0 | I39: =D39+4*E39*10/(PI()*G39^2)+16*F39*10^4/(PI()*G39^2*H39) -> #DIV/0! | J39: 52 | K39: 49.96 | L39: =(I39/K39)*100 -> #DIV/0! | M39: =B39&C39 -> 080
A40: 9160 | B40: =IFERROR(INDEX('Input Echo'!$M$11:$M$596,MATCH('(3)Flange Peq'!$A40,'Input Echo'!$I$11:$I$596,0)),INDEX('Input Echo'!$M$11:$M$596,MATCH('(3)Flange Peq'!$A40,'Input Echo'!$J$11:$J$596,0))) -> 0 | C40: =IFERROR(INDEX('Input Echo'!$AI$11:$AI$596,MATCH('(3)Flange Peq'!$A40,'Input Echo'!$I$11:$I$596,0)),INDEX('Input Echo'!$AI$11:$AI$596,MATCH('(3)Flange Peq'!$A40,'Input Echo'!$J$11:$J$596,0))) -> 50 | D40: =IFERROR(INDEX('Input Echo'!$Y$11:$Y$596,MATCH('(3)Flange Peq'!$A40,'Input Echo'!$I$11:$I$596,0)),INDEX('Input Echo'!$Y$11:$Y$596,MATCH('(3)Flange Peq'!$A40,'Input Echo'!$J$11:$J$596,0))) -> 17 | E40: 12 | F40: 16 | G40: 61.98 | H40: =IFERROR(INDEX('Input Echo'!$O$11:$O$596,MATCH('(3)Flange Peq'!$A40,'Input Echo'!$I$11:$I$596,0)),INDEX('Input Echo'!$O$11:$O$596,MATCH('(3)Flange Peq'!$A40,'[1]Input Echo'!$J$11:$J$600,0))) -> 0 | I40: =D40+4*E40*10/(PI()*G40^2)+16*F40*10^4/(PI()*G40^2*H40) -> #DIV/0! | J40: 52 | K40: 49.96 | L40: =(I40/K40)*100 -> #DIV/0! | M40: =B40&C40 -> 050
A41: 92 | B41: =IFERROR(INDEX('Input Echo'!$M$11:$M$596,MATCH('(3)Flange Peq'!$A41,'Input Echo'!$I$11:$I$596,0)),INDEX('Input Echo'!$M$11:$M$596,MATCH('(3)Flange Peq'!$A41,'Input Echo'!$J$11:$J$596,0))) -> 0 | C41: =IFERROR(INDEX('Input Echo'!$AI$11:$AI$596,MATCH('(3)Flange Peq'!$A41,'Input Echo'!$I$11:$I$596,0)),INDEX('Input Echo'!$AI$11:$AI$596,MATCH('(3)Flange Peq'!$A41,'Input Echo'!$J$11:$J$596,0))) -> 50 | D41: =IFERROR(INDEX('Input Echo'!$Y$11:$Y$596,MATCH('(3)Flange Peq'!$A41,'Input Echo'!$I$11:$I$596,0)),INDEX('Input Echo'!$Y$11:$Y$596,MATCH('(3)Flange Peq'!$A41,'Input Echo'!$J$11:$J$596,0))) -> 10 | E41: 0 | F41: 0 | G41: 39.75 | H41: =IFERROR(INDEX('Input Echo'!$O$11:$O$596,MATCH('(3)Flange Peq'!$A41,'Input Echo'!$I$11:$I$596,0)),INDEX('Input Echo'!$O$11:$O$596,MATCH('(3)Flange Peq'!$A41,'[1]Input Echo'!$J$11:$J$600,0))) -> 0 | I41: =D41+4*E41*10/(PI()*G41^2)+16*F41*10^4/(PI()*G41^2*H41) -> #DIV/0! | J41: 110 | K41: 17.31 | L41: =(I41/K41)*100 -> #DIV/0! | M41: =B41&C41 -> 050
A42: 102 | B42: =IFERROR(INDEX('Input Echo'!$M$11:$M$596,MATCH('(3)Flange Peq'!$A42,'Input Echo'!$I$11:$I$596,0)),INDEX('Input Echo'!$M$11:$M$596,MATCH('(3)Flange Peq'!$A42,'Input Echo'!$J$11:$J$596,0))) -> 0 | C42: =IFERROR(INDEX('Input Echo'!$AI$11:$AI$596,MATCH('(3)Flange Peq'!$A42,'Input Echo'!$I$11:$I$596,0)),INDEX('Input Echo'!$AI$11:$AI$596,MATCH('(3)Flange Peq'!$A42,'Input Echo'!$J$11:$J$596,0))) -> 50 | D42: =IFERROR(INDEX('Input Echo'!$Y$11:$Y$596,MATCH('(3)Flange Peq'!$A42,'Input Echo'!$I$11:$I$596,0)),INDEX('Input Echo'!$Y$11:$Y$596,MATCH('(3)Flange Peq'!$A42,'Input Echo'!$J$11:$J$596,0))) -> 17 | E42: 731 | F42: 142 | G42: 77.85 | H42: =IFERROR(INDEX('Input Echo'!$O$11:$O$596,MATCH('(3)Flange Peq'!$A42,'Input Echo'!$I$11:$I$596,0)),INDEX('Input Echo'!$O$11:$O$596,MATCH('(3)Flange Peq'!$A42,'[1]Input Echo'!$J$11:$J$600,0))) -> #N/A | I42: 0 | J42: 110 | K42: 17.31 | L42: =(I42/K42)*100 -> 0 | M42: =B42&C42 -> 050
A43: 102 | B43: =IFERROR(INDEX('Input Echo'!$M$11:$M$596,MATCH('(3)Flange Peq'!$A43,'Input Echo'!$I$11:$I$596,0)),INDEX('Input Echo'!$M$11:$M$596,MATCH('(3)Flange Peq'!$A43,'Input Echo'!$J$11:$J$596,0))) -> 0 | C43: =IFERROR(INDEX('Input Echo'!$AI$11:$AI$596,MATCH('(3)Flange Peq'!$A43,'Input Echo'!$I$11:$I$596,0)),INDEX('Input Echo'!$AI$11:$AI$596,MATCH('(3)Flange Peq'!$A43,'Input Echo'!$J$11:$J$596,0))) -> 250 | D43: =IFERROR(INDEX('Input Echo'!$Y$11:$Y$596,MATCH('(3)Flange Peq'!$A43,'Input Echo'!$I$11:$I$596,0)),INDEX('Input Echo'!$Y$11:$Y$596,MATCH('(3)Flange Peq'!$A43,'Input Echo'!$J$11:$J$596,0))) -> 10 | E43: 731 | F43: 142 | G43: 77.85 | H43: =IFERROR(INDEX('Input Echo'!$O$11:$O$596,MATCH('(3)Flange Peq'!$A43,'Input Echo'!$I$11:$I$596,0)),INDEX('Input Echo'!$O$11:$O$596,MATCH('(3)Flange Peq'!$A43,'[1]Input Echo'!$J$11:$J$600,0))) -> 0 | I43: 0 | J43: 110 | K43: 17.31 | L43: =(I43/K43)*100 -> 0 | M43: =B43&C43 -> 0250
A44: 30030 | B44: =IFERROR(INDEX('Input Echo'!$M$11:$M$596,MATCH('(3)Flange Peq'!$A44,'Input Echo'!$I$11:$I$596,0)),INDEX('Input Echo'!$M$11:$M$596,MATCH('(3)Flange Peq'!$A44,'Input Echo'!$J$11:$J$596,0))) -> 300 | C44: =IFERROR(INDEX('Input Echo'!$AI$11:$AI$596,MATCH('(3)Flange Peq'!$A44,'Input Echo'!$I$11:$I$596,0)),INDEX('Input Echo'!$AI$11:$AI$596,MATCH('(3)Flange Peq'!$A44,'Input Echo'!$J$11:$J$596,0))) -> 100 | D44: =IFERROR(INDEX('Input Echo'!$Y$11:$Y$596,MATCH('(3)Flange Peq'!$A44,'Input Echo'!$I$11:$I$596,0)),INDEX('Input Echo'!$Y$11:$Y$596,MATCH('(3)Flange Peq'!$A44,'Input Echo'!$J$11:$J$596,0))) -> 20 | E44: 150 | F44: 40 | G44: 77.85 | H44: =IFERROR(INDEX('Input Echo'!$O$11:$O$596,MATCH('(3)Flange Peq'!$A44,'Input Echo'!$I$11:$I$596,0)),INDEX('Input Echo'!$O$11:$O$596,MATCH('(3)Flange Peq'!$A44,'[1]Input Echo'!$J$11:$J$600,0))) -> 200 | I44: =D44+4*E44*10/(PI()*G44^2)+16*F44*10^4/(PI()*G44^2*H44) -> 21.995798 | J44: 110 | K44: 17.31 | L44: =(I44/K44)*100 -> 127.06989 | M44: =B44&C44 -> 300100
A45: 30060 | B45: =IFERROR(INDEX('Input Echo'!$M$11:$M$596,MATCH('(3)Flange Peq'!$A45,'Input Echo'!$I$11:$I$596,0)),INDEX('Input Echo'!$M$11:$M$596,MATCH('(3)Flange Peq'!$A45,'Input Echo'!$J$11:$J$596,0))) -> 300 | C45: =IFERROR(INDEX('Input Echo'!$AI$11:$AI$596,MATCH('(3)Flange Peq'!$A45,'Input Echo'!$I$11:$I$596,0)),INDEX('Input Echo'!$AI$11:$AI$596,MATCH('(3)Flange Peq'!$A45,'Input Echo'!$J$11:$J$596,0))) -> 150 | D45: =IFERROR(INDEX('Input Echo'!$Y$11:$Y$596,MATCH('(3)Flange Peq'!$A45,'Input Echo'!$I$11:$I$596,0)),INDEX('Input Echo'!$Y$11:$Y$596,MATCH('(3)Flange Peq'!$A45,'Input Echo'!$J$11:$J$596,0))) -> 20 | E45: 399 | F45: 65 | G45: 39.75 | H45: =IFERROR(INDEX('Input Echo'!$O$11:$O$596,MATCH('(3)Flange Peq'!$A45,'Input Echo'!$I$11:$I$596,0)),INDEX('Input Echo'!$O$11:$O$596,MATCH('(3)Flange Peq'!$A45,'[1]Input Echo'!$J$11:$J$600,0))) -> #N/A | I45: 0 | J45: 52 | K45: 49.96 | L45: =(I45/K45)*100 -> 0 | M45: =B45&C45 -> 300150
A46: 30140 | B46: =IFERROR(INDEX('Input Echo'!$M$11:$M$596,MATCH('(3)Flange Peq'!$A46,'Input Echo'!$I$11:$I$596,0)),INDEX('Input Echo'!$M$11:$M$596,MATCH('(3)Flange Peq'!$A46,'Input Echo'!$J$11:$J$596,0))) -> 300 | C46: =IFERROR(INDEX('Input Echo'!$AI$11:$AI$596,MATCH('(3)Flange Peq'!$A46,'Input Echo'!$I$11:$I$596,0)),INDEX('Input Echo'!$AI$11:$AI$596,MATCH('(3)Flange Peq'!$A46,'Input Echo'!$J$11:$J$596,0))) -> 80 | D46: =IFERROR(INDEX('Input Echo'!$Y$11:$Y$596,MATCH('(3)Flange Peq'!$A46,'Input Echo'!$I$11:$I$596,0)),INDEX('Input Echo'!$Y$11:$Y$596,MATCH('(3)Flange Peq'!$A46,'Input Echo'!$J$11:$J$596,0))) -> 20 | E46: 34 | F46: 40 | G46: 61.98 | H46: =IFERROR(INDEX('Input Echo'!$O$11:$O$596,MATCH('(3)Flange Peq'!$A46,'Input Echo'!$I$11:$I$596,0)),INDEX('Input Echo'!$O$11:$O$596,MATCH('(3)Flange Peq'!$A46,'[1]Input Echo'!$J$11:$J$600,0))) -> #N/A | I46: 0 | J46: 52 | K46: 49.96 | L46: =(I46/K46)*100 -> 0 | M46: =B46&C46 -> 30080
A47: 30140 | B47: =IFERROR(INDEX('Input Echo'!$M$11:$M$596,MATCH('(3)Flange Peq'!$A47,'Input Echo'!$I$11:$I$596,0)),INDEX('Input Echo'!$M$11:$M$596,MATCH('(3)Flange Peq'!$A47,'Input Echo'!$J$11:$J$596,0))) -> 0 | C47: =IFERROR(INDEX('Input Echo'!$AI$11:$AI$596,MATCH('(3)Flange Peq'!$A47,'Input Echo'!$I$11:$I$596,0)),INDEX('Input Echo'!$AI$11:$AI$596,MATCH('(3)Flange Peq'!$A47,'Input Echo'!$J$11:$J$596,0))) -> 50 | D47: =IFERROR(INDEX('Input Echo'!$Y$11:$Y$596,MATCH('(3)Flange Peq'!$A47,'Input Echo'!$I$11:$I$596,0)),INDEX('Input Echo'!$Y$11:$Y$596,MATCH('(3)Flange Peq'!$A47,'Input Echo'!$J$11:$J$596,0))) -> 10 | E47: 34 | F47: 40 | G47: 61.98 | H47: =IFERROR(INDEX('Input Echo'!$O$11:$O$596,MATCH('(3)Flange Peq'!$A47,'Input Echo'!$I$11:$I$596,0)),INDEX('Input Echo'!$O$11:$O$596,MATCH('(3)Flange Peq'!$A47,'[1]Input Echo'!$J$11:$J$600,0))) -> 0 | I47: =D47+4*E47*10/(PI()*G47^2)+16*F47*10^4/(PI()*G47^2*H47) -> #DIV/0! | J47: 52 | K47: 49.96 | L47: =(I47/K47)*100 -> #DIV/0! | M47: =B47&C47 -> 050
