Workbook

Sheet (32)Flange Peq
A1: CAESAR II 2016 Ver.8.00.00.5600, (Build 150930) Date: JUN 28, 2018 Time: 11:46
A2: Job Name: PRJ238_INE_NDC12_REV03_SORTIE 2 COUDES_TORCHE
A3: Licensed To: SPLM: Edit company name in <system>\company.txt
A4: FLANGE PEQ REPORT: Flange (Equiv Pressure Method)
A5: CASE 32 (EXP) L32=L5-L20
A7: Node | B7: Axial Force N | C7: Bending Moment N.m | D7: G/C mm | E7: P Equivalent bar | F7: Rating Temperature C | G7: Allowable Pressure /Stress | H7: Ratio %
A8: 10 | B8: 1067 | C8: 369 | D8: 196.09 | E8: 2.84 | F8: -17.78 | G8: 0.00 | H8: 0.00
A9: 10 | B9: 1067 | C9: 369 | D9: 196.09 | E9: 2.84 | F9: -17.78 | G9: 0.00 | H9: 0.00
A10: 20070 | B10: 595 | C10: 670 | D10: 196.09 | E10: 4.72 | F10: -17.78 | G10: 0.00 | H10: 0.00
A11: 20090 | B11: 1256 | C11: 748 | D11: 138.18 | E11: 15.28 | F11: -17.78 | G11: 0.00 | H11: 0.00
A12: 20210 | B12: 307 | C12: 533 | D12: 196.09 | E12: 3.70 | F12: -17.78 | G12: 0.00 | H12: 0.00
A13: 2015 | B13: 1651 | C13: 187 | D13: 77.85 | E13: 23.63 | F13: -17.78 | G13: 0.00 | H13: 0.00
A14: 20040 | B14: 1651 | C14: 357 | D14: 77.85 | E14: 42.03 | F14: -17.78 | G14: 0.00 | H14: 0.00
A15: 6210 | B15: 3802 | C15: 456 | D15: 111.13 | E15: 20.84 | F15: -17.78 | G15: 0.00 | H15: 0.00
A16: 6220 | B16: 3802 | C16: 569 | D16: 111.13 | E16: 25.04 | F16: -17.78 | G16: 0.00 | H16: 0.00
A17: 6380 | B17: 1473 | C17: 296 | D17: 111.13 | E17: 12.50 | F17: -17.78 | G17: 0.00 | H17: 0.00
A18: 6490 | B18: 705 | C18: 175 | D18: 111.13 | E18: 7.23 | F18: -17.78 | G18: 0.00 | H18: 0.00
A19: 6410 | B19: 632 | C19: 198 | D19: 111.13 | E19: 8.00 | F19: -17.78 | G19: 0.00 | H19: 0.00
... A96: 290 | B96: 1380 | C96: 4279 | D96: 357.25 | E96: 4.92 | F96: -17.78 | G96: 0.00 | H96: 0.00

Sheet (31)Flange Peq
A1: CAESAR II 2016 Ver.8.00.00.5600, (Build 150930) Date: JUN 28, 2018 Time: 11:46
A2: Job Name: PRJ238_INE_NDC12_REV03_SORTIE 2 COUDES_TORCHE
A3: Licensed To: SPLM: Edit company name in <system>\company.txt
A4: FLANGE PEQ REPORT: Flange (Equiv Pressure Method)
A5: CASE 31 (EXP) L31=L6-L16
A7: Node | B7: Axial Force N | C7: Bending Moment N.m | D7: G/C mm | E7: P Equivalent bar | F7: Rating Temperature C | G7: Allowable Pressure /Stress | H7: Ratio %
A8: 10 | B8: 1581 | C8: 1192 | D8: 196.09 | E8: 8.57 | F8: -17.78 | G8: 0.00 | H8: 0.00
A9: 10 | B9: 1581 | C9: 1192 | D9: 196.09 | E9: 8.57 | F9: -17.78 | G9: 0.00 | H9: 0.00
A10: 20070 | B10: 153 | C10: 886 | D10: 196.09 | E10: 6.03 | F10: -17.78 | G10: 0.00 | H10: 0.00
A11: 20090 | B11: 1194 | C11: 677 | D11: 138.18 | E11: 13.87 | F11: -17.78 | G11: 0.00 | H11: 0.00
A12: 20210 | B12: 1345 | C12: 956 | D12: 196.09 | E12: 6.91 | F12: -17.78 | G12: 0.00 | H12: 0.00
A13: 2015 | B13: 1704 | C13: 311 | D13: 77.85 | E13: 37.15 | F13: -17.78 | G13: 0.00 | H13: 0.00
A14: 20040 | B14: 1704 | C14: 470 | D14: 77.85 | E14: 54.31 | F14: -17.78 | G14: 0.00 | H14: 0.00
A15: 6210 | B15: 1736 | C15: 687 | D15: 111.13 | E15: 27.30 | F15: -17.78 | G15: 0.00 | H15: 0.00
A16: 6220 | B16: 1736 | C16: 704 | D16: 111.13 | E16: 27.90 | F16: -17.78 | G16: 0.00 | H16: 0.00
A17: 6310 | B17: 361 | C17: 161 | D17: 111.13 | E17: 6.36 | F17: -17.78 | G17: 0.00 | H17: 0.00
A18: 6380 | B18: 450 | C18: 82 | D18: 111.13 | E18: 3.51 | F18: -17.78 | G18: 0.00 | H18: 0.00
A19: 6490 | B19: 109 | C19: 111 | D19: 111.13 | E19: 4.23 | F19: -17.78 | G19: 0.00 | H19: 0.00
... A97: 290 | B97: 232 | C97: 777 | D97: 357.25 | E97: 0.89 | F97: -17.78 | G97: 0.00 | H97: 0.00

Sheet (20)Flange Peq
A1: CAESAR II 2016 Ver.8.00.00.5600, (Build 150930) Date: JUN 28, 2018 Time: 11:46
A2: Job Name: PRJ238_INE_NDC12_REV03_SORTIE 2 COUDES_TORCHE
A3: Licensed To: SPLM: Edit company name in <system>\company.txt
A4: FLANGE PEQ REPORT: Flange (Equiv Pressure Method)
A5: CASE 20 (SUS) WNC+P2
A7: Node | B7: C lasse | C7: DN | D7: Pression | E7: Axial Force N | F7: Bending Moment N.m | G7: G/C mm | H7: C (mm) | I7: P Equivalent bar | J7: Rating Temperature C | K7: Allowable Pressure /Stress | L7: Ratio % | M7: Index
A8: 10 | B8: =IFERROR(INDEX('Input Echo'!$M$11:$M$596,MATCH('(3)Flange Peq'!$A8,'Input Echo'!$I$11:$I$596,0)),INDEX('Input Echo'!$M$11:$M$596,MATCH('(3)Flange Peq'!$A8,'Input Echo'!$J$11:$J$596,0))) -> 150 | C8: =IFERROR(INDEX('Input Echo'!$AI$11:$AI$596,MATCH('(3)Flange Peq'!$A8,'Input Echo'!$I$11:$I$596,0)),INDEX('Input Echo'!$AI$11:$AI$596,MATCH('(3)Flange Peq'!$A8,'Input Echo'!$J$11:$J$596,0))) -> 150 | D8: =IFERROR(INDEX('Input Echo'!$Z$11:$Z$596,MATCH('(3)Flange Peq'!$A8,'Input Echo'!$I$11:$I$596,0)),INDEX('Input Echo'!$Z$11:$Z$596,MATCH('(3)Flange Peq'!$A8,'Input Echo'!$J$11:$J$596,0))) -> 0 | E8: 1058 | F8: 182 | G8: 196.09 | H8: =IFERROR(INDEX('Input Echo'!$O$11:$O$596,MATCH('(3)Flange Peq'!$A8,'Input Echo'!$I$11:$I$596,0)),INDEX('Input Echo'!$O$11:$O$596,MATCH('(3)Flange Peq'!$A8,'[1]Input Echo'!$J$11:$J$600,0))) -> 241.3 | I8: =D8+4*E8*10/(PI()*G8^2)+16*F8*10^4/(PI()*G8^2*H8) -> 1.349354 | J8: -48 | K8: 19.65 | L8: =(I8/K8)*100 -> 6.8669416 | M8: =B8&C8 -> 150150
A9: 10 | B9: =IFERROR(INDEX('Input Echo'!$M$11:$M$596,MATCH('(3)Flange Peq'!$A9,'Input Echo'!$I$11:$I$596,0)),INDEX('Input Echo'!$M$11:$M$596,MATCH('(3)Flange Peq'!$A9,'Input Echo'!$J$11:$J$596,0))) -> 150 | C9: =IFERROR(INDEX('Input Echo'!$AI$11:$AI$596,MATCH('(3)Flange Peq'!$A9,'Input Echo'!$I$11:$I$596,0)),INDEX('Input Echo'!$AI$11:$AI$596,MATCH('(3)Flange Peq'!$A9,'Input Echo'!$J$11:$J$596,0))) -> 150 | D9: =IFERROR(INDEX('Input Echo'!$Z$11:$Z$596,MATCH('(3)Flange Peq'!$A9,'Input Echo'!$I$11:$I$596,0)),INDEX('Input Echo'!$Z$11:$Z$596,MATCH('(3)Flange Peq'!$A9,'Input Echo'!$J$11:$J$596,0))) -> 0 | E9: 1058 | F9: 182 | G9: 196.09 | H9: =IFERROR(INDEX('Input Echo'!$O$11:$O$596,MATCH('(3)Flange Peq'!$A9,'Input Echo'!$I$11:$I$596,0)),INDEX('Input Echo'!$O$11:$O$596,MATCH('(3)Flange Peq'!$A9,'[1]Input Echo'!$J$11:$J$600,0))) -> 241.3 | I9: =D9+4*E9*10/(PI()*G9^2)+16*F9*10^4/(PI()*G9^2*H9) -> 1.349354 | J9: -48 | K9: 19.65 | L9: =(I9/K9)*100 -> 6.8669416 | M9: =B9&C9 -> 150150
A10: 20070 | B10: =IFERROR(INDEX('Input Echo'!$M$11:$M$596,MATCH('(3)Flange Peq'!$A10,'Input Echo'!$I$11:$I$596,0)),INDEX('Input Echo'!$M$11:$M$596,MATCH('(3)Flange Peq'!$A10,'Input Echo'!$J$11:$J$596,0))) -> 0 | C10: =IFERROR(INDEX('Input Echo'!$AI$11:$AI$596,MATCH('(3)Flange Peq'!$A10,'Input Echo'!$I$11:$I$596,0)),INDEX('Input Echo'!$AI$11:$AI$596,MATCH('(3)Flange Peq'!$A10,'Input Echo'!$J$11:$J$596,0))) -> 150 | D10: =IFERROR(INDEX('Input Echo'!$Z$11:$Z$596,MATCH('(3)Flange Peq'!$A10,'Input Echo'!$I$11:$I$596,0)),INDEX('Input Echo'!$Z$11:$Z$596,MATCH('(3)Flange Peq'!$A10,'Input Echo'!$J$11:$J$596,0))) -> 0 | E10: 221 | F10: 148 | G10: 196.09 | H10: =IFERROR(INDEX('Input Echo'!$O$11:$O$596,MATCH('(3)Flange Peq'!$A10,'Input Echo'!$I$11:$I$596,0)),INDEX('Input Echo'!$O$11:$O$596,MATCH('(3)Flange Peq'!$A10,'[1]Input Echo'!$J$11:$J$600,0))) -> 0 | I10: =D10+4*E10*10/(PI()*G10^2)+16*F10*10^4/(PI()*G10^2*H10) -> #DIV/0! | J10: -48 | K10: 19.65 | L10: =(I10/K10)*100 -> #DIV/0! | M10: =B10&C10 -> 0150
A11: 20090 | B11: =IFERROR(INDEX('Input Echo'!$M$11:$M$596,MATCH('(3)Flange Peq'!$A11,'Input Echo'!$I$11:$I$596,0)),INDEX('Input Echo'!$M$11:$M$596,MATCH('(3)Flange Peq'!$A11,'Input Echo'!$J$11:$J$596,0))) -> 0 | C11: =IFERROR(INDEX('Input Echo'!$AI$11:$AI$596,MATCH('(3)Flange Peq'!$A11,'Input Echo'!$I$11:$I$596,0)),INDEX('Input Echo'!$AI$11:$AI$596,MATCH('(3)Flange Peq'!$A11,'Input Echo'!$J$11:$J$596,0))) -> 80 | D11: =IFERROR(INDEX('Input Echo'!$Z$11:$Z$596,MATCH('(3)Flange Peq'!$A11,'Input Echo'!$I$11:$I$596,0)),INDEX('Input Echo'!$Z$11:$Z$596,MATCH('(3)Flange Peq'!$A11,'Input Echo'!$J$11:$J$596,0))) -> -1 | E11: 912 | F11: 190 | G11: 138.18 | H11: =IFERROR(INDEX('Input Echo'!$O$11:$O$596,MATCH('(3)Flange Peq'!$A11,'Input Echo'!$I$11:$I$596,0)),INDEX('Input Echo'!$O$11:$O$596,MATCH('(3)Flange Peq'!$A11,'[1]Input Echo'!$J$11:$J$600,0))) -> 0 | I11: =D11+4*E11*10/(PI()*G11^2)+16*F11*10^4/(PI()*G11^2*H11) -> #DIV/0! | J11: -13 | K11: 51.02 | L11: =(I11/K11)*100 -> #DIV/0! | M11: =B11&C11 -> 080
A12: 20210 | B12: =IFERROR(INDEX('Input Echo'!$M$11:$M$596,MATCH('(3)Flange Peq'!$A12,'Input Echo'!$I$11:$I$596,0)),INDEX('Input Echo'!$M$11:$M$596,MATCH('(3)Flange Peq'!$A12,'Input Echo'!$J$11:$J$596,0))) -> 0 | C12: =IFERROR(INDEX('Input Echo'!$AI$11:$AI$596,MATCH('(3)Flange Peq'!$A12,'Input Echo'!$I$11:$I$596,0)),INDEX('Input Echo'!$AI$11:$AI$596,MATCH('(3)Flange Peq'!$A12,'Input Echo'!$J$11:$J$596,0))) -> 50 | D12: =IFERROR(INDEX('Input Echo'!$Z$11:$Z$596,MATCH('(3)Flange Peq'!$A12,'Input Echo'!$I$11:$I$596,0)),INDEX('Input Echo'!$Z$11:$Z$596,MATCH('(3)Flange Peq'!$A12,'Input Echo'!$J$11:$J$596,0))) -> -1 | E12: 747 | F12: 607 | G12: 196.09 | H12: =IFERROR(INDEX('Input Echo'!$O$11:$O$596,MATCH('(3)Flange Peq'!$A12,'Input Echo'!$I$11:$I$596,0)),INDEX('Input Echo'!$O$11:$O$596,MATCH('(3)Flange Peq'!$A12,'[1]Input Echo'!$J$11:$J$600,0))) -> 0 | I12: =D12+4*E12*10/(PI()*G12^2)+16*F12*10^4/(PI()*G12^2*H12) -> #DIV/0! | J12: -13 | K12: 51.02 | L12: =(I12/K12)*100 -> #DIV/0! | M12: =B12&C12 -> 050
A13: 2015 | B13: =IFERROR(INDEX('Input Echo'!$M$11:$M$596,MATCH('(3)Flange Peq'!$A13,'Input Echo'!$I$11:$I$596,0)),INDEX('Input Echo'!$M$11:$M$596,MATCH('(3)Flange Peq'!$A13,'Input Echo'!$J$11:$J$596,0))) -> 300 | C13: =IFERROR(INDEX('Input Echo'!$AI$11:$AI$596,MATCH('(3)Flange Peq'!$A13,'Input Echo'!$I$11:$I$596,0)),INDEX('Input Echo'!$AI$11:$AI$596,MATCH('(3)Flange Peq'!$A13,'Input Echo'!$J$11:$J$596,0))) -> 100 | D13: =IFERROR(INDEX('Input Echo'!$Z$11:$Z$596,MATCH('(3)Flange Peq'!$A13,'Input Echo'!$I$11:$I$596,0)),INDEX('Input Echo'!$Z$11:$Z$596,MATCH('(3)Flange Peq'!$A13,'Input Echo'!$J$11:$J$596,0))) -> -1 | E13: 717 | F13: 60 | G13: 77.85 | H13: =IFERROR(INDEX('Input Echo'!$O$11:$O$596,MATCH('(3)Flange Peq'!$A13,'Input Echo'!$I$11:$I$596,0)),INDEX('Input Echo'!$O$11:$O$596,MATCH('(3)Flange Peq'!$A13,'[1]Input Echo'!$J$11:$J$600,0))) -> #N/A | I13: 0 | J13: -13 | K13: 51.02 | L13: =(I13/K13)*100 -> 0 | M13: =B13&C13 -> 300100
A14: 20040 | B14: =IFERROR(INDEX('Input Echo'!$M$11:$M$596,MATCH('(3)Flange Peq'!$A14,'Input Echo'!$I$11:$I$596,0)),INDEX('Input Echo'!$M$11:$M$596,MATCH('(3)Flange Peq'!$A14,'Input Echo'!$J$11:$J$596,0))) -> 300 | C14: =IFERROR(INDEX('Input Echo'!$AI$11:$AI$596,MATCH('(3)Flange Peq'!$A14,'Input Echo'!$I$11:$I$596,0)),INDEX('Input Echo'!$AI$11:$AI$596,MATCH('(3)Flange Peq'!$A14,'Input Echo'!$J$11:$J$596,0))) -> 50 | D14: =IFERROR(INDEX('Input Echo'!$Z$11:$Z$596,MATCH('(3)Flange Peq'!$A14,'Input Echo'!$I$11:$I$596,0)),INDEX('Input Echo'!$Z$11:$Z$596,MATCH('(3)Flange Peq'!$A14,'Input Echo'!$J$11:$J$596,0))) -> -1 | E14: 717 | F14: 23 | G14: 77.85 | H14: =IFERROR(INDEX('Input Echo'!$O$11:$O$596,MATCH('(3)Flange Peq'!$A14,'Input Echo'!$I$11:$I$596,0)),INDEX('Input Echo'!$O$11:$O$596,MATCH('(3)Flange Peq'!$A14,'[1]Input Echo'!$J$11:$J$600,0))) -> #N/A | I14: 0 | J14: -48 | K14: 51.02 | L14: =(I14/K14)*100 -> 0 | M14: =B14&C14 -> 30050
A15: 6210 | B15: =IFERROR(INDEX('Input Echo'!$M$11:$M$596,MATCH('(3)Flange Peq'!$A15,'Input Echo'!$I$11:$I$596,0)),INDEX('Input Echo'!$M$11:$M$596,MATCH('(3)Flange Peq'!$A15,'Input Echo'!$J$11:$J$596,0))) -> 0 | C15: =IFERROR(INDEX('Input Echo'!$AI$11:$AI$596,MATCH('(3)Flange Peq'!$A15,'Input Echo'!$I$11:$I$596,0)),INDEX('Input Echo'!$AI$11:$AI$596,MATCH('(3)Flange Peq'!$A15,'Input Echo'!$J$11:$J$596,0))) -> 80 | D15: =IFERROR(INDEX('Input Echo'!$Z$11:$Z$596,MATCH('(3)Flange Peq'!$A15,'Input Echo'!$I$11:$I$596,0)),INDEX('Input Echo'!$Z$11:$Z$596,MATCH('(3)Flange Peq'!$A15,'Input Echo'!$J$11:$J$596,0))) -> -1 | E15: 666 | F15: 97 | G15: 111.13 | H15: =IFERROR(INDEX('Input Echo'!$O$11:$O$596,MATCH('(3)Flange Peq'!$A15,'Input Echo'!$I$11:$I$596,0)),INDEX('Input Echo'!$O$11:$O$596,MATCH('(3)Flange Peq'!$A15,'[1]Input Echo'!$J$11:$J$600,0))) -> 0 | I15: =D15+4*E15*10/(PI()*G15^2)+16*F15*10^4/(PI()*G15^2*H15) -> #DIV/0! | J15: -48 | K15: 51.02 | L15: =(I15/K15)*100 -> #DIV/0! | M15: =B15&C15 -> 080
A16: 6220 | B16: =IFERROR(INDEX('Input Echo'!$M$11:$M$596,MATCH('(3)Flange Peq'!$A16,'Input Echo'!$I$11:$I$596,0)),INDEX('Input Echo'!$M$11:$M$596,MATCH('(3)Flange Peq'!$A16,'Input Echo'!$J$11:$J$596,0))) -> 0 | C16: =IFERROR(INDEX('Input Echo'!$AI$11:$AI$596,MATCH('(3)Flange Peq'!$A16,'Input Echo'!$I$11:$I$596,0)),INDEX('Input Echo'!$AI$11:$AI$596,MATCH('(3)Flange Peq'!$A16,'Input Echo'!$J$11:$J$596,0))) -> 80 | D16: =IFERROR(INDEX('Input Echo'!$Z$11:$Z$596,MATCH('(3)Flange Peq'!$A16,'Input Echo'!$I$11:$I$596,0)),INDEX('Input Echo'!$Z$11:$Z$596,MATCH('(3)Flange Peq'!$A16,'Input Echo'!$J$11:$J$596,0))) -> -1 | E16: 602 | F16: 109 | G16: 111.13 | H16: =IFERROR(INDEX('Input Echo'!$O$11:$O$596,MATCH('(3)Flange Peq'!$A16,'Input Echo'!$I$11:$I$596,0)),INDEX('Input Echo'!$O$11:$O$596,MATCH('(3)Flange Peq'!$A16,'[1]Input Echo'!$J$11:$J$600,0))) -> 0 | I16: =D16+4*E16*10/(PI()*G16^2)+16*F16*10^4/(PI()*G16^2*H16) -> #DIV/0! | J16: -48 | K16: 51.02 | L16: =(I16/K16)*100 -> #DIV/0! | M16: =B16&C16 -> 080
A17: 6310 | B17: =IFERROR(INDEX('Input Echo'!$M$11:$M$596,MATCH('(3)Flange Peq'!$A17,'Input Echo'!$I$11:$I$596,0)),INDEX('Input Echo'!$M$11:$M$596,MATCH('(3)Flange Peq'!$A17,'Input Echo'!$J$11:$J$596,0))) -> 150 | C17: =IFERROR(INDEX('Input Echo'!$AI$11:$AI$596,MATCH('(3)Flange Peq'!$A17,'Input Echo'!$I$11:$I$596,0)),INDEX('Input Echo'!$AI$11:$AI$596,MATCH('(3)Flange Peq'!$A17,'Input Echo'!$J$11:$J$596,0))) -> 50 | D17: =IFERROR(INDEX('Input Echo'!$Z$11:$Z$596,MATCH('(3)Flange Peq'!$A17,'Input Echo'!$I$11:$I$596,0)),INDEX('Input Echo'!$Z$11:$Z$596,MATCH('(3)Flange Peq'!$A17,'Input Echo'!$J$11:$J$596,0))) -> 0 | E17: 89 | F17: 11 | G17: 111.13 | H17: =IFERROR(INDEX('Input Echo'!$O$11:$O$596,MATCH('(3)Flange Peq'!$A17,'Input Echo'!$I$11:$I$596,0)),INDEX('Input Echo'!$O$11:$O$596,MATCH('(3)Flange Peq'!$A17,'[1]Input Echo'!$J$11:$J$600,0))) -> 120.6 | I17: =D17+4*E17*10/(PI()*G17^2)+16*F17*10^4/(PI()*G17^2*H17) -> 0.46789953 | J17: -48 | K17: 19.65 | L17: =(I17/K17)*100 -> 2.3811681 | M17: =B17&C17 -> 15050
A18: 6380 | B18: =IFERROR(INDEX('Input Echo'!$M$11:$M$596,MATCH('(3)Flange Peq'!$A18,'Input Echo'!$I$11:$I$596,0)),INDEX('Input Echo'!$M$11:$M$596,MATCH('(3)Flange Peq'!$A18,'Input Echo'!$J$11:$J$596,0))) -> 150 | C18: =IFERROR(INDEX('Input Echo'!$AI$11:$AI$596,MATCH('(3)Flange Peq'!$A18,'Input Echo'!$I$11:$I$596,0)),INDEX('Input Echo'!$AI$11:$AI$596,MATCH('(3)Flange Peq'!$A18,'Input Echo'!$J$11:$J$596,0))) -> 50 | D18: =IFERROR(INDEX('Input Echo'!$Z$11:$Z$596,MATCH('(3)Flange Peq'!$A18,'Input Echo'!$I$11:$I$596,0)),INDEX('Input Echo'!$Z$11:$Z$596,MATCH('(3)Flange Peq'!$A18,'Input Echo'!$J$11:$J$596,0))) -> 0 | E18: 152 | F18: 48 | G18: 111.13 | H18: =IFERROR(INDEX('Input Echo'!$O$11:$O$596,MATCH('(3)Flange Peq'!$A18,'Input Echo'!$I$11:$I$596,0)),INDEX('Input Echo'!$O$11:$O$596,MATCH('(3)Flange Peq'!$A18,'[1]Input Echo'!$J$11:$J$600,0))) -> 120.6 | I18: =D18+4*E18*10/(PI()*G18^2)+16*F18*10^4/(PI()*G18^2*H18) -> 1.7980588 | J18: -48 | K18: 51.02 | L18: =(I18/K18)*100 -> 3.5242234 | M18: =B18&C18 -> 15050
A19: 6410 | B19: =IFERROR(INDEX('Input Echo'!$M$11:$M$596,MATCH('(3)Flange Peq'!$A19,'Input Echo'!$I$11:$I$596,0)),INDEX('Input Echo'!$M$11:$M$596,MATCH('(3)Flange Peq'!$A19,'Input Echo'!$J$11:$J$596,0))) -> 0 | C19: =IFERROR(INDEX('Input Echo'!$AI$11:$AI$596,MATCH('(3)Flange Peq'!$A19,'Input Echo'!$I$11:$I$596,0)),INDEX('Input Echo'!$AI$11:$AI$596,MATCH('(3)Flange Peq'!$A19,'Input Echo'!$J$11:$J$596,0))) -> 50 | D19: =IFERROR(INDEX('Input Echo'!$Z$11:$Z$596,MATCH('(3)Flange Peq'!$A19,'Input Echo'!$I$11:$I$596,0)),INDEX('Input Echo'!$Z$11:$Z$596,MATCH('(3)Flange Peq'!$A19,'Input Echo'!$J$11:$J$596,0))) -> 0 | E19: 104 | F19: 55 | G19: 111.13 | H19: =IFERROR(INDEX('Input Echo'!$O$11:$O$596,MATCH('(3)Flange Peq'!$A19,'Input Echo'!$I$11:$I$596,0)),INDEX('Input Echo'!$O$11:$O$596,MATCH('(3)Flange Peq'!$A19,'[1]Input Echo'!$J$11:$J$600,0))) -> 0 | I19: =D19+4*E19*10/(PI()*G19^2)+16*F19*10^4/(PI()*G19^2*H19) -> #DIV/0! | J19: -48 | K19: 51.02 | L19: =(I19/K19)*100 -> #DIV/0! | M19: =B19&C19 -> 050
A20: 6330 | B20: =IFERROR(INDEX('Input Echo'!$M$11:$M$596,MATCH('(3)Flange Peq'!$A20,'Input Echo'!$I$11:$I$596,0)),INDEX('Input Echo'!$M$11:$M$596,MATCH('(3)Flange Peq'!$A20,'Input Echo'!$J$11:$J$596,0))) -> 150 | C20: =IFERROR(INDEX('Input Echo'!$AI$11:$AI$596,MATCH('(3)Flange Peq'!$A20,'Input Echo'!$I$11:$I$596,0)),INDEX('Input Echo'!$AI$11:$AI$596,MATCH('(3)Flange Peq'!$A20,'Input Echo'!$J$11:$J$596,0))) -> 25 | D20: =IFERROR(INDEX('Input Echo'!$Z$11:$Z$596,MATCH('(3)Flange Peq'!$A20,'Input Echo'!$I$11:$I$596,0)),INDEX('Input Echo'!$Z$11:$Z$596,MATCH('(3)Flange Peq'!$A20,'Input Echo'!$J$11:$J$596,0))) -> 0 | E20: 135 | F20: 50 | G20: 111.13 | H20: =IFERROR(INDEX('Input Echo'!$O$11:$O$596,MATCH('(3)Flange Peq'!$A20,'Input Echo'!$I$11:$I$596,0)),INDEX('Input Echo'!$O$11:$O$596,MATCH('(3)Flange Peq'!$A20,'[1]Input Echo'!$J$11:$J$600,0))) -> #N/A | I20: 0 | J20: -48 | K20: 19.65 | L20: =(I20/K20)*100 -> 0 | M20: =B20&C20 -> 15025
A21: 74 | B21: =IFERROR(INDEX('Input Echo'!$M$11:$M$596,MATCH('(3)Flange Peq'!$A21,'Input Echo'!$I$11:$I$596,0)),INDEX('Input Echo'!$M$11:$M$596,MATCH('(3)Flange Peq'!$A21,'Input Echo'!$J$11:$J$596,0))) -> 150 | C21: =IFERROR(INDEX('Input Echo'!$AI$11:$AI$596,MATCH('(3)Flange Peq'!$A21,'Input Echo'!$I$11:$I$596,0)),INDEX('Input Echo'!$AI$11:$AI$596,MATCH('(3)Flange Peq'!$A21,'Input Echo'!$J$11:$J$596,0))) -> 50 | D21: =IFERROR(INDEX('Input Echo'!$Z$11:$Z$596,MATCH('(3)Flange Peq'!$A21,'Input Echo'!$I$11:$I$596,0)),INDEX('Input Echo'!$Z$11:$Z$596,MATCH('(3)Flange Peq'!$A21,'Input Echo'!$J$11:$J$596,0))) -> 0 | E21: 701 | F21: 77 | G21: 111.13 | H21: =IFERROR(INDEX('Input Echo'!$O$11:$O$596,MATCH('(3)Flange Peq'!$A21,'Input Echo'!$I$11:$I$596,0)),INDEX('Input Echo'!$O$11:$O$596,MATCH('(3)Flange Peq'!$A21,'[1]Input Echo'!$J$11:$J$600,0))) -> 120.6 | I21: =D21+4*E21*10/(PI()*G21^2)+16*F21*10^4/(PI()*G21^2*H21) -> 3.3557126 | J21: -48 | K21: 51.02 | L21: =(I21/K21)*100 -> 6.5772494 | M21: =B21&C21 -> 15050
A22: 7400 | B22: =IFERROR(INDEX('Input Echo'!$M$11:$M$596,MATCH('(3)Flange Peq'!$A22,'Input Echo'!$I$11:$I$596,0)),INDEX('Input Echo'!$M$11:$M$596,MATCH('(3)Flange Peq'!$A22,'Input Echo'!$J$11:$J$596,0))) -> 150 | C22: =IFERROR(INDEX('Input Echo'!$AI$11:$AI$596,MATCH('(3)Flange Peq'!$A22,'Input Echo'!$I$11:$I$596,0)),INDEX('Input Echo'!$AI$11:$AI$596,MATCH('(3)Flange Peq'!$A22,'Input Echo'!$J$11:$J$596,0))) -> 50 | D22: =IFERROR(INDEX('Input Echo'!$Z$11:$Z$596,MATCH('(3)Flange Peq'!$A22,'Input Echo'!$I$11:$I$596,0)),INDEX('Input Echo'!$Z$11:$Z$596,MATCH('(3)Flange Peq'!$A22,'Input Echo'!$J$11:$J$596,0))) -> 0 | E22: 637 | F22: 88 | G22: 111.13 | H22: =IFERROR(INDEX('Input Echo'!$O$11:$O$596,MATCH('(3)Flange Peq'!$A22,'Input Echo'!$I$11:$I$596,0)),INDEX('Input Echo'!$O$11:$O$596,MATCH('(3)Flange Peq'!$A22,'[1]Input Echo'!$J$11:$J$600,0))) -> 120.6 | I22: =D22+4*E22*10/(PI()*G22^2)+16*F22*10^4/(PI()*G22^2*H22) -> 3.6658732 | J22: -48 | K22: 51.02 | L22: =(I22/K22)*100 -> 7.185169 | M22: =B22&C22 -> 15050
A23: 7412 | B23: =IFERROR(INDEX('Input Echo'!$M$11:$M$596,MATCH('(3)Flange Peq'!$A23,'Input Echo'!$I$11:$I$596,0)),INDEX('Input Echo'!$M$11:$M$596,MATCH('(3)Flange Peq'!$A23,'Input Echo'!$J$11:$J$596,0))) -> 150 | C23: =IFERROR(INDEX('Input Echo'!$AI$11:$AI$596,MATCH('(3)Flange Peq'!$A23,'Input Echo'!$I$11:$I$596,0)),INDEX('Input Echo'!$AI$11:$AI$596,MATCH('(3)Flange Peq'!$A23,'Input Echo'!$J$11:$J$596,0))) -> 50 | D23: =IFERROR(INDEX('Input Echo'!$Z$11:$Z$596,MATCH('(3)Flange Peq'!$A23,'Input Echo'!$I$11:$I$596,0)),INDEX('Input Echo'!$Z$11:$Z$596,MATCH('(3)Flange Peq'!$A23,'Input Echo'!$J$11:$J$596,0))) -> 0 | E23: 96 | F23: 12 | G23: 77.85 | H23: =IFERROR(INDEX('Input Echo'!$O$11:$O$596,MATCH('(3)Flange Peq'!$A23,'Input Echo'!$I$11:$I$596,0)),INDEX('Input Echo'!$O$11:$O$596,MATCH('(3)Flange Peq'!$A23,'[1]Input Echo'!$J$11:$J$600,0))) -> 120.6 | I23: =D23+4*E23*10/(PI()*G23^2)+16*F23*10^4/(PI()*G23^2*H23) -> 1.0378356 | J23: -48 | K23: 51.02 | L23: =(I23/K23)*100 -> 2.0341741 | M23: =B23&C23 -> 15050
A24: 7414 | B24: =IFERROR(INDEX('Input Echo'!$M$11:$M$596,MATCH('(3)Flange Peq'!$A24,'Input Echo'!$I$11:$I$596,0)),INDEX('Input Echo'!$M$11:$M$596,MATCH('(3)Flange Peq'!$A24,'Input Echo'!$J$11:$J$596,0))) -> 150 | C24: =IFERROR(INDEX('Input Echo'!$AI$11:$AI$596,MATCH('(3)Flange Peq'!$A24,'Input Echo'!$I$11:$I$596,0)),INDEX('Input Echo'!$AI$11:$AI$596,MATCH('(3)Flange Peq'!$A24,'Input Echo'!$J$11:$J$596,0))) -> 150 | D24: =IFERROR(INDEX('Input Echo'!$Z$11:$Z$596,MATCH('(3)Flange Peq'!$A24,'Input Echo'!$I$11:$I$596,0)),INDEX('Input Echo'!$Z$11:$Z$596,MATCH('(3)Flange Peq'!$A24,'Input Echo'!$J$11:$J$596,0))) -> 0 | E24: 83 | F24: 70 | G24: 77.85 | H24: =IFERROR(INDEX('Input Echo'!$O$11:$O$596,MATCH('(3)Flange Peq'!$A24,'Input Echo'!$I$11:$I$596,0)),INDEX('Input Echo'!$O$11:$O$596,MATCH('(3)Flange Peq'!$A24,'[1]Input Echo'!$J$11:$J$600,0))) -> 241.3 | I24: =D24+4*E24*10/(PI()*G24^2)+16*F24*10^4/(PI()*G24^2*H24) -> 2.6121445 | J24: -48 | K24: 51.02 | L24: =(I24/K24)*100 -> 5.1198443 | M24: =B24&C24 -> 150150
A25: 7470 | B25: =IFERROR(INDEX('Input Echo'!$M$11:$M$596,MATCH('(3)Flange Peq'!$A25,'Input Echo'!$I$11:$I$596,0)),INDEX('Input Echo'!$M$11:$M$596,MATCH('(3)Flange Peq'!$A25,'Input Echo'!$J$11:$J$596,0))) -> 150 | C25: =IFERROR(INDEX('Input Echo'!$AI$11:$AI$596,MATCH('(3)Flange Peq'!$A25,'Input Echo'!$I$11:$I$596,0)),INDEX('Input Echo'!$AI$11:$AI$596,MATCH('(3)Flange Peq'!$A25,'Input Echo'!$J$11:$J$596,0))) -> 150 | D25: =IFERROR(INDEX('Input Echo'!$Z$11:$Z$596,MATCH('(3)Flange Peq'!$A25,'Input Echo'!$I$11:$I$596,0)),INDEX('Input Echo'!$Z$11:$Z$596,MATCH('(3)Flange Peq'!$A25,'Input Echo'!$J$11:$J$596,0))) -> 0 | E25: 51 | F25: 8 | G25: 111.13 | H25: =IFERROR(INDEX('Input Echo'!$O$11:$O$596,MATCH('(3)Flange Peq'!$A25,'Input Echo'!$I$11:$I$596,0)),INDEX('Input Echo'!$O$11:$O$596,MATCH('(3)Flange Peq'!$A25,'[1]Input Echo'!$J$11:$J$600,0))) -> 241.3 | I25: =D25+4*E25*10/(PI()*G25^2)+16*F25*10^4/(PI()*G25^2*H25) -> 0.1893022 | J25: -48 | K25: 19.65 | L25: =(I25/K25)*100 -> 0.96336995 | M25: =B25&C25 -> 150150
A26: 7560 | B26: =IFERROR(INDEX('Input Echo'!$M$11:$M$596,MATCH('(3)Flange Peq'!$A26,'Input Echo'!$I$11:$I$596,0)),INDEX('Input Echo'!$M$11:$M$596,MATCH('(3)Flange Peq'!$A26,'Input Echo'!$J$11:$J$596,0))) -> 150 | C26: =IFERROR(INDEX('Input Echo'!$AI$11:$AI$596,MATCH('(3)Flange Peq'!$A26,'Input Echo'!$I$11:$I$596,0)),INDEX('Input Echo'!$AI$11:$AI$596,MATCH('(3)Flange Peq'!$A26,'Input Echo'!$J$11:$J$596,0))) -> 150 | D26: =IFERROR(INDEX('Input Echo'!$Z$11:$Z$596,MATCH('(3)Flange Peq'!$A26,'Input Echo'!$I$11:$I$596,0)),INDEX('Input Echo'!$Z$11:$Z$596,MATCH('(3)Flange Peq'!$A26,'Input Echo'!$J$11:$J$596,0))) -> 0 | E26: 45 | F26: 31 | G26: 77.85 | H26: =IFERROR(INDEX('Input Echo'!$O$11:$O$596,MATCH('(3)Flange Peq'!$A26,'Input Echo'!$I$11:$I$596,0)),INDEX('Input Echo'!$O$11:$O$596,MATCH('(3)Flange Peq'!$A26,'[1]Input Echo'!$J$11:$J$600,0))) -> 241.3 | I26: =D26+4*E26*10/(PI()*G26^2)+16*F26*10^4/(PI()*G26^2*H26) -> 1.1741238 | J26: -48 | K26: 51.02 | L26: =(I26/K26)*100 -> 2.301301 | M26: =B26&C26 -> 150150
A27: 7640 | B27: =IFERROR(INDEX('Input Echo'!$M$11:$M$596,MATCH('(3)Flange Peq'!$A27,'Input Echo'!$I$11:$I$596,0)),INDEX('Input Echo'!$M$11:$M$596,MATCH('(3)Flange Peq'!$A27,'Input Echo'!$J$11:$J$596,0))) -> 0 | C27: =IFERROR(INDEX('Input Echo'!$AI$11:$AI$596,MATCH('(3)Flange Peq'!$A27,'Input Echo'!$I$11:$I$596,0)),INDEX('Input Echo'!$AI$11:$AI$596,MATCH('(3)Flange Peq'!$A27,'Input Echo'!$J$11:$J$596,0))) -> 50 | D27: =IFERROR(INDEX('Input Echo'!$Z$11:$Z$596,MATCH('(3)Flange Peq'!$A27,'Input Echo'!$I$11:$I$596,0)),INDEX('Input Echo'!$Z$11:$Z$596,MATCH('(3)Flange Peq'!$A27,'Input Echo'!$J$11:$J$596,0))) -> 0 | E27: 430 | F27: 22 | G27: 111.13 | H27: =IFERROR(INDEX('Input Echo'!$O$11:$O$596,MATCH('(3)Flange Peq'!$A27,'Input Echo'!$I$11:$I$596,0)),INDEX('Input Echo'!$O$11:$O$596,MATCH('(3)Flange Peq'!$A27,'[1]Input Echo'!$J$11:$J$600,0))) -> 0 | I27: =D27+4*E27*10/(PI()*G27^2)+16*F27*10^4/(PI()*G27^2*H27) -> #DIV/0! | J27: -48 | K27: 51.02 | L27: =(I27/K27)*100 -> #DIV/0! | M27: =B27&C27 -> 050
A28: 7650 | B28: =IFERROR(INDEX('Input Echo'!$M$11:$M$596,MATCH('(3)Flange Peq'!$A28,'Input Echo'!$I$11:$I$596,0)),INDEX('Input Echo'!$M$11:$M$596,MATCH('(3)Flange Peq'!$A28,'Input Echo'!$J$11:$J$596,0))) -> 0 | C28: =IFERROR(INDEX('Input Echo'!$AI$11:$AI$596,MATCH('(3)Flange Peq'!$A28,'Input Echo'!$I$11:$I$596,0)),INDEX('Input Echo'!$AI$11:$AI$596,MATCH('(3)Flange Peq'!$A28,'Input Echo'!$J$11:$J$596,0))) -> 50 | D28: =IFERROR(INDEX('Input Echo'!$Z$11:$Z$596,MATCH('(3)Flange Peq'!$A28,'Input Echo'!$I$11:$I$596,0)),INDEX('Input Echo'!$Z$11:$Z$596,MATCH('(3)Flange Peq'!$A28,'Input Echo'!$J$11:$J$596,0))) -> 0 | E28: 500 | F28: 25 | G28: 111.13 | H28: =IFERROR(INDEX('Input Echo'!$O$11:$O$596,MATCH('(3)Flange Peq'!$A28,'Input Echo'!$I$11:$I$596,0)),INDEX('Input Echo'!$O$11:$O$596,MATCH('(3)Flange Peq'!$A28,'[1]Input Echo'!$J$11:$J$600,0))) -> 0 | I28: =D28+4*E28*10/(PI()*G28^2)+16*F28*10^4/(PI()*G28^2*H28) -> #DIV/0! | J28: -48 | K28: 51.02 | L28: =(I28/K28)*100 -> #DIV/0! | M28: =B28&C28 -> 050
A29: 89 | B29: =IFERROR(INDEX('Input Echo'!$M$11:$M$596,MATCH('(3)Flange Peq'!$A29,'Input Echo'!$I$11:$I$596,0)),INDEX('Input Echo'!$M$11:$M$596,MATCH('(3)Flange Peq'!$A29,'Input Echo'!$J$11:$J$596,0))) -> 0 | C29: =IFERROR(INDEX('Input Echo'!$AI$11:$AI$596,MATCH('(3)Flange Peq'!$A29,'Input Echo'!$I$11:$I$596,0)),INDEX('Input Echo'!$AI$11:$AI$596,MATCH('(3)Flange Peq'!$A29,'Input Echo'!$J$11:$J$596,0))) -> 50 | D29: =IFERROR(INDEX('Input Echo'!$Z$11:$Z$596,MATCH('(3)Flange Peq'!$A29,'Input Echo'!$I$11:$I$596,0)),INDEX('Input Echo'!$Z$11:$Z$596,MATCH('(3)Flange Peq'!$A29,'Input Echo'!$J$11:$J$596,0))) -> 0 | E29: 656 | F29: 109 | G29: 77.85 | H29: =IFERROR(INDEX('Input Echo'!$O$11:$O$596,MATCH('(3)Flange Peq'!$A29,'Input Echo'!$I$11:$I$596,0)),INDEX('Input Echo'!$O$11:$O$596,MATCH('(3)Flange Peq'!$A29,'[1]Input Echo'!$J$11:$J$600,0))) -> 0 | I29: =D29+4*E29*10/(PI()*G29^2)+16*F29*10^4/(PI()*G29^2*H29) -> #DIV/0! | J29: -48 | K29: 19.65 | L29: =(I29/K29)*100 -> #DIV/0! | M29: =B29&C29 -> 050
A30: 8930 | B30: =IFERROR(INDEX('Input Echo'!$M$11:$M$596,MATCH('(3)Flange Peq'!$A30,'Input Echo'!$I$11:$I$596,0)),INDEX('Input Echo'!$M$11:$M$596,MATCH('(3)Flange Peq'!$A30,'Input Echo'!$J$11:$J$596,0))) -> 0 | C30: =IFERROR(INDEX('Input Echo'!$AI$11:$AI$596,MATCH('(3)Flange Peq'!$A30,'Input Echo'!$I$11:$I$596,0)),INDEX('Input Echo'!$AI$11:$AI$596,MATCH('(3)Flange Peq'!$A30,'Input Echo'!$J$11:$J$596,0))) -> 50 | D30: =IFERROR(INDEX('Input Echo'!$Z$11:$Z$596,MATCH('(3)Flange Peq'!$A30,'Input Echo'!$I$11:$I$596,0)),INDEX('Input Echo'!$Z$11:$Z$596,MATCH('(3)Flange Peq'!$A30,'Input Echo'!$J$11:$J$596,0))) -> 0 | E30: 78 | F30: 40 | G30: 77.85 | H30: =IFERROR(INDEX('Input Echo'!$O$11:$O$596,MATCH('(3)Flange Peq'!$A30,'Input Echo'!$I$11:$I$596,0)),INDEX('Input Echo'!$O$11:$O$596,MATCH('(3)Flange Peq'!$A30,'[1]Input Echo'!$J$11:$J$600,0))) -> 0 | I30: =D30+4*E30*10/(PI()*G30^2)+16*F30*10^4/(PI()*G30^2*H30) -> #DIV/0! | J30: -48 | K30: 19.65 | L30: =(I30/K30)*100 -> #DIV/0! | M30: =B30&C30 -> 050
A31: 9030 | B31: =IFERROR(INDEX('Input Echo'!$M$11:$M$596,MATCH('(3)Flange Peq'!$A31,'Input Echo'!$I$11:$I$596,0)),INDEX('Input Echo'!$M$11:$M$596,MATCH('(3)Flange Peq'!$A31,'Input Echo'!$J$11:$J$596,0))) -> 0 | C31: =IFERROR(INDEX('Input Echo'!$AI$11:$AI$596,MATCH('(3)Flange Peq'!$A31,'Input Echo'!$I$11:$I$596,0)),INDEX('Input Echo'!$AI$11:$AI$596,MATCH('(3)Flange Peq'!$A31,'Input Echo'!$J$11:$J$596,0))) -> 50 | D31: =IFERROR(INDEX('Input Echo'!$Z$11:$Z$596,MATCH('(3)Flange Peq'!$A31,'Input Echo'!$I$11:$I$596,0)),INDEX('Input Echo'!$Z$11:$Z$596,MATCH('(3)Flange Peq'!$A31,'Input Echo'!$J$11:$J$596,0))) -> 0 | E31: 18 | F31: 19 | G31: 61.98 | H31: =IFERROR(INDEX('Input Echo'!$O$11:$O$596,MATCH('(3)Flange Peq'!$A31,'Input Echo'!$I$11:$I$596,0)),INDEX('Input Echo'!$O$11:$O$596,MATCH('(3)Flange Peq'!$A31,'[1]Input Echo'!$J$11:$J$600,0))) -> 0 | I31: =D31+4*E31*10/(PI()*G31^2)+16*F31*10^4/(PI()*G31^2*H31) -> #DIV/0! | J31: -48 | K31: 51.02 | L31: =(I31/K31)*100 -> #DIV/0! | M31: =B31&C31 -> 050
A32: 9040 | B32: =IFERROR(INDEX('Input Echo'!$M$11:$M$596,MATCH('(3)Flange Peq'!$A32,'Input Echo'!$I$11:$I$596,0)),INDEX('Input Echo'!$M$11:$M$596,MATCH('(3)Flange Peq'!$A32,'Input Echo'!$J$11:$J$596,0))) -> 0 | C32: =IFERROR(INDEX('Input Echo'!$AI$11:$AI$596,MATCH('(3)Flange Peq'!$A32,'Input Echo'!$I$11:$I$596,0)),INDEX('Input Echo'!$AI$11:$AI$596,MATCH('(3)Flange Peq'!$A32,'Input Echo'!$J$11:$J$596,0))) -> 50 | D32: =IFERROR(INDEX('Input Echo'!$Z$11:$Z$596,MATCH('(3)Flange Peq'!$A32,'Input Echo'!$I$11:$I$596,0)),INDEX('Input Echo'!$Z$11:$Z$596,MATCH('(3)Flange Peq'!$A32,'Input Echo'!$J$11:$J$596,0))) -> 0 | E32: 18 | F32: 17 | G32: 61.98 | H32: =IFERROR(INDEX('Input Echo'!$O$11:$O$596,MATCH('(3)Flange Peq'!$A32,'Input Echo'!$I$11:$I$596,0)),INDEX('Input Echo'!$O$11:$O$596,MATCH('(3)Flange Peq'!$A32,'[1]Input Echo'!$J$11:$J$600,0))) -> 0 | I32: =D32+4*E32*10/(PI()*G32^2)+16*F32*10^4/(PI()*G32^2*H32) -> #DIV/0! | J32: -48 | K32: 51.02 | L32: =(I32/K32)*100 -> #DIV/0! | M32: =B32&C32 -> 050
A33: 9160 | B33: =IFERROR(INDEX('Input Echo'!$M$11:$M$596,MATCH('(3)Flange Peq'!$A33,'Input Echo'!$I$11:$I$596,0)),INDEX('Input Echo'!$M$11:$M$596,MATCH('(3)Flange Peq'!$A33,'Input Echo'!$J$11:$J$596,0))) -> 150 | C33: =IFERROR(INDEX('Input Echo'!$AI$11:$AI$596,MATCH('(3)Flange Peq'!$A33,'Input Echo'!$I$11:$I$596,0)),INDEX('Input Echo'!$AI$11:$AI$596,MATCH('(3)Flange Peq'!$A33,'Input Echo'!$J$11:$J$596,0))) -> 400 | D33: =IFERROR(INDEX('Input Echo'!$Z$11:$Z$596,MATCH('(3)Flange Peq'!$A33,'Input Echo'!$I$11:$I$596,0)),INDEX('Input Echo'!$Z$11:$Z$596,MATCH('(3)Flange Peq'!$A33,'Input Echo'!$J$11:$J$596,0))) -> 0 | E33: 13 | F33: 16 | G33: 61.98 | H33: =IFERROR(INDEX('Input Echo'!$O$11:$O$596,MATCH('(3)Flange Peq'!$A33,'Input Echo'!$I$11:$I$596,0)),INDEX('Input Echo'!$O$11:$O$596,MATCH('(3)Flange Peq'!$A33,'[1]Input Echo'!$J$11:$J$600,0))) -> #N/A | I33: 0 | J33: -48 | K33: 51.02 | L33: =(I33/K33)*100 -> 0 | M33: =B33&C33 -> 150400
A34: 102 | B34: =IFERROR(INDEX('Input Echo'!$M$11:$M$596,MATCH('(3)Flange Peq'!$A34,'Input Echo'!$I$11:$I$596,0)),INDEX('Input Echo'!$M$11:$M$596,MATCH('(3)Flange Peq'!$A34,'Input Echo'!$J$11:$J$596,0))) -> 0 | C34: =IFERROR(INDEX('Input Echo'!$AI$11:$AI$596,MATCH('(3)Flange Peq'!$A34,'Input Echo'!$I$11:$I$596,0)),INDEX('Input Echo'!$AI$11:$AI$596,MATCH('(3)Flange Peq'!$A34,'Input Echo'!$J$11:$J$596,0))) -> 80 | D34: =IFERROR(INDEX('Input Echo'!$Z$11:$Z$596,MATCH('(3)Flange Peq'!$A34,'Input Echo'!$I$11:$I$596,0)),INDEX('Input Echo'!$Z$11:$Z$596,MATCH('(3)Flange Peq'!$A34,'Input Echo'!$J$11:$J$596,0))) -> 0 | E34: 731 | F34: 142 | G34: 77.85 | H34: =IFERROR(INDEX('Input Echo'!$O$11:$O$596,MATCH('(3)Flange Peq'!$A34,'Input Echo'!$I$11:$I$596,0)),INDEX('Input Echo'!$O$11:$O$596,MATCH('(3)Flange Peq'!$A34,'[1]Input Echo'!$J$11:$J$600,0))) -> 0 | I34: =D34+4*E34*10/(PI()*G34^2)+16*F34*10^4/(PI()*G34^2*H34) -> #DIV/0! | J34: -48 | K34: 19.65 | L34: =(I34/K34)*100 -> #DIV/0! | M34: =B34&C34 -> 080
A35: 30030 | B35: =IFERROR(INDEX('Input Echo'!$M$11:$M$596,MATCH('(3)Flange Peq'!$A35,'Input Echo'!$I$11:$I$596,0)),INDEX('Input Echo'!$M$11:$M$596,MATCH('(3)Flange Peq'!$A35,'Input Echo'!$J$11:$J$596,0))) -> 0 | C35: =IFERROR(INDEX('Input Echo'!$AI$11:$AI$596,MATCH('(3)Flange Peq'!$A35,'Input Echo'!$I$11:$I$596,0)),INDEX('Input Echo'!$AI$11:$AI$596,MATCH('(3)Flange Peq'!$A35,'Input Echo'!$J$11:$J$596,0))) -> 100 | D35: =IFERROR(INDEX('Input Echo'!$Z$11:$Z$596,MATCH('(3)Flange Peq'!$A35,'Input Echo'!$I$11:$I$596,0)),INDEX('Input Echo'!$Z$11:$Z$596,MATCH('(3)Flange Peq'!$A35,'Input Echo'!$J$11:$J$596,0))) -> 0 | E35: 151 | F35: 41 | G35: 77.85 | H35: =IFERROR(INDEX('Input Echo'!$O$11:$O$596,MATCH('(3)Flange Peq'!$A35,'Input Echo'!$I$11:$I$596,0)),INDEX('Input Echo'!$O$11:$O$596,MATCH('(3)Flange Peq'!$A35,'[1]Input Echo'!$J$11:$J$600,0))) -> 0 | I35: =D35+4*E35*10/(PI()*G35^2)+16*F35*10^4/(PI()*G35^2*H35) -> #DIV/0! | J35: -48 | K35: 19.65 | L35: =(I35/K35)*100 -> #DIV/0! | M35: =B35&C35 -> 0100
A36: 30140 | B36: =IFERROR(INDEX('Input Echo'!$M$11:$M$596,MATCH('(3)Flange Peq'!$A36,'Input Echo'!$I$11:$I$596,0)),INDEX('Input Echo'!$M$11:$M$596,MATCH('(3)Flange Peq'!$A36,'Input Echo'!$J$11:$J$596,0))) -> 0 | C36: =IFERROR(INDEX('Input Echo'!$AI$11:$AI$596,MATCH('(3)Flange Peq'!$A36,'Input Echo'!$I$11:$I$596,0)),INDEX('Input Echo'!$AI$11:$AI$596,MATCH('(3)Flange Peq'!$A36,'Input Echo'!$J$11:$J$596,0))) -> 50 | D36: =IFERROR(INDEX('Input Echo'!$Z$11:$Z$596,MATCH('(3)Flange Peq'!$A36,'Input Echo'!$I$11:$I$596,0)),INDEX('Input Echo'!$Z$11:$Z$596,MATCH('(3)Flange Peq'!$A36,'Input Echo'!$J$11:$J$596,0))) -> 0 | E36: 35 | F36: 40 | G36: 61.98 | H36: =IFERROR(INDEX('Input Echo'!$O$11:$O$596,MATCH('(3)Flange Peq'!$A36,'Input Echo'!$I$11:$I$596,0)),INDEX('Input Echo'!$O$11:$O$596,MATCH('(3)Flange Peq'!$A36,'[1]Input Echo'!$J$11:$J$600,0))) -> 0 | I36: =D36+4*E36*10/(PI()*G36^2)+16*F36*10^4/(PI()*G36^2*H36) -> #DIV/0! | J36: -48 | K36: 51.02 | L36: =(I36/K36)*100 -> #DIV/0! | M36: =B36&C36 -> 050
A37: 30140 | B37: =IFERROR(INDEX('Input Echo'!$M$11:$M$596,MATCH('(3)Flange Peq'!$A37,'Input Echo'!$I$11:$I$596,0)),INDEX('Input Echo'!$M$11:$M$596,MATCH('(3)Flange Peq'!$A37,'Input Echo'!$J$11:$J$596,0))) -> 0 | C37: =IFERROR(INDEX('Input Echo'!$AI$11:$AI$596,MATCH('(3)Flange Peq'!$A37,'Input Echo'!$I$11:$I$596,0)),INDEX('Input Echo'!$AI$11:$AI$596,MATCH('(3)Flange Peq'!$A37,'Input Echo'!$J$11:$J$596,0))) -> 100 | D37: =IFERROR(INDEX('Input Echo'!$Z$11:$Z$596,MATCH('(3)Flange Peq'!$A37,'Input Echo'!$I$11:$I$596,0)),INDEX('Input Echo'!$Z$11:$Z$596,MATCH('(3)Flange Peq'!$A37,'Input Echo'!$J$11:$J$596,0))) -> 0 | E37: 35 | F37: 40 | G37: 61.98 | H37: =IFERROR(INDEX('Input Echo'!$O$11:$O$596,MATCH('(3)Flange Peq'!$A37,'Input Echo'!$I$11:$I$596,0)),INDEX('Input Echo'!$O$11:$O$596,MATCH('(3)Flange Peq'!$A37,'[1]Input Echo'!$J$11:$J$600,0))) -> 0 | I37: =D37+4*E37*10/(PI()*G37^2)+16*F37*10^4/(PI()*G37^2*H37) -> #DIV/0! | J37: -48 | K37: 51.02 | L37: =(I37/K37)*100 -> #DIV/0! | M37: =B37&C37 -> 0100
A38: 30180 | B38: =IFERROR(INDEX('Input Echo'!$M$11:$M$596,MATCH('(3)Flange Peq'!$A38,'Input Echo'!$I$11:$I$596,0)),INDEX('Input Echo'!$M$11:$M$596,MATCH('(3)Flange Peq'!$A38,'Input Echo'!$J$11:$J$596,0))) -> 0 | C38: =IFERROR(INDEX('Input Echo'!$AI$11:$AI$596,MATCH('(3)Flange Peq'!$A38,'Input Echo'!$I$11:$I$596,0)),INDEX('Input Echo'!$AI$11:$AI$596,MATCH('(3)Flange Peq'!$A38,'Input Echo'!$J$11:$J$596,0))) -> 100 | D38: =IFERROR(INDEX('Input Echo'!$Z$11:$Z$596,MATCH('(3)Flange Peq'!$A38,'Input Echo'!$I$11:$I$596,0)),INDEX('Input Echo'!$Z$11:$Z$596,MATCH('(3)Flange Peq'!$A38,'Input Echo'!$J$11:$J$596,0))) -> 0 | E38: 37 | F38: 50 | G38: 61.98 | H38: =IFERROR(INDEX('Input Echo'!$O$11:$O$596,MATCH('(3)Flange Peq'!$A38,'Input Echo'!$I$11:$I$596,0)),INDEX('Input Echo'!$O$11:$O$596,MATCH('(3)Flange Peq'!$A38,'[1]Input Echo'!$J$11:$J$600,0))) -> 0 | I38: =D38+4*E38*10/(PI()*G38^2)+16*F38*10^4/(PI()*G38^2*H38) -> #DIV/0! | J38: -48 | K38: 51.02 | L38: =(I38/K38)*100 -> #DIV/0! | M38: =B38&C38 -> 0100
A39: 30190 | B39: =IFERROR(INDEX('Input Echo'!$M$11:$M$596,MATCH('(3)Flange Peq'!$A39,'Input Echo'!$I$11:$I$596,0)),INDEX('Input Echo'!$M$11:$M$596,MATCH('(3)Flange Peq'!$A39,'Input Echo'!$J$11:$J$596,0))) -> 0 | C39: =IFERROR(INDEX('Input Echo'!$AI$11:$AI$596,MATCH('(3)Flange Peq'!$A39,'Input Echo'!$I$11:$I$596,0)),INDEX('Input Echo'!$AI$11:$AI$596,MATCH('(3)Flange Peq'!$A39,'Input Echo'!$J$11:$J$596,0))) -> 80 | D39: =IFERROR(INDEX('Input Echo'!$Z$11:$Z$596,MATCH('(3)Flange Peq'!$A39,'Input Echo'!$I$11:$I$596,0)),INDEX('Input Echo'!$Z$11:$Z$596,MATCH('(3)Flange Peq'!$A39,'Input Echo'!$J$11:$J$596,0))) -> 0 | E39: 37 | F39: 56 | G39: 61.98 | H39: =IFERROR(INDEX('Input Echo'!$O$11:$O$596,MATCH('(3)Flange Peq'!$A39,'Input Echo'!$I$11:$I$596,0)),INDEX('Input Echo'!$O$11:$O$596,MATCH('(3)Flange Peq'!$A39,'[1]Input Echo'!$J$11:$J$600,0))) -> 0 | I39: =D39+4*E39*10/(PI()*G39^2)+16*F39*10^4/(PI()*G39^2*H39) -> #DIV/0! | J39: -48 | K39: 51.02 | L39: =(I39/K39)*100 -> #DIV/0! | M39: =B39&C39 -> 080
A40: 112 | B40: =IFERROR(INDEX('Input Echo'!$M$11:$M$596,MATCH('(3)Flange Peq'!$A40,'Input Echo'!$I$11:$I$596,0)),INDEX('Input Echo'!$M$11:$M$596,MATCH('(3)Flange Peq'!$A40,'Input Echo'!$J$11:$J$596,0))) -> 0 | C40: =IFERROR(INDEX('Input Echo'!$AI$11:$AI$596,MATCH('(3)Flange Peq'!$A40,'Input Echo'!$I$11:$I$596,0)),INDEX('Input Echo'!$AI$11:$AI$596,MATCH('(3)Flange Peq'!$A40,'Input Echo'!$J$11:$J$596,0))) -> 50 | D40: =IFERROR(INDEX('Input Echo'!$Z$11:$Z$596,MATCH('(3)Flange Peq'!$A40,'Input Echo'!$I$11:$I$596,0)),INDEX('Input Echo'!$Z$11:$Z$596,MATCH('(3)Flange Peq'!$A40,'Input Echo'!$J$11:$J$596,0))) -> 0 | E40: 1857 | F40: 195 | G40: 196.09 | H40: =IFERROR(INDEX('Input Echo'!$O$11:$O$596,MATCH('(3)Flange Peq'!$A40,'Input Echo'!$I$11:$I$596,0)),INDEX('Input Echo'!$O$11:$O$596,MATCH('(3)Flange Peq'!$A40,'[1]Input Echo'!$J$11:$J$600,0))) -> 0 | I40: =D40+4*E40*10/(PI()*G40^2)+16*F40*10^4/(PI()*G40^2*H40) -> #DIV/0! | J40: -48 | K40: 19.65 | L40: =(I40/K40)*100 -> #DIV/0! | M40: =B40&C40 -> 050
A41: 11230 | B41: =IFERROR(INDEX('Input Echo'!$M$11:$M$596,MATCH('(3)Flange Peq'!$A41,'Input Echo'!$I$11:$I$596,0)),INDEX('Input Echo'!$M$11:$M$596,MATCH('(3)Flange Peq'!$A41,'Input Echo'!$J$11:$J$596,0))) -> 0 | C41: =IFERROR(INDEX('Input Echo'!$AI$11:$AI$596,MATCH('(3)Flange Peq'!$A41,'Input Echo'!$I$11:$I$596,0)),INDEX('Input Echo'!$AI$11:$AI$596,MATCH('(3)Flange Peq'!$A41,'Input Echo'!$J$11:$J$596,0))) -> 50 | D41: =IFERROR(INDEX('Input Echo'!$Z$11:$Z$596,MATCH('(3)Flange Peq'!$A41,'Input Echo'!$I$11:$I$596,0)),INDEX('Input Echo'!$Z$11:$Z$596,MATCH('(3)Flange Peq'!$A41,'Input Echo'!$J$11:$J$596,0))) -> 0 | E41: 1206 | F41: 415 | G41: 196.09 | H41: =IFERROR(INDEX('Input Echo'!$O$11:$O$596,MATCH('(3)Flange Peq'!$A41,'Input Echo'!$I$11:$I$596,0)),INDEX('Input Echo'!$O$11:$O$596,MATCH('(3)Flange Peq'!$A41,'[1]Input Echo'!$J$11:$J$600,0))) -> 0 | I41: =D41+4*E41*10/(PI()*G41^2)+16*F41*10^4/(PI()*G41^2*H41) -> #DIV/0! | J41: -48 | K41: 19.65 | L41: =(I41/K41)*100 -> #DIV/0! | M41: =B41&C41 -> 050
...

Sheet (19)Flange Peq
A1: CAESAR II 2016 Ver.8.00.00.5600, (Build 150930) Date: JUN 28, 2018 Time: 11:46
A2: Job Name: PRJ238_INE_NDC12_REV03_SORTIE 2 COUDES_TORCHE
A3: Licensed To: SPLM: Edit company name in <system>\company.txt
A4: FLANGE PEQ REPORT: Flange (Equiv Pressure Method)
A5: CASE 19 (OCC) W+P1+F3
A7: Node | B7: Classe | C7: DN | D7: Pression | E7: Axial Force N | F7: Bending Moment N.m | G7: G/C mm | H7: C (mm) | I7: P Equivalent bar | J7: Rating Temperature C | K7: Allowable Pressure /Stress | L7: Ratio % | M7: Index
A8: 10 | B8: =IFERROR(INDEX('Input Echo'!$M$11:$M$596,MATCH('(3)Flange Peq'!$A8,'Input Echo'!$I$11:$I$596,0)),INDEX('Input Echo'!$M$11:$M$596,MATCH('(3)Flange Peq'!$A8,'Input Echo'!$J$11:$J$596,0))) -> 150 | C8: =IFERROR(INDEX('Input Echo'!$AI$11:$AI$596,MATCH('(3)Flange Peq'!$A8,'Input Echo'!$I$11:$I$596,0)),INDEX('Input Echo'!$AI$11:$AI$596,MATCH('(3)Flange Peq'!$A8,'Input Echo'!$J$11:$J$596,0))) -> 150 | D8: =IFERROR(INDEX('Input Echo'!$Y$11:$Y$596,MATCH('(3)Flange Peq'!$A8,'Input Echo'!$I$11:$I$596,0)),INDEX('Input Echo'!$Y$11:$Y$596,MATCH('(3)Flange Peq'!$A8,'Input Echo'!$J$11:$J$596,0))) -> 10 | E8: 1077 | F8: 274 | G8: 196.09 | H8: =IFERROR(INDEX('Input Echo'!$O$11:$O$596,MATCH('(3)Flange Peq'!$A8,'Input Echo'!$I$11:$I$596,0)),INDEX('Input Echo'!$O$11:$O$596,MATCH('(3)Flange Peq'!$A8,'[1]Input Echo'!$J$11:$J$600,0))) -> 241.3 | I8: =D8+4*E8*10/(PI()*G8^2)+16*F8*10^4/(PI()*G8^2*H8) -> 11.860644 | J8: 110 | K8: 17.31 | L8: =(I8/K8)*100 -> 68.519027 | M8: =B8&C8 -> 150150
A9: 10 | B9: =IFERROR(INDEX('Input Echo'!$M$11:$M$596,MATCH('(3)Flange Peq'!$A9,'Input Echo'!$I$11:$I$596,0)),INDEX('Input Echo'!$M$11:$M$596,MATCH('(3)Flange Peq'!$A9,'Input Echo'!$J$11:$J$596,0))) -> 150 | C9: =IFERROR(INDEX('Input Echo'!$AI$11:$AI$596,MATCH('(3)Flange Peq'!$A9,'Input Echo'!$I$11:$I$596,0)),INDEX('Input Echo'!$AI$11:$AI$596,MATCH('(3)Flange Peq'!$A9,'Input Echo'!$J$11:$J$596,0))) -> 150 | D9: =IFERROR(INDEX('Input Echo'!$Y$11:$Y$596,MATCH('(3)Flange Peq'!$A9,'Input Echo'!$I$11:$I$596,0)),INDEX('Input Echo'!$Y$11:$Y$596,MATCH('(3)Flange Peq'!$A9,'Input Echo'!$J$11:$J$596,0))) -> 10 | E9: 1077 | F9: 274 | G9: 196.09 | H9: =IFERROR(INDEX('Input Echo'!$O$11:$O$596,MATCH('(3)Flange Peq'!$A9,'Input Echo'!$I$11:$I$596,0)),INDEX('Input Echo'!$O$11:$O$596,MATCH('(3)Flange Peq'!$A9,'[1]Input Echo'!$J$11:$J$600,0))) -> 241.3 | I9: =D9+4*E9*10/(PI()*G9^2)+16*F9*10^4/(PI()*G9^2*H9) -> 11.860644 | J9: 110 | K9: 17.31 | L9: =(I9/K9)*100 -> 68.519027 | M9: =B9&C9 -> 150150
A10: 20070 | B10: =IFERROR(INDEX('Input Echo'!$M$11:$M$596,MATCH('(3)Flange Peq'!$A10,'Input Echo'!$I$11:$I$596,0)),INDEX('Input Echo'!$M$11:$M$596,MATCH('(3)Flange Peq'!$A10,'Input Echo'!$J$11:$J$596,0))) -> 0 | C10: =IFERROR(INDEX('Input Echo'!$AI$11:$AI$596,MATCH('(3)Flange Peq'!$A10,'Input Echo'!$I$11:$I$596,0)),INDEX('Input Echo'!$AI$11:$AI$596,MATCH('(3)Flange Peq'!$A10,'Input Echo'!$J$11:$J$596,0))) -> 150 | D10: =IFERROR(INDEX('Input Echo'!$Y$11:$Y$596,MATCH('(3)Flange Peq'!$A10,'Input Echo'!$I$11:$I$596,0)),INDEX('Input Echo'!$Y$11:$Y$596,MATCH('(3)Flange Peq'!$A10,'Input Echo'!$J$11:$J$596,0))) -> 10 | E10: 32 | F10: 212 | G10: 196.09 | H10: =IFERROR(INDEX('Input Echo'!$O$11:$O$596,MATCH('(3)Flange Peq'!$A10,'Input Echo'!$I$11:$I$596,0)),INDEX('Input Echo'!$O$11:$O$596,MATCH('(3)Flange Peq'!$A10,'[1]Input Echo'!$J$11:$J$600,0))) -> 0 | I10: =D10+4*E10*10/(PI()*G10^2)+16*F10*10^4/(PI()*G10^2*H10) -> #DIV/0! | J10: 110 | K10: 17.31 | L10: =(I10/K10)*100 -> #DIV/0! | M10: =B10&C10 -> 0150
A11: 20090 | B11: =IFERROR(INDEX('Input Echo'!$M$11:$M$596,MATCH('(3)Flange Peq'!$A11,'Input Echo'!$I$11:$I$596,0)),INDEX('Input Echo'!$M$11:$M$596,MATCH('(3)Flange Peq'!$A11,'Input Echo'!$J$11:$J$596,0))) -> 0 | C11: =IFERROR(INDEX('Input Echo'!$AI$11:$AI$596,MATCH('(3)Flange Peq'!$A11,'Input Echo'!$I$11:$I$596,0)),INDEX('Input Echo'!$AI$11:$AI$596,MATCH('(3)Flange Peq'!$A11,'Input Echo'!$J$11:$J$596,0))) -> 80 | D11: =IFERROR(INDEX('Input Echo'!$Y$11:$Y$596,MATCH('(3)Flange Peq'!$A11,'Input Echo'!$I$11:$I$596,0)),INDEX('Input Echo'!$Y$11:$Y$596,MATCH('(3)Flange Peq'!$A11,'Input Echo'!$J$11:$J$596,0))) -> 10 | E11: 903 | F11: 237 | G11: 138.18 | H11: =IFERROR(INDEX('Input Echo'!$O$11:$O$596,MATCH('(3)Flange Peq'!$A11,'Input Echo'!$I$11:$I$596,0)),INDEX('Input Echo'!$O$11:$O$596,MATCH('(3)Flange Peq'!$A11,'[1]Input Echo'!$J$11:$J$600,0))) -> 0 | I11: =D11+4*E11*10/(PI()*G11^2)+16*F11*10^4/(PI()*G11^2*H11) -> #DIV/0! | J11: 100 | K11: 46.68 | L11: =(I11/K11)*100 -> #DIV/0! | M11: =B11&C11 -> 080
A12: 20210 | B12: =IFERROR(INDEX('Input Echo'!$M$11:$M$596,MATCH('(3)Flange Peq'!$A12,'Input Echo'!$I$11:$I$596,0)),INDEX('Input Echo'!$M$11:$M$596,MATCH('(3)Flange Peq'!$A12,'Input Echo'!$J$11:$J$596,0))) -> 0 | C12: =IFERROR(INDEX('Input Echo'!$AI$11:$AI$596,MATCH('(3)Flange Peq'!$A12,'Input Echo'!$I$11:$I$596,0)),INDEX('Input Echo'!$AI$11:$AI$596,MATCH('(3)Flange Peq'!$A12,'Input Echo'!$J$11:$J$596,0))) -> 50 | D12: =IFERROR(INDEX('Input Echo'!$Y$11:$Y$596,MATCH('(3)Flange Peq'!$A12,'Input Echo'!$I$11:$I$596,0)),INDEX('Input Echo'!$Y$11:$Y$596,MATCH('(3)Flange Peq'!$A12,'Input Echo'!$J$11:$J$596,0))) -> 20 | E12: 740 | F12: 616 | G12: 196.09 | H12: =IFERROR(INDEX('Input Echo'!$O$11:$O$596,MATCH('(3)Flange Peq'!$A12,'Input Echo'!$I$11:$I$596,0)),INDEX('Input Echo'!$O$11:$O$596,MATCH('(3)Flange Peq'!$A12,'[1]Input Echo'!$J$11:$J$600,0))) -> 0 | I12: =D12+4*E12*10/(PI()*G12^2)+16*F12*10^4/(PI()*G12^2*H12) -> #DIV/0! | J12: 100 | K12: 46.68 | L12: =(I12/K12)*100 -> #DIV/0! | M12: =B12&C12 -> 050
A13: 2015 | B13: =IFERROR(INDEX('Input Echo'!$M$11:$M$596,MATCH('(3)Flange Peq'!$A13,'Input Echo'!$I$11:$I$596,0)),INDEX('Input Echo'!$M$11:$M$596,MATCH('(3)Flange Peq'!$A13,'Input Echo'!$J$11:$J$596,0))) -> 300 | C13: =IFERROR(INDEX('Input Echo'!$AI$11:$AI$596,MATCH('(3)Flange Peq'!$A13,'Input Echo'!$I$11:$I$596,0)),INDEX('Input Echo'!$AI$11:$AI$596,MATCH('(3)Flange Peq'!$A13,'Input Echo'!$J$11:$J$596,0))) -> 100 | D13: =IFERROR(INDEX('Input Echo'!$Y$11:$Y$596,MATCH('(3)Flange Peq'!$A13,'Input Echo'!$I$11:$I$596,0)),INDEX('Input Echo'!$Y$11:$Y$596,MATCH('(3)Flange Peq'!$A13,'Input Echo'!$J$11:$J$596,0))) -> 20 | E13: 413 | F13: 43 | G13: 77.85 | H13: =IFERROR(INDEX('Input Echo'!$O$11:$O$596,MATCH('(3)Flange Peq'!$A13,'Input Echo'!$I$11:$I$596,0)),INDEX('Input Echo'!$O$11:$O$596,MATCH('(3)Flange Peq'!$A13,'[1]Input Echo'!$J$11:$J$600,0))) -> #N/A | I13: 0 | J13: 100 | K13: 46.68 | L13: =(I13/K13)*100 -> 0 | M13: =B13&C13 -> 300100
A14: 20040 | B14: =IFERROR(INDEX('Input Echo'!$M$11:$M$596,MATCH('(3)Flange Peq'!$A14,'Input Echo'!$I$11:$I$596,0)),INDEX('Input Echo'!$M$11:$M$596,MATCH('(3)Flange Peq'!$A14,'Input Echo'!$J$11:$J$596,0))) -> 300 | C14: =IFERROR(INDEX('Input Echo'!$AI$11:$AI$596,MATCH('(3)Flange Peq'!$A14,'Input Echo'!$I$11:$I$596,0)),INDEX('Input Echo'!$AI$11:$AI$596,MATCH('(3)Flange Peq'!$A14,'Input Echo'!$J$11:$J$596,0))) -> 50 | D14: =IFERROR(INDEX('Input Echo'!$Y$11:$Y$596,MATCH('(3)Flange Peq'!$A14,'Input Echo'!$I$11:$I$596,0)),INDEX('Input Echo'!$Y$11:$Y$596,MATCH('(3)Flange Peq'!$A14,'Input Echo'!$J$11:$J$596,0))) -> 20 | E14: 413 | F14: 70 | G14: 77.85 | H14: =IFERROR(INDEX('Input Echo'!$O$11:$O$596,MATCH('(3)Flange Peq'!$A14,'Input Echo'!$I$11:$I$596,0)),INDEX('Input Echo'!$O$11:$O$596,MATCH('(3)Flange Peq'!$A14,'[1]Input Echo'!$J$11:$J$600,0))) -> #N/A | I14: 0 | J14: 110 | K14: 46.37 | L14: =(I14/K14)*100 -> 0 | M14: =B14&C14 -> 30050
A15: 6210 | B15: =IFERROR(INDEX('Input Echo'!$M$11:$M$596,MATCH('(3)Flange Peq'!$A15,'Input Echo'!$I$11:$I$596,0)),INDEX('Input Echo'!$M$11:$M$596,MATCH('(3)Flange Peq'!$A15,'Input Echo'!$J$11:$J$596,0))) -> 0 | C15: =IFERROR(INDEX('Input Echo'!$AI$11:$AI$596,MATCH('(3)Flange Peq'!$A15,'Input Echo'!$I$11:$I$596,0)),INDEX('Input Echo'!$AI$11:$AI$596,MATCH('(3)Flange Peq'!$A15,'Input Echo'!$J$11:$J$596,0))) -> 80 | D15: =IFERROR(INDEX('Input Echo'!$Y$11:$Y$596,MATCH('(3)Flange Peq'!$A15,'Input Echo'!$I$11:$I$596,0)),INDEX('Input Echo'!$Y$11:$Y$596,MATCH('(3)Flange Peq'!$A15,'Input Echo'!$J$11:$J$596,0))) -> 10 | E15: 880 | F15: 177 | G15: 111.13 | H15: =IFERROR(INDEX('Input Echo'!$O$11:$O$596,MATCH('(3)Flange Peq'!$A15,'Input Echo'!$I$11:$I$596,0)),INDEX('Input Echo'!$O$11:$O$596,MATCH('(3)Flange Peq'!$A15,'[1]Input Echo'!$J$11:$J$600,0))) -> 0 | I15: =D15+4*E15*10/(PI()*G15^2)+16*F15*10^4/(PI()*G15^2*H15) -> #DIV/0! | J15: 110 | K15: 46.37 | L15: =(I15/K15)*100 -> #DIV/0! | M15: =B15&C15 -> 080
A16: 6220 | B16: =IFERROR(INDEX('Input Echo'!$M$11:$M$596,MATCH('(3)Flange Peq'!$A16,'Input Echo'!$I$11:$I$596,0)),INDEX('Input Echo'!$M$11:$M$596,MATCH('(3)Flange Peq'!$A16,'Input Echo'!$J$11:$J$596,0))) -> 0 | C16: =IFERROR(INDEX('Input Echo'!$AI$11:$AI$596,MATCH('(3)Flange Peq'!$A16,'Input Echo'!$I$11:$I$596,0)),INDEX('Input Echo'!$AI$11:$AI$596,MATCH('(3)Flange Peq'!$A16,'Input Echo'!$J$11:$J$596,0))) -> 80 | D16: =IFERROR(INDEX('Input Echo'!$Y$11:$Y$596,MATCH('(3)Flange Peq'!$A16,'Input Echo'!$I$11:$I$596,0)),INDEX('Input Echo'!$Y$11:$Y$596,MATCH('(3)Flange Peq'!$A16,'Input Echo'!$J$11:$J$596,0))) -> 10 | E16: 816 | F16: 187 | G16: 111.13 | H16: =IFERROR(INDEX('Input Echo'!$O$11:$O$596,MATCH('(3)Flange Peq'!$A16,'Input Echo'!$I$11:$I$596,0)),INDEX('Input Echo'!$O$11:$O$596,MATCH('(3)Flange Peq'!$A16,'[1]Input Echo'!$J$11:$J$600,0))) -> 0 | I16: =D16+4*E16*10/(PI()*G16^2)+16*F16*10^4/(PI()*G16^2*H16) -> #DIV/0! | J16: 110 | K16: 46.37 | L16: =(I16/K16)*100 -> #DIV/0! | M16: =B16&C16 -> 080
A17: 6310 | B17: =IFERROR(INDEX('Input Echo'!$M$11:$M$596,MATCH('(3)Flange Peq'!$A17,'Input Echo'!$I$11:$I$596,0)),INDEX('Input Echo'!$M$11:$M$596,MATCH('(3)Flange Peq'!$A17,'Input Echo'!$J$11:$J$596,0))) -> 150 | C17: =IFERROR(INDEX('Input Echo'!$AI$11:$AI$596,MATCH('(3)Flange Peq'!$A17,'Input Echo'!$I$11:$I$596,0)),INDEX('Input Echo'!$AI$11:$AI$596,MATCH('(3)Flange Peq'!$A17,'Input Echo'!$J$11:$J$596,0))) -> 50 | D17: =IFERROR(INDEX('Input Echo'!$Y$11:$Y$596,MATCH('(3)Flange Peq'!$A17,'Input Echo'!$I$11:$I$596,0)),INDEX('Input Echo'!$Y$11:$Y$596,MATCH('(3)Flange Peq'!$A17,'Input Echo'!$J$11:$J$596,0))) -> 10 | E17: 120 | F17: 17 | G17: 111.13 | H17: =IFERROR(INDEX('Input Echo'!$O$11:$O$596,MATCH('(3)Flange Peq'!$A17,'Input Echo'!$I$11:$I$596,0)),INDEX('Input Echo'!$O$11:$O$596,MATCH('(3)Flange Peq'!$A17,'[1]Input Echo'!$J$11:$J$600,0))) -> 120.6 | I17: =D17+4*E17*10/(PI()*G17^2)+16*F17*10^4/(PI()*G17^2*H17) -> 10.705029 | J17: 110 | K17: 17.31 | L17: =(I17/K17)*100 -> 61.84303 | M17: =B17&C17 -> 15050
A18: 6380 | B18: =IFERROR(INDEX('Input Echo'!$M$11:$M$596,MATCH('(3)Flange Peq'!$A18,'Input Echo'!$I$11:$I$596,0)),INDEX('Input Echo'!$M$11:$M$596,MATCH('(3)Flange Peq'!$A18,'Input Echo'!$J$11:$J$596,0))) -> 150 | C18: =IFERROR(INDEX('Input Echo'!$AI$11:$AI$596,MATCH('(3)Flange Peq'!$A18,'Input Echo'!$I$11:$I$596,0)),INDEX('Input Echo'!$AI$11:$AI$596,MATCH('(3)Flange Peq'!$A18,'Input Echo'!$J$11:$J$596,0))) -> 50 | D18: =IFERROR(INDEX('Input Echo'!$Y$11:$Y$596,MATCH('(3)Flange Peq'!$A18,'Input Echo'!$I$11:$I$596,0)),INDEX('Input Echo'!$Y$11:$Y$596,MATCH('(3)Flange Peq'!$A18,'Input Echo'!$J$11:$J$596,0))) -> 10 | E18: 244 | F18: 66 | G18: 111.13 | H18: =IFERROR(INDEX('Input Echo'!$O$11:$O$596,MATCH('(3)Flange Peq'!$A18,'Input Echo'!$I$11:$I$596,0)),INDEX('Input Echo'!$O$11:$O$596,MATCH('(3)Flange Peq'!$A18,'[1]Input Echo'!$J$11:$J$600,0))) -> 120.6 | I18: =D18+4*E18*10/(PI()*G18^2)+16*F18*10^4/(PI()*G18^2*H18) -> 12.508415 | J18: 52 | K18: 49.96 | L18: =(I18/K18)*100 -> 25.036859 | M18: =B18&C18 -> 15050
A19: 6490 | B19: =IFERROR(INDEX('Input Echo'!$M$11:$M$596,MATCH('(3)Flange Peq'!$A19,'Input Echo'!$I$11:$I$596,0)),INDEX('Input Echo'!$M$11:$M$596,MATCH('(3)Flange Peq'!$A19,'Input Echo'!$J$11:$J$596,0))) -> 0 | C19: =IFERROR(INDEX('Input Echo'!$AI$11:$AI$596,MATCH('(3)Flange Peq'!$A19,'Input Echo'!$I$11:$I$596,0)),INDEX('Input Echo'!$AI$11:$AI$596,MATCH('(3)Flange Peq'!$A19,'Input Echo'!$J$11:$J$596,0))) -> 50 | D19: =IFERROR(INDEX('Input Echo'!$Y$11:$Y$596,MATCH('(3)Flange Peq'!$A19,'Input Echo'!$I$11:$I$596,0)),INDEX('Input Echo'!$Y$11:$Y$596,MATCH('(3)Flange Peq'!$A19,'Input Echo'!$J$11:$J$596,0))) -> 10 | E19: 109 | F19: 31 | G19: 111.13 | H19: =IFERROR(INDEX('Input Echo'!$O$11:$O$596,MATCH('(3)Flange Peq'!$A19,'Input Echo'!$I$11:$I$596,0)),INDEX('Input Echo'!$O$11:$O$596,MATCH('(3)Flange Peq'!$A19,'[1]Input Echo'!$J$11:$J$600,0))) -> 0 | I19: =D19+4*E19*10/(PI()*G19^2)+16*F19*10^4/(PI()*G19^2*H19) -> #DIV/0! | J19: 52 | K19: 49.96 | L19: =(I19/K19)*100 -> #DIV/0! | M19: =B19&C19 -> 050
A20: 6410 | B20: =IFERROR(INDEX('Input Echo'!$M$11:$M$596,MATCH('(3)Flange Peq'!$A20,'Input Echo'!$I$11:$I$596,0)),INDEX('Input Echo'!$M$11:$M$596,MATCH('(3)Flange Peq'!$A20,'Input Echo'!$J$11:$J$596,0))) -> 150 | C20: =IFERROR(INDEX('Input Echo'!$AI$11:$AI$596,MATCH('(3)Flange Peq'!$A20,'Input Echo'!$I$11:$I$596,0)),INDEX('Input Echo'!$AI$11:$AI$596,MATCH('(3)Flange Peq'!$A20,'Input Echo'!$J$11:$J$596,0))) -> 25 | D20: =IFERROR(INDEX('Input Echo'!$Y$11:$Y$596,MATCH('(3)Flange Peq'!$A20,'Input Echo'!$I$11:$I$596,0)),INDEX('Input Echo'!$Y$11:$Y$596,MATCH('(3)Flange Peq'!$A20,'Input Echo'!$J$11:$J$596,0))) -> 10 | E20: 195 | F20: 63 | G20: 111.13 | H20: =IFERROR(INDEX('Input Echo'!$O$11:$O$596,MATCH('(3)Flange Peq'!$A20,'Input Echo'!$I$11:$I$596,0)),INDEX('Input Echo'!$O$11:$O$596,MATCH('(3)Flange Peq'!$A20,'[1]Input Echo'!$J$11:$J$600,0))) -> #N/A | I20: 0 | J20: 52 | K20: 49.96 | L20: =(I20/K20)*100 -> 0 | M20: =B20&C20 -> 15025
A21: 6330 | B21: =IFERROR(INDEX('Input Echo'!$M$11:$M$596,MATCH('(3)Flange Peq'!$A21,'Input Echo'!$I$11:$I$596,0)),INDEX('Input Echo'!$M$11:$M$596,MATCH('(3)Flange Peq'!$A21,'Input Echo'!$J$11:$J$596,0))) -> 150 | C21: =IFERROR(INDEX('Input Echo'!$AI$11:$AI$596,MATCH('(3)Flange Peq'!$A21,'Input Echo'!$I$11:$I$596,0)),INDEX('Input Echo'!$AI$11:$AI$596,MATCH('(3)Flange Peq'!$A21,'Input Echo'!$J$11:$J$596,0))) -> 50 | D21: =IFERROR(INDEX('Input Echo'!$Y$11:$Y$596,MATCH('(3)Flange Peq'!$A21,'Input Echo'!$I$11:$I$596,0)),INDEX('Input Echo'!$Y$11:$Y$596,MATCH('(3)Flange Peq'!$A21,'Input Echo'!$J$11:$J$596,0))) -> 10 | E21: 77 | F21: 41 | G21: 111.13 | H21: =IFERROR(INDEX('Input Echo'!$O$11:$O$596,MATCH('(3)Flange Peq'!$A21,'Input Echo'!$I$11:$I$596,0)),INDEX('Input Echo'!$O$11:$O$596,MATCH('(3)Flange Peq'!$A21,'[1]Input Echo'!$J$11:$J$600,0))) -> 120.6 | I21: =D21+4*E21*10/(PI()*G21^2)+16*F21*10^4/(PI()*G21^2*H21) -> 11.481372 | J21: 110 | K21: 17.31 | L21: =(I21/K21)*100 -> 66.327973 | M21: =B21&C21 -> 15050
A22: 6250 | B22: =IFERROR(INDEX('Input Echo'!$M$11:$M$596,MATCH('(3)Flange Peq'!$A22,'Input Echo'!$I$11:$I$596,0)),INDEX('Input Echo'!$M$11:$M$596,MATCH('(3)Flange Peq'!$A22,'Input Echo'!$J$11:$J$596,0))) -> 150 | C22: =IFERROR(INDEX('Input Echo'!$AI$11:$AI$596,MATCH('(3)Flange Peq'!$A22,'Input Echo'!$I$11:$I$596,0)),INDEX('Input Echo'!$AI$11:$AI$596,MATCH('(3)Flange Peq'!$A22,'Input Echo'!$J$11:$J$596,0))) -> 50 | D22: =IFERROR(INDEX('Input Echo'!$Y$11:$Y$596,MATCH('(3)Flange Peq'!$A22,'Input Echo'!$I$11:$I$596,0)),INDEX('Input Echo'!$Y$11:$Y$596,MATCH('(3)Flange Peq'!$A22,'Input Echo'!$J$11:$J$596,0))) -> 10 | E22: 195 | F22: 37 | G22: 111.13 | H22: =IFERROR(INDEX('Input Echo'!$O$11:$O$596,MATCH('(3)Flange Peq'!$A22,'Input Echo'!$I$11:$I$596,0)),INDEX('Input Echo'!$O$11:$O$596,MATCH('(3)Flange Peq'!$A22,'[1]Input Echo'!$J$11:$J$600,0))) -> 120.6 | I22: =D22+4*E22*10/(PI()*G22^2)+16*F22*10^4/(PI()*G22^2*H22) -> 11.466248 | J22: 110 | K22: 46.37 | L22: =(I22/K22)*100 -> 24.727729 | M22: =B22&C22 -> 15050
A23: 74 | B23: =IFERROR(INDEX('Input Echo'!$M$11:$M$596,MATCH('(3)Flange Peq'!$A23,'Input Echo'!$I$11:$I$596,0)),INDEX('Input Echo'!$M$11:$M$596,MATCH('(3)Flange Peq'!$A23,'Input Echo'!$J$11:$J$596,0))) -> 150 | C23: =IFERROR(INDEX('Input Echo'!$AI$11:$AI$596,MATCH('(3)Flange Peq'!$A23,'Input Echo'!$I$11:$I$596,0)),INDEX('Input Echo'!$AI$11:$AI$596,MATCH('(3)Flange Peq'!$A23,'Input Echo'!$J$11:$J$596,0))) -> 50 | D23: =IFERROR(INDEX('Input Echo'!$Y$11:$Y$596,MATCH('(3)Flange Peq'!$A23,'Input Echo'!$I$11:$I$596,0)),INDEX('Input Echo'!$Y$11:$Y$596,MATCH('(3)Flange Peq'!$A23,'Input Echo'!$J$11:$J$596,0))) -> 10 | E23: 836 | F23: 136 | G23: 111.13 | H23: =IFERROR(INDEX('Input Echo'!$O$11:$O$596,MATCH('(3)Flange Peq'!$A23,'Input Echo'!$I$11:$I$596,0)),INDEX('Input Echo'!$O$11:$O$596,MATCH('(3)Flange Peq'!$A23,'[1]Input Echo'!$J$11:$J$600,0))) -> 120.6 | I23: =D23+4*E23*10/(PI()*G23^2)+16*F23*10^4/(PI()*G23^2*H23) -> 15.512388 | J23: 110 | K23: 46.37 | L23: =(I23/K23)*100 -> 33.4535 | M23: =B23&C23 -> 15050
A24: 7400 | B24: =IFERROR(INDEX('Input Echo'!$M$11:$M$596,MATCH('(3)Flange Peq'!$A24,'Input Echo'!$I$11:$I$596,0)),INDEX('Input Echo'!$M$11:$M$596,MATCH('(3)Flange Peq'!$A24,'Input Echo'!$J$11:$J$596,0))) -> 150 | C24: =IFERROR(INDEX('Input Echo'!$AI$11:$AI$596,MATCH('(3)Flange Peq'!$A24,'Input Echo'!$I$11:$I$596,0)),INDEX('Input Echo'!$AI$11:$AI$596,MATCH('(3)Flange Peq'!$A24,'Input Echo'!$J$11:$J$596,0))) -> 150 | D24: =IFERROR(INDEX('Input Echo'!$Y$11:$Y$596,MATCH('(3)Flange Peq'!$A24,'Input Echo'!$I$11:$I$596,0)),INDEX('Input Echo'!$Y$11:$Y$596,MATCH('(3)Flange Peq'!$A24,'Input Echo'!$J$11:$J$596,0))) -> 10 | E24: 772 | F24: 143 | G24: 111.13 | H24: =IFERROR(INDEX('Input Echo'!$O$11:$O$596,MATCH('(3)Flange Peq'!$A24,'Input Echo'!$I$11:$I$596,0)),INDEX('Input Echo'!$O$11:$O$596,MATCH('(3)Flange Peq'!$A24,'[1]Input Echo'!$J$11:$J$600,0))) -> 241.3 | I24: =D24+4*E24*10/(PI()*G24^2)+16*F24*10^4/(PI()*G24^2*H24) -> 13.239827 | J24: 110 | K24: 46.37 | L24: =(I24/K24)*100 -> 28.552571 | M24: =B24&C24 -> 150150
A25: 7412 | B25: =IFERROR(INDEX('Input Echo'!$M$11:$M$596,MATCH('(3)Flange Peq'!$A25,'Input Echo'!$I$11:$I$596,0)),INDEX('Input Echo'!$M$11:$M$596,MATCH('(3)Flange Peq'!$A25,'Input Echo'!$J$11:$J$596,0))) -> 150 | C25: =IFERROR(INDEX('Input Echo'!$AI$11:$AI$596,MATCH('(3)Flange Peq'!$A25,'Input Echo'!$I$11:$I$596,0)),INDEX('Input Echo'!$AI$11:$AI$596,MATCH('(3)Flange Peq'!$A25,'Input Echo'!$J$11:$J$596,0))) -> 150 | D25: =IFERROR(INDEX('Input Echo'!$Y$11:$Y$596,MATCH('(3)Flange Peq'!$A25,'Input Echo'!$I$11:$I$596,0)),INDEX('Input Echo'!$Y$11:$Y$596,MATCH('(3)Flange Peq'!$A25,'Input Echo'!$J$11:$J$596,0))) -> 10 | E25: 110 | F25: 23 | G25: 77.85 | H25: =IFERROR(INDEX('Input Echo'!$O$11:$O$596,MATCH('(3)Flange Peq'!$A25,'Input Echo'!$I$11:$I$596,0)),INDEX('Input Echo'!$O$11:$O$596,MATCH('(3)Flange Peq'!$A25,'[1]Input Echo'!$J$11:$J$600,0))) -> 241.3 | I25: =D25+4*E25*10/(PI()*G25^2)+16*F25*10^4/(PI()*G25^2*H25) -> 11.032076 | J25: 110 | K25: 46.37 | L25: =(I25/K25)*100 -> 23.791407 | M25: =B25&C25 -> 150150
A26: 7414 | B26: =IFERROR(INDEX('Input Echo'!$M$11:$M$596,MATCH('(3)Flange Peq'!$A26,'Input Echo'!$I$11:$I$596,0)),INDEX('Input Echo'!$M$11:$M$596,MATCH('(3)Flange Peq'!$A26,'Input Echo'!$J$11:$J$596,0))) -> 150 | C26: =IFERROR(INDEX('Input Echo'!$AI$11:$AI$596,MATCH('(3)Flange Peq'!$A26,'Input Echo'!$I$11:$I$596,0)),INDEX('Input Echo'!$AI$11:$AI$596,MATCH('(3)Flange Peq'!$A26,'Input Echo'!$J$11:$J$596,0))) -> 150 | D26: =IFERROR(INDEX('Input Echo'!$Y$11:$Y$596,MATCH('(3)Flange Peq'!$A26,'Input Echo'!$I$11:$I$596,0)),INDEX('Input Echo'!$Y$11:$Y$596,MATCH('(3)Flange Peq'!$A26,'Input Echo'!$J$11:$J$596,0))) -> 10 | E26: 112 | F26: 75 | G26: 77.85 | H26: =IFERROR(INDEX('Input Echo'!$O$11:$O$596,MATCH('(3)Flange Peq'!$A26,'Input Echo'!$I$11:$I$596,0)),INDEX('Input Echo'!$O$11:$O$596,MATCH('(3)Flange Peq'!$A26,'[1]Input Echo'!$J$11:$J$600,0))) -> 241.3 | I26: =D26+4*E26*10/(PI()*G26^2)+16*F26*10^4/(PI()*G26^2*H26) -> 12.847196 | J26: 110 | K26: 46.37 | L26: =(I26/K26)*100 -> 27.705835 | M26: =B26&C26 -> 150150
A27: 7470 | B27: =IFERROR(INDEX('Input Echo'!$M$11:$M$596,MATCH('(3)Flange Peq'!$A27,'Input Echo'!$I$11:$I$596,0)),INDEX('Input Echo'!$M$11:$M$596,MATCH('(3)Flange Peq'!$A27,'Input Echo'!$J$11:$J$596,0))) -> 0 | C27: =IFERROR(INDEX('Input Echo'!$AI$11:$AI$596,MATCH('(3)Flange Peq'!$A27,'Input Echo'!$I$11:$I$596,0)),INDEX('Input Echo'!$AI$11:$AI$596,MATCH('(3)Flange Peq'!$A27,'Input Echo'!$J$11:$J$596,0))) -> 50 | D27: =IFERROR(INDEX('Input Echo'!$Y$11:$Y$596,MATCH('(3)Flange Peq'!$A27,'Input Echo'!$I$11:$I$596,0)),INDEX('Input Echo'!$Y$11:$Y$596,MATCH('(3)Flange Peq'!$A27,'Input Echo'!$J$11:$J$596,0))) -> 10 | E27: 62 | F27: 12 | G27: 111.13 | H27: =IFERROR(INDEX('Input Echo'!$O$11:$O$596,MATCH('(3)Flange Peq'!$A27,'Input Echo'!$I$11:$I$596,0)),INDEX('Input Echo'!$O$11:$O$596,MATCH('(3)Flange Peq'!$A27,'[1]Input Echo'!$J$11:$J$600,0))) -> 0 | I27: =D27+4*E27*10/(PI()*G27^2)+16*F27*10^4/(PI()*G27^2*H27) -> #DIV/0! | J27: 110 | K27: 17.31 | L27: =(I27/K27)*100 -> #DIV/0! | M27: =B27&C27 -> 050
A28: 7560 | B28: =IFERROR(INDEX('Input Echo'!$M$11:$M$596,MATCH('(3)Flange Peq'!$A28,'Input Echo'!$I$11:$I$596,0)),INDEX('Input Echo'!$M$11:$M$596,MATCH('(3)Flange Peq'!$A28,'Input Echo'!$J$11:$J$596,0))) -> 0 | C28: =IFERROR(INDEX('Input Echo'!$AI$11:$AI$596,MATCH('(3)Flange Peq'!$A28,'Input Echo'!$I$11:$I$596,0)),INDEX('Input Echo'!$AI$11:$AI$596,MATCH('(3)Flange Peq'!$A28,'Input Echo'!$J$11:$J$596,0))) -> 50 | D28: =IFERROR(INDEX('Input Echo'!$Y$11:$Y$596,MATCH('(3)Flange Peq'!$A28,'Input Echo'!$I$11:$I$596,0)),INDEX('Input Echo'!$Y$11:$Y$596,MATCH('(3)Flange Peq'!$A28,'Input Echo'!$J$11:$J$596,0))) -> 10 | E28: 101 | F28: 44 | G28: 77.85 | H28: =IFERROR(INDEX('Input Echo'!$O$11:$O$596,MATCH('(3)Flange Peq'!$A28,'Input Echo'!$I$11:$I$596,0)),INDEX('Input Echo'!$O$11:$O$596,MATCH('(3)Flange Peq'!$A28,'[1]Input Echo'!$J$11:$J$600,0))) -> 0 | I28: =D28+4*E28*10/(PI()*G28^2)+16*F28*10^4/(PI()*G28^2*H28) -> #DIV/0! | J28: 52 | K28: 49.96 | L28: =(I28/K28)*100 -> #DIV/0! | M28: =B28&C28 -> 050
