Workbook
Name cam1g1date: 'camion 1'!$C$3:$J$3
Name cam1g1ton: 'camion 1'!$C$16:$J$16
Name cam1g2date: 'camion 1'!$C$24:$J$24
Name cam1g2ton: 'camion 1'!$C$37:$J$37
Name cam1g3date: 'camion 1'!$C$45:$J$45
Name cam1g3ton: 'camion 1'!$C$58:$J$58
Name cam2g1date: 'camion 2'!$C$3:$J$3
Name cam2g1ton: 'camion 2'!$C$16:$J$16
Name cam2g2date: 'camion 2'!$C$24:$J$24
Name cam2g2ton: 'camion 2'!$C$37:$J$37
Name cam2g3date: 'camion 2'!$C$45:$J$45
Name cam2g3ton: 'camion 2'!$C$58:$J$58
Name cam3g1date: 'camion 3'!$C$3:$J$3
Name cam3g1ton: 'camion 3'!$C$16:$J$16
Name cam3g2date: 'camion 3'!$C$24:$J$24
Name cam3g2ton: 'camion 3'!$C$37:$J$37
Name cam3g3date: 'camion 3'!$C$45:$J$45
Name cam3g3ton: 'camion 3'!$C$58:$J$58

Sheet camion  1
B3: gravat 1 | C3: ='total chantier'!$B$5 -> 42317 | D3: =C3+1 -> 42318 | E3: =D3+1 -> 42319 | F3: =E3+1 -> 42320 | G3: =F3+1 -> 42321 | H3: =G3+1 -> 42322 | I3: =H3+1 -> 42323 | J3: =I3+1 -> 42324
B4: tour n°1 | C4: 20
B5: tour n°2
B6: tour n°3
B7: tour n°4
B8: tour n°5 | E8: 10
B9: tour n°6 | C9: 20
B10: tour n°7
B11: tour n°8
B12: tour n°9
B13: tour n°10
B14: tour n°11
B15: tour n°12
B16: TOTAL jour | C16: =SUM(C4:C15) -> 40 | D16: =SUM(D4:D15) -> 0 | E16: =SUM(E4:E15) -> 10 | F16: =SUM(F4:F15) -> 0 | G16: =SUM(G4:G15) -> 0 | H16: =SUM(H4:H15) -> 0 | I16: =SUM(I4:I15) -> 0 | J16: =SUM(J4:J15) -> 0
B18: TOTAL CHANTIER GRAVAT 1 | C18: =SUM(C16:I16) -> 50
D19: TONNES
B24: gravat 2 | C24: ='total chantier'!$B$5 -> 42317 | D24: =C24+1 -> 42318 | E24: =D24+1 -> 42319 | F24: =E24+1 -> 42320 | G24: =F24+1 -> 42321 | H24: =G24+1 -> 42322 | I24: =H24+1 -> 42323 | J24: =I24+1 -> 42324
B25: tour n°1 | C25: 200
B26: tour n°2
B27: tour n°3 | G27: 20
B28: tour n°4
B29: tour n°5
B30: tour n°6
B31: tour n°7
B32: tour n°8
B33: tour n°9
B34: tour n°10
B35: tour n°11
B36: tour n°12
B37: TOTAL jour | C37: =SUM(C25:C36) -> 200 | D37: =SUM(D25:D36) -> 0 | E37: =SUM(E25:E36) -> 0 | F37: =SUM(F25:F36) -> 0 | G37: =SUM(G25:G36) -> 20 | H37: =SUM(H25:H36) -> 0 | I37: =SUM(I25:I36) -> 0 | J37: =SUM(J25:J36) -> 0
B39: TOTAL CHANTIER GRAVAT 2 | C39: =SUM(C37:I37) -> 220
D40: TONNES
B45: gravat 3 | C45: ='total chantier'!$B$5 -> 42317 | D45: =C45+1 -> 42318 | E45: =D45+1 -> 42319 | F45: =E45+1 -> 42320 | G45: =F45+1 -> 42321 | H45: =G45+1 -> 42322 | I45: =H45+1 -> 42323 | J45: =I45+1 -> 42324
B46: tour n°1
B47: tour n°2 | D47: 14
B48: tour n°3
B49: tour n°4
B50: tour n°5 | H50: 23
B51: tour n°6
B52: tour n°7
B53: tour n°8
B54: tour n°9
B55: tour n°10
B56: tour n°11
B57: tour n°12
B58: TOTAL jour | C58: =SUM(C46:C57) -> 0 | D58: =SUM(D46:D57) -> 14 | E58: =SUM(E46:E57) -> 0 | F58: =SUM(F46:F57) -> 0 | G58: =SUM(G46:G57) -> 0 | H58: =SUM(H46:H57) -> 23 | I58: =SUM(I46:I57) -> 0 | J58: =SUM(J46:J57) -> 0
B60: TOTAL CHANTIER GRAVAT 3 | C60: =SUM(C58:I58) -> 37
D61: TONNES

Sheet camion 2
B3: gravat 1 | C3: ='total chantier'!$B$5 -> 42317 | D3: =C3+1 -> 42318 | E3: =D3+1 -> 42319 | F3: =E3+1 -> 42320 | G3: =F3+1 -> 42321 | H3: =G3+1 -> 42322 | I3: =H3+1 -> 42323 | J3: =I3+1 -> 42324
B4: tour n°1 | C4: 5
B5: tour n°2
B6: tour n°3
B7: tour n°4 | D7: 2
B8: tour n°5
B9: tour n°6
B10: tour n°7
B11: tour n°8
B12: tour n°9
B13: tour n°10
B14: tour n°11
B15: tour n°12 | J15: 1
B16: TOTAL jour | C16: =SUM(C4:C15) -> 5 | D16: =SUM(D4:D15) -> 2 | E16: =SUM(E4:E15) -> 0 | F16: =SUM(F4:F15) -> 0 | G16: =SUM(G4:G15) -> 0 | H16: =SUM(H4:H15) -> 0 | I16: =SUM(I4:I15) -> 0 | J16: =SUM(J4:J15) -> 1
B18: TOTAL CHANTIER GRAVAT 1 | C18: =SUM(C16:I16) -> 7
D19: TONNES
B24: gravat 2 | C24: ='total chantier'!$B$5 -> 42317 | D24: =C24+1 -> 42318 | E24: =D24+1 -> 42319 | F24: =E24+1 -> 42320 | G24: =F24+1 -> 42321 | H24: =G24+1 -> 42322 | I24: =H24+1 -> 42323 | J24: =I24+1 -> 42324
B25: tour n°1 | C25: 1
B26: tour n°2
B27: tour n°3
B28: tour n°4
B29: tour n°5 | F29: 1
B30: tour n°6
B31: tour n°7
B32: tour n°8
B33: tour n°9
B34: tour n°10
B35: tour n°11
B36: tour n°12 | J36: 1
B37: TOTAL jour | C37: =SUM(C25:C36) -> 1 | D37: =SUM(D25:D36) -> 0 | E37: =SUM(E25:E36) -> 0 | F37: =SUM(F25:F36) -> 1 | G37: =SUM(G25:G36) -> 0 | H37: =SUM(H25:H36) -> 0 | I37: =SUM(I25:I36) -> 0 | J37: =SUM(J25:J36) -> 1
B39: TOTAL CHANTIER GRAVAT 2 | C39: =SUM(C37:I37) -> 2
D40: TONNES
B45: gravat 3 | C45: ='total chantier'!$B$5 -> 42317 | D45: =C45+1 -> 42318 | E45: =D45+1 -> 42319 | F45: =E45+1 -> 42320 | G45: =F45+1 -> 42321 | H45: =G45+1 -> 42322 | I45: =H45+1 -> 42323 | J45: =I45+1 -> 42324
B46: tour n°1
B47: tour n°2
B48: tour n°3 | C48: 1
B49: tour n°4 | E49: 1
B50: tour n°5
B51: tour n°6
B52: tour n°7 | I52: 1
B53: tour n°8
B54: tour n°9
B55: tour n°10
B56: tour n°11
B57: tour n°12
B58: TOTAL jour | C58: =SUM(C46:C57) -> 1 | D58: =SUM(D46:D57) -> 0 | E58: =SUM(E46:E57) -> 1 | F58: =SUM(F46:F57) -> 0 | G58: =SUM(G46:G57) -> 0 | H58: =SUM(H46:H57) -> 0 | I58: =SUM(I46:I57) -> 1 | J58: =SUM(J46:J57) -> 0
B60: TOTAL CHANTIER GRAVAT 3 | C60: =SUM(C58:I58) -> 3
D61: TONNES

Sheet camion 3
B3: gravat 1 | C3: ='total chantier'!$B$5 -> 42317 | D3: =C3+1 -> 42318 | E3: =D3+1 -> 42319 | F3: =E3+1 -> 42320 | G3: =F3+1 -> 42321 | H3: =G3+1 -> 42322 | I3: =H3+1 -> 42323 | J3: =I3+1 -> 42324
B4: tour n°1 | C4: 3
B5: tour n°2
B6: tour n°3
B7: tour n°4 | D7: 7
B8: tour n°5
B9: tour n°6
B10: tour n°7
B11: tour n°8
B12: tour n°9
B13: tour n°10
B14: tour n°11
B15: tour n°12
B16: TOTAL jour | C16: =SUM(C4:C15) -> 3 | D16: =SUM(D4:D15) -> 7 | E16: =SUM(E4:E15) -> 0 | F16: =SUM(F4:F15) -> 0 | G16: =SUM(G4:G15) -> 0 | H16: =SUM(H4:H15) -> 0 | I16: =SUM(I4:I15) -> 0 | J16: =SUM(J4:J15) -> 0
B18: TOTAL CHANTIER GRAVAT 1 | C18: =SUM(C16:I16) -> 10
D19: TONNES
B24: gravat 2 | C24: ='total chantier'!$B$5 -> 42317 | D24: =C24+1 -> 42318 | E24: =D24+1 -> 42319 | F24: =E24+1 -> 42320 | G24: =F24+1 -> 42321 | H24: =G24+1 -> 42322 | I24: =H24+1 -> 42323 | J24: =I24+1 -> 42324
B25: tour n°1
B26: tour n°2
B27: tour n°3 | C27: 2
B28: tour n°4
B29: tour n°5 | E29: 2
B30: tour n°6
B31: tour n°7 | J31: 2
B32: tour n°8
B33: tour n°9
B34: tour n°10
B35: tour n°11
B36: tour n°12
B37: TOTAL jour | C37: =SUM(C25:C36) -> 2 | D37: =SUM(D25:D36) -> 0 | E37: =SUM(E25:E36) -> 2 | F37: =SUM(F25:F36) -> 0 | G37: =SUM(G25:G36) -> 0 | H37: =SUM(H25:H36) -> 0 | I37: =SUM(I25:I36) -> 0 | J37: =SUM(J25:J36) -> 2
B39: TOTAL CHANTIER GRAVAT 2 | C39: =SUM(C37:I37) -> 4
D40: TONNES
B45: gravat 3 | C45: ='total chantier'!$B$5 -> 42317 | D45: =C45+1 -> 42318 | E45: =D45+1 -> 42319 | F45: =E45+1 -> 42320 | G45: =F45+1 -> 42321 | H45: =G45+1 -> 42322 | I45: =H45+1 -> 42323 | J45: =I45+1 -> 42324
B46: tour n°1
B47: tour n°2
B48: tour n°3 | C48: 1
B49: tour n°4 | F49: 1
B50: tour n°5 | I50: 1
B51: tour n°6
B52: tour n°7
B53: tour n°8
B54: tour n°9
B55: tour n°10
B56: tour n°11
B57: tour n°12
B58: TOTAL jour | C58: =SUM(C46:C57) -> 1 | D58: =SUM(D46:D57) -> 0 | E58: =SUM(E46:E57) -> 0 | F58: =SUM(F46:F57) -> 1 | G58: =SUM(G46:G57) -> 0 | H58: =SUM(H46:H57) -> 0 | I58: =SUM(I46:I57) -> 1 | J58: =SUM(J46:J57) -> 0
B60: TOTAL CHANTIER GRAVAT 3 | C60: =SUM(C58:I58) -> 3
D61: TONNES

Sheet total chantier
G2: année | H2: 2015 | I2: semaine | J2: 46 | L2: saisir le n° de semaine
B4: GRAVAT 1 | C4: CAMION 1 | D4: CAMION 2 | E4: CAMION 3
B5: =INDEX(param!A:A,MATCH(J$2,param!C:C,0)) -> 42317 | C5: =SUMPRODUCT((cam1g1date=$B5)*(cam1g1ton)) -> 40 | D5: =SUMPRODUCT((cam2g1date=$B5)*(cam2g1ton)) -> 5 | E5: =SUMPRODUCT((cam3g1date=$B5)*(cam3g1ton)) -> 3 | I5: periode du | J5: =MIN(B5:B45) -> 42317 | K5: au | L5: =MAX(B5:B45) -> 42327
B6: =B5+1 -> 42318 | C6: =SUMPRODUCT((cam1g1date=$B6)*(cam1g1ton)) -> 0 | D6: =SUMPRODUCT((cam2g1date=$B6)*(cam2g1ton)) -> 2 | E6: =SUMPRODUCT((cam3g1date=$B6)*(cam3g1ton)) -> 7 | J6: camion1 | L6: camion2 | M6: camion3
B7: =B6+1 -> 42319 | C7: =SUMPRODUCT((cam1g1date=$B7)*(cam1g1ton)) -> 10 | D7: =SUMPRODUCT((cam2g1date=$B7)*(cam2g1ton)) -> 0 | E7: =SUMPRODUCT((cam3g1date=$B7)*(cam3g1ton)) -> 0 | J7: =SUM(C5:C45) -> 307 | L7: =SUM(D5:D45) -> 14 | M7: =SUM(E5:E45) -> 19
B8: =B7+1 -> 42320 | C8: =SUMPRODUCT((cam1g1date=$B8)*(cam1g1ton)) -> 0 | D8: =SUMPRODUCT((cam2g1date=$B8)*(cam2g1ton)) -> 0 | E8: =SUMPRODUCT((cam3g1date=$B8)*(cam3g1ton)) -> 0 | J8: =SUMPRODUCT(--(C5:C15>0)+(C20:C30>0)+(C35:C45>0)) -> 6 | L8: =SUMPRODUCT(--(D5:D15>0)+(D20:D30>0)+(D35:D45>0)) -> 9 | M8: =SUMPRODUCT(--(E5:E15>0)+(E20:E30>0)+(E35:E45>0)) -> 8
B9: =B8+1 -> 42321 | C9: =SUMPRODUCT((cam1g1date=$B9)*(cam1g1ton)) -> 0 | D9: =SUMPRODUCT((cam2g1date=$B9)*(cam2g1ton)) -> 0 | E9: =SUMPRODUCT((cam3g1date=$B9)*(cam3g1ton)) -> 0
B10: =B9+1 -> 42322 | C10: =SUMPRODUCT((cam1g1date=$B10)*(cam1g1ton)) -> 0 | D10: =SUMPRODUCT((cam2g1date=$B10)*(cam2g1ton)) -> 0 | E10: =SUMPRODUCT((cam3g1date=$B10)*(cam3g1ton)) -> 0
B11: =B10+1 -> 42323 | C11: =SUMPRODUCT((cam1g1date=$B11)*(cam1g1ton)) -> 0 | D11: =SUMPRODUCT((cam2g1date=$B11)*(cam2g1ton)) -> 0 | E11: =SUMPRODUCT((cam3g1date=$B11)*(cam3g1ton)) -> 0
B12: =B11+1 -> 42324 | C12: =SUMPRODUCT((cam1g1date=$B12)*(cam1g1ton)) -> 0 | D12: =SUMPRODUCT((cam2g1date=$B12)*(cam2g1ton)) -> 1 | E12: =SUMPRODUCT((cam3g1date=$B12)*(cam3g1ton)) -> 0
B13: =B12+1 -> 42325 | C13: =SUMPRODUCT((cam1g1date=$B13)*(cam1g1ton)) -> 0 | D13: =SUMPRODUCT((cam2g1date=$B13)*(cam2g1ton)) -> 0 | E13: =SUMPRODUCT((cam3g1date=$B13)*(cam3g1ton)) -> 0
B14: =B13+1 -> 42326 | C14: =SUMPRODUCT((cam1g1date=$B14)*(cam1g1ton)) -> 0 | D14: =SUMPRODUCT((cam2g1date=$B14)*(cam2g1ton)) -> 0 | E14: =SUMPRODUCT((cam3g1date=$B14)*(cam3g1ton)) -> 0
B15: =B14+1 -> 42327 | C15: =SUMPRODUCT((cam1g1date=$B15)*(cam1g1ton)) -> 0 | D15: =SUMPRODUCT((cam2g1date=$B15)*(cam2g1ton)) -> 0 | E15: =SUMPRODUCT((cam3g1date=$B15)*(cam3g1ton)) -> 0
B19: GRAVAT 2 | C19: CAMION 1 | D19: CAMION 2 | E19: CAMION 3
B20: =INDEX(param!A:A,MATCH(J$2,param!C:C,0)) -> 42317 | C20: =SUMPRODUCT((cam1g2date=$B20)*(cam1g2ton)) -> 200 | D20: =SUMPRODUCT((cam2g2date=$B20)*(cam2g2ton)) -> 1 | E20: =SUMPRODUCT((cam3g2date=$B20)*(cam3g2ton)) -> 2
B21: =B20+1 -> 42318 | C21: =SUMPRODUCT((cam1g2date=$B21)*(cam1g2ton)) -> 0 | D21: =SUMPRODUCT((cam2g2date=$B21)*(cam2g2ton)) -> 0 | E21: =SUMPRODUCT((cam3g2date=$B21)*(cam3g2ton)) -> 0
B22: =B21+1 -> 42319 | C22: =SUMPRODUCT((cam1g2date=$B22)*(cam1g2ton)) -> 0 | D22: =SUMPRODUCT((cam2g2date=$B22)*(cam2g2ton)) -> 0 | E22: =SUMPRODUCT((cam3g2date=$B22)*(cam3g2ton)) -> 2
B23: =B22+1 -> 42320 | C23: =SUMPRODUCT((cam1g2date=$B23)*(cam1g2ton)) -> 0 | D23: =SUMPRODUCT((cam2g2date=$B23)*(cam2g2ton)) -> 1 | E23: =SUMPRODUCT((cam3g2date=$B23)*(cam3g2ton)) -> 0
B24: =B23+1 -> 42321 | C24: =SUMPRODUCT((cam1g2date=$B24)*(cam1g2ton)) -> 20 | D24: =SUMPRODUCT((cam2g2date=$B24)*(cam2g2ton)) -> 0 | E24: =SUMPRODUCT((cam3g2date=$B24)*(cam3g2ton)) -> 0
B25: =B24+1 -> 42322 | C25: =SUMPRODUCT((cam1g2date=$B25)*(cam1g2ton)) -> 0 | D25: =SUMPRODUCT((cam2g2date=$B25)*(cam2g2ton)) -> 0 | E25: =SUMPRODUCT((cam3g2date=$B25)*(cam3g2ton)) -> 0
B26: =B25+1 -> 42323 | C26: =SUMPRODUCT((cam1g2date=$B26)*(cam1g2ton)) -> 0 | D26: =SUMPRODUCT((cam2g2date=$B26)*(cam2g2ton)) -> 0 | E26: =SUMPRODUCT((cam3g2date=$B26)*(cam3g2ton)) -> 0
B27: =B26+1 -> 42324 | C27: =SUMPRODUCT((cam1g2date=$B27)*(cam1g2ton)) -> 0 | D27: =SUMPRODUCT((cam2g2date=$B27)*(cam2g2ton)) -> 1 | E27: =SUMPRODUCT((cam3g2date=$B27)*(cam3g2ton)) -> 2
B28: =B27+1 -> 42325 | C28: =SUMPRODUCT((cam1g2date=$B28)*(cam1g2ton)) -> 0 | D28: =SUMPRODUCT((cam2g2date=$B28)*(cam2g2ton)) -> 0 | E28: =SUMPRODUCT((cam3g2date=$B28)*(cam3g2ton)) -> 0
B29: =B28+1 -> 42326 | C29: =SUMPRODUCT((cam1g2date=$B29)*(cam1g2ton)) -> 0 | D29: =SUMPRODUCT((cam2g2date=$B29)*(cam2g2ton)) -> 0 | E29: =SUMPRODUCT((cam3g2date=$B29)*(cam3g2ton)) -> 0
B30: =B29+1 -> 42327 | C30: =SUMPRODUCT((cam1g2date=$B30)*(cam1g2ton)) -> 0 | D30: =SUMPRODUCT((cam2g2date=$B30)*(cam2g2ton)) -> 0 | E30: =SUMPRODUCT((cam3g2date=$B30)*(cam3g2ton)) -> 0
B34: GRAVAT 3 | C34: CAMION 1 | D34: CAMION 2 | E34: CAMION 3
B35: =INDEX(param!A:A,MATCH(J$2,param!C:C,0)) -> 42317 | C35: =SUMPRODUCT((cam1g3date=$B35)*(cam1g3ton)) -> 0 | D35: =SUMPRODUCT((cam2g3date=$B35)*(cam2g3ton)) -> 1 | E35: =SUMPRODUCT((cam3g3date=$B35)*(cam3g3ton)) -> 1
B36: =B35+1 -> 42318 | C36: =SUMPRODUCT((cam1g3date=$B36)*(cam1g3ton)) -> 14 | D36: =SUMPRODUCT((cam2g3date=$B36)*(cam2g3ton)) -> 0 | E36: =SUMPRODUCT((cam3g3date=$B36)*(cam3g3ton)) -> 0
B37: =B36+1 -> 42319 | C37: =SUMPRODUCT((cam1g3date=$B37)*(cam1g3ton)) -> 0 | D37: =SUMPRODUCT((cam2g3date=$B37)*(cam2g3ton)) -> 1 | E37: =SUMPRODUCT((cam3g3date=$B37)*(cam3g3ton)) -> 0
B38: =B37+1 -> 42320 | C38: =SUMPRODUCT((cam1g3date=$B38)*(cam1g3ton)) -> 0 | D38: =SUMPRODUCT((cam2g3date=$B38)*(cam2g3ton)) -> 0 | E38: =SUMPRODUCT((cam3g3date=$B38)*(cam3g3ton)) -> 1
B39: =B38+1 -> 42321 | C39: =SUMPRODUCT((cam1g3date=$B39)*(cam1g3ton)) -> 0 | D39: =SUMPRODUCT((cam2g3date=$B39)*(cam2g3ton)) -> 0 | E39: =SUMPRODUCT((cam3g3date=$B39)*(cam3g3ton)) -> 0
B40: =B39+1 -> 42322 | C40: =SUMPRODUCT((cam1g3date=$B40)*(cam1g3ton)) -> 23 | D40: =SUMPRODUCT((cam2g3date=$B40)*(cam2g3ton)) -> 0 | E40: =SUMPRODUCT((cam3g3date=$B40)*(cam3g3ton)) -> 0
B41: =B40+1 -> 42323 | C41: =SUMPRODUCT((cam1g3date=$B41)*(cam1g3ton)) -> 0 | D41: =SUMPRODUCT((cam2g3date=$B41)*(cam2g3ton)) -> 1 | E41: =SUMPRODUCT((cam3g3date=$B41)*(cam3g3ton)) -> 1
B42: =B41+1 -> 42324 | C42: =SUMPRODUCT((cam1g3date=$B42)*(cam1g3ton)) -> 0 | D42: =SUMPRODUCT((cam2g3date=$B42)*(cam2g3ton)) -> 0 | E42: =SUMPRODUCT((cam3g3date=$B42)*(cam3g3ton)) -> 0
B43: =B42+1 -> 42325 | C43: =SUMPRODUCT((cam1g3date=$B43)*(cam1g3ton)) -> 0 | D43: =SUMPRODUCT((cam2g3date=$B43)*(cam2g3ton)) -> 0 | E43: =SUMPRODUCT((cam3g3date=$B43)*(cam3g3ton)) -> 0
B44: =B43+1 -> 42326 | C44: =SUMPRODUCT((cam1g3date=$B44)*(cam1g3ton)) -> 0 | D44: =SUMPRODUCT((cam2g3date=$B44)*(cam2g3ton)) -> 0 | E44: =SUMPRODUCT((cam3g3date=$B44)*(cam3g3ton)) -> 0
B45: =B44+1 -> 42327 | C45: =SUMPRODUCT((cam1g3date=$B45)*(cam1g3ton)) -> 0 | D45: =SUMPRODUCT((cam2g3date=$B45)*(cam2g3ton)) -> 0 | E45: =SUMPRODUCT((cam3g3date=$B45)*(cam3g3ton)) -> 0

Sheet model
B3: gravat 1 | C3: 42314 | D3: 42317 | E3: 42318 | F3: 42319 | G3: 42320 | H3: 42321 | I3: 42324 | J3: 42325
B4: tour n°1
B5: tour n°2
B6: tour n°3
B7: tour n°4
B8: tour n°5
B9: tour n°6
B10: tour n°7
B11: tour n°8
B12: tour n°9
B13: tour n°10
B14: tour n°11
B15: tour n°12
B16: TOTAL jour | C16: =SUM(C4:C15) -> 0 | D16: =SUM(D4:D15) -> 0 | E16: =SUM(E4:E15) -> 0 | F16: =SUM(F4:F15) -> 0 | G16: =SUM(G4:G15) -> 0 | H16: =SUM(H4:H15) -> 0 | I16: =SUM(I4:I15) -> 0 | J16: =SUM(J4:J15) -> 0
B18: TOTAL CHANTIER GRAVAT 1 | C18: =SUM(C16:I16) -> 0
D19: TONNES
B24: gravat 2 | C24: 42314 | D24: 42315 | E24: 42316 | F24: 42317 | G24: 42318 | H24: 42319 | I24: 42320 | J24: 42321
B25: tour n°1
B26: tour n°2
B27: tour n°3
B28: tour n°4
B29: tour n°5
B30: tour n°6
B31: tour n°7
B32: tour n°8
B33: tour n°9
B34: tour n°10
B35: tour n°11
B36: tour n°12
B37: TOTAL jour | C37: =SUM(C25:C36) -> 0 | D37: =SUM(D25:D36) -> 0 | E37: =SUM(E25:E36) -> 0 | F37: =SUM(F25:F36) -> 0 | G37: =SUM(G25:G36) -> 0 | H37: =SUM(H25:H36) -> 0 | I37: =SUM(I25:I36) -> 0 | J37: =SUM(J25:J36) -> 0
B39: TOTAL CHANTIER GRAVAT 2 | C39: =SUM(C37:I37) -> 0
D40: TONNES
B45: gravat 3 | C45: 42314 | D45: 42315 | E45: 42316 | F45: 42317 | G45: 42318 | H45: 42319 | I45: 42320 | J45: 42321
B46: tour n°1
B47: tour n°2
B48: tour n°3
B49: tour n°4
B50: tour n°5
B51: tour n°6
B52: tour n°7
B53: tour n°8
B54: tour n°9
B55: tour n°10
B56: tour n°11
B57: tour n°12
B58: TOTAL jour | C58: =SUM(C46:C57) -> 0 | D58: =SUM(D46:D57) -> 0 | E58: =SUM(E46:E57) -> 0 | F58: =SUM(F46:F57) -> 0 | G58: =SUM(G46:G57) -> 0 | H58: =SUM(H46:H57) -> 0 | I58: =SUM(I46:I57) -> 0 | J58: =SUM(J46:J57) -> 0
B60: TOTAL CHANTIER GRAVAT 3 | C60: =SUM(C58:I58) -> 0
D61: TONNES

Sheet param
A1: =DATE('total chantier'!H2,1,1) -> 42005 | B1: =WEEKDAY(A1,2) -> 4 | C1: =COUNTIF(B$1:B1,1)+1 -> 1
A2: =A1+1 -> 42006 | B2: =WEEKDAY(A2,2) -> 5 | C2: =COUNTIF(B$1:B2,1)+1 -> 1
A3: =A2+1 -> 42007 | B3: =WEEKDAY(A3,2) -> 6 | C3: =COUNTIF(B$1:B3,1)+1 -> 1
A4: =A3+1 -> 42008 | B4: =WEEKDAY(A4,2) -> 7 | C4: =COUNTIF(B$1:B4,1)+1 -> 1
A5: =A4+1 -> 42009 | B5: =WEEKDAY(A5,2) -> 1 | C5: =COUNTIF(B$1:B5,1)+1 -> 2
A6: =A5+1 -> 42010 | B6: =WEEKDAY(A6,2) -> 2 | C6: =COUNTIF(B$1:B6,1)+1 -> 2
A7: =A6+1 -> 42011 | B7: =WEEKDAY(A7,2) -> 3 | C7: =COUNTIF(B$1:B7,1)+1 -> 2
A8: =A7+1 -> 42012 | B8: =WEEKDAY(A8,2) -> 4 | C8: =COUNTIF(B$1:B8,1)+1 -> 2
A9: =A8+1 -> 42013 | B9: =WEEKDAY(A9,2) -> 5 | C9: =COUNTIF(B$1:B9,1)+1 -> 2
A10: =A9+1 -> 42014 | B10: =WEEKDAY(A10,2) -> 6 | C10: =COUNTIF(B$1:B10,1)+1 -> 2
A11: =A10+1 -> 42015 | B11: =WEEKDAY(A11,2) -> 7 | C11: =COUNTIF(B$1:B11,1)+1 -> 2
A12: =A11+1 -> 42016 | B12: =WEEKDAY(A12,2) -> 1 | C12: =COUNTIF(B$1:B12,1)+1 -> 3
A13: =A12+1 -> 42017 | B13: =WEEKDAY(A13,2) -> 2 | C13: =COUNTIF(B$1:B13,1)+1 -> 3
... A366: =A365+1 -> 42370 | B366: =WEEKDAY(A366,2) -> 5 | C366: =COUNTIF(B$1:B366,1)+1 -> 53
