Workbook

Sheet Base 1
A1: Fournisseur | B1: Compte | C1: Activité | D1: N° de BL | E1: Concaténation données | F1: Montant
A2: BRO | B2: 601100 | C2: 210 | D2: 48270077 | E2: =A2&" - "&B2&" - "&C2&" - "&D2 -> BRO - 601100 - 210 - 48270077 | F2: 140.6
A3: HEXA | B3: 601100 | C3: 210 | D3: 153897 | E3: =A3&" - "&B3&" - "&C3&" - "&D3 -> HEXA - 601100 - 210 - 153897 | F3: 953
A4: HEXA | B4: 601100 | C4: 230 | D4: 153897 | E4: =A4&" - "&B4&" - "&C4&" - "&D4 -> HEXA - 601100 - 230 - 153897 | F4: 208
A5: HEXA | B5: 601100 | C5: 210 | D5: 153897 | E5: =A5&" - "&B5&" - "&C5&" - "&D5 -> HEXA - 601100 - 210 - 153897 | F5: 221

Sheet Base 2
A1: Fournisseur | B1: Compte | C1: Activité | D1: N° de BL | E1: Concaténation données | F1: Montant
A2: BRO | B2: 601100 | C2: 210 | D2: 48270077 | E2: =A2&" - "&B2&" - "&C2&" - "&D2 -> BRO - 601100 - 210 - 48270077 | F2: 142.59
A3: HEXA | B3: 601100 | C3: 210 | D3: 153897 | E3: =A3&" - "&B3&" - "&C3&" - "&D3 -> HEXA - 601100 - 210 - 153897 | F3: 223.45
A4: HEXA | B4: 601100 | C4: 210 | D4: 153897 | E4: =A4&" - "&B4&" - "&C4&" - "&D4 -> HEXA - 601100 - 210 - 153897 | F4: 1001
A5: HEXA | B5: 601100 | C5: 230 | D5: 153897 | E5: =A5&" - "&B5&" - "&C5&" - "&D5 -> HEXA - 601100 - 230 - 153897 | F5: 210

Sheet Ecarts par ligne
A1: Fournisseur | B1: Compte | C1: Activité | D1: N° de BL | E1: Concaténation données | F1: Montant Base 1 | G1: Montant Base 2 | H1: Ecart | J1: tulipe
A2: BRO | B2: 601100 | C2: 210 | D2: 48270077 | E2: =A2&" - "&B2&" - "&C2&" - "&D2 -> BRO - 601100 - 210 - 48270077 | F2: 140.6 | G2: 142.59 | H2: =F2-G2 -> -1.99 | I2: {=INDEX('Base 1'!$F$2:$F$5,SMALL(IF('Base 1'!$E$2:$E$5=$E2,ROW('Base 1'!F$2:F$5)-1,""),COUNTIF($E$2:$E2,$E2)))} -> 140.6 | J2: {=MIN(IF('Base 2'!$E$2:$E$5=$E2,IF('Base 2'!F$2:F$5>=I2,'Base 2'!F$2:F$5)))} -> 142.59 | K2: =J2-I2 -> 1.99
A3: HEXA | B3: 601100 | C3: 210 | D3: 153897 | E3: =A3&" - "&B3&" - "&C3&" - "&D3 -> HEXA - 601100 - 210 - 153897 | F3: 953 | G3: 1001 | H3: =F3-G3 -> -48 | I3: {=INDEX('Base 1'!F$2:F$5,SMALL(IF('Base 1'!E$2:E$5=E3,ROW('Base 1'!F$2:F$5)-1,""),COUNTIF(E$2:E3,E3)))} -> 953 | J3: {=MIN(IF('Base 2'!$E$2:$E$5=$E3,IF('Base 2'!F$2:F$5>=I3,'Base 2'!F$2:F$5)))} -> 1001 | K3: =J3-I3 -> 48
A4: HEXA | B4: 601100 | C4: 230 | D4: 153897 | E4: =A4&" - "&B4&" - "&C4&" - "&D4 -> HEXA - 601100 - 230 - 153897 | F4: 208 | G4: 210 | H4: =F4-G4 -> -2 | I4: {=INDEX('Base 1'!F$2:F$5,SMALL(IF('Base 1'!E$2:E$5=E4,ROW('Base 1'!F$2:F$5)-1,""),COUNTIF(E$2:E4,E4)))} -> 208 | J4: {=MIN(IF('Base 2'!$E$2:$E$5=$E4,IF('Base 2'!F$2:F$5>=I4,'Base 2'!F$2:F$5)))} -> 210 | K4: =J4-I4 -> 2
A5: HEXA | B5: 601100 | C5: 210 | D5: 153897 | E5: =A5&" - "&B5&" - "&C5&" - "&D5 -> HEXA - 601100 - 210 - 153897 | F5: 221 | G5: 223.45 | H5: =F5-G5 -> -2.45 | I5: {=INDEX('Base 1'!F$2:F$5,SMALL(IF('Base 1'!E$2:E$5=E5,ROW('Base 1'!F$2:F$5)-1,""),COUNTIF(E$2:E5,E5)))} -> 221 | J5: {=MIN(IF('Base 2'!$E$2:$E$5=$E5,IF('Base 2'!F$2:F$5>=I5,'Base 2'!F$2:F$5)))} -> 223.45 | K5: =J5-I5 -> 2.45
