Workbook
Name bdd: 'Les joueurs de la ligue'!$A$1:$D$123
Name EQUIPE: CLASSEMENT!$D$4:$D$11

Sheet Les joueurs de la ligue
F2: 66 | G2: ABV | H2: Rock 66 | J2: CB | L2: Castor Bleu | N2: TH | P2: Tomahawks | R2: BL | T2: Blues
B3: # | D3: Joueur | F3: # | H3: Joueur | J3: # | L3: Joueur | N3: # | P3: Joueur | R3: # | T3: Joueur
A4: =B4&C4 -> 7CB | B4: 7 | C4: CB | D4: Alain Dubé | F4: 1 | G4: 66 | H4: Éric Lauzon | J4: 1 | K4: CB | L4: Larry Goddard | N4: 1 | O4: TH | P4: Alex Viens | R4: 1 | S4: BL | T4: Fred Robert
A5: =B5&C5 -> 8PN | B5: 8 | C5: PN | D5: Alain Lauzon | F5: 2 | G5: 66 | H5: Mathieux Lacroix | J5: 2 | K5: CB | L5: Luc Fontaine | N5: 2 | O5: TH | P5: Nicolas Viaux | R5: 2 | S5: BL | T5: Simon Couette
A6: =B6&C6 -> 7EM | B6: 7 | C6: EM | D6: Alain Leduc | F6: 3 | G6: 66 | H6: Brandon Labbé | J6: 3 | K6: CB | L6: Patrice Plouffe | N6: 3 | O6: TH | P6: Michael Croteau | R6: 3 | S6: BL | T6: Pat Griggs
A7: =B7&C7 -> 8CB | B7: 8 | C7: CB | D7: Alex Campeau | F7: 4 | G7: 66 | H7: Patrick Martin | J7: 4 | K7: CB | L7: Stéphane Couture | N7: 4 | O7: TH | P7: Guy Boulais | R7: 4 | S7: BL | T7: Stéph Beaudry
A8: =B8&C8 -> 4EM | B8: 4 | C8: EM | D8: Alex Gingras | F8: 5 | G8: 66 | H8: Steeve Brisée | J8: 5 | K8: CB | L8: Guy Côté | N8: 5 | O8: TH | P8: Benjamin Lauzon | R8: 5 | S8: BL | T8: Jessy Laplante
A9: =B9&C9 -> 1TH | B9: 1 | C9: TH | D9: Alex Viens | F9: 6 | G9: 66 | H9: Sylvain D'amour | J9: 6 | K9: CB | L9: Pascal Hamel | N9: 6 | O9: TH | P9: Jason Michaud | R9: 6 | S9: BL | T9: Eric Green
A10: =B10&C10 -> 2EM | B10: 2 | C10: EM | D10: André Meunier | F10: 7 | G10: 66 | H10: Marc Francoeur | J10: 7 | K10: CB | L10: Alain Dubé | N10: 7 | O10: TH | P10: Danny Racine | R10: 7 | S10: BL | T10: Eric Vachon
A11: =B11&C11 -> 5TH | B11: 5 | C11: TH | D11: Benjamin Lauzon | F11: 8 | G11: 66 | H11: Keyvin Corbin | J11: 8 | K11: CB | L11: Alex Campeau | N11: 8 | O11: TH | P11: Emmanuel Viens | R11: 8 | S11: BL | T11: Martin Marengère
A12: =B12&C12 -> 5BT | B12: 5 | C12: BT | D12: Benoit Lejeune | F12: 9 | G12: 66 | J12: 9 | K12: CB | N12: 9 | O12: TH | R12: 9 | S12: BL
A13: =B13&C13 -> 6PN | B13: 6 | C13: PN | D13: Bob Marois | F13: 10 | G13: 66 | J13: 10 | K13: CB | N13: 10 | O13: TH | R13: 10 | S13: BL
A14: =B14&C14 -> 366 | B14: 3 | C14: 66 | D14: Brandon Labbé | F14: 11 | G14: 66 | J14: 11 | K14: CB | N14: 11 | O14: TH | R14: 11 | S14: BL
A15: =B15&C15 -> 5UM | B15: 5 | C15: UM | D15: Bruce Perras | F15: 12 | G15: 66 | J15: 12 | K15: CB | N15: 12 | O15: TH | R15: 12 | S15: BL
A16: =B16&C16 -> 7PN | B16: 7 | C16: PN | D16: Charles Drapeau | F16: 13 | G16: 66 | J16: 13 | K16: CB | N16: 13 | O16: TH | R16: 13 | S16: BL
A17: =B17&C17 -> 3BT | B17: 3 | C17: BT | D17: Christian Lemay | F17: 14 | G17: 66 | J17: 14 | K17: CB | N17: 14 | O17: TH | R17: 14 | S17: BL
A18: =B18&C18 -> 7TH | B18: 7 | C18: TH | D18: Danny Racine | F18: 15 | G18: 66 | J18: 15 | K18: CB | N18: 15 | O18: TH | R18: 15 | S18: BL
A19: =B19&C19 -> 1BT | B19: 1 | C19: BT | D19: David Boulet
A20: =B20&C20 -> 8EM | B20: 8 | C20: EM | D20: David Lauzon
A21: =B21&C21 -> 8TH | B21: 8 | C21: TH | D21: Emmanuel Viens | F21: BL | H21: Bella Terra | J21: EM | L21: ÉcoMax | N21: PN | P21: Punisher | R21: UM | T21: Ultimat
A22: =B22&C22 -> 6BL | B22: 6 | C22: BL | D22: Eric Green | F22: # | H22: Joueur | J22: # | L22: Joueur | N22: # | P22: Joueur | R22: # | T22: Joueur
A23: =B23&C23 -> 166 | B23: 1 | C23: 66 | D23: Éric Lauzon | F23: 1 | G23: BT | H23: David Boulet | J23: 1 | K23: EM | L23: Max Daigle | N23: 1 | O23: PN | P23: Glen Anderson | R23: 1 | S23: UM | T23: Sébas Daigle
A24: =B24&C24 -> 7BL | B24: 7 | C24: BL | D24: Eric Vachon | F24: 2 | G24: BT | H24: Yannick Boulet | J24: 2 | K24: EM | L24: André Meunier | N24: 2 | O24: PN | P24: Luc Pinson | R24: 2 | S24: UM | T24: Sébas Fortin
A25: =B25&C25 -> 4UM | B25: 4 | C25: UM | D25: Ernis Perras | F25: 3 | G25: BT | H25: Christian Lemay | J25: 3 | K25: EM | L25: Kevin Lamontagne | N25: 3 | O25: PN | P25: Martin Roy | R25: 3 | S25: UM | T25: Jeremy Bédard
A26: =B26&C26 -> 1BL | B26: 1 | C26: BL | D26: Fred Robert | F26: 4 | G26: BT | H26: Pascal Dion | J26: 4 | K26: EM | L26: Alex Gingras | N26: 4 | O26: PN | P26: Pat Guay | R26: 4 | S26: UM | T26: Ernis Perras
A27: =B27&C27 -> 1PN | B27: 1 | C27: PN | D27: Glen Anderson | F27: 5 | G27: BT | H27: Benoit Lejeune | J27: 5 | K27: EM | L27: Olivier Forget | N27: 5 | O27: PN | P27: Rick Monday | R27: 5 | S27: UM | T27: Bruce Perras
A28: =B28&C28 -> 4TH | B28: 4 | C28: TH | D28: Guy Boulais | F28: 6 | G28: BT | H28: Jody Barnes | J28: 6 | K28: EM | L28: Phil Dunn | N28: 6 | O28: PN | P28: Bob Marois | R28: 6 | S28: UM | T28: Steve Grenier
A29: =B29&C29 -> 5CB | B29: 5 | C29: CB | D29: Guy Côté | F29: 7 | G29: BT | H29: Patrick Pépin | J29: 7 | K29: EM | L29: Alain Leduc | N29: 7 | O29: PN | P29: Charles Drapeau | R29: 7 | S29: UM | T29: Laurier Gagner
A30: =B30&C30 -> 6TH | B30: 6 | C30: TH | D30: Jason Michaud | F30: 8 | G30: BT | H30: John Sherrey | J30: 8 | K30: EM | L30: David Lauzon | N30: 8 | O30: PN | P30: Alain Lauzon | R30: 8 | S30: UM | T30: Leo Champs
A31: =B31&C31 -> 3UM | B31: 3 | C31: UM | D31: Jeremy Bédard | F31: 9 | G31: BT | J31: 9 | K31: EM | N31: 9 | O31: PN | R31: 9 | S31: UM
A32: =B32&C32 -> 5BL | B32: 5 | C32: BL | D32: Jessy Laplante | F32: 10 | G32: BT | J32: 10 | K32: EM | N32: 10 | O32: PN | R32: 10 | S32: UM
A33: =B33&C33 -> 6BT | B33: 6 | C33: BT | D33: Jody Barnes | F33: 11 | G33: BT | J33: 11 | K33: EM | N33: 11 | O33: PN | R33: 11 | S33: UM
A34: =B34&C34 -> 8BT | B34: 8 | C34: BT | D34: John Sherrey | F34: 12 | G34: BT | J34: 12 | K34: EM | N34: 12 | O34: PN | R34: 12 | S34: UM
A35: =B35&C35 -> 3EM | B35: 3 | C35: EM | D35: Kevin Lamontagne | F35: 13 | G35: BT | J35: 13 | K35: EM | N35: 13 | O35: PN | R35: 13 | S35: UM
A36: =B36&C36 -> 866 | B36: 8 | C36: 66 | D36: Keyvin Corbin | F36: 14 | G36: BT | J36: 14 | K36: EM | N36: 14 | O36: PN | R36: 14 | S36: UM
A37: =B37&C37 -> 1CB | B37: 1 | C37: CB | D37: Larry Goddard | F37: 15 | G37: BT | J37: 15 | K37: EM | N37: 15 | O37: PN | R37: 15 | S37: UM
A38: =B38&C38 -> 7UM | B38: 7 | C38: UM | D38: Laurier Gagner
A39: =B39&C39 -> 8UM | B39: 8 | C39: UM | D39: Leo Champs
A40: =B40&C40 -> 2CB | B40: 2 | C40: CB | D40: Luc Fontaine
A41: =B41&C41 -> 2PN | B41: 2 | C41: PN | D41: Luc Pinson
...

Sheet CLASSEMENT
B3: RANG | C3: ABV | D3: ÉQUIPE | E3: PARTIES | F3: VICTOIRES | G3: DÉFAITES | H3: VICTOIRE EN FUS | I3: DÉFAITE EN FUS | J3: NUL | K3: PTS | L3: BUT POUR | M3: BUT CONTRE
B4: 1 | C4: CB | D4: CASTOR BLEU | E4: =SUM(F4:J4) -> 0 | K4: =(F4*3)+(H4*2)+I4+J4 -> 0
B5: 2 | C5: PN | D5: PUNISHER | E5: =SUM(F5:J5) -> 0
B6: 3 | C6: BT | D6: BELLA TERRA | E6: =SUM(F6:J6) -> 0
B7: 4 | C7: 66 | D7: ROCK 66 | E7: =SUM(F7:J7) -> 0
B8: 5 | C8: UM | D8: ULTIMAT | E8: =SUM(F8:J8) -> 0
B9: 6 | C9: EM | D9: ECOMAX | E9: =SUM(F9:J9) -> 0
B10: 7 | C10: BL | D10: BLUES | E10: =SUM(F10:J10) -> 0
B11: 8 | C11: TH | D11: TOMAHAWKS | E11: =SUM(F11:J11) -> 0

Sheet TEAMS STATS
D3: 66 | N3: BLUES
C5: # | D5: JOUEURS | E5: PARTIES | F5: BUTS | G5: PASSES | H5: POINTS | I5: PÉNALITÉS | M5: # | N5: JOUEURS | O5: PARTIES | P5: BUTS | Q5: PASSES | R5: POINTS | S5: PÉNALITÉS
C6: 77 | D6: ÉRIC LAUZON | F6: =IF($D6="","",IF(OR($D$3=#REF!,$D$3=#REF!),VLOOKUP($D6,#REF!,6,0))) -> #REF! | G6: =IF($D6="","",IF(OR($D$3=#REF!,$D$3=#REF!),VLOOKUP($D6,#REF!,7,0))) -> #REF! | H6: =IF($D6="","",SUM(F6:G6)) -> #REF! | I6: =IF($D6="","",IF(OR($D$3=#REF!,$D$3=#REF!),VLOOKUP($D6,#REF!,9,0))) -> #REF! | M6: 1 | N6: LARRY GODDARD | P6: =IF($N6="","",IF(OR($N$3=#REF!,$N$3=#REF!),VLOOKUP($N6,#REF!,6,0))) -> #REF! | Q6: =IF($N6="","",IF(OR($N$3=#REF!,$N$3=#REF!),VLOOKUP($N6,#REF!,7,0))) -> #REF! | R6: =IF(N6="","",P6+Q6) -> #REF! | S6: =IF($N6="","",IF(OR($N$3=#REF!,$N$3=#REF!),VLOOKUP($N6,#REF!,9,0))) -> #REF!
C7: 23 | D7: MAX DAIGLE | F7: =IF($D7="","",IF(OR($D$3=#REF!,$D$3=#REF!),VLOOKUP($D7,#REF!,6,0))) -> #REF! | G7: =IF($D7="","",IF(OR($D$3=#REF!,$D$3=#REF!),VLOOKUP($D7,#REF!,7,0))) -> #REF! | H7: =IF($D7="","",SUM(F7:G7)) -> #REF! | I7: =IF($D7="","",IF(OR($D$3=#REF!,$D$3=#REF!),VLOOKUP($D7,#REF!,9,0))) -> #REF! | M7: 2 | N7: STÉPHANE COUTURE | P7: =IF($N7="","",IF(OR($N$3=#REF!,$N$3=#REF!),VLOOKUP($N7,#REF!,6,0))) -> #REF! | Q7: =IF($N7="","",IF(OR($N$3=#REF!,$N$3=#REF!),VLOOKUP($N7,#REF!,7,0))) -> #REF! | R7: =IF(N7="","",P7+Q7) -> #REF! | S7: =IF($N7="","",IF(OR($N$3=#REF!,$N$3=#REF!),VLOOKUP($N7,#REF!,9,0))) -> #REF!
C8: 45 | D8: ANDRÉ MEUNIER | F8: =IF($D8="","",IF(OR($D$3=#REF!,$D$3=#REF!),VLOOKUP($D8,#REF!,6,0))) -> #REF! | G8: =IF($D8="","",IF(OR($D$3=#REF!,$D$3=#REF!),VLOOKUP($D8,#REF!,7,0))) -> #REF! | H8: =IF($D8="","",SUM(F8:G8)) -> #REF! | I8: =IF($D8="","",IF(OR($D$3=#REF!,$D$3=#REF!),VLOOKUP($D8,#REF!,9,0))) -> #REF! | M8: 3 | N8: PATRICE PLOUFFE | P8: =IF($N8="","",IF(OR($N$3=#REF!,$N$3=#REF!),VLOOKUP($N8,#REF!,6,0))) -> #REF! | Q8: =IF($N8="","",IF(OR($N$3=#REF!,$N$3=#REF!),VLOOKUP($N8,#REF!,7,0))) -> #REF! | R8: =IF(N8="","",P8+Q8) -> #REF! | S8: =IF($N8="","",IF(OR($N$3=#REF!,$N$3=#REF!),VLOOKUP($N8,#REF!,9,0))) -> #REF!
C9: 12 | D9: PHIL DUNN | F9: =IF($D9="","",IF(OR($D$3=#REF!,$D$3=#REF!),VLOOKUP($D9,#REF!,6,0))) -> #REF! | G9: =IF($D9="","",IF(OR($D$3=#REF!,$D$3=#REF!),VLOOKUP($D9,#REF!,7,0))) -> #REF! | H9: =IF($D9="","",SUM(F9:G9)) -> #REF! | I9: =IF($D9="","",IF(OR($D$3=#REF!,$D$3=#REF!),VLOOKUP($D9,#REF!,9,0))) -> #REF! | M9: 4 | N9: DOMINIC BILODEAU | P9: =IF($N9="","",IF(OR($N$3=#REF!,$N$3=#REF!),VLOOKUP($N9,#REF!,6,0))) -> #REF! | Q9: =IF($N9="","",IF(OR($N$3=#REF!,$N$3=#REF!),VLOOKUP($N9,#REF!,7,0))) -> #REF! | R9: =IF(N9="","",P9+Q9) -> #REF! | S9: =IF($N9="","",IF(OR($N$3=#REF!,$N$3=#REF!),VLOOKUP($N9,#REF!,9,0))) -> #REF!
C10: 2 | D10: KEVIN LAMONTAGNE | F10: =IF($D10="","",IF(OR($D$3=#REF!,$D$3=#REF!),VLOOKUP($D10,#REF!,6,0))) -> #REF! | G10: =IF($D10="","",IF(OR($D$3=#REF!,$D$3=#REF!),VLOOKUP($D10,#REF!,7,0))) -> #REF! | H10: =IF($D10="","",SUM(F10:G10)) -> #REF! | I10: =IF($D10="","",IF(OR($D$3=#REF!,$D$3=#REF!),VLOOKUP($D10,#REF!,9,0))) -> #REF! | M10: 5 | N10: MATHIEU LACROIX | P10: =IF($N10="","",IF(OR($N$3=#REF!,$N$3=#REF!),VLOOKUP($N10,#REF!,6,0))) -> #REF! | Q10: =IF($N10="","",IF(OR($N$3=#REF!,$N$3=#REF!),VLOOKUP($N10,#REF!,7,0))) -> #REF! | R10: =IF(N10="","",P10+Q10) -> #REF! | S10: =IF($N10="","",IF(OR($N$3=#REF!,$N$3=#REF!),VLOOKUP($N10,#REF!,9,0))) -> #REF!
C11: 67 | D11: ERIC GREEN | F11: =IF($D11="","",IF(OR($D$3=#REF!,$D$3=#REF!),VLOOKUP($D11,#REF!,6,0))) -> #REF! | G11: =IF($D11="","",IF(OR($D$3=#REF!,$D$3=#REF!),VLOOKUP($D11,#REF!,7,0))) -> #REF! | H11: =IF($D11="","",SUM(F11:G11)) -> #REF! | I11: =IF($D11="","",IF(OR($D$3=#REF!,$D$3=#REF!),VLOOKUP($D11,#REF!,9,0))) -> #REF! | M11: 6 | N11: CHRISTIAN LACROIX | P11: =IF($N11="","",IF(OR($N$3=#REF!,$N$3=#REF!),VLOOKUP($N11,#REF!,6,0))) -> #REF! | Q11: =IF($N11="","",IF(OR($N$3=#REF!,$N$3=#REF!),VLOOKUP($N11,#REF!,7,0))) -> #REF! | R11: =IF(N11="","",P11+Q11) -> #REF! | S11: =IF($N11="","",IF(OR($N$3=#REF!,$N$3=#REF!),VLOOKUP($N11,#REF!,9,0))) -> #REF!
C12: 97 | D12: ALAIN LEDUC | F12: =IF($D12="","",IF(OR($D$3=#REF!,$D$3=#REF!),VLOOKUP($D12,#REF!,6,0))) -> #REF! | G12: =IF($D12="","",IF(OR($D$3=#REF!,$D$3=#REF!),VLOOKUP($D12,#REF!,7,0))) -> #REF! | H12: =IF($D12="","",SUM(F12:G12)) -> #REF! | I12: =IF($D12="","",IF(OR($D$3=#REF!,$D$3=#REF!),VLOOKUP($D12,#REF!,9,0))) -> #REF! | M12: 7 | N12: LUC ALLAIN | P12: =IF($N12="","",IF(OR($N$3=#REF!,$N$3=#REF!),VLOOKUP($N12,#REF!,6,0))) -> #REF! | Q12: =IF($N12="","",IF(OR($N$3=#REF!,$N$3=#REF!),VLOOKUP($N12,#REF!,7,0))) -> #REF! | R12: =IF(N12="","",P12+Q12) -> #REF! | S12: =IF($N12="","",IF(OR($N$3=#REF!,$N$3=#REF!),VLOOKUP($N12,#REF!,9,0))) -> #REF!
C13: 34 | D13: LUC FONTAINE | F13: =IF($D13="","",IF(OR($D$3=#REF!,$D$3=#REF!),VLOOKUP($D13,#REF!,6,0))) -> #REF! | G13: =IF($D13="","",IF(OR($D$3=#REF!,$D$3=#REF!),VLOOKUP($D13,#REF!,7,0))) -> #REF! | H13: =IF($D13="","",SUM(F13:G13)) -> #REF! | I13: =IF($D13="","",IF(OR($D$3=#REF!,$D$3=#REF!),VLOOKUP($D13,#REF!,9,0))) -> #REF! | M13: 8 | N13: THIERRY BOUCHARD | P13: =IF($N13="","",IF(OR($N$3=#REF!,$N$3=#REF!),VLOOKUP($N13,#REF!,6,0))) -> #REF! | Q13: =IF($N13="","",IF(OR($N$3=#REF!,$N$3=#REF!),VLOOKUP($N13,#REF!,7,0))) -> #REF! | R13: =IF(N13="","",P13+Q13) -> #REF! | S13: =IF($N13="","",IF(OR($N$3=#REF!,$N$3=#REF!),VLOOKUP($N13,#REF!,9,0))) -> #REF!
C14: X | F14: =IF($D14="","",IF(OR($D$3=#REF!,$D$3=#REF!),VLOOKUP($D14,#REF!,6,0))) | G14: =IF($D14="","",IF(OR($D$3=#REF!,$D$3=#REF!),VLOOKUP($D14,#REF!,7,0))) | H14: =IF($D14="","",SUM(F14:G14)) | I14: =IF($D14="","",IF(OR($D$3=#REF!,$D$3=#REF!),VLOOKUP($D14,#REF!,9,0))) | M14: 9 | N14: SERGE CHOQUETTE | P14: =IF($N14="","",IF(OR($N$3=#REF!,$N$3=#REF!),VLOOKUP($N14,#REF!,6,0))) -> #REF! | Q14: =IF($N14="","",IF(OR($N$3=#REF!,$N$3=#REF!),VLOOKUP($N14,#REF!,7,0))) -> #REF! | R14: =IF(N14="","",P14+Q14) -> #REF! | S14: =IF($N14="","",IF(OR($N$3=#REF!,$N$3=#REF!),VLOOKUP($N14,#REF!,9,0))) -> #REF!
C15: X | F15: =IF($D15="","",IF(OR($D$3=#REF!,$D$3=#REF!),VLOOKUP($D15,#REF!,6,0))) | G15: =IF($D15="","",IF(OR($D$3=#REF!,$D$3=#REF!),VLOOKUP($D15,#REF!,7,0))) | H15: =IF($D15="","",SUM(F15:G15)) | I15: =IF($D15="","",IF(OR($D$3=#REF!,$D$3=#REF!),VLOOKUP($D15,#REF!,9,0))) | M15: 10 | N15: LUC MASSÉ | P15: =IF($N15="","",IF(OR($N$3=#REF!,$N$3=#REF!),VLOOKUP($N15,#REF!,6,0))) -> #REF! | Q15: =IF($N15="","",IF(OR($N$3=#REF!,$N$3=#REF!),VLOOKUP($N15,#REF!,7,0))) -> #REF! | R15: =IF(N15="","",P15+Q15) -> #REF! | S15: =IF($N15="","",IF(OR($N$3=#REF!,$N$3=#REF!),VLOOKUP($N15,#REF!,9,0))) -> #REF!
C16: X | F16: =IF($D16="","",IF(OR($D$3=#REF!,$D$3=#REF!),VLOOKUP($D16,#REF!,6,0))) | G16: =IF($D16="","",IF(OR($D$3=#REF!,$D$3=#REF!),VLOOKUP($D16,#REF!,7,0))) | H16: =IF($D16="","",SUM(F16:G16)) | I16: =IF($D16="","",IF(OR($D$3=#REF!,$D$3=#REF!),VLOOKUP($D16,#REF!,9,0))) | M16: X | P16: =IF($N16="","",IF(OR($N$3=#REF!,$N$3=#REF!),VLOOKUP($N16,#REF!,6,0))) | Q16: =IF($N16="","",IF(OR($N$3=#REF!,$N$3=#REF!),VLOOKUP($N16,#REF!,7,0))) | R16: =IF(N16="","",P16+Q16) | S16: =IF($N16="","",IF(OR($N$3=#REF!,$N$3=#REF!),VLOOKUP($N16,#REF!,9,0)))
C17: X | F17: =IF($D17="","",IF(OR($D$3=#REF!,$D$3=#REF!),VLOOKUP($D17,#REF!,6,0))) | G17: =IF($D17="","",IF(OR($D$3=#REF!,$D$3=#REF!),VLOOKUP($D17,#REF!,7,0))) | H17: =IF($D17="","",SUM(F17:G17)) | I17: =IF($D17="","",IF(OR($D$3=#REF!,$D$3=#REF!),VLOOKUP($D17,#REF!,9,0))) | M17: X | P17: =IF($N17="","",IF(OR($N$3=#REF!,$N$3=#REF!),VLOOKUP($N17,#REF!,6,0))) | Q17: =IF($N17="","",IF(OR($N$3=#REF!,$N$3=#REF!),VLOOKUP($N17,#REF!,7,0))) | R17: =IF(N17="","",P17+Q17) | S17: =IF($N17="","",IF(OR($N$3=#REF!,$N$3=#REF!),VLOOKUP($N17,#REF!,9,0)))
C18: X | F18: =IF($D18="","",IF(OR($D$3=#REF!,$D$3=#REF!),VLOOKUP($D18,#REF!,6,0))) | G18: =IF($D18="","",IF(OR($D$3=#REF!,$D$3=#REF!),VLOOKUP($D18,#REF!,7,0))) | H18: =IF($D18="","",SUM(F18:G18)) | I18: =IF($D18="","",IF(OR($D$3=#REF!,$D$3=#REF!),VLOOKUP($D18,#REF!,9,0))) | M18: X | P18: =IF($N18="","",IF(OR($N$3=#REF!,$N$3=#REF!),VLOOKUP($N18,#REF!,6,0))) | Q18: =IF($N18="","",IF(OR($N$3=#REF!,$N$3=#REF!),VLOOKUP($N18,#REF!,7,0))) | R18: =IF(N18="","",P18+Q18) | S18: =IF($N18="","",IF(OR($N$3=#REF!,$N$3=#REF!),VLOOKUP($N18,#REF!,9,0)))
C19: X | F19: =IF($D19="","",IF(OR($D$3=#REF!,$D$3=#REF!),VLOOKUP($D19,#REF!,6,0))) | G19: =IF($D19="","",IF(OR($D$3=#REF!,$D$3=#REF!),VLOOKUP($D19,#REF!,7,0))) | H19: =IF($D19="","",SUM(F19:G19)) | I19: =IF($D19="","",IF(OR($D$3=#REF!,$D$3=#REF!),VLOOKUP($D19,#REF!,9,0))) | M19: X | P19: =IF($N19="","",IF(OR($N$3=#REF!,$N$3=#REF!),VLOOKUP($N19,#REF!,6,0))) | Q19: =IF($N19="","",IF(OR($N$3=#REF!,$N$3=#REF!),VLOOKUP($N19,#REF!,7,0))) | R19: =IF(N19="","",P19+Q19) | S19: =IF($N19="","",IF(OR($N$3=#REF!,$N$3=#REF!),VLOOKUP($N19,#REF!,9,0)))
C20: X | F20: =IF($D20="","",IF(OR($D$3=#REF!,$D$3=#REF!),VLOOKUP($D20,#REF!,6,0))) | G20: =IF($D20="","",IF(OR($D$3=#REF!,$D$3=#REF!),VLOOKUP($D20,#REF!,7,0))) | H20: =IF($D20="","",SUM(F20:G20)) | I20: =IF($D20="","",IF(OR($D$3=#REF!,$D$3=#REF!),VLOOKUP($D20,#REF!,9,0))) | M20: X | P20: =IF($N20="","",IF(OR($N$3=#REF!,$N$3=#REF!),VLOOKUP($N20,#REF!,6,0))) | Q20: =IF($N20="","",IF(OR($N$3=#REF!,$N$3=#REF!),VLOOKUP($N20,#REF!,7,0))) | R20: =IF(N20="","",P20+Q20) | S20: =IF($N20="","",IF(OR($N$3=#REF!,$N$3=#REF!),VLOOKUP($N20,#REF!,9,0)))
C21: X | F21: =IF($D21="","",IF(OR($D$3=#REF!,$D$3=#REF!),VLOOKUP($D21,#REF!,6,0))) | G21: =IF($D21="","",IF(OR($D$3=#REF!,$D$3=#REF!),VLOOKUP($D21,#REF!,7,0))) | H21: =IF($D21="","",SUM(F21:G21)) | I21: =IF($D21="","",IF(OR($D$3=#REF!,$D$3=#REF!),VLOOKUP($D21,#REF!,9,0))) | M21: X | P21: =IF($N21="","",IF(OR($N$3=#REF!,$N$3=#REF!),VLOOKUP($N21,#REF!,6,0))) | Q21: =IF($N21="","",IF(OR($N$3=#REF!,$N$3=#REF!),VLOOKUP($N21,#REF!,7,0))) | R21: =IF(N21="","",P21+Q21) | S21: =IF($N21="","",IF(OR($N$3=#REF!,$N$3=#REF!),VLOOKUP($N21,#REF!,9,0)))
C22: X | F22: =IF($D22="","",IF(OR($D$3=#REF!,$D$3=#REF!),VLOOKUP($D22,#REF!,6,0))) | G22: =IF($D22="","",IF(OR($D$3=#REF!,$D$3=#REF!),VLOOKUP($D22,#REF!,7,0))) | H22: =IF($D22="","",SUM(F22:G22)) | I22: =IF($D22="","",IF(OR($D$3=#REF!,$D$3=#REF!),VLOOKUP($D22,#REF!,9,0))) | M22: X | P22: =IF($N22="","",IF(OR($N$3=#REF!,$N$3=#REF!),VLOOKUP($N22,#REF!,6,0))) | Q22: =IF($N22="","",IF(OR($N$3=#REF!,$N$3=#REF!),VLOOKUP($N22,#REF!,7,0))) | R22: =IF(N22="","",P22+Q22) | S22: =IF($N22="","",IF(OR($N$3=#REF!,$N$3=#REF!),VLOOKUP($N22,#REF!,9,0)))
C23: X | F23: =IF($D23="","",IF(OR($D$3=#REF!,$D$3=#REF!),VLOOKUP($D23,#REF!,6,0))) | G23: =IF($D23="","",IF(OR($D$3=#REF!,$D$3=#REF!),VLOOKUP($D23,#REF!,7,0))) | H23: =IF($D23="","",SUM(F23:G23)) | I23: =IF($D23="","",IF(OR($D$3=#REF!,$D$3=#REF!),VLOOKUP($D23,#REF!,9,0))) | M23: X | P23: =IF($N23="","",IF(OR($N$3=#REF!,$N$3=#REF!),VLOOKUP($N23,#REF!,6,0))) | Q23: =IF($N23="","",IF(OR($N$3=#REF!,$N$3=#REF!),VLOOKUP($N23,#REF!,7,0))) | R23: =IF(N23="","",P23+Q23) | S23: =IF($N23="","",IF(OR($N$3=#REF!,$N$3=#REF!),VLOOKUP($N23,#REF!,9,0)))
C24: X | F24: =IF($D24="","",IF(OR($D$3=#REF!,$D$3=#REF!),VLOOKUP($D24,#REF!,6,0))) | G24: =IF($D24="","",IF(OR($D$3=#REF!,$D$3=#REF!),VLOOKUP($D24,#REF!,7,0))) | H24: =IF($D24="","",SUM(F24:G24)) | I24: =IF($D24="","",IF(OR($D$3=#REF!,$D$3=#REF!),VLOOKUP($D24,#REF!,9,0))) | M24: X | P24: =IF($N24="","",IF(OR($N$3=#REF!,$N$3=#REF!),VLOOKUP($N24,#REF!,6,0))) | Q24: =IF($N24="","",IF(OR($N$3=#REF!,$N$3=#REF!),VLOOKUP($N24,#REF!,7,0))) | R24: =IF(N24="","",P24+Q24) | S24: =IF($N24="","",IF(OR($N$3=#REF!,$N$3=#REF!),VLOOKUP($N24,#REF!,9,0)))
C27: # | D27: GARDIENS | E27: PARTIES | F27: BUTS | G27: MOYENNE | M27: # | N27: GARDIENS | O27: PARTIES | P27: BUTS | Q27: MOYENNE
C28: 66 | D28: ALEX GINGRAS | N28: ALEX CAMPEAU
C38: CASTOR BLEU | M38: ROCK 66
C40: # | D40: JOUEURS | E40: PARTIES | F40: BUTS | G40: PASSES | H40: POINTS | I40: PÉNALITÉS | M40: # | N40: JOUEURS | O40: PARTIES | P40: BUTS | Q40: PASSES | R40: POINTS | S40: PÉNALITÉS
C41: 1 | D41: 1 CASTOR | M41: 1 | N41: 1 ROCK
C42: 2 | D42: 2 CASTOR | M42: 2 | N42: 2 ROCK
C43: 3 | D43: 3 CASTOR | M43: 3 | N43: 3 ROCK
C44: 4 | D44: 4 CASTOR | M44: 4 | N44: 4 ROCK
C45: 5 | D45: 5 CASTOR | M45: 5 | N45: 5 ROCK
C46: 6 | D46: 6 CASTOR | M46: 6 | N46: 6 ROCK
C47: 7 | D47: 7 CASTOR | M47: 7 | N47: 7 ROCK
C48: 8 | D48: 8 CASTOR | M48: 8 | N48: 8 ROCK
C49: 9 | D49: 9 CASTOR | M49: 9 | N49: 9 ROCK
C50: 10 | D50: 10 CASTOR | M50: 10 | N50: 10 ROCK
C62: # | D62: GARDIENS | E62: PARTIES | F62: BUTS | G62: MOYENNE | M62: # | N62: GARDIENS | O62: PARTIES | P62: BUTS | Q62: MOYENNE
C74: TOMAHAWKS | M74: PUNISHER
C76: # | D76: JOUEURS | E76: PARTIES | F76: BUTS | G76: PASSES | H76: POINTS | I76: PÉNALITÉS | M76: # | N76: JOUEURS | O76: PARTIES | P76: BUTS | Q76: PASSES | R76: POINTS | S76: PÉNALITÉS
C77: 1 | D77: 1 TOMAHAWKS | M77: 1 | N77: 1 PUNISHER
C78: 2 | D78: 2 TOMAHAWKS | M78: 2 | N78: 2 PUNISHER
...

Sheet 2
A1: ROCK 66 | AF1: BELLA TERRA
U3: STATS DU MATCH
B5: EQ | D5: # | F5: NOM DES JOUEURS | N5: B | P5: P | R5: PEN | U5: PER | W5: EQ | Y5: B | AA5: P | AC5: EVENT | AG5: EQ | AI5: # | AK5: NOM DES JOUEURS | AS5: B | AU5: P | AW5: PEN
B6: =IF($A$1="","",IF($A$1=CLASSEMENT!$D$4,CLASSEMENT!$C$4,IF($A$1=CLASSEMENT!$D$5,CLASSEMENT!$C$5,IF($A$1=CLASSEMENT!$D$6,CLASSEMENT!$C$6,IF($A$1=CLASSEMENT!$D$7,CLASSEMENT!$C$7,IF($A$1=CLASSEMENT!$D$8,CLASSEMENT!$C$8,IF($A$1=CLASSEMENT!$D$9,CLASSEMENT!$C$9,IF($A$1=CLASSEMENT!$D$10,CLASSEMENT!$C$10,IF($A$1=CLASSEMENT!$D$11,CLASSEMENT!$C$11))))))))) -> 66 | D6: 1 | F6: =VLOOKUP(D6&B6,bdd,4,0) -> Éric Lauzon | N6: =COUNTIFS($Y$6:$Z$37,D6,$W$6:$X$37,B6) -> 2 | P6: =COUNTIFS($AA$6:$AB$37,D6,$W$6:$X$37,B6) -> 1 | R6: =COUNTIF($L$18:$M$37,D6)*2 -> 0 | U6: 1 | W6: 66 | Y6: 1 | AA6: 2 | AC6: E | AG6: =IF($AF$1="","",IF($AF$1=CLASSEMENT!$D$4,CLASSEMENT!$C$4,IF($AF$1=CLASSEMENT!$D$5,CLASSEMENT!$C$5,IF($AF$1=CLASSEMENT!$D$6,CLASSEMENT!$C$6,IF($AF$1=CLASSEMENT!$D$7,CLASSEMENT!$C$7,IF($AF$1=CLASSEMENT!$D$8,CLASSEMENT!$C$8,IF($AF$1=CLASSEMENT!$D$9,CLASSEMENT!$C$9,IF($AF$1=CLASSEMENT!$D$10,CLASSEMENT!$C$10,IF($AF$1=CLASSEMENT!$D$11,CLASSEMENT!$C$11))))))))) -> BT | AI6: 1 | AK6: =VLOOKUP(AI6&AG6,bdd,4,0) -> David Boulet | AS6: =COUNTIFS($Y$6:$Z$37,AI6,$W$6:$X$37,AG6) -> 0 | AU6: =COUNTIFS($AA$6:$AB$37,AI6,$W$6:$X$37,AG6) -> 0 | AW6: =COUNTIF($AQ$18:$AR$37,AI6)*2 -> 0
B7: =IF($A$1="","",IF($A$1=CLASSEMENT!$D$4,CLASSEMENT!$C$4,IF($A$1=CLASSEMENT!$D$5,CLASSEMENT!$C$5,IF($A$1=CLASSEMENT!$D$6,CLASSEMENT!$C$6,IF($A$1=CLASSEMENT!$D$7,CLASSEMENT!$C$7,IF($A$1=CLASSEMENT!$D$8,CLASSEMENT!$C$8,IF($A$1=CLASSEMENT!$D$9,CLASSEMENT!$C$9,IF($A$1=CLASSEMENT!$D$10,CLASSEMENT!$C$10,IF($A$1=CLASSEMENT!$D$11,CLASSEMENT!$C$11))))))))) -> 66 | D7: 2 | F7: =VLOOKUP(D7&B7,bdd,4,0) -> Mathieux Lacroix | N7: =COUNTIFS($Y$6:$Z$37,D7,$W$6:$X$37,B7) -> 1 | P7: =COUNTIFS($AA$6:$AB$37,D7,$W$6:$X$37,B7) -> 1 | R7: =COUNTIF($L$18:$M$37,D7)*2 -> 0 | U7: 1 | W7: 66 | Y7: 1 | AA7: 8 | AC7: E | AG7: =IF($AF$1="","",IF($AF$1=CLASSEMENT!$D$4,CLASSEMENT!$C$4,IF($AF$1=CLASSEMENT!$D$5,CLASSEMENT!$C$5,IF($AF$1=CLASSEMENT!$D$6,CLASSEMENT!$C$6,IF($AF$1=CLASSEMENT!$D$7,CLASSEMENT!$C$7,IF($AF$1=CLASSEMENT!$D$8,CLASSEMENT!$C$8,IF($AF$1=CLASSEMENT!$D$9,CLASSEMENT!$C$9,IF($AF$1=CLASSEMENT!$D$10,CLASSEMENT!$C$10,IF($AF$1=CLASSEMENT!$D$11,CLASSEMENT!$C$11))))))))) -> BT | AI7: 2 | AK7: =VLOOKUP(AI7&AG7,bdd,4,0) -> Yannick Boulet | AS7: =COUNTIFS($Y$6:$Z$37,AI7,$W$6:$X$37,AG7) -> 1 | AU7: =COUNTIFS($AA$6:$AB$37,AI7,$W$6:$X$37,AG7) -> 2 | AW7: =COUNTIF($AQ$18:$AR$37,AI7)*2 -> 0
B8: =IF($A$1="","",IF($A$1=CLASSEMENT!$D$4,CLASSEMENT!$C$4,IF($A$1=CLASSEMENT!$D$5,CLASSEMENT!$C$5,IF($A$1=CLASSEMENT!$D$6,CLASSEMENT!$C$6,IF($A$1=CLASSEMENT!$D$7,CLASSEMENT!$C$7,IF($A$1=CLASSEMENT!$D$8,CLASSEMENT!$C$8,IF($A$1=CLASSEMENT!$D$9,CLASSEMENT!$C$9,IF($A$1=CLASSEMENT!$D$10,CLASSEMENT!$C$10,IF($A$1=CLASSEMENT!$D$11,CLASSEMENT!$C$11))))))))) -> 66 | D8: 3 | F8: =VLOOKUP(D8&B8,bdd,4,0) -> Brandon Labbé | N8: =COUNTIFS($Y$6:$Z$37,D8,$W$6:$X$37,B8) -> 0 | P8: =COUNTIFS($AA$6:$AB$37,D8,$W$6:$X$37,B8) -> 1 | R8: =COUNTIF($L$18:$M$37,D8)*2 -> 0 | U8: 1 | W8: BT | Y8: 6 | AA8: 6 | AC8: E | AG8: =IF($AF$1="","",IF($AF$1=CLASSEMENT!$D$4,CLASSEMENT!$C$4,IF($AF$1=CLASSEMENT!$D$5,CLASSEMENT!$C$5,IF($AF$1=CLASSEMENT!$D$6,CLASSEMENT!$C$6,IF($AF$1=CLASSEMENT!$D$7,CLASSEMENT!$C$7,IF($AF$1=CLASSEMENT!$D$8,CLASSEMENT!$C$8,IF($AF$1=CLASSEMENT!$D$9,CLASSEMENT!$C$9,IF($AF$1=CLASSEMENT!$D$10,CLASSEMENT!$C$10,IF($AF$1=CLASSEMENT!$D$11,CLASSEMENT!$C$11))))))))) -> BT | AI8: 3 | AK8: =VLOOKUP(AI8&AG8,bdd,4,0) -> Christian Lemay | AS8: =COUNTIFS($Y$6:$Z$37,AI8,$W$6:$X$37,AG8) -> 1 | AU8: =COUNTIFS($AA$6:$AB$37,AI8,$W$6:$X$37,AG8) -> 1 | AW8: =COUNTIF($AQ$18:$AR$37,AI8)*2 -> 0
B9: =IF($A$1="","",IF($A$1=CLASSEMENT!$D$4,CLASSEMENT!$C$4,IF($A$1=CLASSEMENT!$D$5,CLASSEMENT!$C$5,IF($A$1=CLASSEMENT!$D$6,CLASSEMENT!$C$6,IF($A$1=CLASSEMENT!$D$7,CLASSEMENT!$C$7,IF($A$1=CLASSEMENT!$D$8,CLASSEMENT!$C$8,IF($A$1=CLASSEMENT!$D$9,CLASSEMENT!$C$9,IF($A$1=CLASSEMENT!$D$10,CLASSEMENT!$C$10,IF($A$1=CLASSEMENT!$D$11,CLASSEMENT!$C$11))))))))) -> 66 | D9: 4 | F9: =VLOOKUP(D9&B9,bdd,4,0) -> Patrick Martin | N9: =COUNTIFS($Y$6:$Z$37,D9,$W$6:$X$37,B9) -> 1 | P9: =COUNTIFS($AA$6:$AB$37,D9,$W$6:$X$37,B9) -> 1 | R9: =COUNTIF($L$18:$M$37,D9)*2 -> 0 | U9: 1 | W9: BT | Y9: 2 | AA9: 4 | AC9: PK | AG9: =IF($AF$1="","",IF($AF$1=CLASSEMENT!$D$4,CLASSEMENT!$C$4,IF($AF$1=CLASSEMENT!$D$5,CLASSEMENT!$C$5,IF($AF$1=CLASSEMENT!$D$6,CLASSEMENT!$C$6,IF($AF$1=CLASSEMENT!$D$7,CLASSEMENT!$C$7,IF($AF$1=CLASSEMENT!$D$8,CLASSEMENT!$C$8,IF($AF$1=CLASSEMENT!$D$9,CLASSEMENT!$C$9,IF($AF$1=CLASSEMENT!$D$10,CLASSEMENT!$C$10,IF($AF$1=CLASSEMENT!$D$11,CLASSEMENT!$C$11))))))))) -> BT | AI9: 4 | AK9: =VLOOKUP(AI9&AG9,bdd,4,0) -> Pascal Dion | AS9: =COUNTIFS($Y$6:$Z$37,AI9,$W$6:$X$37,AG9) -> 1 | AU9: =COUNTIFS($AA$6:$AB$37,AI9,$W$6:$X$37,AG9) -> 2 | AW9: =COUNTIF($AQ$18:$AR$37,AI9)*2 -> 0
B10: =IF($A$1="","",IF($A$1=CLASSEMENT!$D$4,CLASSEMENT!$C$4,IF($A$1=CLASSEMENT!$D$5,CLASSEMENT!$C$5,IF($A$1=CLASSEMENT!$D$6,CLASSEMENT!$C$6,IF($A$1=CLASSEMENT!$D$7,CLASSEMENT!$C$7,IF($A$1=CLASSEMENT!$D$8,CLASSEMENT!$C$8,IF($A$1=CLASSEMENT!$D$9,CLASSEMENT!$C$9,IF($A$1=CLASSEMENT!$D$10,CLASSEMENT!$C$10,IF($A$1=CLASSEMENT!$D$11,CLASSEMENT!$C$11))))))))) -> 66 | D10: 5 | F10: =VLOOKUP(D10&B10,bdd,4,0) -> Steeve Brisée | N10: =COUNTIFS($Y$6:$Z$37,D10,$W$6:$X$37,B10) -> 1 | P10: =COUNTIFS($AA$6:$AB$37,D10,$W$6:$X$37,B10) -> 1 | R10: =COUNTIF($L$18:$M$37,D10)*2 -> 0 | U10: 1 | W10: 66 | Y10: 5 | AA10: 3 | AC10: PP | AG10: =IF($AF$1="","",IF($AF$1=CLASSEMENT!$D$4,CLASSEMENT!$C$4,IF($AF$1=CLASSEMENT!$D$5,CLASSEMENT!$C$5,IF($AF$1=CLASSEMENT!$D$6,CLASSEMENT!$C$6,IF($AF$1=CLASSEMENT!$D$7,CLASSEMENT!$C$7,IF($AF$1=CLASSEMENT!$D$8,CLASSEMENT!$C$8,IF($AF$1=CLASSEMENT!$D$9,CLASSEMENT!$C$9,IF($AF$1=CLASSEMENT!$D$10,CLASSEMENT!$C$10,IF($AF$1=CLASSEMENT!$D$11,CLASSEMENT!$C$11))))))))) -> BT | AI10: 5 | AK10: =VLOOKUP(AI10&AG10,bdd,4,0) -> Benoit Lejeune | AS10: =COUNTIFS($Y$6:$Z$37,AI10,$W$6:$X$37,AG10) -> 0 | AU10: =COUNTIFS($AA$6:$AB$37,AI10,$W$6:$X$37,AG10) -> 0 | AW10: =COUNTIF($AQ$18:$AR$37,AI10)*2 -> 0
B11: =IF($A$1="","",IF($A$1=CLASSEMENT!$D$4,CLASSEMENT!$C$4,IF($A$1=CLASSEMENT!$D$5,CLASSEMENT!$C$5,IF($A$1=CLASSEMENT!$D$6,CLASSEMENT!$C$6,IF($A$1=CLASSEMENT!$D$7,CLASSEMENT!$C$7,IF($A$1=CLASSEMENT!$D$8,CLASSEMENT!$C$8,IF($A$1=CLASSEMENT!$D$9,CLASSEMENT!$C$9,IF($A$1=CLASSEMENT!$D$10,CLASSEMENT!$C$10,IF($A$1=CLASSEMENT!$D$11,CLASSEMENT!$C$11))))))))) -> 66 | D11: 6 | F11: =VLOOKUP(D11&B11,bdd,4,0) -> Sylvain D'amour | N11: =COUNTIFS($Y$6:$Z$37,D11,$W$6:$X$37,B11) -> 1 | P11: =COUNTIFS($AA$6:$AB$37,D11,$W$6:$X$37,B11) -> 0 | R11: =COUNTIF($L$18:$M$37,D11)*2 -> 0 | AG11: =IF($AF$1="","",IF($AF$1=CLASSEMENT!$D$4,CLASSEMENT!$C$4,IF($AF$1=CLASSEMENT!$D$5,CLASSEMENT!$C$5,IF($AF$1=CLASSEMENT!$D$6,CLASSEMENT!$C$6,IF($AF$1=CLASSEMENT!$D$7,CLASSEMENT!$C$7,IF($AF$1=CLASSEMENT!$D$8,CLASSEMENT!$C$8,IF($AF$1=CLASSEMENT!$D$9,CLASSEMENT!$C$9,IF($AF$1=CLASSEMENT!$D$10,CLASSEMENT!$C$10,IF($AF$1=CLASSEMENT!$D$11,CLASSEMENT!$C$11))))))))) -> BT | AI11: 6 | AK11: =VLOOKUP(AI11&AG11,bdd,4,0) -> Jody Barnes | AS11: =COUNTIFS($Y$6:$Z$37,AI11,$W$6:$X$37,AG11) -> 1 | AU11: =COUNTIFS($AA$6:$AB$37,AI11,$W$6:$X$37,AG11) -> 1 | AW11: =COUNTIF($AQ$18:$AR$37,AI11)*2 -> 0
B12: =IF($A$1="","",IF($A$1=CLASSEMENT!$D$4,CLASSEMENT!$C$4,IF($A$1=CLASSEMENT!$D$5,CLASSEMENT!$C$5,IF($A$1=CLASSEMENT!$D$6,CLASSEMENT!$C$6,IF($A$1=CLASSEMENT!$D$7,CLASSEMENT!$C$7,IF($A$1=CLASSEMENT!$D$8,CLASSEMENT!$C$8,IF($A$1=CLASSEMENT!$D$9,CLASSEMENT!$C$9,IF($A$1=CLASSEMENT!$D$10,CLASSEMENT!$C$10,IF($A$1=CLASSEMENT!$D$11,CLASSEMENT!$C$11))))))))) -> 66 | D12: 7 | F12: =VLOOKUP(D12&B12,bdd,4,0) -> Marc Francoeur | N12: =COUNTIFS($Y$6:$Z$37,D12,$W$6:$X$37,B12) -> 0 | P12: =COUNTIFS($AA$6:$AB$37,D12,$W$6:$X$37,B12) -> 0 | R12: =COUNTIF($L$18:$M$37,D12)*2 -> 0 | U12: 2 | W12: 66 | Y12: 8 | AA12: 9 | AC12: PP | AG12: =IF($AF$1="","",IF($AF$1=CLASSEMENT!$D$4,CLASSEMENT!$C$4,IF($AF$1=CLASSEMENT!$D$5,CLASSEMENT!$C$5,IF($AF$1=CLASSEMENT!$D$6,CLASSEMENT!$C$6,IF($AF$1=CLASSEMENT!$D$7,CLASSEMENT!$C$7,IF($AF$1=CLASSEMENT!$D$8,CLASSEMENT!$C$8,IF($AF$1=CLASSEMENT!$D$9,CLASSEMENT!$C$9,IF($AF$1=CLASSEMENT!$D$10,CLASSEMENT!$C$10,IF($AF$1=CLASSEMENT!$D$11,CLASSEMENT!$C$11))))))))) -> BT | AI12: 7 | AK12: =VLOOKUP(AI12&AG12,bdd,4,0) -> Patrick Pépin | AS12: =COUNTIFS($Y$6:$Z$37,AI12,$W$6:$X$37,AG12) -> 0 | AU12: =COUNTIFS($AA$6:$AB$37,AI12,$W$6:$X$37,AG12) -> 0 | AW12: =COUNTIF($AQ$18:$AR$37,AI12)*2 -> 0
B13: =IF($A$1="","",IF($A$1=CLASSEMENT!$D$4,CLASSEMENT!$C$4,IF($A$1=CLASSEMENT!$D$5,CLASSEMENT!$C$5,IF($A$1=CLASSEMENT!$D$6,CLASSEMENT!$C$6,IF($A$1=CLASSEMENT!$D$7,CLASSEMENT!$C$7,IF($A$1=CLASSEMENT!$D$8,CLASSEMENT!$C$8,IF($A$1=CLASSEMENT!$D$9,CLASSEMENT!$C$9,IF($A$1=CLASSEMENT!$D$10,CLASSEMENT!$C$10,IF($A$1=CLASSEMENT!$D$11,CLASSEMENT!$C$11))))))))) -> 66 | D13: 8 | F13: =VLOOKUP(D13&B13,bdd,4,0) -> Keyvin Corbin | N13: =COUNTIFS($Y$6:$Z$37,D13,$W$6:$X$37,B13) -> 1 | P13: =COUNTIFS($AA$6:$AB$37,D13,$W$6:$X$37,B13) -> 1 | R13: =COUNTIF($L$18:$M$37,D13)*2 -> 0 | U13: 2 | W13: 66 | Y13: 4 | AA13: 4 | AC13: PP | AG13: =IF($AF$1="","",IF($AF$1=CLASSEMENT!$D$4,CLASSEMENT!$C$4,IF($AF$1=CLASSEMENT!$D$5,CLASSEMENT!$C$5,IF($AF$1=CLASSEMENT!$D$6,CLASSEMENT!$C$6,IF($AF$1=CLASSEMENT!$D$7,CLASSEMENT!$C$7,IF($AF$1=CLASSEMENT!$D$8,CLASSEMENT!$C$8,IF($AF$1=CLASSEMENT!$D$9,CLASSEMENT!$C$9,IF($AF$1=CLASSEMENT!$D$10,CLASSEMENT!$C$10,IF($AF$1=CLASSEMENT!$D$11,CLASSEMENT!$C$11))))))))) -> BT | AI13: 8 | AK13: =VLOOKUP(AI13&AG13,bdd,4,0) -> John Sherrey | AS13: =COUNTIFS($Y$6:$Z$37,AI13,$W$6:$X$37,AG13) -> 1 | AU13: =COUNTIFS($AA$6:$AB$37,AI13,$W$6:$X$37,AG13) -> 0 | AW13: =COUNTIF($AQ$18:$AR$37,AI13)*2 -> 0
B14: =IF($A$1="","",IF($A$1=CLASSEMENT!$D$4,CLASSEMENT!$C$4,IF($A$1=CLASSEMENT!$D$5,CLASSEMENT!$C$5,IF($A$1=CLASSEMENT!$D$6,CLASSEMENT!$C$6,IF($A$1=CLASSEMENT!$D$7,CLASSEMENT!$C$7,IF($A$1=CLASSEMENT!$D$8,CLASSEMENT!$C$8,IF($A$1=CLASSEMENT!$D$9,CLASSEMENT!$C$9,IF($A$1=CLASSEMENT!$D$10,CLASSEMENT!$C$10,IF($A$1=CLASSEMENT!$D$11,CLASSEMENT!$C$11))))))))) -> 66 | D14: 9 | F14: =VLOOKUP(D14&B14,bdd,4,0) -> 0 | N14: =COUNTIFS($Y$6:$Z$37,D14,$W$6:$X$37,B14) -> 0 | P14: =COUNTIFS($AA$6:$AB$37,D14,$W$6:$X$37,B14) -> 1 | R14: =COUNTIF($L$18:$M$37,D14)*2 -> 0 | U14: 2 | W14: BT | Y14: 9 | AA14: 2 | AC14: E | AG14: =IF($AF$1="","",IF($AF$1=CLASSEMENT!$D$4,CLASSEMENT!$C$4,IF($AF$1=CLASSEMENT!$D$5,CLASSEMENT!$C$5,IF($AF$1=CLASSEMENT!$D$6,CLASSEMENT!$C$6,IF($AF$1=CLASSEMENT!$D$7,CLASSEMENT!$C$7,IF($AF$1=CLASSEMENT!$D$8,CLASSEMENT!$C$8,IF($AF$1=CLASSEMENT!$D$9,CLASSEMENT!$C$9,IF($AF$1=CLASSEMENT!$D$10,CLASSEMENT!$C$10,IF($AF$1=CLASSEMENT!$D$11,CLASSEMENT!$C$11))))))))) -> BT | AI14: 9 | AK14: =VLOOKUP(AI14&AG14,bdd,4,0) -> 0 | AS14: =COUNTIFS($Y$6:$Z$37,AI14,$W$6:$X$37,AG14) -> 1 | AU14: =COUNTIFS($AA$6:$AB$37,AI14,$W$6:$X$37,AG14) -> 0 | AW14: =COUNTIF($AQ$18:$AR$37,AI14)*2 -> 0
B16: LES UNITÉS SPÉCIALES | L16: PÉNALITÉS | U16: 3 | W16: BT | Y16: 3 | AA16: 2 | AC16: E | AG16: LES UNITÉS SPÉCIALES | AQ16: PÉNALITÉS
L17: # | N17: IN | Q17: OUT | U17: 3 | W17: BT | Y17: 4 | AA17: 3 | AC17: E | AQ17: # | AS17: IN | AV17: OUT
B18: EN PP | E18: =COUNTIFS($AC$6:$AD$37,B36,$W$6:$X$37,B6) -> 4 | F18: EN | U18: 3 | W18: 66 | Y18: 6 | AA18: 5 | AC18: E | AG18: EN PP | AJ18: =COUNTIFS($AC$6:$AD$37,AG36,$W$6:$X$37,AG6) -> 1 | AK18: EN
U19: 3 | W19: BT | Y19: 8 | AA19: 4 | AC19: PP
B20: EN PK | E20: =COUNTIFS($AC$6:$AD$37,B36,$W$6:$X$37,AG6) -> 1 | F20: EN | U20: 3 | W20: 66 | Y20: 2 | AA20: 1 | AC20: PP | AG20: EN PK | AJ20: =COUNTIFS($AC$6:$AD$37,AG36,$W$6:$X$37,B6) -> 4 | AK20: EN
B33: LÉGENDE | AG33: LÉGENDE
B34: E | D34: = FORCE ÉGALE | AG34: E | AI34: = FORCE ÉGALE
B35: PK | D35: = BUT EN PK | AG35: PK | AI35: = BUT EN PK
B36: PP | D36: = BUT EN PP | AG36: PP | AI36: = BUT EN PP
B37: FUS | D37: =FUSILLADE | AG37: FUS | AI37: =FUSILLADE

Sheet 3

Sheet 4

Sheet 5

Sheet 6

Sheet 7

Sheet 8

Sheet 9

Sheet 10

Sheet 11

Sheet 12

Sheet 13

Sheet 14

Sheet 15

Sheet 16

Sheet 17

Sheet 18

Sheet 19

Sheet 20

Sheet 21

Sheet 22

Sheet 23

Sheet 24

Sheet 25

Sheet 26

Sheet 27

Sheet 28

Sheet 29

Sheet 30

Sheet 31

Sheet 32

Sheet 33

Sheet 34

Sheet 35

Sheet 36

Sheet 37

Sheet 38

Sheet 39

Sheet 40

Sheet 41

Sheet 42

Sheet 43

Sheet 44

Sheet 45

Sheet 46

Sheet 47

Sheet 48

Sheet 49

Sheet 50

Sheet 51

Sheet 52

Sheet 53

Sheet 54

Sheet 55

Sheet 56

Sheet 57

Sheet 58

Sheet 59

Sheet 60

Sheet 61

Sheet 62

Sheet 63

Sheet 64

Sheet 65

Sheet 66

Sheet 67

Sheet 68

Sheet 69

Sheet 70

Sheet 71

Sheet 72

Sheet 73

Sheet 74

Sheet 75

Sheet 76

Sheet 77

Sheet 78

Sheet 79

Sheet 80
