Workbook
Name bdd: OFFSET(listenoms,,,,2)
Name colonnenom: OFFSET(Feuil2!$L$4,,,COUNTIF(Feuil2!$L:$L,"><"))
Name listenoms: OFFSET(Feuil2!$L$4,,,COUNTIF(Feuil2!$L:$L,"><"))
Name source: Feuil2!$B$4:$I$213

Sheet Feuil2
B3: nom | E3: nom | H3: nom
B4: Nom1 | C4: Prénom1 | E4: Nom211 | F4: Prénom211 | H4: Nom255 | I4: Prénom255 | L4: {=INDEX(source,((SMALL(IF((source<>"")*($B$3:$I$3="nom"),COLUMN(source)+(ROW(source)/1000),""),ROW(A1))-INT(SMALL(IF((source<>"")*($B$3:$I$3="nom"),COLUMN(source)+(ROW(source)/1000),""),ROW(A1))))*1000)-3,INT(SMALL(IF((source<>"")*($B$3:$I$3="nom"),COLUMN(source)+(ROW(source)/1000),""),ROW(A1)))-1)} -> Nom1 | M4: {=INDEX(source,((SMALL(IF((source<>"")*($B$3:$I$3="nom"),COLUMN(source)+(ROW(source)/1000),""),ROW(B1))-INT(SMALL(IF((source<>"")*($B$3:$I$3="nom"),COLUMN(source)+(ROW(source)/1000),""),ROW(B1))))*1000)-3,INT(SMALL(IF((source<>"")*($B$3:$I$3="nom"),COLUMN(source)+(ROW(source)/1000),""),ROW(B1))))} -> Prénom1
B5: Nom2 | C5: Prénom2 | E5: Nom212 | F5: Prénom212 | H5: Nom256 | I5: Prénom256 | L5: {=INDEX(source,((SMALL(IF((source<>"")*($B$3:$I$3="nom"),COLUMN(source)+(ROW(source)/1000),""),ROW(A2))-INT(SMALL(IF((source<>"")*($B$3:$I$3="nom"),COLUMN(source)+(ROW(source)/1000),""),ROW(A2))))*1000)-3,INT(SMALL(IF((source<>"")*($B$3:$I$3="nom"),COLUMN(source)+(ROW(source)/1000),""),ROW(A2)))-1)} -> Nom2 | M5: {=INDEX(source,((SMALL(IF((source<>"")*($B$3:$I$3="nom"),COLUMN(source)+(ROW(source)/1000),""),ROW(B2))-INT(SMALL(IF((source<>"")*($B$3:$I$3="nom"),COLUMN(source)+(ROW(source)/1000),""),ROW(B2))))*1000)-3,INT(SMALL(IF((source<>"")*($B$3:$I$3="nom"),COLUMN(source)+(ROW(source)/1000),""),ROW(B2))))} -> Prénom2
B6: Nom3 | C6: Prénom3 | E6: Nom213 | F6: Prénom213 | H6: Nom257 | I6: Prénom257 | L6: {=INDEX(source,((SMALL(IF((source<>"")*($B$3:$I$3="nom"),COLUMN(source)+(ROW(source)/1000),""),ROW(A3))-INT(SMALL(IF((source<>"")*($B$3:$I$3="nom"),COLUMN(source)+(ROW(source)/1000),""),ROW(A3))))*1000)-3,INT(SMALL(IF((source<>"")*($B$3:$I$3="nom"),COLUMN(source)+(ROW(source)/1000),""),ROW(A3)))-1)} -> Nom3 | M6: {=INDEX(source,((SMALL(IF((source<>"")*($B$3:$I$3="nom"),COLUMN(source)+(ROW(source)/1000),""),ROW(B3))-INT(SMALL(IF((source<>"")*($B$3:$I$3="nom"),COLUMN(source)+(ROW(source)/1000),""),ROW(B3))))*1000)-3,INT(SMALL(IF((source<>"")*($B$3:$I$3="nom"),COLUMN(source)+(ROW(source)/1000),""),ROW(B3))))} -> Prénom3
B7: Nom4 | C7: Prénom4 | E7: Nom214 | F7: Prénom214 | H7: Nom258 | I7: Prénom258 | L7: {=INDEX(source,((SMALL(IF((source<>"")*($B$3:$I$3="nom"),COLUMN(source)+(ROW(source)/1000),""),ROW(A4))-INT(SMALL(IF((source<>"")*($B$3:$I$3="nom"),COLUMN(source)+(ROW(source)/1000),""),ROW(A4))))*1000)-3,INT(SMALL(IF((source<>"")*($B$3:$I$3="nom"),COLUMN(source)+(ROW(source)/1000),""),ROW(A4)))-1)} -> Nom4 | M7: {=INDEX(source,((SMALL(IF((source<>"")*($B$3:$I$3="nom"),COLUMN(source)+(ROW(source)/1000),""),ROW(B4))-INT(SMALL(IF((source<>"")*($B$3:$I$3="nom"),COLUMN(source)+(ROW(source)/1000),""),ROW(B4))))*1000)-3,INT(SMALL(IF((source<>"")*($B$3:$I$3="nom"),COLUMN(source)+(ROW(source)/1000),""),ROW(B4))))} -> Prénom4
B8: Nom5 | C8: Prénom5 | E8: Nom215 | F8: Prénom215 | H8: Nom259 | I8: Prénom259 | L8: {=INDEX(source,((SMALL(IF((source<>"")*($B$3:$I$3="nom"),COLUMN(source)+(ROW(source)/1000),""),ROW(A5))-INT(SMALL(IF((source<>"")*($B$3:$I$3="nom"),COLUMN(source)+(ROW(source)/1000),""),ROW(A5))))*1000)-3,INT(SMALL(IF((source<>"")*($B$3:$I$3="nom"),COLUMN(source)+(ROW(source)/1000),""),ROW(A5)))-1)} -> Nom5 | M8: {=INDEX(source,((SMALL(IF((source<>"")*($B$3:$I$3="nom"),COLUMN(source)+(ROW(source)/1000),""),ROW(B5))-INT(SMALL(IF((source<>"")*($B$3:$I$3="nom"),COLUMN(source)+(ROW(source)/1000),""),ROW(B5))))*1000)-3,INT(SMALL(IF((source<>"")*($B$3:$I$3="nom"),COLUMN(source)+(ROW(source)/1000),""),ROW(B5))))} -> Prénom5
B9: Nom6 | C9: Prénom6 | E9: Nom216 | F9: Prénom216 | H9: Nom260 | I9: Prénom260 | L9: {=INDEX(source,((SMALL(IF((source<>"")*($B$3:$I$3="nom"),COLUMN(source)+(ROW(source)/1000),""),ROW(A6))-INT(SMALL(IF((source<>"")*($B$3:$I$3="nom"),COLUMN(source)+(ROW(source)/1000),""),ROW(A6))))*1000)-3,INT(SMALL(IF((source<>"")*($B$3:$I$3="nom"),COLUMN(source)+(ROW(source)/1000),""),ROW(A6)))-1)} -> Nom6 | M9: {=INDEX(source,((SMALL(IF((source<>"")*($B$3:$I$3="nom"),COLUMN(source)+(ROW(source)/1000),""),ROW(B6))-INT(SMALL(IF((source<>"")*($B$3:$I$3="nom"),COLUMN(source)+(ROW(source)/1000),""),ROW(B6))))*1000)-3,INT(SMALL(IF((source<>"")*($B$3:$I$3="nom"),COLUMN(source)+(ROW(source)/1000),""),ROW(B6))))} -> Prénom6
B10: Nom7 | C10: Prénom7 | E10: Nom217 | F10: Prénom217 | H10: Nom261 | I10: Prénom261 | L10: {=INDEX(source,((SMALL(IF((source<>"")*($B$3:$I$3="nom"),COLUMN(source)+(ROW(source)/1000),""),ROW(A7))-INT(SMALL(IF((source<>"")*($B$3:$I$3="nom"),COLUMN(source)+(ROW(source)/1000),""),ROW(A7))))*1000)-3,INT(SMALL(IF((source<>"")*($B$3:$I$3="nom"),COLUMN(source)+(ROW(source)/1000),""),ROW(A7)))-1)} -> Nom7 | M10: {=INDEX(source,((SMALL(IF((source<>"")*($B$3:$I$3="nom"),COLUMN(source)+(ROW(source)/1000),""),ROW(B7))-INT(SMALL(IF((source<>"")*($B$3:$I$3="nom"),COLUMN(source)+(ROW(source)/1000),""),ROW(B7))))*1000)-3,INT(SMALL(IF((source<>"")*($B$3:$I$3="nom"),COLUMN(source)+(ROW(source)/1000),""),ROW(B7))))} -> Prénom7
B11: Nom8 | C11: Prénom8 | E11: Nom218 | F11: Prénom218 | H11: Nom262 | I11: Prénom262 | L11: {=INDEX(source,((SMALL(IF((source<>"")*($B$3:$I$3="nom"),COLUMN(source)+(ROW(source)/1000),""),ROW(A8))-INT(SMALL(IF((source<>"")*($B$3:$I$3="nom"),COLUMN(source)+(ROW(source)/1000),""),ROW(A8))))*1000)-3,INT(SMALL(IF((source<>"")*($B$3:$I$3="nom"),COLUMN(source)+(ROW(source)/1000),""),ROW(A8)))-1)} -> Nom8 | M11: {=INDEX(source,((SMALL(IF((source<>"")*($B$3:$I$3="nom"),COLUMN(source)+(ROW(source)/1000),""),ROW(B8))-INT(SMALL(IF((source<>"")*($B$3:$I$3="nom"),COLUMN(source)+(ROW(source)/1000),""),ROW(B8))))*1000)-3,INT(SMALL(IF((source<>"")*($B$3:$I$3="nom"),COLUMN(source)+(ROW(source)/1000),""),ROW(B8))))} -> Prénom8
B12: Nom9 | C12: Prénom9 | E12: Nom219 | F12: Prénom219 | H12: Nom263 | I12: Prénom263 | L12: {=INDEX(source,((SMALL(IF((source<>"")*($B$3:$I$3="nom"),COLUMN(source)+(ROW(source)/1000),""),ROW(A9))-INT(SMALL(IF((source<>"")*($B$3:$I$3="nom"),COLUMN(source)+(ROW(source)/1000),""),ROW(A9))))*1000)-3,INT(SMALL(IF((source<>"")*($B$3:$I$3="nom"),COLUMN(source)+(ROW(source)/1000),""),ROW(A9)))-1)} -> Nom9 | M12: {=INDEX(source,((SMALL(IF((source<>"")*($B$3:$I$3="nom"),COLUMN(source)+(ROW(source)/1000),""),ROW(B9))-INT(SMALL(IF((source<>"")*($B$3:$I$3="nom"),COLUMN(source)+(ROW(source)/1000),""),ROW(B9))))*1000)-3,INT(SMALL(IF((source<>"")*($B$3:$I$3="nom"),COLUMN(source)+(ROW(source)/1000),""),ROW(B9))))} -> Prénom9
B13: Nom10 | C13: Prénom10 | E13: Nom220 | F13: Prénom220 | H13: Nom264 | I13: Prénom264 | L13: {=INDEX(source,((SMALL(IF((source<>"")*($B$3:$I$3="nom"),COLUMN(source)+(ROW(source)/1000),""),ROW(A10))-INT(SMALL(IF((source<>"")*($B$3:$I$3="nom"),COLUMN(source)+(ROW(source)/1000),""),ROW(A10))))*1000)-3,INT(SMALL(IF((source<>"")*($B$3:$I$3="nom"),COLUMN(source)+(ROW(source)/1000),""),ROW(A10)))-1)} -> Nom10 | M13: {=INDEX(source,((SMALL(IF((source<>"")*($B$3:$I$3="nom"),COLUMN(source)+(ROW(source)/1000),""),ROW(B10))-INT(SMALL(IF((source<>"")*($B$3:$I$3="nom"),COLUMN(source)+(ROW(source)/1000),""),ROW(B10))))*1000)-3,INT(SMALL(IF((source<>"")*($B$3:$I$3="nom"),COLUMN(source)+(ROW(source)/1000),""),ROW(B10))))} -> Prénom10
B14: Nom11 | C14: Prénom11 | E14: Nom221 | F14: Prénom221 | H14: Nom265 | I14: Prénom265 | L14: {=INDEX(source,((SMALL(IF((source<>"")*($B$3:$I$3="nom"),COLUMN(source)+(ROW(source)/1000),""),ROW(A11))-INT(SMALL(IF((source<>"")*($B$3:$I$3="nom"),COLUMN(source)+(ROW(source)/1000),""),ROW(A11))))*1000)-3,INT(SMALL(IF((source<>"")*($B$3:$I$3="nom"),COLUMN(source)+(ROW(source)/1000),""),ROW(A11)))-1)} -> Nom11 | M14: {=INDEX(source,((SMALL(IF((source<>"")*($B$3:$I$3="nom"),COLUMN(source)+(ROW(source)/1000),""),ROW(B11))-INT(SMALL(IF((source<>"")*($B$3:$I$3="nom"),COLUMN(source)+(ROW(source)/1000),""),ROW(B11))))*1000)-3,INT(SMALL(IF((source<>"")*($B$3:$I$3="nom"),COLUMN(source)+(ROW(source)/1000),""),ROW(B11))))} -> Prénom11
B15: Nom12 | C15: Prénom12 | E15: Nom222 | F15: Prénom222 | H15: Nom266 | I15: Prénom266 | L15: {=INDEX(source,((SMALL(IF((source<>"")*($B$3:$I$3="nom"),COLUMN(source)+(ROW(source)/1000),""),ROW(A12))-INT(SMALL(IF((source<>"")*($B$3:$I$3="nom"),COLUMN(source)+(ROW(source)/1000),""),ROW(A12))))*1000)-3,INT(SMALL(IF((source<>"")*($B$3:$I$3="nom"),COLUMN(source)+(ROW(source)/1000),""),ROW(A12)))-1)} -> Nom12 | M15: {=INDEX(source,((SMALL(IF((source<>"")*($B$3:$I$3="nom"),COLUMN(source)+(ROW(source)/1000),""),ROW(B12))-INT(SMALL(IF((source<>"")*($B$3:$I$3="nom"),COLUMN(source)+(ROW(source)/1000),""),ROW(B12))))*1000)-3,INT(SMALL(IF((source<>"")*($B$3:$I$3="nom"),COLUMN(source)+(ROW(source)/1000),""),ROW(B12))))} -> Prénom12
... B24: Nom21 | C24: Prénom21 | E24: Nom231 | F24: Prénom231 | H24: Nom275 | I24: Prénom275 | L24: {=INDEX(source,((SMALL(IF((source<>"")*($B$3:$I$3="nom"),COLUMN(source)+(ROW(source)/1000),""),ROW(A21))-INT(SMALL(IF((source<>"")*($B$3:$I$3="nom"),COLUMN(source)+(ROW(source)/1000),""),ROW(A21))))*1000)-3,INT(SMALL(IF((source<>"")*($B$3:$I$3="nom"),COLUMN(source)+(ROW(source)/1000),""),ROW(A21)))-1)} -> Nom21 | M24: {=INDEX(source,((SMALL(IF((source<>"")*($B$3:$I$3="nom"),COLUMN(source)+(ROW(source)/1000),""),ROW(B21))-INT(SMALL(IF((source<>"")*($B$3:$I$3="nom"),COLUMN(source)+(ROW(source)/1000),""),ROW(B21))))*1000)-3,INT(SMALL(IF((source<>"")*($B$3:$I$3="nom"),COLUMN(source)+(ROW(source)/1000),""),ROW(B21))))} -> Prénom21
B25: Nom22 | C25: Prénom22 | E25: Nom232 | F25: Prénom232 | L25: {=INDEX(source,((SMALL(IF((source<>"")*($B$3:$I$3="nom"),COLUMN(source)+(ROW(source)/1000),""),ROW(A22))-INT(SMALL(IF((source<>"")*($B$3:$I$3="nom"),COLUMN(source)+(ROW(source)/1000),""),ROW(A22))))*1000)-3,INT(SMALL(IF((source<>"")*($B$3:$I$3="nom"),COLUMN(source)+(ROW(source)/1000),""),ROW(A22)))-1)} -> Nom22 | M25: {=INDEX(source,((SMALL(IF((source<>"")*($B$3:$I$3="nom"),COLUMN(source)+(ROW(source)/1000),""),ROW(B22))-INT(SMALL(IF((source<>"")*($B$3:$I$3="nom"),COLUMN(source)+(ROW(source)/1000),""),ROW(B22))))*1000)-3,INT(SMALL(IF((source<>"")*($B$3:$I$3="nom"),COLUMN(source)+(ROW(source)/1000),""),ROW(B22))))} -> Prénom22
B26: Nom23 | C26: Prénom23 | E26: Nom233 | F26: Prénom233 | L26: {=INDEX(source,((SMALL(IF((source<>"")*($B$3:$I$3="nom"),COLUMN(source)+(ROW(source)/1000),""),ROW(A23))-INT(SMALL(IF((source<>"")*($B$3:$I$3="nom"),COLUMN(source)+(ROW(source)/1000),""),ROW(A23))))*1000)-3,INT(SMALL(IF((source<>"")*($B$3:$I$3="nom"),COLUMN(source)+(ROW(source)/1000),""),ROW(A23)))-1)} -> Nom23 | M26: {=INDEX(source,((SMALL(IF((source<>"")*($B$3:$I$3="nom"),COLUMN(source)+(ROW(source)/1000),""),ROW(B23))-INT(SMALL(IF((source<>"")*($B$3:$I$3="nom"),COLUMN(source)+(ROW(source)/1000),""),ROW(B23))))*1000)-3,INT(SMALL(IF((source<>"")*($B$3:$I$3="nom"),COLUMN(source)+(ROW(source)/1000),""),ROW(B23))))} -> Prénom23
B27: Nom24 | C27: Prénom24 | E27: Nom234 | F27: Prénom234 | L27: {=INDEX(source,((SMALL(IF((source<>"")*($B$3:$I$3="nom"),COLUMN(source)+(ROW(source)/1000),""),ROW(A24))-INT(SMALL(IF((source<>"")*($B$3:$I$3="nom"),COLUMN(source)+(ROW(source)/1000),""),ROW(A24))))*1000)-3,INT(SMALL(IF((source<>"")*($B$3:$I$3="nom"),COLUMN(source)+(ROW(source)/1000),""),ROW(A24)))-1)} -> Nom24 | M27: {=INDEX(source,((SMALL(IF((source<>"")*($B$3:$I$3="nom"),COLUMN(source)+(ROW(source)/1000),""),ROW(B24))-INT(SMALL(IF((source<>"")*($B$3:$I$3="nom"),COLUMN(source)+(ROW(source)/1000),""),ROW(B24))))*1000)-3,INT(SMALL(IF((source<>"")*($B$3:$I$3="nom"),COLUMN(source)+(ROW(source)/1000),""),ROW(B24))))} -> Prénom24
B28: Nom25 | C28: Prénom25 | E28: Nom235 | F28: Prénom235 | L28: {=INDEX(source,((SMALL(IF((source<>"")*($B$3:$I$3="nom"),COLUMN(source)+(ROW(source)/1000),""),ROW(A25))-INT(SMALL(IF((source<>"")*($B$3:$I$3="nom"),COLUMN(source)+(ROW(source)/1000),""),ROW(A25))))*1000)-3,INT(SMALL(IF((source<>"")*($B$3:$I$3="nom"),COLUMN(source)+(ROW(source)/1000),""),ROW(A25)))-1)} -> Nom25 | M28: {=INDEX(source,((SMALL(IF((source<>"")*($B$3:$I$3="nom"),COLUMN(source)+(ROW(source)/1000),""),ROW(B25))-INT(SMALL(IF((source<>"")*($B$3:$I$3="nom"),COLUMN(source)+(ROW(source)/1000),""),ROW(B25))))*1000)-3,INT(SMALL(IF((source<>"")*($B$3:$I$3="nom"),COLUMN(source)+(ROW(source)/1000),""),ROW(B25))))} -> Prénom25
B29: Nom26 | C29: Prénom26 | E29: Nom236 | F29: Prénom236 | L29: {=INDEX(source,((SMALL(IF((source<>"")*($B$3:$I$3="nom"),COLUMN(source)+(ROW(source)/1000),""),ROW(A26))-INT(SMALL(IF((source<>"")*($B$3:$I$3="nom"),COLUMN(source)+(ROW(source)/1000),""),ROW(A26))))*1000)-3,INT(SMALL(IF((source<>"")*($B$3:$I$3="nom"),COLUMN(source)+(ROW(source)/1000),""),ROW(A26)))-1)} -> Nom26 | M29: {=INDEX(source,((SMALL(IF((source<>"")*($B$3:$I$3="nom"),COLUMN(source)+(ROW(source)/1000),""),ROW(B26))-INT(SMALL(IF((source<>"")*($B$3:$I$3="nom"),COLUMN(source)+(ROW(source)/1000),""),ROW(B26))))*1000)-3,INT(SMALL(IF((source<>"")*($B$3:$I$3="nom"),COLUMN(source)+(ROW(source)/1000),""),ROW(B26))))} -> Prénom26
B30: Nom27 | C30: Prénom27 | E30: Nom237 | F30: Prénom237 | L30: {=INDEX(source,((SMALL(IF((source<>"")*($B$3:$I$3="nom"),COLUMN(source)+(ROW(source)/1000),""),ROW(A27))-INT(SMALL(IF((source<>"")*($B$3:$I$3="nom"),COLUMN(source)+(ROW(source)/1000),""),ROW(A27))))*1000)-3,INT(SMALL(IF((source<>"")*($B$3:$I$3="nom"),COLUMN(source)+(ROW(source)/1000),""),ROW(A27)))-1)} -> Nom27 | M30: {=INDEX(source,((SMALL(IF((source<>"")*($B$3:$I$3="nom"),COLUMN(source)+(ROW(source)/1000),""),ROW(B27))-INT(SMALL(IF((source<>"")*($B$3:$I$3="nom"),COLUMN(source)+(ROW(source)/1000),""),ROW(B27))))*1000)-3,INT(SMALL(IF((source<>"")*($B$3:$I$3="nom"),COLUMN(source)+(ROW(source)/1000),""),ROW(B27))))} -> Prénom27
B31: Nom28 | C31: Prénom28 | E31: Nom238 | F31: Prénom238 | L31: {=INDEX(source,((SMALL(IF((source<>"")*($B$3:$I$3="nom"),COLUMN(source)+(ROW(source)/1000),""),ROW(A28))-INT(SMALL(IF((source<>"")*($B$3:$I$3="nom"),COLUMN(source)+(ROW(source)/1000),""),ROW(A28))))*1000)-3,INT(SMALL(IF((source<>"")*($B$3:$I$3="nom"),COLUMN(source)+(ROW(source)/1000),""),ROW(A28)))-1)} -> Nom28 | M31: {=INDEX(source,((SMALL(IF((source<>"")*($B$3:$I$3="nom"),COLUMN(source)+(ROW(source)/1000),""),ROW(B28))-INT(SMALL(IF((source<>"")*($B$3:$I$3="nom"),COLUMN(source)+(ROW(source)/1000),""),ROW(B28))))*1000)-3,INT(SMALL(IF((source<>"")*($B$3:$I$3="nom"),COLUMN(source)+(ROW(source)/1000),""),ROW(B28))))} -> Prénom28
B32: Nom29 | C32: Prénom29 | E32: Nom239 | F32: Prénom239 | L32: {=INDEX(source,((SMALL(IF((source<>"")*($B$3:$I$3="nom"),COLUMN(source)+(ROW(source)/1000),""),ROW(A29))-INT(SMALL(IF((source<>"")*($B$3:$I$3="nom"),COLUMN(source)+(ROW(source)/1000),""),ROW(A29))))*1000)-3,INT(SMALL(IF((source<>"")*($B$3:$I$3="nom"),COLUMN(source)+(ROW(source)/1000),""),ROW(A29)))-1)} -> Nom29 | M32: {=INDEX(source,((SMALL(IF((source<>"")*($B$3:$I$3="nom"),COLUMN(source)+(ROW(source)/1000),""),ROW(B29))-INT(SMALL(IF((source<>"")*($B$3:$I$3="nom"),COLUMN(source)+(ROW(source)/1000),""),ROW(B29))))*1000)-3,INT(SMALL(IF((source<>"")*($B$3:$I$3="nom"),COLUMN(source)+(ROW(source)/1000),""),ROW(B29))))} -> Prénom29
B33: Nom30 | C33: Prénom30 | E33: Nom240 | F33: Prénom240 | L33: {=INDEX(source,((SMALL(IF((source<>"")*($B$3:$I$3="nom"),COLUMN(source)+(ROW(source)/1000),""),ROW(A30))-INT(SMALL(IF((source<>"")*($B$3:$I$3="nom"),COLUMN(source)+(ROW(source)/1000),""),ROW(A30))))*1000)-3,INT(SMALL(IF((source<>"")*($B$3:$I$3="nom"),COLUMN(source)+(ROW(source)/1000),""),ROW(A30)))-1)} -> Nom30 | M33: {=INDEX(source,((SMALL(IF((source<>"")*($B$3:$I$3="nom"),COLUMN(source)+(ROW(source)/1000),""),ROW(B30))-INT(SMALL(IF((source<>"")*($B$3:$I$3="nom"),COLUMN(source)+(ROW(source)/1000),""),ROW(B30))))*1000)-3,INT(SMALL(IF((source<>"")*($B$3:$I$3="nom"),COLUMN(source)+(ROW(source)/1000),""),ROW(B30))))} -> Prénom30
B34: Nom31 | C34: Prénom31 | E34: Nom241 | F34: Prénom241 | L34: {=INDEX(source,((SMALL(IF((source<>"")*($B$3:$I$3="nom"),COLUMN(source)+(ROW(source)/1000),""),ROW(A31))-INT(SMALL(IF((source<>"")*($B$3:$I$3="nom"),COLUMN(source)+(ROW(source)/1000),""),ROW(A31))))*1000)-3,INT(SMALL(IF((source<>"")*($B$3:$I$3="nom"),COLUMN(source)+(ROW(source)/1000),""),ROW(A31)))-1)} -> Nom31 | M34: {=INDEX(source,((SMALL(IF((source<>"")*($B$3:$I$3="nom"),COLUMN(source)+(ROW(source)/1000),""),ROW(B31))-INT(SMALL(IF((source<>"")*($B$3:$I$3="nom"),COLUMN(source)+(ROW(source)/1000),""),ROW(B31))))*1000)-3,INT(SMALL(IF((source<>"")*($B$3:$I$3="nom"),COLUMN(source)+(ROW(source)/1000),""),ROW(B31))))} -> Prénom31
B35: Nom32 | C35: Prénom32 | E35: Nom242 | F35: Prénom242 | L35: {=INDEX(source,((SMALL(IF((source<>"")*($B$3:$I$3="nom"),COLUMN(source)+(ROW(source)/1000),""),ROW(A32))-INT(SMALL(IF((source<>"")*($B$3:$I$3="nom"),COLUMN(source)+(ROW(source)/1000),""),ROW(A32))))*1000)-3,INT(SMALL(IF((source<>"")*($B$3:$I$3="nom"),COLUMN(source)+(ROW(source)/1000),""),ROW(A32)))-1)} -> Nom32 | M35: {=INDEX(source,((SMALL(IF((source<>"")*($B$3:$I$3="nom"),COLUMN(source)+(ROW(source)/1000),""),ROW(B32))-INT(SMALL(IF((source<>"")*($B$3:$I$3="nom"),COLUMN(source)+(ROW(source)/1000),""),ROW(B32))))*1000)-3,INT(SMALL(IF((source<>"")*($B$3:$I$3="nom"),COLUMN(source)+(ROW(source)/1000),""),ROW(B32))))} -> Prénom32
B36: Nom33 | C36: Prénom33 | E36: Nom243 | F36: Prénom243 | L36: {=INDEX(source,((SMALL(IF((source<>"")*($B$3:$I$3="nom"),COLUMN(source)+(ROW(source)/1000),""),ROW(A33))-INT(SMALL(IF((source<>"")*($B$3:$I$3="nom"),COLUMN(source)+(ROW(source)/1000),""),ROW(A33))))*1000)-3,INT(SMALL(IF((source<>"")*($B$3:$I$3="nom"),COLUMN(source)+(ROW(source)/1000),""),ROW(A33)))-1)} -> Nom33 | M36: {=INDEX(source,((SMALL(IF((source<>"")*($B$3:$I$3="nom"),COLUMN(source)+(ROW(source)/1000),""),ROW(B33))-INT(SMALL(IF((source<>"")*($B$3:$I$3="nom"),COLUMN(source)+(ROW(source)/1000),""),ROW(B33))))*1000)-3,INT(SMALL(IF((source<>"")*($B$3:$I$3="nom"),COLUMN(source)+(ROW(source)/1000),""),ROW(B33))))} -> Prénom33
... B47: Nom44 | C47: Prénom44 | E47: Nom254 | F47: Prénom254 | L47: {=INDEX(source,((SMALL(IF((source<>"")*($B$3:$I$3="nom"),COLUMN(source)+(ROW(source)/1000),""),ROW(A44))-INT(SMALL(IF((source<>"")*($B$3:$I$3="nom"),COLUMN(source)+(ROW(source)/1000),""),ROW(A44))))*1000)-3,INT(SMALL(IF((source<>"")*($B$3:$I$3="nom"),COLUMN(source)+(ROW(source)/1000),""),ROW(A44)))-1)} -> Nom44 | M47: {=INDEX(source,((SMALL(IF((source<>"")*($B$3:$I$3="nom"),COLUMN(source)+(ROW(source)/1000),""),ROW(B44))-INT(SMALL(IF((source<>"")*($B$3:$I$3="nom"),COLUMN(source)+(ROW(source)/1000),""),ROW(B44))))*1000)-3,INT(SMALL(IF((source<>"")*($B$3:$I$3="nom"),COLUMN(source)+(ROW(source)/1000),""),ROW(B44))))} -> Prénom44
B48: Nom45 | C48: Prénom45 | L48: {=INDEX(source,((SMALL(IF((source<>"")*($B$3:$I$3="nom"),COLUMN(source)+(ROW(source)/1000),""),ROW(A45))-INT(SMALL(IF((source<>"")*($B$3:$I$3="nom"),COLUMN(source)+(ROW(source)/1000),""),ROW(A45))))*1000)-3,INT(SMALL(IF((source<>"")*($B$3:$I$3="nom"),COLUMN(source)+(ROW(source)/1000),""),ROW(A45)))-1)} -> Nom45 | M48: {=INDEX(source,((SMALL(IF((source<>"")*($B$3:$I$3="nom"),COLUMN(source)+(ROW(source)/1000),""),ROW(B45))-INT(SMALL(IF((source<>"")*($B$3:$I$3="nom"),COLUMN(source)+(ROW(source)/1000),""),ROW(B45))))*1000)-3,INT(SMALL(IF((source<>"")*($B$3:$I$3="nom"),COLUMN(source)+(ROW(source)/1000),""),ROW(B45))))} -> Prénom45
B49: Nom46 | C49: Prénom46 | L49: {=INDEX(source,((SMALL(IF((source<>"")*($B$3:$I$3="nom"),COLUMN(source)+(ROW(source)/1000),""),ROW(A46))-INT(SMALL(IF((source<>"")*($B$3:$I$3="nom"),COLUMN(source)+(ROW(source)/1000),""),ROW(A46))))*1000)-3,INT(SMALL(IF((source<>"")*($B$3:$I$3="nom"),COLUMN(source)+(ROW(source)/1000),""),ROW(A46)))-1)} -> Nom46 | M49: {=INDEX(source,((SMALL(IF((source<>"")*($B$3:$I$3="nom"),COLUMN(source)+(ROW(source)/1000),""),ROW(B46))-INT(SMALL(IF((source<>"")*($B$3:$I$3="nom"),COLUMN(source)+(ROW(source)/1000),""),ROW(B46))))*1000)-3,INT(SMALL(IF((source<>"")*($B$3:$I$3="nom"),COLUMN(source)+(ROW(source)/1000),""),ROW(B46))))} -> Prénom46
B50: Nom47 | C50: Prénom47 | L50: {=INDEX(source,((SMALL(IF((source<>"")*($B$3:$I$3="nom"),COLUMN(source)+(ROW(source)/1000),""),ROW(A47))-INT(SMALL(IF((source<>"")*($B$3:$I$3="nom"),COLUMN(source)+(ROW(source)/1000),""),ROW(A47))))*1000)-3,INT(SMALL(IF((source<>"")*($B$3:$I$3="nom"),COLUMN(source)+(ROW(source)/1000),""),ROW(A47)))-1)} -> Nom47 | M50: {=INDEX(source,((SMALL(IF((source<>"")*($B$3:$I$3="nom"),COLUMN(source)+(ROW(source)/1000),""),ROW(B47))-INT(SMALL(IF((source<>"")*($B$3:$I$3="nom"),COLUMN(source)+(ROW(source)/1000),""),ROW(B47))))*1000)-3,INT(SMALL(IF((source<>"")*($B$3:$I$3="nom"),COLUMN(source)+(ROW(source)/1000),""),ROW(B47))))} -> Prénom47
B51: Nom48 | C51: Prénom48 | L51: {=INDEX(source,((SMALL(IF((source<>"")*($B$3:$I$3="nom"),COLUMN(source)+(ROW(source)/1000),""),ROW(A48))-INT(SMALL(IF((source<>"")*($B$3:$I$3="nom"),COLUMN(source)+(ROW(source)/1000),""),ROW(A48))))*1000)-3,INT(SMALL(IF((source<>"")*($B$3:$I$3="nom"),COLUMN(source)+(ROW(source)/1000),""),ROW(A48)))-1)} -> Nom48 | M51: {=INDEX(source,((SMALL(IF((source<>"")*($B$3:$I$3="nom"),COLUMN(source)+(ROW(source)/1000),""),ROW(B48))-INT(SMALL(IF((source<>"")*($B$3:$I$3="nom"),COLUMN(source)+(ROW(source)/1000),""),ROW(B48))))*1000)-3,INT(SMALL(IF((source<>"")*($B$3:$I$3="nom"),COLUMN(source)+(ROW(source)/1000),""),ROW(B48))))} -> Prénom48
B52: Nom49 | C52: Prénom49 | L52: {=INDEX(source,((SMALL(IF((source<>"")*($B$3:$I$3="nom"),COLUMN(source)+(ROW(source)/1000),""),ROW(A49))-INT(SMALL(IF((source<>"")*($B$3:$I$3="nom"),COLUMN(source)+(ROW(source)/1000),""),ROW(A49))))*1000)-3,INT(SMALL(IF((source<>"")*($B$3:$I$3="nom"),COLUMN(source)+(ROW(source)/1000),""),ROW(A49)))-1)} -> Nom49 | M52: {=INDEX(source,((SMALL(IF((source<>"")*($B$3:$I$3="nom"),COLUMN(source)+(ROW(source)/1000),""),ROW(B49))-INT(SMALL(IF((source<>"")*($B$3:$I$3="nom"),COLUMN(source)+(ROW(source)/1000),""),ROW(B49))))*1000)-3,INT(SMALL(IF((source<>"")*($B$3:$I$3="nom"),COLUMN(source)+(ROW(source)/1000),""),ROW(B49))))} -> Prénom49
B53: Nom50 | C53: Prénom50 | L53: {=INDEX(source,((SMALL(IF((source<>"")*($B$3:$I$3="nom"),COLUMN(source)+(ROW(source)/1000),""),ROW(A50))-INT(SMALL(IF((source<>"")*($B$3:$I$3="nom"),COLUMN(source)+(ROW(source)/1000),""),ROW(A50))))*1000)-3,INT(SMALL(IF((source<>"")*($B$3:$I$3="nom"),COLUMN(source)+(ROW(source)/1000),""),ROW(A50)))-1)} -> Nom50 | M53: {=INDEX(source,((SMALL(IF((source<>"")*($B$3:$I$3="nom"),COLUMN(source)+(ROW(source)/1000),""),ROW(B50))-INT(SMALL(IF((source<>"")*($B$3:$I$3="nom"),COLUMN(source)+(ROW(source)/1000),""),ROW(B50))))*1000)-3,INT(SMALL(IF((source<>"")*($B$3:$I$3="nom"),COLUMN(source)+(ROW(source)/1000),""),ROW(B50))))} -> Prénom50
B54: Nom51 | C54: Prénom51 | L54: {=INDEX(source,((SMALL(IF((source<>"")*($B$3:$I$3="nom"),COLUMN(source)+(ROW(source)/1000),""),ROW(A51))-INT(SMALL(IF((source<>"")*($B$3:$I$3="nom"),COLUMN(source)+(ROW(source)/1000),""),ROW(A51))))*1000)-3,INT(SMALL(IF((source<>"")*($B$3:$I$3="nom"),COLUMN(source)+(ROW(source)/1000),""),ROW(A51)))-1)} -> Nom51 | M54: {=INDEX(source,((SMALL(IF((source<>"")*($B$3:$I$3="nom"),COLUMN(source)+(ROW(source)/1000),""),ROW(B51))-INT(SMALL(IF((source<>"")*($B$3:$I$3="nom"),COLUMN(source)+(ROW(source)/1000),""),ROW(B51))))*1000)-3,INT(SMALL(IF((source<>"")*($B$3:$I$3="nom"),COLUMN(source)+(ROW(source)/1000),""),ROW(B51))))} -> Prénom51
B55: Nom52 | C55: Prénom52 | L55: {=INDEX(source,((SMALL(IF((source<>"")*($B$3:$I$3="nom"),COLUMN(source)+(ROW(source)/1000),""),ROW(A52))-INT(SMALL(IF((source<>"")*($B$3:$I$3="nom"),COLUMN(source)+(ROW(source)/1000),""),ROW(A52))))*1000)-3,INT(SMALL(IF((source<>"")*($B$3:$I$3="nom"),COLUMN(source)+(ROW(source)/1000),""),ROW(A52)))-1)} -> Nom52 | M55: {=INDEX(source,((SMALL(IF((source<>"")*($B$3:$I$3="nom"),COLUMN(source)+(ROW(source)/1000),""),ROW(B52))-INT(SMALL(IF((source<>"")*($B$3:$I$3="nom"),COLUMN(source)+(ROW(source)/1000),""),ROW(B52))))*1000)-3,INT(SMALL(IF((source<>"")*($B$3:$I$3="nom"),COLUMN(source)+(ROW(source)/1000),""),ROW(B52))))} -> Prénom52
B56: Nom53 | C56: Prénom53 | L56: {=INDEX(source,((SMALL(IF((source<>"")*($B$3:$I$3="nom"),COLUMN(source)+(ROW(source)/1000),""),ROW(A53))-INT(SMALL(IF((source<>"")*($B$3:$I$3="nom"),COLUMN(source)+(ROW(source)/1000),""),ROW(A53))))*1000)-3,INT(SMALL(IF((source<>"")*($B$3:$I$3="nom"),COLUMN(source)+(ROW(source)/1000),""),ROW(A53)))-1)} -> Nom53 | M56: {=INDEX(source,((SMALL(IF((source<>"")*($B$3:$I$3="nom"),COLUMN(source)+(ROW(source)/1000),""),ROW(B53))-INT(SMALL(IF((source<>"")*($B$3:$I$3="nom"),COLUMN(source)+(ROW(source)/1000),""),ROW(B53))))*1000)-3,INT(SMALL(IF((source<>"")*($B$3:$I$3="nom"),COLUMN(source)+(ROW(source)/1000),""),ROW(B53))))} -> Prénom53
B57: Nom54 | C57: Prénom54 | L57: {=INDEX(source,((SMALL(IF((source<>"")*($B$3:$I$3="nom"),COLUMN(source)+(ROW(source)/1000),""),ROW(A54))-INT(SMALL(IF((source<>"")*($B$3:$I$3="nom"),COLUMN(source)+(ROW(source)/1000),""),ROW(A54))))*1000)-3,INT(SMALL(IF((source<>"")*($B$3:$I$3="nom"),COLUMN(source)+(ROW(source)/1000),""),ROW(A54)))-1)} -> Nom54 | M57: {=INDEX(source,((SMALL(IF((source<>"")*($B$3:$I$3="nom"),COLUMN(source)+(ROW(source)/1000),""),ROW(B54))-INT(SMALL(IF((source<>"")*($B$3:$I$3="nom"),COLUMN(source)+(ROW(source)/1000),""),ROW(B54))))*1000)-3,INT(SMALL(IF((source<>"")*($B$3:$I$3="nom"),COLUMN(source)+(ROW(source)/1000),""),ROW(B54))))} -> Prénom54
B58: Nom55 | C58: Prénom55 | L58: {=INDEX(source,((SMALL(IF((source<>"")*($B$3:$I$3="nom"),COLUMN(source)+(ROW(source)/1000),""),ROW(A55))-INT(SMALL(IF((source<>"")*($B$3:$I$3="nom"),COLUMN(source)+(ROW(source)/1000),""),ROW(A55))))*1000)-3,INT(SMALL(IF((source<>"")*($B$3:$I$3="nom"),COLUMN(source)+(ROW(source)/1000),""),ROW(A55)))-1)} -> Nom55 | M58: {=INDEX(source,((SMALL(IF((source<>"")*($B$3:$I$3="nom"),COLUMN(source)+(ROW(source)/1000),""),ROW(B55))-INT(SMALL(IF((source<>"")*($B$3:$I$3="nom"),COLUMN(source)+(ROW(source)/1000),""),ROW(B55))))*1000)-3,INT(SMALL(IF((source<>"")*($B$3:$I$3="nom"),COLUMN(source)+(ROW(source)/1000),""),ROW(B55))))} -> Prénom55
B59: Nom56 | C59: Prénom56 | L59: {=INDEX(source,((SMALL(IF((source<>"")*($B$3:$I$3="nom"),COLUMN(source)+(ROW(source)/1000),""),ROW(A56))-INT(SMALL(IF((source<>"")*($B$3:$I$3="nom"),COLUMN(source)+(ROW(source)/1000),""),ROW(A56))))*1000)-3,INT(SMALL(IF((source<>"")*($B$3:$I$3="nom"),COLUMN(source)+(ROW(source)/1000),""),ROW(A56)))-1)} -> Nom56 | M59: {=INDEX(source,((SMALL(IF((source<>"")*($B$3:$I$3="nom"),COLUMN(source)+(ROW(source)/1000),""),ROW(B56))-INT(SMALL(IF((source<>"")*($B$3:$I$3="nom"),COLUMN(source)+(ROW(source)/1000),""),ROW(B56))))*1000)-3,INT(SMALL(IF((source<>"")*($B$3:$I$3="nom"),COLUMN(source)+(ROW(source)/1000),""),ROW(B56))))} -> Prénom56
... B213: Nom210 | C213: Prénom210 | L213: {=INDEX(source,((SMALL(IF((source<>"")*($B$3:$I$3="nom"),COLUMN(source)+(ROW(source)/1000),""),ROW(A210))-INT(SMALL(IF((source<>"")*($B$3:$I$3="nom"),COLUMN(source)+(ROW(source)/1000),""),ROW(A210))))*1000)-3,INT(SMALL(IF((source<>"")*($B$3:$I$3="nom"),COLUMN(source)+(ROW(source)/1000),""),ROW(A210)))-1)} -> Nom210 | M213: {=INDEX(source,((SMALL(IF((source<>"")*($B$3:$I$3="nom"),COLUMN(source)+(ROW(source)/1000),""),ROW(B210))-INT(SMALL(IF((source<>"")*($B$3:$I$3="nom"),COLUMN(source)+(ROW(source)/1000),""),ROW(B210))))*1000)-3,INT(SMALL(IF((source<>"")*($B$3:$I$3="nom"),COLUMN(source)+(ROW(source)/1000),""),ROW(B210))))} -> Prénom210
L214: {=INDEX(source,((SMALL(IF((source<>"")*($B$3:$I$3="nom"),COLUMN(source)+(ROW(source)/1000),""),ROW(A211))-INT(SMALL(IF((source<>"")*($B$3:$I$3="nom"),COLUMN(source)+(ROW(source)/1000),""),ROW(A211))))*1000)-3,INT(SMALL(IF((source<>"")*($B$3:$I$3="nom"),COLUMN(source)+(ROW(source)/1000),""),ROW(A211)))-1)} -> Nom211 | M214: {=INDEX(source,((SMALL(IF((source<>"")*($B$3:$I$3="nom"),COLUMN(source)+(ROW(source)/1000),""),ROW(B211))-INT(SMALL(IF((source<>"")*($B$3:$I$3="nom"),COLUMN(source)+(ROW(source)/1000),""),ROW(B211))))*1000)-3,INT(SMALL(IF((source<>"")*($B$3:$I$3="nom"),COLUMN(source)+(ROW(source)/1000),""),ROW(B211))))} -> Prénom211
L215: {=INDEX(source,((SMALL(IF((source<>"")*($B$3:$I$3="nom"),COLUMN(source)+(ROW(source)/1000),""),ROW(A212))-INT(SMALL(IF((source<>"")*($B$3:$I$3="nom"),COLUMN(source)+(ROW(source)/1000),""),ROW(A212))))*1000)-3,INT(SMALL(IF((source<>"")*($B$3:$I$3="nom"),COLUMN(source)+(ROW(source)/1000),""),ROW(A212)))-1)} -> Nom212 | M215: {=INDEX(source,((SMALL(IF((source<>"")*($B$3:$I$3="nom"),COLUMN(source)+(ROW(source)/1000),""),ROW(B212))-INT(SMALL(IF((source<>"")*($B$3:$I$3="nom"),COLUMN(source)+(ROW(source)/1000),""),ROW(B212))))*1000)-3,INT(SMALL(IF((source<>"")*($B$3:$I$3="nom"),COLUMN(source)+(ROW(source)/1000),""),ROW(B212))))} -> Prénom212
L216: {=INDEX(source,((SMALL(IF((source<>"")*($B$3:$I$3="nom"),COLUMN(source)+(ROW(source)/1000),""),ROW(A213))-INT(SMALL(IF((source<>"")*($B$3:$I$3="nom"),COLUMN(source)+(ROW(source)/1000),""),ROW(A213))))*1000)-3,INT(SMALL(IF((source<>"")*($B$3:$I$3="nom"),COLUMN(source)+(ROW(source)/1000),""),ROW(A213)))-1)} -> Nom213 | M216: {=INDEX(source,((SMALL(IF((source<>"")*($B$3:$I$3="nom"),COLUMN(source)+(ROW(source)/1000),""),ROW(B213))-INT(SMALL(IF((source<>"")*($B$3:$I$3="nom"),COLUMN(source)+(ROW(source)/1000),""),ROW(B213))))*1000)-3,INT(SMALL(IF((source<>"")*($B$3:$I$3="nom"),COLUMN(source)+(ROW(source)/1000),""),ROW(B213))))} -> Prénom213
L217: {=INDEX(source,((SMALL(IF((source<>"")*($B$3:$I$3="nom"),COLUMN(source)+(ROW(source)/1000),""),ROW(A214))-INT(SMALL(IF((source<>"")*($B$3:$I$3="nom"),COLUMN(source)+(ROW(source)/1000),""),ROW(A214))))*1000)-3,INT(SMALL(IF((source<>"")*($B$3:$I$3="nom"),COLUMN(source)+(ROW(source)/1000),""),ROW(A214)))-1)} -> Nom214 | M217: {=INDEX(source,((SMALL(IF((source<>"")*($B$3:$I$3="nom"),COLUMN(source)+(ROW(source)/1000),""),ROW(B214))-INT(SMALL(IF((source<>"")*($B$3:$I$3="nom"),COLUMN(source)+(ROW(source)/1000),""),ROW(B214))))*1000)-3,INT(SMALL(IF((source<>"")*($B$3:$I$3="nom"),COLUMN(source)+(ROW(source)/1000),""),ROW(B214))))} -> Prénom214
L218: {=INDEX(source,((SMALL(IF((source<>"")*($B$3:$I$3="nom"),COLUMN(source)+(ROW(source)/1000),""),ROW(A215))-INT(SMALL(IF((source<>"")*($B$3:$I$3="nom"),COLUMN(source)+(ROW(source)/1000),""),ROW(A215))))*1000)-3,INT(SMALL(IF((source<>"")*($B$3:$I$3="nom"),COLUMN(source)+(ROW(source)/1000),""),ROW(A215)))-1)} -> Nom215 | M218: {=INDEX(source,((SMALL(IF((source<>"")*($B$3:$I$3="nom"),COLUMN(source)+(ROW(source)/1000),""),ROW(B215))-INT(SMALL(IF((source<>"")*($B$3:$I$3="nom"),COLUMN(source)+(ROW(source)/1000),""),ROW(B215))))*1000)-3,INT(SMALL(IF((source<>"")*($B$3:$I$3="nom"),COLUMN(source)+(ROW(source)/1000),""),ROW(B215))))} -> Prénom215
L219: {=INDEX(source,((SMALL(IF((source<>"")*($B$3:$I$3="nom"),COLUMN(source)+(ROW(source)/1000),""),ROW(A216))-INT(SMALL(IF((source<>"")*($B$3:$I$3="nom"),COLUMN(source)+(ROW(source)/1000),""),ROW(A216))))*1000)-3,INT(SMALL(IF((source<>"")*($B$3:$I$3="nom"),COLUMN(source)+(ROW(source)/1000),""),ROW(A216)))-1)} -> Nom216 | M219: {=INDEX(source,((SMALL(IF((source<>"")*($B$3:$I$3="nom"),COLUMN(source)+(ROW(source)/1000),""),ROW(B216))-INT(SMALL(IF((source<>"")*($B$3:$I$3="nom"),COLUMN(source)+(ROW(source)/1000),""),ROW(B216))))*1000)-3,INT(SMALL(IF((source<>"")*($B$3:$I$3="nom"),COLUMN(source)+(ROW(source)/1000),""),ROW(B216))))} -> Prénom216
L220: {=INDEX(source,((SMALL(IF((source<>"")*($B$3:$I$3="nom"),COLUMN(source)+(ROW(source)/1000),""),ROW(A217))-INT(SMALL(IF((source<>"")*($B$3:$I$3="nom"),COLUMN(source)+(ROW(source)/1000),""),ROW(A217))))*1000)-3,INT(SMALL(IF((source<>"")*($B$3:$I$3="nom"),COLUMN(source)+(ROW(source)/1000),""),ROW(A217)))-1)} -> Nom217 | M220: {=INDEX(source,((SMALL(IF((source<>"")*($B$3:$I$3="nom"),COLUMN(source)+(ROW(source)/1000),""),ROW(B217))-INT(SMALL(IF((source<>"")*($B$3:$I$3="nom"),COLUMN(source)+(ROW(source)/1000),""),ROW(B217))))*1000)-3,INT(SMALL(IF((source<>"")*($B$3:$I$3="nom"),COLUMN(source)+(ROW(source)/1000),""),ROW(B217))))} -> Prénom217
L221: {=INDEX(source,((SMALL(IF((source<>"")*($B$3:$I$3="nom"),COLUMN(source)+(ROW(source)/1000),""),ROW(A218))-INT(SMALL(IF((source<>"")*($B$3:$I$3="nom"),COLUMN(source)+(ROW(source)/1000),""),ROW(A218))))*1000)-3,INT(SMALL(IF((source<>"")*($B$3:$I$3="nom"),COLUMN(source)+(ROW(source)/1000),""),ROW(A218)))-1)} -> Nom218 | M221: {=INDEX(source,((SMALL(IF((source<>"")*($B$3:$I$3="nom"),COLUMN(source)+(ROW(source)/1000),""),ROW(B218))-INT(SMALL(IF((source<>"")*($B$3:$I$3="nom"),COLUMN(source)+(ROW(source)/1000),""),ROW(B218))))*1000)-3,INT(SMALL(IF((source<>"")*($B$3:$I$3="nom"),COLUMN(source)+(ROW(source)/1000),""),ROW(B218))))} -> Prénom218
L222: {=INDEX(source,((SMALL(IF((source<>"")*($B$3:$I$3="nom"),COLUMN(source)+(ROW(source)/1000),""),ROW(A219))-INT(SMALL(IF((source<>"")*($B$3:$I$3="nom"),COLUMN(source)+(ROW(source)/1000),""),ROW(A219))))*1000)-3,INT(SMALL(IF((source<>"")*($B$3:$I$3="nom"),COLUMN(source)+(ROW(source)/1000),""),ROW(A219)))-1)} -> Nom219 | M222: {=INDEX(source,((SMALL(IF((source<>"")*($B$3:$I$3="nom"),COLUMN(source)+(ROW(source)/1000),""),ROW(B219))-INT(SMALL(IF((source<>"")*($B$3:$I$3="nom"),COLUMN(source)+(ROW(source)/1000),""),ROW(B219))))*1000)-3,INT(SMALL(IF((source<>"")*($B$3:$I$3="nom"),COLUMN(source)+(ROW(source)/1000),""),ROW(B219))))} -> Prénom219
L223: {=INDEX(source,((SMALL(IF((source<>"")*($B$3:$I$3="nom"),COLUMN(source)+(ROW(source)/1000),""),ROW(A220))-INT(SMALL(IF((source<>"")*($B$3:$I$3="nom"),COLUMN(source)+(ROW(source)/1000),""),ROW(A220))))*1000)-3,INT(SMALL(IF((source<>"")*($B$3:$I$3="nom"),COLUMN(source)+(ROW(source)/1000),""),ROW(A220)))-1)} -> Nom220 | M223: {=INDEX(source,((SMALL(IF((source<>"")*($B$3:$I$3="nom"),COLUMN(source)+(ROW(source)/1000),""),ROW(B220))-INT(SMALL(IF((source<>"")*($B$3:$I$3="nom"),COLUMN(source)+(ROW(source)/1000),""),ROW(B220))))*1000)-3,INT(SMALL(IF((source<>"")*($B$3:$I$3="nom"),COLUMN(source)+(ROW(source)/1000),""),ROW(B220))))} -> Prénom220
L224: {=INDEX(source,((SMALL(IF((source<>"")*($B$3:$I$3="nom"),COLUMN(source)+(ROW(source)/1000),""),ROW(A221))-INT(SMALL(IF((source<>"")*($B$3:$I$3="nom"),COLUMN(source)+(ROW(source)/1000),""),ROW(A221))))*1000)-3,INT(SMALL(IF((source<>"")*($B$3:$I$3="nom"),COLUMN(source)+(ROW(source)/1000),""),ROW(A221)))-1)} -> Nom221 | M224: {=INDEX(source,((SMALL(IF((source<>"")*($B$3:$I$3="nom"),COLUMN(source)+(ROW(source)/1000),""),ROW(B221))-INT(SMALL(IF((source<>"")*($B$3:$I$3="nom"),COLUMN(source)+(ROW(source)/1000),""),ROW(B221))))*1000)-3,INT(SMALL(IF((source<>"")*($B$3:$I$3="nom"),COLUMN(source)+(ROW(source)/1000),""),ROW(B221))))} -> Prénom221
L225: {=INDEX(source,((SMALL(IF((source<>"")*($B$3:$I$3="nom"),COLUMN(source)+(ROW(source)/1000),""),ROW(A222))-INT(SMALL(IF((source<>"")*($B$3:$I$3="nom"),COLUMN(source)+(ROW(source)/1000),""),ROW(A222))))*1000)-3,INT(SMALL(IF((source<>"")*($B$3:$I$3="nom"),COLUMN(source)+(ROW(source)/1000),""),ROW(A222)))-1)} -> Nom222 | M225: {=INDEX(source,((SMALL(IF((source<>"")*($B$3:$I$3="nom"),COLUMN(source)+(ROW(source)/1000),""),ROW(B222))-INT(SMALL(IF((source<>"")*($B$3:$I$3="nom"),COLUMN(source)+(ROW(source)/1000),""),ROW(B222))))*1000)-3,INT(SMALL(IF((source<>"")*($B$3:$I$3="nom"),COLUMN(source)+(ROW(source)/1000),""),ROW(B222))))} -> Prénom222
... L419: {=INDEX(source,((SMALL(IF((source<>"")*($B$3:$I$3="nom"),COLUMN(source)+(ROW(source)/1000),""),ROW(A416))-INT(SMALL(IF((source<>"")*($B$3:$I$3="nom"),COLUMN(source)+(ROW(source)/1000),""),ROW(A416))))*1000)-3,INT(SMALL(IF((source<>"")*($B$3:$I$3="nom"),COLUMN(source)+(ROW(source)/1000),""),ROW(A416)))-1)} -> #NUM! | M419: {=INDEX(source,((SMALL(IF((source<>"")*($B$3:$I$3="nom"),COLUMN(source)+(ROW(source)/1000),""),ROW(B416))-INT(SMALL(IF((source<>"")*($B$3:$I$3="nom"),COLUMN(source)+(ROW(source)/1000),""),ROW(B416))))*1000)-3,INT(SMALL(IF((source<>"")*($B$3:$I$3="nom"),COLUMN(source)+(ROW(source)/1000),""),ROW(B416))))} -> #NUM!

Sheet Export 1
A2: Nom | B2: Prénom | D2: Nom | E2: Prénom | G2: Nom | H2: Prénom | J2: Nom | K2: Prénom | M2: Nom | N2: Prénom
A3: Nom2 | B3: =IF(A3="","",VLOOKUP(A3,bdd,2,0)) -> Prénom2 | E3: =IF(D3="","",VLOOKUP(D3,bdd,2,0)) | H3: =IF(G3="","",VLOOKUP(G3,bdd,2,0)) | K3: =IF(J3="","",VLOOKUP(J3,bdd,2,0)) | N3: =IF(M3="","",VLOOKUP(M3,bdd,2,0))
B4: =IF(A4="","",VLOOKUP(A4,bdd,2,0)) | E4: =IF(D4="","",VLOOKUP(D4,bdd,2,0)) | H4: =IF(G4="","",VLOOKUP(G4,bdd,2,0)) | K4: =IF(J4="","",VLOOKUP(J4,bdd,2,0)) | N4: =IF(M4="","",VLOOKUP(M4,bdd,2,0))
B5: =IF(A5="","",VLOOKUP(A5,bdd,2,0)) | E5: =IF(D5="","",VLOOKUP(D5,bdd,2,0)) | H5: =IF(G5="","",VLOOKUP(G5,bdd,2,0)) | K5: =IF(J5="","",VLOOKUP(J5,bdd,2,0)) | M5: Nom256 | N5: =IF(M5="","",VLOOKUP(M5,bdd,2,0)) -> Prénom256
B6: =IF(A6="","",VLOOKUP(A6,bdd,2,0)) | E6: =IF(D6="","",VLOOKUP(D6,bdd,2,0)) | H6: =IF(G6="","",VLOOKUP(G6,bdd,2,0)) | K6: =IF(J6="","",VLOOKUP(J6,bdd,2,0)) | N6: =IF(M6="","",VLOOKUP(M6,bdd,2,0))
B7: =IF(A7="","",VLOOKUP(A7,bdd,2,0)) | E7: =IF(D7="","",VLOOKUP(D7,bdd,2,0)) | G7: Nom7 | H7: =IF(G7="","",VLOOKUP(G7,bdd,2,0)) -> Prénom7 | K7: =IF(J7="","",VLOOKUP(J7,bdd,2,0)) | N7: =IF(M7="","",VLOOKUP(M7,bdd,2,0))
B8: =IF(A8="","",VLOOKUP(A8,bdd,2,0)) | E8: =IF(D8="","",VLOOKUP(D8,bdd,2,0)) | H8: =IF(G8="","",VLOOKUP(G8,bdd,2,0)) | K8: =IF(J8="","",VLOOKUP(J8,bdd,2,0)) | N8: =IF(M8="","",VLOOKUP(M8,bdd,2,0))
B9: =IF(A9="","",VLOOKUP(A9,bdd,2,0)) | E9: =IF(D9="","",VLOOKUP(D9,bdd,2,0)) | H9: =IF(G9="","",VLOOKUP(G9,bdd,2,0)) | K9: =IF(J9="","",VLOOKUP(J9,bdd,2,0)) | N9: =IF(M9="","",VLOOKUP(M9,bdd,2,0))
B10: =IF(A10="","",VLOOKUP(A10,bdd,2,0)) | E10: =IF(D10="","",VLOOKUP(D10,bdd,2,0)) | H10: =IF(G10="","",VLOOKUP(G10,bdd,2,0)) | K10: =IF(J10="","",VLOOKUP(J10,bdd,2,0)) | N10: =IF(M10="","",VLOOKUP(M10,bdd,2,0))
B11: =IF(A11="","",VLOOKUP(A11,bdd,2,0)) | E11: =IF(D11="","",VLOOKUP(D11,bdd,2,0)) | H11: =IF(G11="","",VLOOKUP(G11,bdd,2,0)) | K11: =IF(J11="","",VLOOKUP(J11,bdd,2,0)) | N11: =IF(M11="","",VLOOKUP(M11,bdd,2,0))
B12: =IF(A12="","",VLOOKUP(A12,bdd,2,0)) | E12: =IF(D12="","",VLOOKUP(D12,bdd,2,0)) | H12: =IF(G12="","",VLOOKUP(G12,bdd,2,0)) | K12: =IF(J12="","",VLOOKUP(J12,bdd,2,0)) | N12: =IF(M12="","",VLOOKUP(M12,bdd,2,0))
B13: =IF(A13="","",VLOOKUP(A13,bdd,2,0)) | D13: Nom4 | E13: =IF(D13="","",VLOOKUP(D13,bdd,2,0)) -> Prénom4 | H13: =IF(G13="","",VLOOKUP(G13,bdd,2,0)) | K13: =IF(J13="","",VLOOKUP(J13,bdd,2,0)) | N13: =IF(M13="","",VLOOKUP(M13,bdd,2,0))
B14: =IF(A14="","",VLOOKUP(A14,bdd,2,0)) | E14: =IF(D14="","",VLOOKUP(D14,bdd,2,0)) | H14: =IF(G14="","",VLOOKUP(G14,bdd,2,0)) | K14: =IF(J14="","",VLOOKUP(J14,bdd,2,0)) | N14: =IF(M14="","",VLOOKUP(M14,bdd,2,0))
B15: =IF(A15="","",VLOOKUP(A15,bdd,2,0)) | E15: =IF(D15="","",VLOOKUP(D15,bdd,2,0)) | H15: =IF(G15="","",VLOOKUP(G15,bdd,2,0)) | K15: =IF(J15="","",VLOOKUP(J15,bdd,2,0)) | N15: =IF(M15="","",VLOOKUP(M15,bdd,2,0))
B16: =IF(A16="","",VLOOKUP(A16,bdd,2,0)) | E16: =IF(D16="","",VLOOKUP(D16,bdd,2,0)) | H16: =IF(G16="","",VLOOKUP(G16,bdd,2,0)) | K16: =IF(J16="","",VLOOKUP(J16,bdd,2,0)) | N16: =IF(M16="","",VLOOKUP(M16,bdd,2,0))
B17: =IF(A17="","",VLOOKUP(A17,bdd,2,0)) | E17: =IF(D17="","",VLOOKUP(D17,bdd,2,0)) | H17: =IF(G17="","",VLOOKUP(G17,bdd,2,0)) | K17: =IF(J17="","",VLOOKUP(J17,bdd,2,0)) | N17: =IF(M17="","",VLOOKUP(M17,bdd,2,0))
B18: =IF(A18="","",VLOOKUP(A18,bdd,2,0)) | E18: =IF(D18="","",VLOOKUP(D18,bdd,2,0)) | H18: =IF(G18="","",VLOOKUP(G18,bdd,2,0)) | K18: =IF(J18="","",VLOOKUP(J18,bdd,2,0)) | N18: =IF(M18="","",VLOOKUP(M18,bdd,2,0))
B19: =IF(A19="","",VLOOKUP(A19,bdd,2,0)) | E19: =IF(D19="","",VLOOKUP(D19,bdd,2,0)) | H19: =IF(G19="","",VLOOKUP(G19,bdd,2,0)) | K19: =IF(J19="","",VLOOKUP(J19,bdd,2,0)) | N19: =IF(M19="","",VLOOKUP(M19,bdd,2,0))
B20: =IF(A20="","",VLOOKUP(A20,bdd,2,0)) | E20: =IF(D20="","",VLOOKUP(D20,bdd,2,0)) | H20: =IF(G20="","",VLOOKUP(G20,bdd,2,0)) | K20: =IF(J20="","",VLOOKUP(J20,bdd,2,0)) | N20: =IF(M20="","",VLOOKUP(M20,bdd,2,0))
B21: =IF(A21="","",VLOOKUP(A21,bdd,2,0)) | E21: =IF(D21="","",VLOOKUP(D21,bdd,2,0)) | H21: =IF(G21="","",VLOOKUP(G21,bdd,2,0)) | K21: =IF(J21="","",VLOOKUP(J21,bdd,2,0)) | N21: =IF(M21="","",VLOOKUP(M21,bdd,2,0))
B22: =IF(A22="","",VLOOKUP(A22,bdd,2,0)) | E22: =IF(D22="","",VLOOKUP(D22,bdd,2,0)) | H22: =IF(G22="","",VLOOKUP(G22,bdd,2,0)) | K22: =IF(J22="","",VLOOKUP(J22,bdd,2,0)) | N22: =IF(M22="","",VLOOKUP(M22,bdd,2,0))
B23: =IF(A23="","",VLOOKUP(A23,bdd,2,0)) | E23: =IF(D23="","",VLOOKUP(D23,bdd,2,0)) | H23: =IF(G23="","",VLOOKUP(G23,bdd,2,0)) | K23: =IF(J23="","",VLOOKUP(J23,bdd,2,0)) | N23: =IF(M23="","",VLOOKUP(M23,bdd,2,0))
B24: =IF(A24="","",VLOOKUP(A24,bdd,2,0)) | E24: =IF(D24="","",VLOOKUP(D24,bdd,2,0)) | H24: =IF(G24="","",VLOOKUP(G24,bdd,2,0)) | K24: =IF(J24="","",VLOOKUP(J24,bdd,2,0)) | N24: =IF(M24="","",VLOOKUP(M24,bdd,2,0))
B25: =IF(A25="","",VLOOKUP(A25,bdd,2,0)) | E25: =IF(D25="","",VLOOKUP(D25,bdd,2,0)) | H25: =IF(G25="","",VLOOKUP(G25,bdd,2,0)) | K25: =IF(J25="","",VLOOKUP(J25,bdd,2,0)) | N25: =IF(M25="","",VLOOKUP(M25,bdd,2,0))
... B49: =IF(A49="","",VLOOKUP(A49,bdd,2,0)) | E49: =IF(D49="","",VLOOKUP(D49,bdd,2,0)) | H49: =IF(G49="","",VLOOKUP(G49,bdd,2,0)) | K49: =IF(J49="","",VLOOKUP(J49,bdd,2,0)) | N49: =IF(M49="","",VLOOKUP(M49,bdd,2,0))
H165: g

Sheet export 2
A2: Nom | B2: Prénom | D2: Nom | E2: Prénom | G2: Nom | H2: Prénom | J2: Nom | K2: Prénom | M2: Nom | N2: Prénom
A3: {=OFFSET(Feuil2!$L$4,(ROW($A1)*5)-5,,,)} -> Nom1 | B3: {=OFFSET(Feuil2!$M$4,(ROW($A1)*5)-5,,,)} -> Prénom1 | D3: {=OFFSET(Feuil2!$L$5,(ROW($A1)*5)-5,,,)} -> Nom2 | E3: {=OFFSET(Feuil2!$M$5,(ROW($A1)*5)-5,,,)} -> Prénom2 | G3: {=OFFSET(Feuil2!$L$6,(ROW($A1)*5)-5,,,)} -> Nom3 | H3: {=OFFSET(Feuil2!$M$6,(ROW($A1)*5)-5,,,)} -> Prénom3 | J3: {=OFFSET(Feuil2!$L$7,(ROW($A1)*5)-5,,,)} -> Nom4 | K3: {=OFFSET(Feuil2!$M$7,(ROW($A1)*5)-5,,,)} -> Prénom4 | M3: {=OFFSET(Feuil2!$L$8,(ROW($A1)*5)-5,,,)} -> Nom5 | N3: {=OFFSET(Feuil2!$M$8,(ROW($A1)*5)-5,,,)} -> Prénom5
A4: {=OFFSET(Feuil2!$L$4,(ROW($A2)*5)-5,,,)} -> Nom6 | B4: {=OFFSET(Feuil2!$M$4,(ROW($A2)*5)-5,,,)} -> Prénom6 | D4: {=OFFSET(Feuil2!$L$5,(ROW($A2)*5)-5,,,)} -> Nom7 | E4: {=OFFSET(Feuil2!$M$5,(ROW($A2)*5)-5,,,)} -> Prénom7 | G4: {=OFFSET(Feuil2!$L$6,(ROW($A2)*5)-5,,,)} -> Nom8 | H4: {=OFFSET(Feuil2!$M$6,(ROW($A2)*5)-5,,,)} -> Prénom8 | J4: {=OFFSET(Feuil2!$L$7,(ROW($A2)*5)-5,,,)} -> Nom9 | K4: {=OFFSET(Feuil2!$M$7,(ROW($A2)*5)-5,,,)} -> Prénom9 | M4: {=OFFSET(Feuil2!$L$8,(ROW($A2)*5)-5,,,)} -> Nom10 | N4: {=OFFSET(Feuil2!$M$8,(ROW($A2)*5)-5,,,)} -> Prénom10
A5: {=OFFSET(Feuil2!$L$4,(ROW($A3)*5)-5,,,)} -> Nom11 | B5: {=OFFSET(Feuil2!$M$4,(ROW($A3)*5)-5,,,)} -> Prénom11 | D5: {=OFFSET(Feuil2!$L$5,(ROW($A3)*5)-5,,,)} -> Nom12 | E5: {=OFFSET(Feuil2!$M$5,(ROW($A3)*5)-5,,,)} -> Prénom12 | G5: {=OFFSET(Feuil2!$L$6,(ROW($A3)*5)-5,,,)} -> Nom13 | H5: {=OFFSET(Feuil2!$M$6,(ROW($A3)*5)-5,,,)} -> Prénom13 | J5: {=OFFSET(Feuil2!$L$7,(ROW($A3)*5)-5,,,)} -> Nom14 | K5: {=OFFSET(Feuil2!$M$7,(ROW($A3)*5)-5,,,)} -> Prénom14 | M5: {=OFFSET(Feuil2!$L$8,(ROW($A3)*5)-5,,,)} -> Nom15 | N5: {=OFFSET(Feuil2!$M$8,(ROW($A3)*5)-5,,,)} -> Prénom15
A6: {=OFFSET(Feuil2!$L$4,(ROW($A4)*5)-5,,,)} -> Nom16 | B6: {=OFFSET(Feuil2!$M$4,(ROW($A4)*5)-5,,,)} -> Prénom16 | D6: {=OFFSET(Feuil2!$L$5,(ROW($A4)*5)-5,,,)} -> Nom17 | E6: {=OFFSET(Feuil2!$M$5,(ROW($A4)*5)-5,,,)} -> Prénom17 | G6: {=OFFSET(Feuil2!$L$6,(ROW($A4)*5)-5,,,)} -> Nom18 | H6: {=OFFSET(Feuil2!$M$6,(ROW($A4)*5)-5,,,)} -> Prénom18 | J6: {=OFFSET(Feuil2!$L$7,(ROW($A4)*5)-5,,,)} -> Nom19 | K6: {=OFFSET(Feuil2!$M$7,(ROW($A4)*5)-5,,,)} -> Prénom19 | M6: {=OFFSET(Feuil2!$L$8,(ROW($A4)*5)-5,,,)} -> Nom20 | N6: {=OFFSET(Feuil2!$M$8,(ROW($A4)*5)-5,,,)} -> Prénom20
A7: {=OFFSET(Feuil2!$L$4,(ROW($A5)*5)-5,,,)} -> Nom21 | B7: {=OFFSET(Feuil2!$M$4,(ROW($A5)*5)-5,,,)} -> Prénom21 | D7: {=OFFSET(Feuil2!$L$5,(ROW($A5)*5)-5,,,)} -> Nom22 | E7: {=OFFSET(Feuil2!$M$5,(ROW($A5)*5)-5,,,)} -> Prénom22 | G7: {=OFFSET(Feuil2!$L$6,(ROW($A5)*5)-5,,,)} -> Nom23 | H7: {=OFFSET(Feuil2!$M$6,(ROW($A5)*5)-5,,,)} -> Prénom23 | J7: {=OFFSET(Feuil2!$L$7,(ROW($A5)*5)-5,,,)} -> Nom24 | K7: {=OFFSET(Feuil2!$M$7,(ROW($A5)*5)-5,,,)} -> Prénom24 | M7: {=OFFSET(Feuil2!$L$8,(ROW($A5)*5)-5,,,)} -> Nom25 | N7: {=OFFSET(Feuil2!$M$8,(ROW($A5)*5)-5,,,)} -> Prénom25
A8: {=OFFSET(Feuil2!$L$4,(ROW($A6)*5)-5,,,)} -> Nom26 | B8: {=OFFSET(Feuil2!$M$4,(ROW($A6)*5)-5,,,)} -> Prénom26 | D8: {=OFFSET(Feuil2!$L$5,(ROW($A6)*5)-5,,,)} -> Nom27 | E8: {=OFFSET(Feuil2!$M$5,(ROW($A6)*5)-5,,,)} -> Prénom27 | G8: {=OFFSET(Feuil2!$L$6,(ROW($A6)*5)-5,,,)} -> Nom28 | H8: {=OFFSET(Feuil2!$M$6,(ROW($A6)*5)-5,,,)} -> Prénom28 | J8: {=OFFSET(Feuil2!$L$7,(ROW($A6)*5)-5,,,)} -> Nom29 | K8: {=OFFSET(Feuil2!$M$7,(ROW($A6)*5)-5,,,)} -> Prénom29 | M8: {=OFFSET(Feuil2!$L$8,(ROW($A6)*5)-5,,,)} -> Nom30 | N8: {=OFFSET(Feuil2!$M$8,(ROW($A6)*5)-5,,,)} -> Prénom30
A9: {=OFFSET(Feuil2!$L$4,(ROW($A7)*5)-5,,,)} -> Nom31 | B9: {=OFFSET(Feuil2!$M$4,(ROW($A7)*5)-5,,,)} -> Prénom31 | D9: {=OFFSET(Feuil2!$L$5,(ROW($A7)*5)-5,,,)} -> Nom32 | E9: {=OFFSET(Feuil2!$M$5,(ROW($A7)*5)-5,,,)} -> Prénom32 | G9: {=OFFSET(Feuil2!$L$6,(ROW($A7)*5)-5,,,)} -> Nom33 | H9: {=OFFSET(Feuil2!$M$6,(ROW($A7)*5)-5,,,)} -> Prénom33 | J9: {=OFFSET(Feuil2!$L$7,(ROW($A7)*5)-5,,,)} -> Nom34 | K9: {=OFFSET(Feuil2!$M$7,(ROW($A7)*5)-5,,,)} -> Prénom34 | M9: {=OFFSET(Feuil2!$L$8,(ROW($A7)*5)-5,,,)} -> Nom35 | N9: {=OFFSET(Feuil2!$M$8,(ROW($A7)*5)-5,,,)} -> Prénom35
A10: {=OFFSET(Feuil2!$L$4,(ROW($A8)*5)-5,,,)} -> Nom36 | B10: {=OFFSET(Feuil2!$M$4,(ROW($A8)*5)-5,,,)} -> Prénom36 | D10: {=OFFSET(Feuil2!$L$5,(ROW($A8)*5)-5,,,)} -> Nom37 | E10: {=OFFSET(Feuil2!$M$5,(ROW($A8)*5)-5,,,)} -> Prénom37 | G10: {=OFFSET(Feuil2!$L$6,(ROW($A8)*5)-5,,,)} -> Nom38 | H10: {=OFFSET(Feuil2!$M$6,(ROW($A8)*5)-5,,,)} -> Prénom38 | J10: {=OFFSET(Feuil2!$L$7,(ROW($A8)*5)-5,,,)} -> Nom39 | K10: {=OFFSET(Feuil2!$M$7,(ROW($A8)*5)-5,,,)} -> Prénom39 | M10: {=OFFSET(Feuil2!$L$8,(ROW($A8)*5)-5,,,)} -> Nom40 | N10: {=OFFSET(Feuil2!$M$8,(ROW($A8)*5)-5,,,)} -> Prénom40
A11: {=OFFSET(Feuil2!$L$4,(ROW($A9)*5)-5,,,)} -> Nom41 | B11: {=OFFSET(Feuil2!$M$4,(ROW($A9)*5)-5,,,)} -> Prénom41 | D11: {=OFFSET(Feuil2!$L$5,(ROW($A9)*5)-5,,,)} -> Nom42 | E11: {=OFFSET(Feuil2!$M$5,(ROW($A9)*5)-5,,,)} -> Prénom42 | G11: {=OFFSET(Feuil2!$L$6,(ROW($A9)*5)-5,,,)} -> Nom43 | H11: {=OFFSET(Feuil2!$M$6,(ROW($A9)*5)-5,,,)} -> Prénom43 | J11: {=OFFSET(Feuil2!$L$7,(ROW($A9)*5)-5,,,)} -> Nom44 | K11: {=OFFSET(Feuil2!$M$7,(ROW($A9)*5)-5,,,)} -> Prénom44 | M11: {=OFFSET(Feuil2!$L$8,(ROW($A9)*5)-5,,,)} -> Nom45 | N11: {=OFFSET(Feuil2!$M$8,(ROW($A9)*5)-5,,,)} -> Prénom45
A12: {=OFFSET(Feuil2!$L$4,(ROW($A10)*5)-5,,,)} -> Nom46 | B12: {=OFFSET(Feuil2!$M$4,(ROW($A10)*5)-5,,,)} -> Prénom46 | D12: {=OFFSET(Feuil2!$L$5,(ROW($A10)*5)-5,,,)} -> Nom47 | E12: {=OFFSET(Feuil2!$M$5,(ROW($A10)*5)-5,,,)} -> Prénom47 | G12: {=OFFSET(Feuil2!$L$6,(ROW($A10)*5)-5,,,)} -> Nom48 | H12: {=OFFSET(Feuil2!$M$6,(ROW($A10)*5)-5,,,)} -> Prénom48 | J12: {=OFFSET(Feuil2!$L$7,(ROW($A10)*5)-5,,,)} -> Nom49 | K12: {=OFFSET(Feuil2!$M$7,(ROW($A10)*5)-5,,,)} -> Prénom49 | M12: {=OFFSET(Feuil2!$L$8,(ROW($A10)*5)-5,,,)} -> Nom50 | N12: {=OFFSET(Feuil2!$M$8,(ROW($A10)*5)-5,,,)} -> Prénom50
A13: {=OFFSET(Feuil2!$L$4,(ROW($A11)*5)-5,,,)} -> Nom51 | B13: {=OFFSET(Feuil2!$M$4,(ROW($A11)*5)-5,,,)} -> Prénom51 | D13: {=OFFSET(Feuil2!$L$5,(ROW($A11)*5)-5,,,)} -> Nom52 | E13: {=OFFSET(Feuil2!$M$5,(ROW($A11)*5)-5,,,)} -> Prénom52 | G13: {=OFFSET(Feuil2!$L$6,(ROW($A11)*5)-5,,,)} -> Nom53 | H13: {=OFFSET(Feuil2!$M$6,(ROW($A11)*5)-5,,,)} -> Prénom53 | J13: {=OFFSET(Feuil2!$L$7,(ROW($A11)*5)-5,,,)} -> Nom54 | K13: {=OFFSET(Feuil2!$M$7,(ROW($A11)*5)-5,,,)} -> Prénom54 | M13: {=OFFSET(Feuil2!$L$8,(ROW($A11)*5)-5,,,)} -> Nom55 | N13: {=OFFSET(Feuil2!$M$8,(ROW($A11)*5)-5,,,)} -> Prénom55
A14: {=OFFSET(Feuil2!$L$4,(ROW($A12)*5)-5,,,)} -> Nom56 | B14: {=OFFSET(Feuil2!$M$4,(ROW($A12)*5)-5,,,)} -> Prénom56 | D14: {=OFFSET(Feuil2!$L$5,(ROW($A12)*5)-5,,,)} -> Nom57 | E14: {=OFFSET(Feuil2!$M$5,(ROW($A12)*5)-5,,,)} -> Prénom57 | G14: {=OFFSET(Feuil2!$L$6,(ROW($A12)*5)-5,,,)} -> Nom58 | H14: {=OFFSET(Feuil2!$M$6,(ROW($A12)*5)-5,,,)} -> Prénom58 | J14: {=OFFSET(Feuil2!$L$7,(ROW($A12)*5)-5,,,)} -> Nom59 | K14: {=OFFSET(Feuil2!$M$7,(ROW($A12)*5)-5,,,)} -> Prénom59 | M14: {=OFFSET(Feuil2!$L$8,(ROW($A12)*5)-5,,,)} -> Nom60 | N14: {=OFFSET(Feuil2!$M$8,(ROW($A12)*5)-5,,,)} -> Prénom60
... A62: {=OFFSET(Feuil2!$L$4,(ROW($A60)*5)-5,,,)} -> #NUM! | B62: {=OFFSET(Feuil2!$M$4,(ROW($A60)*5)-5,,,)} -> #NUM! | D62: {=OFFSET(Feuil2!$L$5,(ROW($A60)*5)-5,,,)} -> #NUM! | E62: {=OFFSET(Feuil2!$M$5,(ROW($A60)*5)-5,,,)} -> #NUM! | G62: {=OFFSET(Feuil2!$L$6,(ROW($A60)*5)-5,,,)} -> #NUM! | H62: {=OFFSET(Feuil2!$M$6,(ROW($A60)*5)-5,,,)} -> #NUM! | J62: {=OFFSET(Feuil2!$L$7,(ROW($A60)*5)-5,,,)} -> #NUM! | K62: {=OFFSET(Feuil2!$M$7,(ROW($A60)*5)-5,,,)} -> #NUM! | M62: {=OFFSET(Feuil2!$L$8,(ROW($A60)*5)-5,,,)} -> #NUM! | N62: {=OFFSET(Feuil2!$M$8,(ROW($A60)*5)-5,,,)} -> #NUM!
