Workbook
Name bdentrées: OFFSET(dates,1,,ROWS(refs))
Name dates: OFFSET(ENTREE_PRODUITS!$C$2,,,,COUNT(ENTREE_PRODUITS!$C$2:$AZ$2))
Name listedates: OFFSET(ENTREE_PRODUITS!$BL$2,,,COUNT(ENTREE_PRODUITS!$BL:$BL))
Name refs: OFFSET(ENTREE_PRODUITS!$A$3,,,COUNTIF(ENTREE_PRODUITS!$A:$A,"><")-1)

Sheet ENTREE_PRODUITS
A1: REF | B1: Produits | C1: EC00028 | D1: EC00029 | E1: EC00030 | F1: EC00031 | G1: EC00032
C2: 43742 | D2: 43743 | E2: 43743 | F2: 43744 | G2: 43745 | BL2: {=OFFSET($B$2,,MATCH(0,COUNTIF(BL$1:BL1,dates),0),)} -> 43742
A3: Bois1 | B3: Boisson1 | D3: 11 | E3: 10 | G3: 11 | BL3: {=OFFSET($B$2,,MATCH(0,COUNTIF(BL$1:BL2,dates),0),)} -> 43743
A4: Bois2 | B4: Boisson2 | D4: 13 | E4: 1 | G4: 13 | BL4: {=OFFSET($B$2,,MATCH(0,COUNTIF(BL$1:BL3,dates),0),)} -> 43744
A5: Bois3 | B5: Boisson3 | C5: 5 | D5: 4 | E5: 14 | F5: 5 | G5: 4 | BL5: {=OFFSET($B$2,,MATCH(0,COUNTIF(BL$1:BL4,dates),0),)} -> 43745
A6: Bois4 | B6: Boisson4 | C6: 3 | D6: 3 | E6: 13 | F6: 3 | G6: 3 | BL6: {=OFFSET($B$2,,MATCH(0,COUNTIF(BL$1:BL5,dates),0),)} -> #N/A
A7: Bois5 | B7: Boisson5 | E7: 5 | BL7: {=OFFSET($B$2,,MATCH(0,COUNTIF(BL$1:BL6,dates),0),)} -> #N/A
A8: Bois6 | B8: Boisson6 | E8: 8 | BL8: {=OFFSET($B$2,,MATCH(0,COUNTIF(BL$1:BL7,dates),0),)} -> #N/A
A9: Bois7 | B9: Boisson7 | C9: 39 | D9: 16 | E9: 16 | F9: 39 | G9: 16 | BL9: {=OFFSET($B$2,,MATCH(0,COUNTIF(BL$1:BL8,dates),0),)} -> #N/A
A10: Bois8 | B10: Boisson8 | C10: 1 | D10: 21 | E10: 21 | F10: 1 | G10: 21 | BL10: {=OFFSET($B$2,,MATCH(0,COUNTIF(BL$1:BL9,dates),0),)} -> #N/A
A11: Bois9 | B11: Boisson9 | D11: 1 | E11: 1 | G11: 1 | BL11: {=OFFSET($B$2,,MATCH(0,COUNTIF(BL$1:BL10,dates),0),)} -> #N/A
A12: Bois10 | B12: Boisson10 | D12: 0 | E12: 0 | G12: 0 | BL12: {=OFFSET($B$2,,MATCH(0,COUNTIF(BL$1:BL11,dates),0),)} -> #N/A
A13: Bois11 | B13: Boisson11 | C13: 1 | D13: 7 | E13: 7 | F13: 1 | G13: 7 | BL13: {=OFFSET($B$2,,MATCH(0,COUNTIF(BL$1:BL12,dates),0),)} -> #N/A
A14: Bois12 | B14: Boisson12 | D14: 5 | E14: 5 | G14: 5 | BL14: {=OFFSET($B$2,,MATCH(0,COUNTIF(BL$1:BL13,dates),0),)} -> #N/A
A15: Bois13 | B15: Boisson13 | D15: 0 | E15: 0 | G15: 0 | BL15: {=OFFSET($B$2,,MATCH(0,COUNTIF(BL$1:BL14,dates),0),)} -> #N/A
A16: Bois14 | B16: Boisson14 | C16: 11 | D16: 11 | E16: 11 | F16: 11 | G16: 11 | BL16: {=OFFSET($B$2,,MATCH(0,COUNTIF(BL$1:BL15,dates),0),)} -> #N/A
A17: Bois15 | B17: Boisson15 | D17: 55 | E17: 55 | G17: 55 | BL17: {=OFFSET($B$2,,MATCH(0,COUNTIF(BL$1:BL16,dates),0),)} -> #N/A
A18: Bois16 | B18: Boisson16 | D18: 3 | E18: 3 | G18: 3 | BL18: {=OFFSET($B$2,,MATCH(0,COUNTIF(BL$1:BL17,dates),0),)} -> #N/A
A19: Bois17 | B19: Boisson17 | C19: 3 | D19: 8 | E19: 8 | F19: 3 | G19: 8 | BL19: {=OFFSET($B$2,,MATCH(0,COUNTIF(BL$1:BL18,dates),0),)} -> #N/A
A20: Bois18 | B20: Boisson18 | D20: 12 | E20: 12 | G20: 12 | BL20: {=OFFSET($B$2,,MATCH(0,COUNTIF(BL$1:BL19,dates),0),)} -> #N/A
A21: Bois19 | B21: Boisson19 | D21: 17 | E21: 17 | G21: 17 | BL21: {=OFFSET($B$2,,MATCH(0,COUNTIF(BL$1:BL20,dates),0),)} -> #N/A
A22: Bois20 | B22: Boisson20 | C22: 43 | D22: 43 | E22: 43 | F22: 43 | G22: 43 | BL22: {=OFFSET($B$2,,MATCH(0,COUNTIF(BL$1:BL21,dates),0),)} -> #N/A
A23: Bois21 | B23: Boisson21 | D23: 6 | E23: 6 | G23: 6 | BL23: {=OFFSET($B$2,,MATCH(0,COUNTIF(BL$1:BL22,dates),0),)} -> #N/A
A24: Bois22 | B24: Boisson22 | C24: 16 | D24: 16 | E24: 16 | F24: 16 | G24: 16 | BL24: {=OFFSET($B$2,,MATCH(0,COUNTIF(BL$1:BL23,dates),0),)} -> #N/A
A25: Bois23 | B25: Boisson23 | D25: 24 | E25: 24 | G25: 24 | BL25: {=OFFSET($B$2,,MATCH(0,COUNTIF(BL$1:BL24,dates),0),)} -> #N/A
A26: Bois24 | B26: Boisson24 | C26: 19 | F26: 19 | BL26: {=OFFSET($B$2,,MATCH(0,COUNTIF(BL$1:BL25,dates),0),)} -> #N/A
A27: Bois25 | B27: Boisson25 | C27: 23 | F27: 23 | BL27: {=OFFSET($B$2,,MATCH(0,COUNTIF(BL$1:BL26,dates),0),)} -> #N/A
A28: Bois26 | B28: Boisson26 | C28: 65 | D28: 65 | E28: 65 | F28: 65 | G28: 65 | BL28: {=OFFSET($B$2,,MATCH(0,COUNTIF(BL$1:BL27,dates),0),)} -> #N/A
A29: Bois27 | B29: Boisson27 | C29: 13 | F29: 13 | BL29: {=OFFSET($B$2,,MATCH(0,COUNTIF(BL$1:BL28,dates),0),)} -> #N/A
A30: Bois28 | B30: Boisson28 | BL30: {=OFFSET($B$2,,MATCH(0,COUNTIF(BL$1:BL29,dates),0),)} -> #N/A
A31: Bois29 | B31: Boisson29 | C31: 45 | F31: 45 | BL31: {=OFFSET($B$2,,MATCH(0,COUNTIF(BL$1:BL30,dates),0),)} -> #N/A
A32: Bois30 | B32: Boisson30 | C32: 3 | F32: 3 | BL32: {=OFFSET($B$2,,MATCH(0,COUNTIF(BL$1:BL31,dates),0),)} -> #N/A
A33: Bois31 | B33: Boisson31 | C33: 0 | F33: 0 | BL33: {=OFFSET($B$2,,MATCH(0,COUNTIF(BL$1:BL32,dates),0),)} -> #N/A
BL34: {=OFFSET($B$2,,MATCH(0,COUNTIF(BL$1:BL33,dates),0),)} -> #N/A
BL35: {=OFFSET($B$2,,MATCH(0,COUNTIF(BL$1:BL34,dates),0),)} -> #N/A

Sheet INVENTAIRE
A1: REF | B1: Produits | C1: STOCK INITIAL | D1: =SUMPRODUCT(MAX((dates<=TODAY())*dates)) -> 43744 | E1: VENTE | F1: STOCK FINAL
A2: Bois1 | B2: Boisson1 | D2: =SUMPRODUCT((refs=$A2)*(dates=$D$1)*(bdentrées)) -> 0 | F2: =SUM(C2:D2)-E2 -> 0 | I2: formule de la cel verte qui remplace la liste
A3: Bois2 | B3: Boisson2 | D3: =SUMPRODUCT((refs=$A3)*(dates=$D$1)*(bdentrées)) -> 0 | F3: =SUM(C3:D3)-E3 -> 0 | I3: SOMMEPROD(MAX((listedates<=AUJOURDHUI())*listedates))
A4: Bois3 | B4: Boisson3 | D4: =SUMPRODUCT((refs=$A4)*(dates=$D$1)*(bdentrées)) -> 5 | F4: =SUM(C4:D4)-E4 -> 5
A5: Bois4 | B5: Boisson4 | D5: =SUMPRODUCT((refs=$A5)*(dates=$D$1)*(bdentrées)) -> 3 | F5: =SUM(C5:D5)-E5 -> 3 | I5: dans gestionnaire de nom
A6: Bois5 | B6: Boisson5 | D6: =SUMPRODUCT((refs=$A6)*(dates=$D$1)*(bdentrées)) -> 0 | F6: =SUM(C6:D6)-E6 -> 0
A7: Bois6 | B7: Boisson6 | D7: =SUMPRODUCT((refs=$A7)*(dates=$D$1)*(bdentrées)) -> 0 | F7: =SUM(C7:D7)-E7 -> 0 | I7: refs | J7: DECALER(ENTREE_PRODUITS!$A$3;;;NB.SI(ENTREE_PRODUITS!$A:$A;"><")-1)
A8: Bois7 | B8: Boisson7 | D8: =SUMPRODUCT((refs=$A8)*(dates=$D$1)*(bdentrées)) -> 39 | F8: =SUM(C8:D8)-E8 -> 39
A9: Bois8 | B9: Boisson8 | D9: =SUMPRODUCT((refs=$A9)*(dates=$D$1)*(bdentrées)) -> 1 | F9: =SUM(C9:D9)-E9 -> 1 | J9: nb.si compte les val textes et -1 pour oter le titre de colonne
A10: Bois9 | B10: Boisson9 | D10: =SUMPRODUCT((refs=$A10)*(dates=$D$1)*(bdentrées)) -> 0 | F10: =SUM(C10:D10)-E10 -> 0
A11: Bois10 | B11: Boisson10 | D11: =SUMPRODUCT((refs=$A11)*(dates=$D$1)*(bdentrées)) -> 0 | F11: =SUM(C11:D11)-E11 -> 0 | I11: bdentrées | J11: DECALER(dates;1;;LIGNES(refs))
A12: Bois11 | B12: Boisson11 | D12: =SUMPRODUCT((refs=$A12)*(dates=$D$1)*(bdentrées)) -> 1 | F12: =SUM(C12:D12)-E12 -> 1
A13: Bois12 | B13: Boisson12 | D13: =SUMPRODUCT((refs=$A13)*(dates=$D$1)*(bdentrées)) -> 0 | F13: =SUM(C13:D13)-E13 -> 0 | J13: dates etant déjà dynamique , on le reutilise mais on le descend d'une ligne
A14: Bois13 | B14: Boisson13 | D14: =SUMPRODUCT((refs=$A14)*(dates=$D$1)*(bdentrées)) -> 0 | F14: =SUM(C14:D14)-E14 -> 0 | J14: et on l'étale sur un nb de lignes qui correspond au nb de lignes de refs
A15: Bois14 | B15: Boisson14 | D15: =SUMPRODUCT((refs=$A15)*(dates=$D$1)*(bdentrées)) -> 11 | F15: =SUM(C15:D15)-E15 -> 11 | J15: ainsi la plage contenant les valeurs est parfaitement dimensionnée à condition qu'il n'y ait pas de lignes ni de colonnes vides
A16: Bois15 | B16: Boisson15 | D16: =SUMPRODUCT((refs=$A16)*(dates=$D$1)*(bdentrées)) -> 0 | F16: =SUM(C16:D16)-E16 -> 0
A17: Bois16 | B17: Boisson16 | D17: =SUMPRODUCT((refs=$A17)*(dates=$D$1)*(bdentrées)) -> 0 | F17: =SUM(C17:D17)-E17 -> 0 | I17: la formule en D2 devient
A18: Bois17 | B18: Boisson17 | D18: =SUMPRODUCT((refs=$A18)*(dates=$D$1)*(bdentrées)) -> 3 | F18: =SUM(C18:D18)-E18 -> 3 | J18: SOMMEPROD((refs=$A2)*(dates=$D$1)*(bdentrées))
A19: Bois18 | B19: Boisson18 | D19: =SUMPRODUCT((refs=$A19)*(dates=$D$1)*(bdentrées)) -> 0 | F19: =SUM(C19:D19)-E19 -> 0
A20: Bois19 | B20: Boisson19 | D20: =SUMPRODUCT((refs=$A20)*(dates=$D$1)*(bdentrées)) -> 0 | F20: =SUM(C20:D20)-E20 -> 0
A21: Bois20 | B21: Boisson20 | D21: =SUMPRODUCT((refs=$A21)*(dates=$D$1)*(bdentrées)) -> 43 | F21: =SUM(C21:D21)-E21 -> 43
A22: Bois21 | B22: Boisson21 | D22: =SUMPRODUCT((refs=$A22)*(dates=$D$1)*(bdentrées)) -> 0 | F22: =SUM(C22:D22)-E22 -> 0
A23: Bois22 | B23: Boisson22 | D23: =SUMPRODUCT((refs=$A23)*(dates=$D$1)*(bdentrées)) -> 16 | F23: =SUM(C23:D23)-E23 -> 16
A24: Bois23 | B24: Boisson23 | D24: =SUMPRODUCT((refs=$A24)*(dates=$D$1)*(bdentrées)) -> 0 | F24: =SUM(C24:D24)-E24 -> 0
A25: Bois24 | B25: Boisson24 | D25: =SUMPRODUCT((refs=$A25)*(dates=$D$1)*(bdentrées)) -> 19 | F25: =SUM(C25:D25)-E25 -> 19
A26: Bois25 | B26: Boisson25 | D26: =SUMPRODUCT((refs=$A26)*(dates=$D$1)*(bdentrées)) -> 23 | F26: =SUM(C26:D26)-E26 -> 23
A27: Bois26 | B27: Boisson26 | D27: =SUMPRODUCT((refs=$A27)*(dates=$D$1)*(bdentrées)) -> 65 | F27: =SUM(C27:D27)-E27 -> 65
A28: Bois27 | B28: Boisson27 | D28: =SUMPRODUCT((refs=$A28)*(dates=$D$1)*(bdentrées)) -> 13 | F28: =SUM(C28:D28)-E28 -> 13
A29: Bois28 | B29: Boisson28 | D29: =SUMPRODUCT((refs=$A29)*(dates=$D$1)*(bdentrées)) -> 0 | F29: =SUM(C29:D29)-E29 -> 0
A30: Bois29 | B30: Boisson29 | D30: =SUMPRODUCT((refs=$A30)*(dates=$D$1)*(bdentrées)) -> 45 | F30: =SUM(C30:D30)-E30 -> 45
... A32: Bois31 | B32: Boisson31 | D32: =SUMPRODUCT((refs=$A32)*(dates=$D$1)*(bdentrées)) -> 0 | F32: =SUM(C32:D32)-E32 -> 0
D33: =SUMPRODUCT((refs=$A33)*(dates=$D$1)*(bdentrées)) -> 0 | F33: =SUM(C33:D33)-E33 -> 0
D34: =SUMPRODUCT((refs=$A34)*(dates=$D$1)*(bdentrées)) -> 0 | F34: =SUM(C34:D34)-E34 -> 0
D35: =SUMPRODUCT((refs=$A35)*(dates=$D$1)*(bdentrées)) -> 0 | F35: =SUM(C35:D35)-E35 -> 0
D36: =SUMPRODUCT((refs=$A36)*(dates=$D$1)*(bdentrées)) -> 0 | F36: =SUM(C36:D36)-E36 -> 0
D37: =SUMPRODUCT((refs=$A37)*(dates=$D$1)*(bdentrées)) -> 0

Sheet Feuil3

Sheet EXEMPLE
A1: REF | B1: Produits | C1: STOCK INITIAL | D1: ENTREE 05/10/2019
A2: Bois1 | B2: Boisson1 | D2: =ENTREE_PRODUITS!D3+ENTREE_PRODUITS!E3 -> 21
A3: Bois2 | B3: Boisson2 | D3: =ENTREE_PRODUITS!D4+ENTREE_PRODUITS!E4 -> 14
A4: Bois3 | B4: Boisson3 | D4: =ENTREE_PRODUITS!D5+ENTREE_PRODUITS!E5 -> 18
A5: Bois4 | B5: Boisson4 | D5: =ENTREE_PRODUITS!D6+ENTREE_PRODUITS!E6 -> 16
A6: Bois5 | B6: Boisson5 | D6: =ENTREE_PRODUITS!D7+ENTREE_PRODUITS!E7 -> 5
A7: Bois6 | B7: Boisson6 | D7: =ENTREE_PRODUITS!D8+ENTREE_PRODUITS!E8 -> 8
A8: Bois7 | B8: Boisson7 | D8: =ENTREE_PRODUITS!D9+ENTREE_PRODUITS!E9 -> 32
A9: Bois8 | B9: Boisson8 | D9: =ENTREE_PRODUITS!D10+ENTREE_PRODUITS!E10 -> 42
A10: Bois9 | B10: Boisson9 | D10: =ENTREE_PRODUITS!D11+ENTREE_PRODUITS!E11 -> 2
A11: Bois10 | B11: Boisson10 | D11: =ENTREE_PRODUITS!D12+ENTREE_PRODUITS!E12 -> 0
A12: Bois11 | B12: Boisson11 | D12: =ENTREE_PRODUITS!D13+ENTREE_PRODUITS!E13 -> 14
A13: Bois12 | B13: Boisson12 | D13: =ENTREE_PRODUITS!D14+ENTREE_PRODUITS!E14 -> 10
... A32: Bois31 | B32: Boisson31 | D32: =ENTREE_PRODUITS!D33+ENTREE_PRODUITS!E33 -> 0
