Workbook

Sheet Mise en place
B3: 1 | C3: 2 | D3: 3 | E3: 4 | F3: 5 | G3: 6 | H3: 7 | I3: 8 | K3: 1 | L3: 2 | M3: 3 | N3: 4 | O3: 5 | P3: 6 | Q3: 7 | R3: 8 | T3: 1 | U3: 2 | V3: 3 | W3: 4 | X3: 5 | Y3: 6 | Z3: 7 | AA3: 8 | AC3: 1 | AD3: 2 | AE3: 3 | AF3: 4 | AG3: 5 | AH3: 6 | AI3: 7 | AJ3: 8 | AL3: 1 | AM3: 2 | AN3: 3 | AO3: 4 | AP3: 5 | AQ3: 6 | AR3: 7 | AS3: 8 | AU3: 1 | AV3: 2 | AW3: 3 | AX3: 4 | AY3: 5 | AZ3: 6 | BA3: 7 | BB3: 8 | BD3: 1 | BE3: 2 | BF3: 3 | BG3: 4 | BH3: 5 | BI3: 6 | BJ3: 7 | BK3: 8 | BM3: 1 | BN3: 2 | BO3: 3 | BP3: 4 | BQ3: 5 | BR3: 6 | BS3: 7 | BT3: 8 | BV3: 1 | BW3: 2 | BX3: 3 | BY3: 4 | BZ3: 5 | CA3: 6 | CB3: 7 | CC3: 8 | CE3: 1 | CF3: 2 | CG3: 3 | CH3: 4 | CI3: 5 | CJ3: 6 | CK3: 7 | CL3: 8 | CN3: 1 | CO3: 2 | CP3: 3 | CQ3: 4 | CR3: 5 | CS3: 6 | CT3: 7 | CU3: 8 | CW3: 1 | CX3: 2 | CY3: 3 | CZ3: 4 | DA3: 5 | DB3: 6 | DC3: 7 | DD3: 8 | DF3: 1 | DG3: 2 | DH3: 3 | DI3: 4 | DJ3: 5 | DK3: 6 | DL3: 7 | DM3: 8 | DO3: 1 | DP3: 2 | DQ3: 3 | DR3: 4 | DS3: 5 | DT3: 6 | DU3: 7 | DV3: 8 | DX3: 1 | DY3: 2 | DZ3: 3 | EA3: 4 | EB3: 5 | EC3: 6 | ED3: 7 | EE3: 8 | EG3: 1 | EH3: 2 | EI3: 3 | EJ3: 4 | EK3: 5 | EL3: 6 | EM3: 7 | EN3: 8 | EP3: 1 | EQ3: 2 | ER3: 3 | ES3: 4 | ET3: 5 | EU3: 6 | EV3: 7 | EW3: 8 | EY3: 1 | EZ3: 2 | FA3: 3 | FB3: 4 | FC3: 5 | FD3: 6 | FE3: 7 | FF3: 8 | FH3: 1 | FI3: 2 | FJ3: 3 | FK3: 4 | FL3: 5 | FM3: 6 | FN3: 7 | FO3: 8 | FQ3: 1 | FR3: 2 | FS3: 3 | FT3: 4 | FU3: 5 | FV3: 6 | FW3: 7 | FX3: 8 | FZ3: 1 | GA3: 2 | GB3: 3 | GC3: 4 | GD3: 5 | GE3: 6 | GF3: 7 | GG3: 8 | GI3: 1 | GJ3: 2 | GK3: 3 | GL3: 4 | GM3: 5 | GN3: 6 | GO3: 7 | GP3: 8 | GR3: 1 | GS3: 2 | GT3: 3 | GU3: 4 | GV3: 5 | GW3: 6 | GX3: 7 | GY3: 8 | HA3: 1 | HB3: 2 | HC3: 3 | HD3: 4 | HE3: 5 | HF3: 6 | HG3: 7 | HH3: 8 | HJ3: 1 | HK3: 2 | HL3: 3 | HM3: 4 | HN3: 5 | HO3: 6 | HP3: 7 | HQ3: 8 | HS3: 1 | HT3: 2 | HU3: 3 | HV3: 4 | HW3: 5 | HX3: 6 | HY3: 7 | HZ3: 8 | IB3: 1 | IC3: 2 | ID3: 3 | IE3: 4 | IF3: 5 | IG3: 6 | IH3: 7 | II3: 8 | IK3: 1 | IL3: 2 | IM3: 3 | IN3: 4 | IO3: 5 | IP3: 6 | IQ3: 7 | IR3: 8 | IT3: 1 | IU3: 2 | IV3: 3 | IW3: 4 | IX3: 5 | IY3: 6 | IZ3: 7 | JA3: 8 | JC3: 1 | JD3: 2 | JE3: 3 | JF3: 4 | JG3: 5 | JH3: 6 | JI3: 7 | JJ3: 8 | JL3: 1 | JM3: 2 | JN3: 3 | JO3: 4 | JP3: 5 | JQ3: 6 | JR3: 7 | JS3: 8 | JU3: 1 | JV3: 2 | JW3: 3 | JX3: 4 | JY3: 5 | JZ3: 6 | KA3: 7 | KB3: 8 | KD3: 1 | KE3: 2 | KF3: 3 | KG3: 4 | KH3: 5 | KI3: 6 | KJ3: 7 | KK3: 8 | KM3: 1 | KN3: 2 | KO3: 3 | KP3: 4 | KQ3: 5 | KR3: 6 | KS3: 7 | KT3: 8 | KV3: 1 | KW3: 2 | KX3: 3 | KY3: 4 | KZ3: 5 | LA3: 6 | LB3: 7 | LC3: 8 | LE3: 1 | LF3: 2 | LG3: 3 | LH3: 4 | LI3: 5 | LJ3: 6 | LK3: 7 | LL3: 8 | LN3: 1 | LO3: 2 | LP3: 3 | LQ3: 4 | LR3: 5 | LS3: 6 | LT3: 7 | LU3: 8 | LW3: 1 | LX3: 2 | LY3: 3 | LZ3: 4 | MA3: 5 | MB3: 6 | MC3: 7 | MD3: 8 | MF3: 1 | MG3: 2 | MH3: 3 | MI3: 4 | MJ3: 5 | MK3: 6 | ML3: 7 | MM3: 8 | MO3: 1 | MP3: 2 | MQ3: 3 | MR3: 4 | MS3: 5 | MT3: 6 | MU3: 7 | MV3: 8 | MX3: 1 | MY3: 2 | MZ3: 3 | NA3: 4 | NB3: 5 | NC3: 6 | ND3: 7 | NE3: 8 | NG3: 1 | NH3: 2 | NI3: 3 | NJ3: 4 | NK3: 5 | NL3: 6 | NM3: 7 | NN3: 8 | NP3: 1 | NQ3: 2 | NR3: 3 | NS3: 4 | NT3: 5 | NU3: 6 | NV3: 7 | NW3: 8 | NY3: 1 | NZ3: 2 | OA3: 3 | OB3: 4 | OC3: 5 | OD3: 6 | OE3: 7 | OF3: 8 | OH3: 1 | OI3: 2 | OJ3: 3 | OK3: 4 | OL3: 5 | OM3: 6 | ON3: 7 | OO3: 8 | OQ3: 1 | OR3: 2 | OS3: 3 | OT3: 4 | OU3: 5 | OV3: 6 | OW3: 7 | OX3: 8 | OZ3: 1 | PA3: 2 | PB3: 3 | PC3: 4 | PD3: 5 | PE3: 6 | PF3: 7 | PG3: 8 | PI3: 1 | PJ3: 2 | PK3: 3 | PL3: 4 | PM3: 5 | PN3: 6 | PO3: 7 | PP3: 8 | PR3: 1 | PS3: 2 | PT3: 3 | PU3: 4 | PV3: 5 | PW3: 6 | PX3: 7 | PY3: 8 | QA3: 1 | QB3: 2 | QC3: 3 | QD3: 4 | QE3: 5 | QF3: 6 | QG3: 7 | QH3: 8 | QJ3: 1 | QK3: 2 | QL3: 3 | QM3: 4 | QN3: 5 | QO3: 6 | QP3: 7 | QQ3: 8 | QS3: 1 | QT3: 2 | QU3: 3 | QV3: 4 | QW3: 5 | QX3: 6 | QY3: 7 | QZ3: 8 | RB3: 1 | RC3: 2 | RD3: 3 | RE3: 4 | RF3: 5 | RG3: 6 | RH3: 7 | RI3: 8 | RK3: 1 | RL3: 2 | RM3: 3 | RN3: 4 | RO3: 5 | RP3: 6 | RQ3: 7 | RR3: 8 | RT3: 1 | RU3: 2 | RV3: 3 | RW3: 4 | RX3: 5 | RY3: 6 | RZ3: 7 | SA3: 8 | SC3: 1 | SD3: 2 | SE3: 3 | SF3: 4 | SG3: 5 | SH3: 6 | SI3: 7 | SJ3: 8 | SL3: 1 | SM3: 2 | SN3: 3 | SO3: 4 | SP3: 5 | SQ3: 6 | SR3: 7 | SS3: 8 | SU3: 1 | SV3: 2 | SW3: 3 | SX3: 4 | SY3: 5 | SZ3: 6 | TA3: 7 | TB3: 8 | TD3: 1 | TE3: 2 | TF3: 3 | TG3: 4 | TH3: 5 | TI3: 6 | TJ3: 7 | TK3: 8 | TM3: 1 | TN3: 2 | TO3: 3 | TP3: 4 | TQ3: 5 | TR3: 6 | TS3: 7 | TT3: 8 | TV3: 1 | TW3: 2 | TX3: 3 | TY3: 4 | TZ3: 5 | UA3: 6 | UB3: 7 | UC3: 8 | UE3: 1 | UF3: 2 | UG3: 3 | UH3: 4 | UI3: 5 | UJ3: 6 | UK3: 7 | UL3: 8 | UN3: 1 | UO3: 2 | UP3: 3 | UQ3: 4 | UR3: 5 | US3: 6 | UT3: 7 | UU3: 8 | UW3: 1 | UX3: 2 | UY3: 3 | UZ3: 4 | VA3: 5 | VB3: 6 | VC3: 7 | VD3: 8 | VF3: 1 | VG3: 2 | VH3: 3 | VI3: 4 | VJ3: 5 | VK3: 6 | VL3: 7 | VM3: 8 | VO3: 1 | VP3: 2 | VQ3: 3 | VR3: 4 | VS3: 5 | VT3: 6 | VU3: 7 | VV3: 8 | VX3: 1 | VY3: 2 | VZ3: 3 | WA3: 4 | WB3: 5 | WC3: 6 | WD3: 7 | WE3: 8 | WG3: 1 | WH3: 2 | WI3: 3 | WJ3: 4 | WK3: 5 | WL3: 6 | WM3: 7 | WN3: 8 | WP3: 1 | WQ3: 2 | WR3: 3 | WS3: 4 | WT3: 5 | WU3: 6 | WV3: 7 | WW3: 8 | WY3: 1 | WZ3: 2 | XA3: 3 | XB3: 4 | XC3: 5 | XD3: 6 | XE3: 7 | XF3: 8 | XH3: 1 | XI3: 2 | XJ3: 3 | XK3: 4 | XL3: 5 | XM3: 6 | XN3: 7 | XO3: 8 | XQ3: 1 | XR3: 2 | XS3: 3 | XT3: 4 | XU3: 5 | XV3: 6 | XW3: 7 | XX3: 8 | XZ3: 1 | YA3: 2 | YB3: 3 | YC3: 4 | YD3: 5 | YE3: 6 | YF3: 7 | YG3: 8 | YI3: 1 | YJ3: 2 | YK3: 3 | YL3: 4 | YM3: 5 | YN3: 6 | YO3: 7 | YP3: 8 | YR3: 1 | YS3: 2 | YT3: 3 | YU3: 4 | YV3: 5 | YW3: 6 | YX3: 7 | YY3: 8 | ZA3: 1 | ZB3: 2 | ZC3: 3 | ZD3: 4 | ZE3: 5 | ZF3: 6 | ZG3: 7 | ZH3: 8 | ZJ3: 1 | ZK3: 2 | ZL3: 3 | ZM3: 4 | ZN3: 5 | ZO3: 6 | ZP3: 7 | ZQ3: 8 | ZS3: 1 | ZT3: 2 | ZU3: 3 | ZV3: 4 | ZW3: 5 | ZX3: 6 | ZY3: 7 | ZZ3: 8 | AAB3: 1 | AAC3: 2 | AAD3: 3 | AAE3: 4 | AAF3: 5 | AAG3: 6 | AAH3: 7 | AAI3: 8 | AAK3: 1 | AAL3: 2 | AAM3: 3 | AAN3: 4 | AAO3: 5 | AAP3: 6 | AAQ3: 7 | AAR3: 8 | AAT3: 1 | AAU3: 2 | AAV3: 3 | AAW3: 4 | AAX3: 5 | AAY3: 6 | AAZ3: 7 | ABA3: 8 | ABC3: 1 | ABD3: 2 | ABE3: 3 | ABF3: 4 | ABG3: 5 | ABH3: 6 | ABI3: 7 | ABJ3: 8 | ABL3: 1 | ABM3: 2 | ABN3: 3 | ABO3: 4 | ABP3: 5 | ABQ3: 6 | ABR3: 7 | ABS3: 8 | ABU3: 1 | ABV3: 2 | ABW3: 3 | ABX3: 4 | ABY3: 5 | ABZ3: 6 | ACA3: 7 | ACB3: 8 | ACD3: 1 | ACE3: 2 | ACF3: 3 | ACG3: 4 | ACH3: 5 | ACI3: 6 | ACJ3: 7 | ACK3: 8 | ACM3: 1 | ACN3: 2 | ACO3: 3 | ACP3: 4 | ACQ3: 5 | ACR3: 6 | ACS3: 7 | ACT3: 8 | ACV3: 1 | ACW3: 2 | ACX3: 3 | ACY3: 4 | ACZ3: 5 | ADA3: 6 | ADB3: 7 | ADC3: 8 | ADE3: 1 | ADF3: 2 | ADG3: 3 | ADH3: 4 | ADI3: 5 | ADJ3: 6 | ADK3: 7 | ADL3: 8 | ADN3: 1 | ADO3: 2 | ADP3: 3 | ADQ3: 4 | ADR3: 5 | ADS3: 6 | ADT3: 7 | ADU3: 8 | ADW3: 1 | ADX3: 2 | ADY3: 3 | ADZ3: 4 | AEA3: 5 | AEB3: 6 | AEC3: 7 | AED3: 8 | AEF3: 1 | AEG3: 2 | AEH3: 3 | AEI3: 4 | AEJ3: 5 | AEK3: 6 | AEL3: 7 | AEM3: 8 | AEO3: 1 | AEP3: 2 | AEQ3: 3 | AER3: 4 | AES3: 5 | AET3: 6 | AEU3: 7 | AEV3: 8 | AEX3: 1 | AEY3: 2 | AEZ3: 3 | AFA3: 4 | AFB3: 5 | AFC3: 6 | AFD3: 7 | AFE3: 8 | AFG3: 1 | AFH3: 2 | AFI3: 3 | AFJ3: 4 | AFK3: 5 | AFL3: 6 | AFM3: 7 | AFN3: 8 | AFP3: 1 | AFQ3: 2 | AFR3: 3 | AFS3: 4 | AFT3: 5 | AFU3: 6 | AFV3: 7 | AFW3: 8 | AFY3: 1 | AFZ3: 2 | AGA3: 3 | AGB3: 4 | AGC3: 5 | AGD3: 6 | AGE3: 7 | AGF3: 8 | AGH3: 1 | AGI3: 2 | AGJ3: 3 | AGK3: 4 | AGL3: 5 | AGM3: 6 | AGN3: 7 | AGO3: 8 | AGQ3: 1 | AGR3: 2 | AGS3: 3 | AGT3: 4 | AGU3: 5 | AGV3: 6 | AGW3: 7 | AGX3: 8 | AGZ3: 1 | AHA3: 2 | AHB3: 3 | AHC3: 4 | AHD3: 5 | AHE3: 6 | AHF3: 7 | AHG3: 8 | AHI3: 1 | AHJ3: 2 | AHK3: 3 | AHL3: 4 | AHM3: 5 | AHN3: 6 | AHO3: 7 | AHP3: 8 | AHR3: 1 | AHS3: 2 | AHT3: 3 | AHU3: 4 | AHV3: 5 | AHW3: 6 | AHX3: 7 | AHY3: 8 | AIA3: 1 | AIB3: 2 | AIC3: 3 | AID3: 4 | AIE3: 5 | AIF3: 6 | AIG3: 7 | AIH3: 8 | AIJ3: 1 | AIK3: 2 | AIL3: 3 | AIM3: 4 | AIN3: 5 | AIO3: 6 | AIP3: 7 | AIQ3: 8 | AIS3: 1 | AIT3: 2 | AIU3: 3 | AIV3: 4 | AIW3: 5 | AIX3: 6 | AIY3: 7 | AIZ3: 8
B5: Agence Direct Presse | K5: AIP | T5: Assiduité | AC5: Beur FM | AL5: Bilto | AU5: Canal + | BD5: Canal 2 | BM5: CanalTurf.com | BV5: Chevaux [valeur] | CE5: Cocktail FM | CN5: Coefficient de reussite | CW5: Courrier de l'Ouest | DF5: Echo FM | DO5: Equidia | DX5: Europe 1 | EG5: Forme cheval | EP5: Forme individus | EY5: Geny Courses | FH5: Geny.com | FQ5: La Casaque | FZ5: La Dépêche | GI5: La Gazette des Courses | GR5: La Nouvelle République | HA5: L'Alsace | HJ5: Le Dauphiné Libéré | HS5: Le Favori | IB5: Le Parisien | IK5: Le Républicain Lorrain | IT5: Le Télégramme de Brest | JC5: Le Turf | JL5: L'indépendant | JU5: Matin Courses | KD5: Ouest-France | KM5: Paris Courses | KV5: Paris Turf | LE5: Paris-Courses.com | LN5: Paris-Turf.com | LW5: Presse Océan | MF5: Prono ordinateur | MO5: Radio Haute Epine | MX5: Résumé Top | NG5: RTL | NP5: Scoopdyga | NY5: Sud Ouest | OH5: Tiercé Magazine | OQ5: Top Entraineurs | OZ5: Top Jockeys Drivers | PI5: Tropiques FM | PR5: Turf Magazine | QA5: Turf.fr | QJ5: Tuyo | QS5: Week-End | RB5: ZEturf | RK5: A1 | RT5: A2 | SC5: A3 | SL5: A4 | SU5: A5 | TD5: A6 | TM5: A7 | TV5: A8 | UE5: A9 | UN5: A10 | UW5: A11 | VF5: A12 | VO5: A13 | VX5: A14 | WG5: A15 | WP5: A16 | WY5: A17 | XH5: A18 | XQ5: A19 | XZ5: A20 | YI5: A21 | YR5: A22 | ZA5: A23 | ZJ5: A24 | ZS5: A25 | AAB5: A26 | AAK5: A27 | AAT5: A28 | ABC5: A29 | ABL5: A30 | ABU5: A31 | ACD5: A32 | ACM5: A33 | ACV5: A34 | ADE5: A35 | ADN5: A36 | ADW5: A37 | AEF5: A38 | AEO5: A39 | AEX5: A40 | AFG5: A41 | AFP5: A42 | AFY5: A43 | AGH5: A44 | AGQ5: A45 | AGZ5: A46 | AHI5: A47 | AHR5: A48 | AIA5: A49 | AIJ5: A50 | AIS5: A51
B6: 3 | C6: 4 | D6: 17 | E6: 18 | F6: 2 | G6: 6 | H6: 9 | I6: 1 | K6: 5 | L6: 2 | M6: 4 | N6: 18 | O6: 17 | P6: 9 | Q6: 7 | R6: 3
A8: tulipe | B8: {=IF(MOD(COLUMN(I:I),9)=0,OFFSET('Arrivée Presse'!$A$2,INT(COLUMN(I:I)/9)-1,,,),"")} -> 1 | C8: {=IF(MOD(COLUMN(J:J),9)=0,OFFSET('Arrivée Presse'!$A$2,INT(COLUMN(J:J)/9)-1,,,),"")} | D8: {=IF(MOD(COLUMN(K:K),9)=0,OFFSET('Arrivée Presse'!$A$2,INT(COLUMN(K:K)/9)-1,,,),"")} | E8: {=IF(MOD(COLUMN(L:L),9)=0,OFFSET('Arrivée Presse'!$A$2,INT(COLUMN(L:L)/9)-1,,,),"")} | F8: {=IF(MOD(COLUMN(M:M),9)=0,OFFSET('Arrivée Presse'!$A$2,INT(COLUMN(M:M)/9)-1,,,),"")} | G8: {=IF(MOD(COLUMN(N:N),9)=0,OFFSET('Arrivée Presse'!$A$2,INT(COLUMN(N:N)/9)-1,,,),"")} | H8: {=IF(MOD(COLUMN(O:O),9)=0,OFFSET('Arrivée Presse'!$A$2,INT(COLUMN(O:O)/9)-1,,,),"")} | I8: {=IF(MOD(COLUMN(P:P),9)=0,OFFSET('Arrivée Presse'!$A$2,INT(COLUMN(P:P)/9)-1,,,),"")} | J8: {=IF(MOD(COLUMN(Q:Q),9)=0,OFFSET('Arrivée Presse'!$A$2,INT(COLUMN(Q:Q)/9)-1,,,),"")} | K8: {=IF(MOD(COLUMN(R:R),9)=0,OFFSET('Arrivée Presse'!$A$2,INT(COLUMN(R:R)/9)-1,,,),"")} -> 2 | L8: {=IF(MOD(COLUMN(S:S),9)=0,OFFSET('Arrivée Presse'!$A$2,INT(COLUMN(S:S)/9)-1,,,),"")} | M8: {=IF(MOD(COLUMN(T:T),9)=0,OFFSET('Arrivée Presse'!$A$2,INT(COLUMN(T:T)/9)-1,,,),"")} | N8: {=IF(MOD(COLUMN(U:U),9)=0,OFFSET('Arrivée Presse'!$A$2,INT(COLUMN(U:U)/9)-1,,,),"")} | O8: {=IF(MOD(COLUMN(V:V),9)=0,OFFSET('Arrivée Presse'!$A$2,INT(COLUMN(V:V)/9)-1,,,),"")} | P8: {=IF(MOD(COLUMN(W:W),9)=0,OFFSET('Arrivée Presse'!$A$2,INT(COLUMN(W:W)/9)-1,,,),"")} | Q8: {=IF(MOD(COLUMN(X:X),9)=0,OFFSET('Arrivée Presse'!$A$2,INT(COLUMN(X:X)/9)-1,,,),"")} | R8: {=IF(MOD(COLUMN(Y:Y),9)=0,OFFSET('Arrivée Presse'!$A$2,INT(COLUMN(Y:Y)/9)-1,,,),"")} | S8: {=IF(MOD(COLUMN(Z:Z),9)=0,OFFSET('Arrivée Presse'!$A$2,INT(COLUMN(Z:Z)/9)-1,,,),"")} | T8: {=IF(MOD(COLUMN(AA:AA),9)=0,OFFSET('Arrivée Presse'!$A$2,INT(COLUMN(AA:AA)/9)-1,,,),"")} -> 3 | U8: {=IF(MOD(COLUMN(AB:AB),9)=0,OFFSET('Arrivée Presse'!$A$2,INT(COLUMN(AB:AB)/9)-1,,,),"")} | V8: {=IF(MOD(COLUMN(AC:AC),9)=0,OFFSET('Arrivée Presse'!$A$2,INT(COLUMN(AC:AC)/9)-1,,,),"")} | W8: {=IF(MOD(COLUMN(AD:AD),9)=0,OFFSET('Arrivée Presse'!$A$2,INT(COLUMN(AD:AD)/9)-1,,,),"")} | X8: {=IF(MOD(COLUMN(AE:AE),9)=0,OFFSET('Arrivée Presse'!$A$2,INT(COLUMN(AE:AE)/9)-1,,,),"")} | Y8: {=IF(MOD(COLUMN(AF:AF),9)=0,OFFSET('Arrivée Presse'!$A$2,INT(COLUMN(AF:AF)/9)-1,,,),"")} | Z8: {=IF(MOD(COLUMN(AG:AG),9)=0,OFFSET('Arrivée Presse'!$A$2,INT(COLUMN(AG:AG)/9)-1,,,),"")} | AA8: {=IF(MOD(COLUMN(AH:AH),9)=0,OFFSET('Arrivée Presse'!$A$2,INT(COLUMN(AH:AH)/9)-1,,,),"")} | AB8: {=IF(MOD(COLUMN(AI:AI),9)=0,OFFSET('Arrivée Presse'!$A$2,INT(COLUMN(AI:AI)/9)-1,,,),"")} | AC8: {=IF(MOD(COLUMN(AJ:AJ),9)=0,OFFSET('Arrivée Presse'!$A$2,INT(COLUMN(AJ:AJ)/9)-1,,,),"")} -> 4 | AD8: {=IF(MOD(COLUMN(AK:AK),9)=0,OFFSET('Arrivée Presse'!$A$2,INT(COLUMN(AK:AK)/9)-1,,,),"")} | AE8: {=IF(MOD(COLUMN(AL:AL),9)=0,OFFSET('Arrivée Presse'!$A$2,INT(COLUMN(AL:AL)/9)-1,,,),"")} | AF8: {=IF(MOD(COLUMN(AM:AM),9)=0,OFFSET('Arrivée Presse'!$A$2,INT(COLUMN(AM:AM)/9)-1,,,),"")} | AG8: {=IF(MOD(COLUMN(AN:AN),9)=0,OFFSET('Arrivée Presse'!$A$2,INT(COLUMN(AN:AN)/9)-1,,,),"")} | AH8: {=IF(MOD(COLUMN(AO:AO),9)=0,OFFSET('Arrivée Presse'!$A$2,INT(COLUMN(AO:AO)/9)-1,,,),"")} | AI8: {=IF(MOD(COLUMN(AP:AP),9)=0,OFFSET('Arrivée Presse'!$A$2,INT(COLUMN(AP:AP)/9)-1,,,),"")} | AJ8: {=IF(MOD(COLUMN(AQ:AQ),9)=0,OFFSET('Arrivée Presse'!$A$2,INT(COLUMN(AQ:AQ)/9)-1,,,),"")} | AK8: {=IF(MOD(COLUMN(AR:AR),9)=0,OFFSET('Arrivée Presse'!$A$2,INT(COLUMN(AR:AR)/9)-1,,,),"")} | AL8: {=IF(MOD(COLUMN(AS:AS),9)=0,OFFSET('Arrivée Presse'!$A$2,INT(COLUMN(AS:AS)/9)-1,,,),"")} -> 5 | AM8: {=IF(MOD(COLUMN(AT:AT),9)=0,OFFSET('Arrivée Presse'!$A$2,INT(COLUMN(AT:AT)/9)-1,,,),"")} | AN8: {=IF(MOD(COLUMN(AU:AU),9)=0,OFFSET('Arrivée Presse'!$A$2,INT(COLUMN(AU:AU)/9)-1,,,),"")} | AO8: {=IF(MOD(COLUMN(AV:AV),9)=0,OFFSET('Arrivée Presse'!$A$2,INT(COLUMN(AV:AV)/9)-1,,,),"")} | AP8: {=IF(MOD(COLUMN(AW:AW),9)=0,OFFSET('Arrivée Presse'!$A$2,INT(COLUMN(AW:AW)/9)-1,,,),"")} | AQ8: {=IF(MOD(COLUMN(AX:AX),9)=0,OFFSET('Arrivée Presse'!$A$2,INT(COLUMN(AX:AX)/9)-1,,,),"")} | AR8: {=IF(MOD(COLUMN(AY:AY),9)=0,OFFSET('Arrivée Presse'!$A$2,INT(COLUMN(AY:AY)/9)-1,,,),"")} | AS8: {=IF(MOD(COLUMN(AZ:AZ),9)=0,OFFSET('Arrivée Presse'!$A$2,INT(COLUMN(AZ:AZ)/9)-1,,,),"")} | AT8: {=IF(MOD(COLUMN(BA:BA),9)=0,OFFSET('Arrivée Presse'!$A$2,INT(COLUMN(BA:BA)/9)-1,,,),"")} | AU8: {=IF(MOD(COLUMN(BB:BB),9)=0,OFFSET('Arrivée Presse'!$A$2,INT(COLUMN(BB:BB)/9)-1,,,),"")} -> 6 | AV8: {=IF(MOD(COLUMN(BC:BC),9)=0,OFFSET('Arrivée Presse'!$A$2,INT(COLUMN(BC:BC)/9)-1,,,),"")} | AW8: {=IF(MOD(COLUMN(BD:BD),9)=0,OFFSET('Arrivée Presse'!$A$2,INT(COLUMN(BD:BD)/9)-1,,,),"")} | AX8: {=IF(MOD(COLUMN(BE:BE),9)=0,OFFSET('Arrivée Presse'!$A$2,INT(COLUMN(BE:BE)/9)-1,,,),"")} | AY8: {=IF(MOD(COLUMN(BF:BF),9)=0,OFFSET('Arrivée Presse'!$A$2,INT(COLUMN(BF:BF)/9)-1,,,),"")} | AZ8: {=IF(MOD(COLUMN(BG:BG),9)=0,OFFSET('Arrivée Presse'!$A$2,INT(COLUMN(BG:BG)/9)-1,,,),"")} | BA8: {=IF(MOD(COLUMN(BH:BH),9)=0,OFFSET('Arrivée Presse'!$A$2,INT(COLUMN(BH:BH)/9)-1,,,),"")} | BB8: {=IF(MOD(COLUMN(BI:BI),9)=0,OFFSET('Arrivée Presse'!$A$2,INT(COLUMN(BI:BI)/9)-1,,,),"")} | BC8: {=IF(MOD(COLUMN(BJ:BJ),9)=0,OFFSET('Arrivée Presse'!$A$2,INT(COLUMN(BJ:BJ)/9)-1,,,),"")} | BD8: {=IF(MOD(COLUMN(BK:BK),9)=0,OFFSET('Arrivée Presse'!$A$2,INT(COLUMN(BK:BK)/9)-1,,,),"")} -> 7 | BE8: {=IF(MOD(COLUMN(BL:BL),9)=0,OFFSET('Arrivée Presse'!$A$2,INT(COLUMN(BL:BL)/9)-1,,,),"")} | BF8: {=IF(MOD(COLUMN(BM:BM),9)=0,OFFSET('Arrivée Presse'!$A$2,INT(COLUMN(BM:BM)/9)-1,,,),"")} | BG8: {=IF(MOD(COLUMN(BN:BN),9)=0,OFFSET('Arrivée Presse'!$A$2,INT(COLUMN(BN:BN)/9)-1,,,),"")} | BH8: {=IF(MOD(COLUMN(BO:BO),9)=0,OFFSET('Arrivée Presse'!$A$2,INT(COLUMN(BO:BO)/9)-1,,,),"")} | BI8: {=IF(MOD(COLUMN(BP:BP),9)=0,OFFSET('Arrivée Presse'!$A$2,INT(COLUMN(BP:BP)/9)-1,,,),"")} | BJ8: {=IF(MOD(COLUMN(BQ:BQ),9)=0,OFFSET('Arrivée Presse'!$A$2,INT(COLUMN(BQ:BQ)/9)-1,,,),"")} | BK8: {=IF(MOD(COLUMN(BR:BR),9)=0,OFFSET('Arrivée Presse'!$A$2,INT(COLUMN(BR:BR)/9)-1,,,),"")} | BL8: {=IF(MOD(COLUMN(BS:BS),9)=0,OFFSET('Arrivée Presse'!$A$2,INT(COLUMN(BS:BS)/9)-1,,,),"")} | BM8: {=IF(MOD(COLUMN(BT:BT),9)=0,OFFSET('Arrivée Presse'!$A$2,INT(COLUMN(BT:BT)/9)-1,,,),"")} -> 8 | BN8: {=IF(MOD(COLUMN(BU:BU),9)=0,OFFSET('Arrivée Presse'!$A$2,INT(COLUMN(BU:BU)/9)-1,,,),"")} | BO8: {=IF(MOD(COLUMN(BV:BV),9)=0,OFFSET('Arrivée Presse'!$A$2,INT(COLUMN(BV:BV)/9)-1,,,),"")} | BP8: {=IF(MOD(COLUMN(BW:BW),9)=0,OFFSET('Arrivée Presse'!$A$2,INT(COLUMN(BW:BW)/9)-1,,,),"")} | BQ8: {=IF(MOD(COLUMN(BX:BX),9)=0,OFFSET('Arrivée Presse'!$A$2,INT(COLUMN(BX:BX)/9)-1,,,),"")} | BR8: {=IF(MOD(COLUMN(BY:BY),9)=0,OFFSET('Arrivée Presse'!$A$2,INT(COLUMN(BY:BY)/9)-1,,,),"")} | BS8: {=IF(MOD(COLUMN(BZ:BZ),9)=0,OFFSET('Arrivée Presse'!$A$2,INT(COLUMN(BZ:BZ)/9)-1,,,),"")} | BT8: {=IF(MOD(COLUMN(CA:CA),9)=0,OFFSET('Arrivée Presse'!$A$2,INT(COLUMN(CA:CA)/9)-1,,,),"")} | BU8: {=IF(MOD(COLUMN(CB:CB),9)=0,OFFSET('Arrivée Presse'!$A$2,INT(COLUMN(CB:CB)/9)-1,,,),"")} | BV8: {=IF(MOD(COLUMN(CC:CC),9)=0,OFFSET('Arrivée Presse'!$A$2,INT(COLUMN(CC:CC)/9)-1,,,),"")} -> 9 | BW8: {=IF(MOD(COLUMN(CD:CD),9)=0,OFFSET('Arrivée Presse'!$A$2,INT(COLUMN(CD:CD)/9)-1,,,),"")} | BX8: {=IF(MOD(COLUMN(CE:CE),9)=0,OFFSET('Arrivée Presse'!$A$2,INT(COLUMN(CE:CE)/9)-1,,,),"")} | BY8: {=IF(MOD(COLUMN(CF:CF),9)=0,OFFSET('Arrivée Presse'!$A$2,INT(COLUMN(CF:CF)/9)-1,,,),"")} | BZ8: {=IF(MOD(COLUMN(CG:CG),9)=0,OFFSET('Arrivée Presse'!$A$2,INT(COLUMN(CG:CG)/9)-1,,,),"")} | CA8: {=IF(MOD(COLUMN(CH:CH),9)=0,OFFSET('Arrivée Presse'!$A$2,INT(COLUMN(CH:CH)/9)-1,,,),"")} | CB8: {=IF(MOD(COLUMN(CI:CI),9)=0,OFFSET('Arrivée Presse'!$A$2,INT(COLUMN(CI:CI)/9)-1,,,),"")} | CC8: {=IF(MOD(COLUMN(CJ:CJ),9)=0,OFFSET('Arrivée Presse'!$A$2,INT(COLUMN(CJ:CJ)/9)-1,,,),"")} | CD8: {=IF(MOD(COLUMN(CK:CK),9)=0,OFFSET('Arrivée Presse'!$A$2,INT(COLUMN(CK:CK)/9)-1,,,),"")} | CE8: {=IF(MOD(COLUMN(CL:CL),9)=0,OFFSET('Arrivée Presse'!$A$2,INT(COLUMN(CL:CL)/9)-1,,,),"")} -> 10 | CF8: {=IF(MOD(COLUMN(CM:CM),9)=0,OFFSET('Arrivée Presse'!$A$2,INT(COLUMN(CM:CM)/9)-1,,,),"")} | CG8: {=IF(MOD(COLUMN(CN:CN),9)=0,OFFSET('Arrivée Presse'!$A$2,INT(COLUMN(CN:CN)/9)-1,,,),"")} | CH8: {=IF(MOD(COLUMN(CN:CN),8)=0,OFFSET('Arrivée Presse'!$B$2,INT(COLUMN(CN:CN)/8)-1,,,),"")} | CI8: {=IF(MOD(COLUMN(CO:CO),8)=0,OFFSET('Arrivée Presse'!$B$2,INT(COLUMN(CO:CO)/8)-1,,,),"")} | CJ8: {=IF(MOD(COLUMN(CP:CP),8)=0,OFFSET('Arrivée Presse'!$B$2,INT(COLUMN(CP:CP)/8)-1,,,),"")} | CK8: {=IF(MOD(COLUMN(CQ:CQ),8)=0,OFFSET('Arrivée Presse'!$B$2,INT(COLUMN(CQ:CQ)/8)-1,,,),"")} | CL8: {=IF(MOD(COLUMN(CR:CR),8)=0,OFFSET('Arrivée Presse'!$B$2,INT(COLUMN(CR:CR)/8)-1,,,),"")} -> Courrier de l'Ouest | CM8: {=IF(MOD(COLUMN(CS:CS),8)=0,OFFSET('Arrivée Presse'!$B$2,INT(COLUMN(CS:CS)/8)-1,,,),"")}
B9: {=OFFSET('Arrivée Presse'!$C$2,INT(COLUMN(I:I)/9-1),MOD(COLUMN(I:I),9),,)} -> 3 | C9: {=OFFSET('Arrivée Presse'!$C$2,INT(COLUMN(J:J)/9-1),MOD(COLUMN(J:J),9),,)} -> 4 | D9: {=OFFSET('Arrivée Presse'!$C$2,INT(COLUMN(K:K)/9-1),MOD(COLUMN(K:K),9),,)} -> 17 | E9: {=OFFSET('Arrivée Presse'!$C$2,INT(COLUMN(L:L)/9-1),MOD(COLUMN(L:L),9),,)} -> 18 | F9: {=OFFSET('Arrivée Presse'!$C$2,INT(COLUMN(M:M)/9-1),MOD(COLUMN(M:M),9),,)} -> 2 | G9: {=OFFSET('Arrivée Presse'!$C$2,INT(COLUMN(N:N)/9-1),MOD(COLUMN(N:N),9),,)} -> 6 | H9: {=OFFSET('Arrivée Presse'!$C$2,INT(COLUMN(O:O)/9-1),MOD(COLUMN(O:O),9),,)} -> 9 | I9: {=OFFSET('Arrivée Presse'!$C$2,INT(COLUMN(P:P)/9-1),MOD(COLUMN(P:P),9),,)} -> 1 | J9: {=OFFSET('Arrivée Presse'!$C$2,INT(COLUMN(Q:Q)/9-1),MOD(COLUMN(Q:Q),9),,)} -> 0 | K9: {=OFFSET('Arrivée Presse'!$C$2,INT(COLUMN(R:R)/9-1),MOD(COLUMN(R:R),9),,)} -> 5 | L9: {=OFFSET('Arrivée Presse'!$C$2,INT(COLUMN(S:S)/9-1),MOD(COLUMN(S:S),9),,)} -> 2 | M9: {=OFFSET('Arrivée Presse'!$C$2,INT(COLUMN(T:T)/9-1),MOD(COLUMN(T:T),9),,)} -> 4 | N9: {=OFFSET('Arrivée Presse'!$C$2,INT(COLUMN(U:U)/9-1),MOD(COLUMN(U:U),9),,)} -> 18 | O9: {=OFFSET('Arrivée Presse'!$C$2,INT(COLUMN(V:V)/9-1),MOD(COLUMN(V:V),9),,)} -> 17 | P9: {=OFFSET('Arrivée Presse'!$C$2,INT(COLUMN(W:W)/9-1),MOD(COLUMN(W:W),9),,)} -> 9 | Q9: {=OFFSET('Arrivée Presse'!$C$2,INT(COLUMN(X:X)/9-1),MOD(COLUMN(X:X),9),,)} -> 7 | R9: {=OFFSET('Arrivée Presse'!$C$2,INT(COLUMN(Y:Y)/9-1),MOD(COLUMN(Y:Y),9),,)} -> 3 | S9: {=OFFSET('Arrivée Presse'!$C$2,INT(COLUMN(Z:Z)/9-1),MOD(COLUMN(Z:Z),9),,)} -> 0 | T9: {=OFFSET('Arrivée Presse'!$C$2,INT(COLUMN(AA:AA)/9-1),MOD(COLUMN(AA:AA),9),,)} -> 17 | U9: {=OFFSET('Arrivée Presse'!$C$2,INT(COLUMN(AB:AB)/9-1),MOD(COLUMN(AB:AB),9),,)} -> 7 | V9: {=OFFSET('Arrivée Presse'!$C$2,INT(COLUMN(AC:AC)/9-1),MOD(COLUMN(AC:AC),9),,)} -> 5 | W9: {=OFFSET('Arrivée Presse'!$C$2,INT(COLUMN(AD:AD)/9-1),MOD(COLUMN(AD:AD),9),,)} -> 2 | X9: {=OFFSET('Arrivée Presse'!$C$2,INT(COLUMN(AE:AE)/9-1),MOD(COLUMN(AE:AE),9),,)} -> 1 | Y9: {=OFFSET('Arrivée Presse'!$C$2,INT(COLUMN(AF:AF)/9-1),MOD(COLUMN(AF:AF),9),,)} -> 3 | Z9: {=OFFSET('Arrivée Presse'!$C$2,INT(COLUMN(AG:AG)/9-1),MOD(COLUMN(AG:AG),9),,)} -> 4 | AA9: {=OFFSET('Arrivée Presse'!$C$2,INT(COLUMN(AH:AH)/9-1),MOD(COLUMN(AH:AH),9),,)} -> 16 | AB9: {=OFFSET('Arrivée Presse'!$C$2,INT(COLUMN(AI:AI)/9-1),MOD(COLUMN(AI:AI),9),,)} -> 0 | AC9: {=OFFSET('Arrivée Presse'!$C$2,INT(COLUMN(AJ:AJ)/9-1),MOD(COLUMN(AJ:AJ),9),,)} -> 4 | AD9: {=OFFSET('Arrivée Presse'!$C$2,INT(COLUMN(AK:AK)/9-1),MOD(COLUMN(AK:AK),9),,)} -> 3 | AE9: {=OFFSET('Arrivée Presse'!$C$2,INT(COLUMN(AL:AL)/9-1),MOD(COLUMN(AL:AL),9),,)} -> 5 | AF9: {=OFFSET('Arrivée Presse'!$C$2,INT(COLUMN(AM:AM)/9-1),MOD(COLUMN(AM:AM),9),,)} -> 2 | AG9: {=OFFSET('Arrivée Presse'!$C$2,INT(COLUMN(AN:AN)/9-1),MOD(COLUMN(AN:AN),9),,)} -> 17 | AH9: {=OFFSET('Arrivée Presse'!$C$2,INT(COLUMN(AO:AO)/9-1),MOD(COLUMN(AO:AO),9),,)} -> 13 | AI9: {=OFFSET('Arrivée Presse'!$C$2,INT(COLUMN(AP:AP)/9-1),MOD(COLUMN(AP:AP),9),,)} -> 9 | AJ9: {=OFFSET('Arrivée Presse'!$C$2,INT(COLUMN(AQ:AQ)/9-1),MOD(COLUMN(AQ:AQ),9),,)} -> 18 | AK9: {=OFFSET('Arrivée Presse'!$C$2,INT(COLUMN(AR:AR)/9-1),MOD(COLUMN(AR:AR),9),,)} -> 0 | AL9: {=OFFSET('Arrivée Presse'!$C$2,INT(COLUMN(AS:AS)/9-1),MOD(COLUMN(AS:AS),9),,)} -> 17 | AM9: {=OFFSET('Arrivée Presse'!$C$2,INT(COLUMN(AT:AT)/9-1),MOD(COLUMN(AT:AT),9),,)} -> 3 | AN9: {=OFFSET('Arrivée Presse'!$C$2,INT(COLUMN(AU:AU)/9-1),MOD(COLUMN(AU:AU),9),,)} -> 9 | AO9: {=OFFSET('Arrivée Presse'!$C$2,INT(COLUMN(AV:AV)/9-1),MOD(COLUMN(AV:AV),9),,)} -> 18 | AP9: {=OFFSET('Arrivée Presse'!$C$2,INT(COLUMN(AW:AW)/9-1),MOD(COLUMN(AW:AW),9),,)} -> 4 | AQ9: {=OFFSET('Arrivée Presse'!$C$2,INT(COLUMN(AX:AX)/9-1),MOD(COLUMN(AX:AX),9),,)} -> 2 | AR9: {=OFFSET('Arrivée Presse'!$C$2,INT(COLUMN(AY:AY)/9-1),MOD(COLUMN(AY:AY),9),,)} -> 1 | AS9: {=OFFSET('Arrivée Presse'!$C$2,INT(COLUMN(AZ:AZ)/9-1),MOD(COLUMN(AZ:AZ),9),,)} -> 5 | AT9: {=OFFSET('Arrivée Presse'!$C$2,INT(COLUMN(BA:BA)/9-1),MOD(COLUMN(BA:BA),9),,)} -> 0 | AU9: {=OFFSET('Arrivée Presse'!$C$2,INT(COLUMN(BB:BB)/9-1),MOD(COLUMN(BB:BB),9),,)} -> 3 | AV9: {=OFFSET('Arrivée Presse'!$C$2,INT(COLUMN(BC:BC)/9-1),MOD(COLUMN(BC:BC),9),,)} -> 4 | AW9: {=OFFSET('Arrivée Presse'!$C$2,INT(COLUMN(BD:BD)/9-1),MOD(COLUMN(BD:BD),9),,)} -> 2 | AX9: {=OFFSET('Arrivée Presse'!$C$2,INT(COLUMN(BE:BE)/9-1),MOD(COLUMN(BE:BE),9),,)} -> 5 | AY9: {=OFFSET('Arrivée Presse'!$C$2,INT(COLUMN(BF:BF)/9-1),MOD(COLUMN(BF:BF),9),,)} -> 9 | AZ9: {=OFFSET('Arrivée Presse'!$C$2,INT(COLUMN(BG:BG)/9-1),MOD(COLUMN(BG:BG),9),,)} -> 17 | BA9: {=OFFSET('Arrivée Presse'!$C$2,INT(COLUMN(BH:BH)/9-1),MOD(COLUMN(BH:BH),9),,)} -> 13 | BB9: {=OFFSET('Arrivée Presse'!$C$2,INT(COLUMN(BI:BI)/9-1),MOD(COLUMN(BI:BI),9),,)} -> 18 | BC9: {=OFFSET('Arrivée Presse'!$C$2,INT(COLUMN(BJ:BJ)/9-1),MOD(COLUMN(BJ:BJ),9),,)} -> 0 | BD9: {=OFFSET('Arrivée Presse'!$C$2,INT(COLUMN(BK:BK)/9-1),MOD(COLUMN(BK:BK),9),,)} -> 17 | BE9: {=OFFSET('Arrivée Presse'!$C$2,INT(COLUMN(BL:BL)/9-1),MOD(COLUMN(BL:BL),9),,)} -> 3 | BF9: {=OFFSET('Arrivée Presse'!$C$2,INT(COLUMN(BM:BM)/9-1),MOD(COLUMN(BM:BM),9),,)} -> 12 | BG9: {=OFFSET('Arrivée Presse'!$C$2,INT(COLUMN(BN:BN)/9-1),MOD(COLUMN(BN:BN),9),,)} -> 18 | BH9: {=OFFSET('Arrivée Presse'!$C$2,INT(COLUMN(BO:BO)/9-1),MOD(COLUMN(BO:BO),9),,)} -> 4 | BI9: {=OFFSET('Arrivée Presse'!$C$2,INT(COLUMN(BP:BP)/9-1),MOD(COLUMN(BP:BP),9),,)} -> 1 | BJ9: {=OFFSET('Arrivée Presse'!$C$2,INT(COLUMN(BQ:BQ)/9-1),MOD(COLUMN(BQ:BQ),9),,)} -> 9 | BK9: {=OFFSET('Arrivée Presse'!$C$2,INT(COLUMN(BR:BR)/9-1),MOD(COLUMN(BR:BR),9),,)} -> 13 | BL9: {=OFFSET('Arrivée Presse'!$C$2,INT(COLUMN(BS:BS)/9-1),MOD(COLUMN(BS:BS),9),,)} -> 0 | BM9: {=OFFSET('Arrivée Presse'!$C$2,INT(COLUMN(BT:BT)/9-1),MOD(COLUMN(BT:BT),9),,)} -> 3 | BN9: {=OFFSET('Arrivée Presse'!$C$2,INT(COLUMN(BU:BU)/9-1),MOD(COLUMN(BU:BU),9),,)} -> 2 | BO9: {=OFFSET('Arrivée Presse'!$C$2,INT(COLUMN(BV:BV)/9-1),MOD(COLUMN(BV:BV),9),,)} -> 16 | BP9: {=OFFSET('Arrivée Presse'!$C$2,INT(COLUMN(BW:BW)/9-1),MOD(COLUMN(BW:BW),9),,)} -> 5 | BQ9: {=OFFSET('Arrivée Presse'!$C$2,INT(COLUMN(BX:BX)/9-1),MOD(COLUMN(BX:BX),9),,)} -> 6 | BR9: {=OFFSET('Arrivée Presse'!$C$2,INT(COLUMN(BY:BY)/9-1),MOD(COLUMN(BY:BY),9),,)} -> 18 | BS9: {=OFFSET('Arrivée Presse'!$C$2,INT(COLUMN(BZ:BZ)/9-1),MOD(COLUMN(BZ:BZ),9),,)} -> 17 | BT9: {=OFFSET('Arrivée Presse'!$C$2,INT(COLUMN(CA:CA)/9-1),MOD(COLUMN(CA:CA),9),,)} -> 1 | BU9: {=OFFSET('Arrivée Presse'!$C$2,INT(COLUMN(CB:CB)/9-1),MOD(COLUMN(CB:CB),9),,)} -> 0 | BV9: {=OFFSET('Arrivée Presse'!$C$2,INT(COLUMN(CC:CC)/9-1),MOD(COLUMN(CC:CC),9),,)} -> 8 | BW9: {=OFFSET('Arrivée Presse'!$C$2,INT(COLUMN(CD:CD)/9-1),MOD(COLUMN(CD:CD),9),,)} -> 5 | BX9: {=OFFSET('Arrivée Presse'!$C$2,INT(COLUMN(CE:CE)/9-1),MOD(COLUMN(CE:CE),9),,)} -> 1 | BY9: {=OFFSET('Arrivée Presse'!$C$2,INT(COLUMN(CF:CF)/9-1),MOD(COLUMN(CF:CF),9),,)} -> 9 | BZ9: {=OFFSET('Arrivée Presse'!$C$2,INT(COLUMN(CG:CG)/9-1),MOD(COLUMN(CG:CG),9),,)} -> 2 | CA9: {=OFFSET('Arrivée Presse'!$C$2,INT(COLUMN(CH:CH)/9-1),MOD(COLUMN(CH:CH),9),,)} -> 18 | CB9: {=OFFSET('Arrivée Presse'!$C$2,INT(COLUMN(CI:CI)/9-1),MOD(COLUMN(CI:CI),9),,)} -> 4

Sheet Arrivée Presse
B1: Journal | C1: 1e | D1: 2e | E1: 3e | F1: 4e | G1: 5e | H1: 6e | I1: 7e | J1: 8e
A2: 1 | B2: Agence Direct Presse | C2: 3 | D2: 4 | E2: 17 | F2: 18 | G2: 2 | H2: 6 | I2: 9 | J2: 1
A3: 2 | B3: AIP | C3: 5 | D3: 2 | E3: 4 | F3: 18 | G3: 17 | H3: 9 | I3: 7 | J3: 3
A4: 3 | B4: Assiduité | C4: 17 | D4: 7 | E4: 5 | F4: 2 | G4: 1 | H4: 3 | I4: 4 | J4: 16
A5: 4 | B5: Beur FM | C5: 4 | D5: 3 | E5: 5 | F5: 2 | G5: 17 | H5: 13 | I5: 9 | J5: 18
A6: 5 | B6: Bilto | C6: 17 | D6: 3 | E6: 9 | F6: 18 | G6: 4 | H6: 2 | I6: 1 | J6: 5
A7: 6 | B7: Canal + | C7: 3 | D7: 4 | E7: 2 | F7: 5 | G7: 9 | H7: 17 | I7: 13 | J7: 18
A8: 7 | B8: Canal 2 | C8: 17 | D8: 3 | E8: 12 | F8: 18 | G8: 4 | H8: 1 | I8: 9 | J8: 13
A9: 8 | B9: CanalTurf.com | C9: 3 | D9: 2 | E9: 16 | F9: 5 | G9: 6 | H9: 18 | I9: 17 | J9: 1
A10: 9 | B10: Chevaux [valeur] | C10: 8 | D10: 5 | E10: 1 | F10: 9 | G10: 2 | H10: 18 | I10: 4 | J10: 3
A11: 10 | B11: Cocktail FM | C11: 3 | D11: 4 | E11: 14 | F11: 1 | G11: 16 | H11: 17 | I11: 9 | J11: 2
A12: 11 | B12: Coefficient de reussite | C12: 5 | D12: 18 | E12: 6 | F12: 1 | G12: 7 | H12: 9 | I12: 4 | J12: 14
A13: 12 | B13: Courrier de l'Ouest | C13: 4 | D13: 2 | E13: 18 | F13: 5 | G13: 17 | H13: 8 | I13: 9 | J13: 7
... A23: 22 | B23: La Gazette des Courses | C23: 17 | D23: 3 | E23: 1 | F23: 9 | G23: 2 | H23: 6 | I23: 18 | J23: 4
A24: 23 | B24: La Nouvelle République | C24: 3 | D24: 9 | E24: 1 | F24: 16 | G24: 2 | H24: 4 | I24: 18 | J24: 17 | Z24: {=IF(MOD(COLUMN(U:U),8)=0,OFFSET($B$2,INT(COLUMN(U:U)/8)-1,,,),"")} | AA24: {=IF(MOD(COLUMN(V:V),8)=0,OFFSET($B$2,INT(COLUMN(V:V)/8)-1,,,),"")}
A25: 24 | B25: L'Alsace | C25: 2 | D25: 3 | E25: 5 | F25: 1 | G25: 4 | H25: 9 | I25: 6 | J25: 18
A26: 25 | B26: Le Dauphiné Libéré | C26: 4 | D26: 3 | E26: 2 | F26: 1 | G26: 17 | H26: 18 | I26: 9 | J26: 16
A27: 26 | B27: Le Favori | C27: 3 | D27: 18 | E27: 13 | F27: 4 | G27: 2 | H27: 9 | I27: 16 | J27: 17
A28: 27 | B28: Le Parisien | C28: 3 | D28: 17 | E28: 9 | F28: 1 | G28: 2 | H28: 18 | I28: 6 | J28: 4
A29: 28 | B29: Le Républicain Lorrain | C29: 4 | D29: 2 | E29: 18 | F29: 5 | G29: 17 | H29: 9 | I29: 7 | J29: 3
A30: 29 | B30: Le Télégramme de Brest | C30: 4 | D30: 17 | E30: 3 | F30: 18 | G30: 1 | H30: 2 | I30: 16 | J30: 13
A31: 30 | B31: Le Turf | C31: 1 | D31: 3 | E31: 4 | F31: 17 | G31: 16 | H31: 9 | I31: 18 | J31: 2
A32: 31 | B32: L'indépendant | C32: 4 | D32: 17 | E32: 3 | F32: 18 | G32: 13 | H32: 5 | I32: 11 | J32: 9
A33: 32 | B33: Matin Courses | C33: 3 | D33: 17 | E33: 9 | F33: 1 | G33: 2 | H33: 18 | I33: 6 | J33: 4
A34: 33 | B34: Ouest-France | C34: 3 | D34: 16 | E34: 1 | F34: 4 | G34: 18 | H34: 2 | I34: 6 | J34: 9
A35: 34 | B35: Paris Courses | C35: 3 | D35: 4 | E35: 16 | F35: 17 | G35: 9 | H35: 1 | I35: 18 | J35: 13
A36: 35 | B36: Paris Turf | C36: 9 | D36: 4 | E36: 16 | F36: 1 | G36: 2 | H36: 3 | I36: 6 | J36: 17
... A54: 53 | B54: ZEturf | C54: 2 | D54: 4 | E54: 3 | F54: 1 | G54: 17 | H54: 11 | I54: 5 | J54: 16
A55: 54 | B55: A1 | C55: 3 | D55: 1 | E55: 4 | F55: 2 | G55: 9 | H55: 13 | I55: 17 | J55: 8
A56: 55 | B56: A2 | C56: 9 | D56: 3 | E56: 1 | F56: 2 | G56: 17 | H56: 13 | I56: 4 | J56: 18
A57: 56 | B57: A3 | C57: 9 | D57: 3 | E57: 1 | F57: 6 | G57: 17 | H57: 4 | I57: 2 | J57: 16
A58: 57 | B58: A4 | C58: 2 | D58: 4 | E58: 3 | F58: 5 | G58: 17 | H58: 1 | I58: 18 | J58: 9
A59: 58 | B59: A5 | C59: 17 | D59: 5 | E59: 3 | F59: 4 | G59: 13 | H59: 2 | I59: 1 | J59: 9
A60: 59 | B60: A6 | C60: 13 | D60: 9 | E60: 5 | F60: 4 | G60: 1 | H60: 17 | I60: 2 | J60: 3
A61: 60 | B61: A7 | C61: 3 | D61: 2 | E61: 17 | F61: 4 | G61: 1 | H61: 9 | I61: 18 | J61: 5
A62: 61 | B62: A8 | C62: 9 | D62: 4 | E62: 1 | F62: 3 | G62: 2 | H62: 16 | I62: 17 | J62: 18
A63: 62 | B63: A9 | C63: 1 | D63: 9 | E63: 18 | F63: 4 | G63: 17 | H63: 3 | I63: 2 | J63: 6
A64: 63 | B64: A10 | C64: 9 | D64: 1 | E64: 2 | F64: 3 | G64: 4 | H64: 16 | I64: 11 | J64: 18
A65: 64 | B65: A11 | C65: 2 | D65: 9 | E65: 4 | F65: 1 | G65: 3 | H65: 6 | I65: 18 | J65: 17
A66: 65 | B66: A12 | C66: 2 | D66: 3 | E66: 17 | F66: 9 | G66: 4 | H66: 1 | I66: 18 | J66: 5
...
