Workbook
Name colA: OFFSET(Total!$A$3,,,COUNTIF(Total!$A:$A,"<>"))

Sheet Total
B2: Ressources Totales | D2: Ressources Tailleur | F2: Ressources Bijoutier | H2: Ressources Cordonnier | J2: Ressources Forgeron | L2: Ressources Sculpteur | N2: Ressources Bricoleur | P2: Ressources Façonneur
A3: {=INDEX(D$3:Q$35,(SMALL(IF(IF((MOD(COLUMN(D:Q),2)=0)*(Total!D$3:Q$35<>""),Total!D$3:Q$35,"")<>"",COLUMN(D:Q)-3+((ROW(D$3:D$35)-2)/1000),""),ROW(A1))-INT(SMALL(IF(IF((MOD(COLUMN(D:Q),2)=0)*(Total!D$3:Q$35<>""),Total!D$3:Q$35,"")<>"",COLUMN(D:Q)-3+((ROW(D$3:D$35)-2)/1000),""),ROW(A1))))*1000,INT(SMALL(IF(IF((MOD(COLUMN(D:Q),2)=0)*(Total!D$3:Q$35<>""),Total!D$3:Q$35,"")<>"",COLUMN(D:Q)-3+((ROW(D$3:D$35)-2)/1000),""),ROW(A1))))} -> Laine céleste | B3: {=IFERROR(OFFSET($A$2,MATCH(0,COUNTIF(B$2:B2,colA),0),),"")} -> Laine céleste | C3: {=SUMPRODUCT(IFERROR(($D$3:$P$35=$B3)*($E$3:$Q$35),0))} -> 63 | D3: Laine céleste | E3: =SUMIF(Tailleur!$E$5:$E$54,D3,Tailleur!$G$5:$G$54) -> 3 | F3: Feu intérieur | G3: =SUMIF(Bijoutier!$E$5:$E$58,F3,Bijoutier!$G$5:$G$58) -> 5 | H3: Queue de chapardam | I3: =SUMIF(Cordonnier!$E$5:$E$59,H3,Cordonnier!$G$5:$G$59) -> 15 | J3: Poudre de perlinpainpain | K3: =SUMIF(Forgeron!$E$5:$E$38,J3,Forgeron!$G$5:$G$38) -> 39 | L3: Pétale Diaphane | M3: =SUMIF(Sculpteur!$E$5:$E$44,L3,Sculpteur!$G$5:$G$44) -> 12 | N3: Relique Incarnam | O3: =SUMIF(Bricoleur!$E$5:$E$6,N3,Bricoleur!$G$5:$G$6) -> 150 | P3: Planche aglomérée | Q3: =SUMIF(Façonneur!$E$5:$E$13,P3,Façonneur!$G$5:$G$13) -> 45
A4: {=INDEX(D$3:Q$35,(SMALL(IF(IF((MOD(COLUMN(D:Q),2)=0)*(Total!D$3:Q$35<>""),Total!D$3:Q$35,"")<>"",COLUMN(D:Q)-3+((ROW(D$3:D$35)-2)/1000),""),ROW(A2))-INT(SMALL(IF(IF((MOD(COLUMN(D:Q),2)=0)*(Total!D$3:Q$35<>""),Total!D$3:Q$35,"")<>"",COLUMN(D:Q)-3+((ROW(D$3:D$35)-2)/1000),""),ROW(A2))))*1000,INT(SMALL(IF(IF((MOD(COLUMN(D:Q),2)=0)*(Total!D$3:Q$35<>""),Total!D$3:Q$35,"")<>"",COLUMN(D:Q)-3+((ROW(D$3:D$35)-2)/1000),""),ROW(A2))))} -> Orties | B4: {=IFERROR(OFFSET($A$2,MATCH(0,COUNTIF(B$2:B3,colA),0),),"")} -> Orties | C4: {=SUMPRODUCT(IFERROR(($D$3:$P$35=$B4)*($E$3:$Q$35),0))} -> 23 | D4: Orties | E4: =SUMIF(Tailleur!$E$5:$E$54,D4,Tailleur!$G$5:$G$54) -> 2 | F4: Blé | G4: =SUMIF(Bijoutier!$E$5:$E$58,F4,Bijoutier!$G$5:$G$58) -> 2 | H4: Pétale Diaphane | I4: =SUMIF(Cordonnier!$E$5:$E$59,H4,Cordonnier!$G$5:$G$59) -> 6 | J4: Laine céleste | K4: =SUMIF(Forgeron!$E$5:$E$38,J4,Forgeron!$G$5:$G$38) -> 39 | L4: Laine céleste | M4: =SUMIF(Sculpteur!$E$5:$E$44,L4,Sculpteur!$G$5:$G$44) -> 12 | N4: Cendres eternelles | O4: =SUMIF(Bricoleur!$E$5:$E$6,N4,Bricoleur!$G$5:$G$6) -> 250 | P4: Eau ferrugineuse | Q4: =SUMIF(Façonneur!$E$5:$E$13,P4,Façonneur!$G$5:$G$13) -> 13
A5: {=INDEX(D$3:Q$35,(SMALL(IF(IF((MOD(COLUMN(D:Q),2)=0)*(Total!D$3:Q$35<>""),Total!D$3:Q$35,"")<>"",COLUMN(D:Q)-3+((ROW(D$3:D$35)-2)/1000),""),ROW(A3))-INT(SMALL(IF(IF((MOD(COLUMN(D:Q),2)=0)*(Total!D$3:Q$35<>""),Total!D$3:Q$35,"")<>"",COLUMN(D:Q)-3+((ROW(D$3:D$35)-2)/1000),""),ROW(A3))))*1000,INT(SMALL(IF(IF((MOD(COLUMN(D:Q),2)=0)*(Total!D$3:Q$35<>""),Total!D$3:Q$35,"")<>"",COLUMN(D:Q)-3+((ROW(D$3:D$35)-2)/1000),""),ROW(A3))))} -> Poudre de perlinpainpain | B5: {=IFERROR(OFFSET($A$2,MATCH(0,COUNTIF(B$2:B4,colA),0),),"")} -> Poudre de perlinpainpain | C5: {=SUMPRODUCT(IFERROR(($D$3:$P$35=$B5)*($E$3:$Q$35),0))} -> 48 | D5: Poudre de perlinpainpain | E5: =SUMIF(Tailleur!$E$5:$E$54,D5,Tailleur!$G$5:$G$54) -> 3 | F5: Peau de Gloot | G5: =SUMIF(Bijoutier!$E$5:$E$58,F5,Bijoutier!$G$5:$G$58) -> 3 | H5: Plume chimérique | I5: =SUMIF(Cordonnier!$E$5:$E$59,H5,Cordonnier!$G$5:$G$59) -> 12 | J5: Ferrite | K5: =SUMIF(Forgeron!$E$5:$E$38,J5,Forgeron!$G$5:$G$38) -> 3 | L5: Queue de chapardam | M5: =SUMIF(Sculpteur!$E$5:$E$44,L5,Sculpteur!$G$5:$G$44) -> 9 | P5: Pétale Diaphane | Q5: =SUMIF(Façonneur!$E$5:$E$13,P5,Façonneur!$G$5:$G$13) -> 18
A6: {=INDEX(D$3:Q$35,(SMALL(IF(IF((MOD(COLUMN(D:Q),2)=0)*(Total!D$3:Q$35<>""),Total!D$3:Q$35,"")<>"",COLUMN(D:Q)-3+((ROW(D$3:D$35)-2)/1000),""),ROW(A4))-INT(SMALL(IF(IF((MOD(COLUMN(D:Q),2)=0)*(Total!D$3:Q$35<>""),Total!D$3:Q$35,"")<>"",COLUMN(D:Q)-3+((ROW(D$3:D$35)-2)/1000),""),ROW(A4))))*1000,INT(SMALL(IF(IF((MOD(COLUMN(D:Q),2)=0)*(Total!D$3:Q$35<>""),Total!D$3:Q$35,"")<>"",COLUMN(D:Q)-3+((ROW(D$3:D$35)-2)/1000),""),ROW(A4))))} -> Cendres éternelles | B6: {=IFERROR(OFFSET($A$2,MATCH(0,COUNTIF(B$2:B5,colA),0),),"")} -> Cendres éternelles | C6: {=SUMPRODUCT(IFERROR(($D$3:$P$35=$B6)*($E$3:$Q$35),0))} -> 15 | D6: Cendres éternelles | E6: =SUMIF(Tailleur!$E$5:$E$54,D6,Tailleur!$G$5:$G$54) -> 3 | F6: Queue de Chapardam | G6: =SUMIF(Bijoutier!$E$5:$E$58,F6,Bijoutier!$G$5:$G$58) -> 3 | H6: Orties | I6: =SUMIF(Cordonnier!$E$5:$E$59,H6,Cordonnier!$G$5:$G$59) -> 6 | J6: Cendres éternelles | K6: =SUMIF(Forgeron!$E$5:$E$38,J6,Forgeron!$G$5:$G$38) -> 3 | L6: Fer | M6: =SUMIF(Sculpteur!$E$5:$E$44,L6,Sculpteur!$G$5:$G$44) -> 4 | P6: Poils d'arakne malade | Q6: =SUMIF(Façonneur!$E$5:$E$13,P6,Façonneur!$G$5:$G$13) -> 92
A7: {=INDEX(D$3:Q$35,(SMALL(IF(IF((MOD(COLUMN(D:Q),2)=0)*(Total!D$3:Q$35<>""),Total!D$3:Q$35,"")<>"",COLUMN(D:Q)-3+((ROW(D$3:D$35)-2)/1000),""),ROW(A5))-INT(SMALL(IF(IF((MOD(COLUMN(D:Q),2)=0)*(Total!D$3:Q$35<>""),Total!D$3:Q$35,"")<>"",COLUMN(D:Q)-3+((ROW(D$3:D$35)-2)/1000),""),ROW(A5))))*1000,INT(SMALL(IF(IF((MOD(COLUMN(D:Q),2)=0)*(Total!D$3:Q$35<>""),Total!D$3:Q$35,"")<>"",COLUMN(D:Q)-3+((ROW(D$3:D$35)-2)/1000),""),ROW(A5))))} -> Feu intérieur | B7: {=IFERROR(OFFSET($A$2,MATCH(0,COUNTIF(B$2:B6,colA),0),),"")} -> Feu intérieur | C7: {=SUMPRODUCT(IFERROR(($D$3:$P$35=$B7)*($E$3:$Q$35),0))} -> 18 | D7: Feu intérieur | E7: =SUMIF(Tailleur!$E$5:$E$54,D7,Tailleur!$G$5:$G$54) -> 7 | F7: Pétale Diaphane | G7: =SUMIF(Bijoutier!$E$5:$E$58,F7,Bijoutier!$G$5:$G$58) -> 6 | H7: Laine céleste | I7: =SUMIF(Cordonnier!$E$5:$E$59,H7,Cordonnier!$G$5:$G$59) -> 3 | J7: Os de chafer | K7: =SUMIF(Forgeron!$E$5:$E$38,J7,Forgeron!$G$5:$G$38) -> 3 | L7: Bave de bouftou | M7: =SUMIF(Sculpteur!$E$5:$E$44,L7,Sculpteur!$G$5:$G$44) -> 6
A8: {=INDEX(D$3:Q$35,(SMALL(IF(IF((MOD(COLUMN(D:Q),2)=0)*(Total!D$3:Q$35<>""),Total!D$3:Q$35,"")<>"",COLUMN(D:Q)-3+((ROW(D$3:D$35)-2)/1000),""),ROW(A6))-INT(SMALL(IF(IF((MOD(COLUMN(D:Q),2)=0)*(Total!D$3:Q$35<>""),Total!D$3:Q$35,"")<>"",COLUMN(D:Q)-3+((ROW(D$3:D$35)-2)/1000),""),ROW(A6))))*1000,INT(SMALL(IF(IF((MOD(COLUMN(D:Q),2)=0)*(Total!D$3:Q$35<>""),Total!D$3:Q$35,"")<>"",COLUMN(D:Q)-3+((ROW(D$3:D$35)-2)/1000),""),ROW(A6))))} -> Eau | B8: {=IFERROR(OFFSET($A$2,MATCH(0,COUNTIF(B$2:B7,colA),0),),"")} -> Eau | C8: {=SUMPRODUCT(IFERROR(($D$3:$P$35=$B8)*($E$3:$Q$35),0))} -> 3 | D8: Eau | E8: =SUMIF(Tailleur!$E$5:$E$54,D8,Tailleur!$G$5:$G$54) -> 3 | F8: Poudre de Perlinpainpain | G8: =SUMIF(Bijoutier!$E$5:$E$58,F8,Bijoutier!$G$5:$G$58) -> 6 | H8: Cendres éternelles | I8: =SUMIF(Cordonnier!$E$5:$E$59,H8,Cordonnier!$G$5:$G$59) -> 6 | J8: Fer | K8: =SUMIF(Forgeron!$E$5:$E$38,J8,Forgeron!$G$5:$G$38) -> 1 | L8: Orties | M8: =SUMIF(Sculpteur!$E$5:$E$44,L8,Sculpteur!$G$5:$G$44) -> 9
A9: {=INDEX(D$3:Q$35,(SMALL(IF(IF((MOD(COLUMN(D:Q),2)=0)*(Total!D$3:Q$35<>""),Total!D$3:Q$35,"")<>"",COLUMN(D:Q)-3+((ROW(D$3:D$35)-2)/1000),""),ROW(A7))-INT(SMALL(IF(IF((MOD(COLUMN(D:Q),2)=0)*(Total!D$3:Q$35<>""),Total!D$3:Q$35,"")<>"",COLUMN(D:Q)-3+((ROW(D$3:D$35)-2)/1000),""),ROW(A7))))*1000,INT(SMALL(IF(IF((MOD(COLUMN(D:Q),2)=0)*(Total!D$3:Q$35<>""),Total!D$3:Q$35,"")<>"",COLUMN(D:Q)-3+((ROW(D$3:D$35)-2)/1000),""),ROW(A7))))} -> Pétale Diaphane | B9: {=IFERROR(OFFSET($A$2,MATCH(0,COUNTIF(B$2:B8,colA),0),),"")} -> Pétale Diaphane | C9: {=SUMPRODUCT(IFERROR(($D$3:$P$35=$B9)*($E$3:$Q$35),0))} -> 59 | D9: Pétale Diaphane | E9: =SUMIF(Tailleur!$E$5:$E$54,D9,Tailleur!$G$5:$G$54) -> 17 | F9: Laine céleste | G9: =SUMIF(Bijoutier!$E$5:$E$58,F9,Bijoutier!$G$5:$G$58) -> 6 | H9: Peau de Gloot | I9: =SUMIF(Cordonnier!$E$5:$E$59,H9,Cordonnier!$G$5:$G$59) -> 3 | J9: Plume chimérique | K9: =SUMIF(Forgeron!$E$5:$E$38,J9,Forgeron!$G$5:$G$38) -> 30 | L9: Peau de Gloot | M9: =SUMIF(Sculpteur!$E$5:$E$44,L9,Sculpteur!$G$5:$G$44) -> 3
A10: {=INDEX(D$3:Q$35,(SMALL(IF(IF((MOD(COLUMN(D:Q),2)=0)*(Total!D$3:Q$35<>""),Total!D$3:Q$35,"")<>"",COLUMN(D:Q)-3+((ROW(D$3:D$35)-2)/1000),""),ROW(A8))-INT(SMALL(IF(IF((MOD(COLUMN(D:Q),2)=0)*(Total!D$3:Q$35<>""),Total!D$3:Q$35,"")<>"",COLUMN(D:Q)-3+((ROW(D$3:D$35)-2)/1000),""),ROW(A8))))*1000,INT(SMALL(IF(IF((MOD(COLUMN(D:Q),2)=0)*(Total!D$3:Q$35<>""),Total!D$3:Q$35,"")<>"",COLUMN(D:Q)-3+((ROW(D$3:D$35)-2)/1000),""),ROW(A8))))} -> Peau de Gloot | B10: {=IFERROR(OFFSET($A$2,MATCH(0,COUNTIF(B$2:B9,colA),0),),"")} -> Peau de Gloot | C10: {=SUMPRODUCT(IFERROR(($D$3:$P$35=$B10)*($E$3:$Q$35),0))} -> 18 | D10: Peau de Gloot | E10: =SUMIF(Tailleur!$E$5:$E$54,D10,Tailleur!$G$5:$G$54) -> 9 | F10: Fer | G10: =SUMIF(Bijoutier!$E$5:$E$58,F10,Bijoutier!$G$5:$G$58) -> 3 | H10: Os chafer | I10: =SUMIF(Cordonnier!$E$5:$E$59,H10,Cordonnier!$G$5:$G$59) -> 5 | J10: Bois de Frene | K10: =SUMIF(Forgeron!$E$5:$E$38,J10,Forgeron!$G$5:$G$38) -> 30 | L10: Cendres éternelles | M10: =SUMIF(Sculpteur!$E$5:$E$44,L10,Sculpteur!$G$5:$G$44) -> 3
A11: {=INDEX(D$3:Q$35,(SMALL(IF(IF((MOD(COLUMN(D:Q),2)=0)*(Total!D$3:Q$35<>""),Total!D$3:Q$35,"")<>"",COLUMN(D:Q)-3+((ROW(D$3:D$35)-2)/1000),""),ROW(A9))-INT(SMALL(IF(IF((MOD(COLUMN(D:Q),2)=0)*(Total!D$3:Q$35<>""),Total!D$3:Q$35,"")<>"",COLUMN(D:Q)-3+((ROW(D$3:D$35)-2)/1000),""),ROW(A9))))*1000,INT(SMALL(IF(IF((MOD(COLUMN(D:Q),2)=0)*(Total!D$3:Q$35<>""),Total!D$3:Q$35,"")<>"",COLUMN(D:Q)-3+((ROW(D$3:D$35)-2)/1000),""),ROW(A9))))} -> Plume chimérique | B11: {=IFERROR(OFFSET($A$2,MATCH(0,COUNTIF(B$2:B10,colA),0),),"")} -> Plume chimérique | C11: {=SUMPRODUCT(IFERROR(($D$3:$P$35=$B11)*($E$3:$Q$35),0))} -> 49 | D11: Plume chimérique | E11: =SUMIF(Tailleur!$E$5:$E$54,D11,Tailleur!$G$5:$G$54) -> 7 | F11: Bave de bouftou | G11: =SUMIF(Bijoutier!$E$5:$E$58,F11,Bijoutier!$G$5:$G$58) -> 12 | H11: Relique incarnam | I11: =SUMIF(Cordonnier!$E$5:$E$59,H11,Cordonnier!$G$5:$G$59) -> 6 | J11: Bave de rose démoniaque | K11: =SUMIF(Forgeron!$E$5:$E$38,J11,Forgeron!$G$5:$G$38) -> 2 | L11: Feu intérieur | M11: =SUMIF(Sculpteur!$E$5:$E$44,L11,Sculpteur!$G$5:$G$44) -> 6
A12: {=INDEX(D$3:Q$35,(SMALL(IF(IF((MOD(COLUMN(D:Q),2)=0)*(Total!D$3:Q$35<>""),Total!D$3:Q$35,"")<>"",COLUMN(D:Q)-3+((ROW(D$3:D$35)-2)/1000),""),ROW(A10))-INT(SMALL(IF(IF((MOD(COLUMN(D:Q),2)=0)*(Total!D$3:Q$35<>""),Total!D$3:Q$35,"")<>"",COLUMN(D:Q)-3+((ROW(D$3:D$35)-2)/1000),""),ROW(A10))))*1000,INT(SMALL(IF(IF((MOD(COLUMN(D:Q),2)=0)*(Total!D$3:Q$35<>""),Total!D$3:Q$35,"")<>"",COLUMN(D:Q)-3+((ROW(D$3:D$35)-2)/1000),""),ROW(A10))))} -> Volve d'amanite | B12: {=IFERROR(OFFSET($A$2,MATCH(0,COUNTIF(B$2:B11,colA),0),),"")} -> Volve d'amanite | C12: {=SUMPRODUCT(IFERROR(($D$3:$P$35=$B12)*($E$3:$Q$35),0))} -> 3 | D12: Volve d'amanite | E12: =SUMIF(Tailleur!$E$5:$E$54,D12,Tailleur!$G$5:$G$54) -> 3 | F12: Volve d'Aminite | G12: =SUMIF(Bijoutier!$E$5:$E$58,F12,Bijoutier!$G$5:$G$58) -> 7 | H12: Volve d'Aminite | I12: =SUMIF(Cordonnier!$E$5:$E$59,H12,Cordonnier!$G$5:$G$59) -> 3 | J12: Plume de piou rose | K12: =SUMIF(Forgeron!$E$5:$E$38,J12,Forgeron!$G$5:$G$38) -> 6 | L12: Os de chafer | M12: =SUMIF(Sculpteur!$E$5:$E$44,L12,Sculpteur!$G$5:$G$44) -> 3
A13: {=INDEX(D$3:Q$35,(SMALL(IF(IF((MOD(COLUMN(D:Q),2)=0)*(Total!D$3:Q$35<>""),Total!D$3:Q$35,"")<>"",COLUMN(D:Q)-3+((ROW(D$3:D$35)-2)/1000),""),ROW(A11))-INT(SMALL(IF(IF((MOD(COLUMN(D:Q),2)=0)*(Total!D$3:Q$35<>""),Total!D$3:Q$35,"")<>"",COLUMN(D:Q)-3+((ROW(D$3:D$35)-2)/1000),""),ROW(A11))))*1000,INT(SMALL(IF(IF((MOD(COLUMN(D:Q),2)=0)*(Total!D$3:Q$35<>""),Total!D$3:Q$35,"")<>"",COLUMN(D:Q)-3+((ROW(D$3:D$35)-2)/1000),""),ROW(A11))))} -> Plume Piou vert | B13: {=IFERROR(OFFSET($A$2,MATCH(0,COUNTIF(B$2:B12,colA),0),),"")} -> Plume Piou vert | C13: {=SUMPRODUCT(IFERROR(($D$3:$P$35=$B13)*($E$3:$Q$35),0))} -> 6 | D13: Plume Piou vert | E13: =SUMIF(Tailleur!$E$5:$E$54,D13,Tailleur!$G$5:$G$54) -> 3 | F13: Relique Incarnam | G13: =SUMIF(Bijoutier!$E$5:$E$58,F13,Bijoutier!$G$5:$G$58) -> 3 | H13: Orties | I13: =SUMIF(Cordonnier!$E$5:$E$59,H13,Cordonnier!$G$5:$G$59) -> 6 | J13: Ecaille poisseuse | K13: =SUMIF(Forgeron!$E$5:$E$38,J13,Forgeron!$G$5:$G$38) -> 2 | L13: Volve d'Aminite | M13: =SUMIF(Sculpteur!$E$5:$E$44,L13,Sculpteur!$G$5:$G$44) -> 3
A14: {=INDEX(D$3:Q$35,(SMALL(IF(IF((MOD(COLUMN(D:Q),2)=0)*(Total!D$3:Q$35<>""),Total!D$3:Q$35,"")<>"",COLUMN(D:Q)-3+((ROW(D$3:D$35)-2)/1000),""),ROW(A12))-INT(SMALL(IF(IF((MOD(COLUMN(D:Q),2)=0)*(Total!D$3:Q$35<>""),Total!D$3:Q$35,"")<>"",COLUMN(D:Q)-3+((ROW(D$3:D$35)-2)/1000),""),ROW(A12))))*1000,INT(SMALL(IF(IF((MOD(COLUMN(D:Q),2)=0)*(Total!D$3:Q$35<>""),Total!D$3:Q$35,"")<>"",COLUMN(D:Q)-3+((ROW(D$3:D$35)-2)/1000),""),ROW(A12))))} -> Os chafer | B14: {=IFERROR(OFFSET($A$2,MATCH(0,COUNTIF(B$2:B13,colA),0),),"")} -> Os chafer | C14: {=SUMPRODUCT(IFERROR(($D$3:$P$35=$B14)*($E$3:$Q$35),0))} -> 8 | D14: Os chafer | E14: =SUMIF(Tailleur!$E$5:$E$54,D14,Tailleur!$G$5:$G$54) -> 3 | F14: Os de chafer | G14: =SUMIF(Bijoutier!$E$5:$E$58,F14,Bijoutier!$G$5:$G$58) -> 3 | H14: Plume de piou vert | I14: =SUMIF(Cordonnier!$E$5:$E$59,H14,Cordonnier!$G$5:$G$59) -> 3 | J14: Petale de Tournesol sauvage | K14: =SUMIF(Forgeron!$E$5:$E$38,J14,Forgeron!$G$5:$G$38) -> 9 | L14: Oeil d'Arakmuté | M14: =SUMIF(Sculpteur!$E$5:$E$44,L14,Sculpteur!$G$5:$G$44) -> 3
A15: {=INDEX(D$3:Q$35,(SMALL(IF(IF((MOD(COLUMN(D:Q),2)=0)*(Total!D$3:Q$35<>""),Total!D$3:Q$35,"")<>"",COLUMN(D:Q)-3+((ROW(D$3:D$35)-2)/1000),""),ROW(A13))-INT(SMALL(IF(IF((MOD(COLUMN(D:Q),2)=0)*(Total!D$3:Q$35<>""),Total!D$3:Q$35,"")<>"",COLUMN(D:Q)-3+((ROW(D$3:D$35)-2)/1000),""),ROW(A13))))*1000,INT(SMALL(IF(IF((MOD(COLUMN(D:Q),2)=0)*(Total!D$3:Q$35<>""),Total!D$3:Q$35,"")<>"",COLUMN(D:Q)-3+((ROW(D$3:D$35)-2)/1000),""),ROW(A13))))} -> Feuille de tournesol | B15: {=IFERROR(OFFSET($A$2,MATCH(0,COUNTIF(B$2:B14,colA),0),),"")} -> Feuille de tournesol | C15: {=SUMPRODUCT(IFERROR(($D$3:$P$35=$B15)*($E$3:$Q$35),0))} -> 1 | D15: Feuille de tournesol | E15: =SUMIF(Tailleur!$E$5:$E$54,D15,Tailleur!$G$5:$G$54) -> 1 | F15: Volve d'Aminite | G15: =SUMIF(Bijoutier!$E$5:$E$58,F15,Bijoutier!$G$5:$G$58) -> 7 | H15: Plume de piou bleu | I15: =SUMIF(Cordonnier!$E$5:$E$59,H15,Cordonnier!$G$5:$G$59) -> 3 | J15: Crème à bronzer | K15: =SUMIF(Forgeron!$E$5:$E$38,J15,Forgeron!$G$5:$G$38) -> 3 | L15: Peau de larve jaune | M15: =SUMIF(Sculpteur!$E$5:$E$44,L15,Sculpteur!$G$5:$G$44) -> 12
A16: {=INDEX(D$3:Q$35,(SMALL(IF(IF((MOD(COLUMN(D:Q),2)=0)*(Total!D$3:Q$35<>""),Total!D$3:Q$35,"")<>"",COLUMN(D:Q)-3+((ROW(D$3:D$35)-2)/1000),""),ROW(A14))-INT(SMALL(IF(IF((MOD(COLUMN(D:Q),2)=0)*(Total!D$3:Q$35<>""),Total!D$3:Q$35,"")<>"",COLUMN(D:Q)-3+((ROW(D$3:D$35)-2)/1000),""),ROW(A14))))*1000,INT(SMALL(IF(IF((MOD(COLUMN(D:Q),2)=0)*(Total!D$3:Q$35<>""),Total!D$3:Q$35,"")<>"",COLUMN(D:Q)-3+((ROW(D$3:D$35)-2)/1000),""),ROW(A14))))} -> Epine champchamp | B16: {=IFERROR(OFFSET($A$2,MATCH(0,COUNTIF(B$2:B15,colA),0),),"")} -> Epine champchamp | C16: {=SUMPRODUCT(IFERROR(($D$3:$P$35=$B16)*($E$3:$Q$35),0))} -> 3 | D16: Epine champchamp | E16: =SUMIF(Tailleur!$E$5:$E$54,D16,Tailleur!$G$5:$G$54) -> 3 | F16: Epine du Champ Champ | G16: =SUMIF(Bijoutier!$E$5:$E$58,F16,Bijoutier!$G$5:$G$58) -> 6 | H16: Intestin d'Araknosé | I16: =SUMIF(Cordonnier!$E$5:$E$59,H16,Cordonnier!$G$5:$G$59) -> 12 | J16: Fleur de pissenlit diabolique | K16: =SUMIF(Forgeron!$E$5:$E$38,J16,Forgeron!$G$5:$G$38) -> 3 | L16: Bois vermoulu | M16: =SUMIF(Sculpteur!$E$5:$E$44,L16,Sculpteur!$G$5:$G$44) -> 1
A17: {=INDEX(D$3:Q$35,(SMALL(IF(IF((MOD(COLUMN(D:Q),2)=0)*(Total!D$3:Q$35<>""),Total!D$3:Q$35,"")<>"",COLUMN(D:Q)-3+((ROW(D$3:D$35)-2)/1000),""),ROW(A15))-INT(SMALL(IF(IF((MOD(COLUMN(D:Q),2)=0)*(Total!D$3:Q$35<>""),Total!D$3:Q$35,"")<>"",COLUMN(D:Q)-3+((ROW(D$3:D$35)-2)/1000),""),ROW(A15))))*1000,INT(SMALL(IF(IF((MOD(COLUMN(D:Q),2)=0)*(Total!D$3:Q$35<>""),Total!D$3:Q$35,"")<>"",COLUMN(D:Q)-3+((ROW(D$3:D$35)-2)/1000),""),ROW(A15))))} -> Plume Piou Violet | B17: {=IFERROR(OFFSET($A$2,MATCH(0,COUNTIF(B$2:B16,colA),0),),"")} -> Plume Piou Violet | C17: {=SUMPRODUCT(IFERROR(($D$3:$P$35=$B17)*($E$3:$Q$35),0))} -> 3 | D17: Plume Piou Violet | E17: =SUMIF(Tailleur!$E$5:$E$54,D17,Tailleur!$G$5:$G$54) -> 3 | F17: Peau de Larve Verte | G17: =SUMIF(Bijoutier!$E$5:$E$58,F17,Bijoutier!$G$5:$G$58) -> 7 | H17: Aile de moskito | I17: =SUMIF(Cordonnier!$E$5:$E$59,H17,Cordonnier!$G$5:$G$59) -> 9 | J17: Patte d'Arakne magique | K17: =SUMIF(Forgeron!$E$5:$E$38,J17,Forgeron!$G$5:$G$38) -> 1 | L17: Poils d'arakne malade | M17: =SUMIF(Sculpteur!$E$5:$E$44,L17,Sculpteur!$G$5:$G$44) -> 3
A18: {=INDEX(D$3:Q$35,(SMALL(IF(IF((MOD(COLUMN(D:Q),2)=0)*(Total!D$3:Q$35<>""),Total!D$3:Q$35,"")<>"",COLUMN(D:Q)-3+((ROW(D$3:D$35)-2)/1000),""),ROW(A16))-INT(SMALL(IF(IF((MOD(COLUMN(D:Q),2)=0)*(Total!D$3:Q$35<>""),Total!D$3:Q$35,"")<>"",COLUMN(D:Q)-3+((ROW(D$3:D$35)-2)/1000),""),ROW(A16))))*1000,INT(SMALL(IF(IF((MOD(COLUMN(D:Q),2)=0)*(Total!D$3:Q$35<>""),Total!D$3:Q$35,"")<>"",COLUMN(D:Q)-3+((ROW(D$3:D$35)-2)/1000),""),ROW(A16))))} -> Bave de bouftou | B18: {=IFERROR(OFFSET($A$2,MATCH(0,COUNTIF(B$2:B17,colA),0),),"")} -> Bave de bouftou | C18: {=SUMPRODUCT(IFERROR(($D$3:$P$35=$B18)*($E$3:$Q$35),0))} -> 21 | D18: Bave de bouftou | E18: =SUMIF(Tailleur!$E$5:$E$54,D18,Tailleur!$G$5:$G$54) -> 3 | F18: Oeil d'Arakmuté | G18: =SUMIF(Bijoutier!$E$5:$E$58,F18,Bijoutier!$G$5:$G$58) -> 6 | H18: Poils d'Arakne malade | I18: =SUMIF(Cordonnier!$E$5:$E$59,H18,Cordonnier!$G$5:$G$59) -> 3 | J18: Bec du tofu | K18: =SUMIF(Forgeron!$E$5:$E$38,J18,Forgeron!$G$5:$G$38) -> 3 | L18: Bave de rose démoniaque | M18: =SUMIF(Sculpteur!$E$5:$E$44,L18,Sculpteur!$G$5:$G$44) -> 3
... A20: {=INDEX(D$3:Q$35,(SMALL(IF(IF((MOD(COLUMN(D:Q),2)=0)*(Total!D$3:Q$35<>""),Total!D$3:Q$35,"")<>"",COLUMN(D:Q)-3+((ROW(D$3:D$35)-2)/1000),""),ROW(A18))-INT(SMALL(IF(IF((MOD(COLUMN(D:Q),2)=0)*(Total!D$3:Q$35<>""),Total!D$3:Q$35,"")<>"",COLUMN(D:Q)-3+((ROW(D$3:D$35)-2)/1000),""),ROW(A18))))*1000,INT(SMALL(IF(IF((MOD(COLUMN(D:Q),2)=0)*(Total!D$3:Q$35<>""),Total!D$3:Q$35,"")<>"",COLUMN(D:Q)-3+((ROW(D$3:D$35)-2)/1000),""),ROW(A18))))} -> Bave de rose démoniaque | B20: {=IFERROR(OFFSET($A$2,MATCH(0,COUNTIF(B$2:B19,colA),0),),"")} -> Bave de rose démoniaque | C20: {=SUMPRODUCT(IFERROR(($D$3:$P$35=$B20)*($E$3:$Q$35),0))} -> 7 | D20: Bave de rose démoniaque | E20: =SUMIF(Tailleur!$E$5:$E$54,D20,Tailleur!$G$5:$G$54) -> 2 | F20: Pétale de Rose démoniaque | G20: =SUMIF(Bijoutier!$E$5:$E$58,F20,Bijoutier!$G$5:$G$58) -> 12 | H20: Patte d'Arakne magique | I20: =SUMIF(Cordonnier!$E$5:$E$59,H20,Cordonnier!$G$5:$G$59) -> 1 | J20: Plume de piou rouge | K20: =SUMIF(Forgeron!$E$5:$E$38,J20,Forgeron!$G$5:$G$38) -> 3 | L20: Feuille de tournesol sauvage | M20: =SUMIF(Sculpteur!$E$5:$E$44,L20,Sculpteur!$G$5:$G$44) -> 1
A21: {=INDEX(D$3:Q$35,(SMALL(IF(IF((MOD(COLUMN(D:Q),2)=0)*(Total!D$3:Q$35<>""),Total!D$3:Q$35,"")<>"",COLUMN(D:Q)-3+((ROW(D$3:D$35)-2)/1000),""),ROW(A19))-INT(SMALL(IF(IF((MOD(COLUMN(D:Q),2)=0)*(Total!D$3:Q$35<>""),Total!D$3:Q$35,"")<>"",COLUMN(D:Q)-3+((ROW(D$3:D$35)-2)/1000),""),ROW(A19))))*1000,INT(SMALL(IF(IF((MOD(COLUMN(D:Q),2)=0)*(Total!D$3:Q$35<>""),Total!D$3:Q$35,"")<>"",COLUMN(D:Q)-3+((ROW(D$3:D$35)-2)/1000),""),ROW(A19))))} -> Plume de piou jaune | B21: {=IFERROR(OFFSET($A$2,MATCH(0,COUNTIF(B$2:B20,colA),0),),"")} -> Plume de piou jaune | C21: {=SUMPRODUCT(IFERROR(($D$3:$P$35=$B21)*($E$3:$Q$35),0))} -> 15 | D21: Plume de piou jaune | E21: =SUMIF(Tailleur!$E$5:$E$54,D21,Tailleur!$G$5:$G$54) -> 6 | F21: Engrais | G21: =SUMIF(Bijoutier!$E$5:$E$58,F21,Bijoutier!$G$5:$G$58) -> 3 | H21: Langue d'épouvanteur | I21: =SUMIF(Cordonnier!$E$5:$E$59,H21,Cordonnier!$G$5:$G$59) -> 3 | L21: Pattes d'arakne | M21: =SUMIF(Sculpteur!$E$5:$E$44,L21,Sculpteur!$G$5:$G$44) -> 9
A22: {=INDEX(D$3:Q$35,(SMALL(IF(IF((MOD(COLUMN(D:Q),2)=0)*(Total!D$3:Q$35<>""),Total!D$3:Q$35,"")<>"",COLUMN(D:Q)-3+((ROW(D$3:D$35)-2)/1000),""),ROW(A20))-INT(SMALL(IF(IF((MOD(COLUMN(D:Q),2)=0)*(Total!D$3:Q$35<>""),Total!D$3:Q$35,"")<>"",COLUMN(D:Q)-3+((ROW(D$3:D$35)-2)/1000),""),ROW(A20))))*1000,INT(SMALL(IF(IF((MOD(COLUMN(D:Q),2)=0)*(Total!D$3:Q$35<>""),Total!D$3:Q$35,"")<>"",COLUMN(D:Q)-3+((ROW(D$3:D$35)-2)/1000),""),ROW(A20))))} -> Fluide glacial | B22: {=IFERROR(OFFSET($A$2,MATCH(0,COUNTIF(B$2:B21,colA),0),),"")} -> Fluide glacial | C22: {=SUMPRODUCT(IFERROR(($D$3:$P$35=$B22)*($E$3:$Q$35),0))} -> 2 | D22: Fluide glacial | E22: =SUMIF(Tailleur!$E$5:$E$54,D22,Tailleur!$G$5:$G$54) -> 1 | F22: Fluide Glacial | G22: =SUMIF(Bijoutier!$E$5:$E$58,F22,Bijoutier!$G$5:$G$58) -> 1 | H22: Défense du sanglier | I22: =SUMIF(Cordonnier!$E$5:$E$59,H22,Cordonnier!$G$5:$G$59) -> 4 | L22: Plume de piou jaune | M22: =SUMIF(Sculpteur!$E$5:$E$44,L22,Sculpteur!$G$5:$G$44) -> 9
A23: {=INDEX(D$3:Q$35,(SMALL(IF(IF((MOD(COLUMN(D:Q),2)=0)*(Total!D$3:Q$35<>""),Total!D$3:Q$35,"")<>"",COLUMN(D:Q)-3+((ROW(D$3:D$35)-2)/1000),""),ROW(A21))-INT(SMALL(IF(IF((MOD(COLUMN(D:Q),2)=0)*(Total!D$3:Q$35<>""),Total!D$3:Q$35,"")<>"",COLUMN(D:Q)-3+((ROW(D$3:D$35)-2)/1000),""),ROW(A21))))*1000,INT(SMALL(IF(IF((MOD(COLUMN(D:Q),2)=0)*(Total!D$3:Q$35<>""),Total!D$3:Q$35,"")<>"",COLUMN(D:Q)-3+((ROW(D$3:D$35)-2)/1000),""),ROW(A21))))} -> Aile de moskito | B23: {=IFERROR(OFFSET($A$2,MATCH(0,COUNTIF(B$2:B22,colA),0),),"")} -> Aile de moskito | C23: {=SUMPRODUCT(IFERROR(($D$3:$P$35=$B23)*($E$3:$Q$35),0))} -> 13 | D23: Aile de moskito | E23: =SUMIF(Tailleur!$E$5:$E$54,D23,Tailleur!$G$5:$G$54) -> 4 | F23: Plume de Piou Violet | G23: =SUMIF(Bijoutier!$E$5:$E$58,F23,Bijoutier!$G$5:$G$58) -> 3 | H23: Poils de Darit | I23: =SUMIF(Cordonnier!$E$5:$E$59,H23,Cordonnier!$G$5:$G$59) -> 1 | L23: Crème à bronzer | M23: =SUMIF(Sculpteur!$E$5:$E$44,L23,Sculpteur!$G$5:$G$44) -> 3
A24: {=INDEX(D$3:Q$35,(SMALL(IF(IF((MOD(COLUMN(D:Q),2)=0)*(Total!D$3:Q$35<>""),Total!D$3:Q$35,"")<>"",COLUMN(D:Q)-3+((ROW(D$3:D$35)-2)/1000),""),ROW(A22))-INT(SMALL(IF(IF((MOD(COLUMN(D:Q),2)=0)*(Total!D$3:Q$35<>""),Total!D$3:Q$35,"")<>"",COLUMN(D:Q)-3+((ROW(D$3:D$35)-2)/1000),""),ROW(A22))))*1000,INT(SMALL(IF(IF((MOD(COLUMN(D:Q),2)=0)*(Total!D$3:Q$35<>""),Total!D$3:Q$35,"")<>"",COLUMN(D:Q)-3+((ROW(D$3:D$35)-2)/1000),""),ROW(A22))))} -> Sourcil de moskito | B24: {=IFERROR(OFFSET($A$2,MATCH(0,COUNTIF(B$2:B23,colA),0),),"")} -> Sourcil de moskito | C24: {=SUMPRODUCT(IFERROR(($D$3:$P$35=$B24)*($E$3:$Q$35),0))} -> 1 | D24: Sourcil de moskito | E24: =SUMIF(Tailleur!$E$5:$E$54,D24,Tailleur!$G$5:$G$54) -> 1 | F24: Fleur de Pissenlit | G24: =SUMIF(Bijoutier!$E$5:$E$58,F24,Bijoutier!$G$5:$G$58) -> 3 | H24: Coton ancestral | I24: =SUMIF(Cordonnier!$E$5:$E$59,H24,Cordonnier!$G$5:$G$59) -> 3 | L24: Langue d'épouvanteur | M24: =SUMIF(Sculpteur!$E$5:$E$44,L24,Sculpteur!$G$5:$G$44) -> 3
A25: {=INDEX(D$3:Q$35,(SMALL(IF(IF((MOD(COLUMN(D:Q),2)=0)*(Total!D$3:Q$35<>""),Total!D$3:Q$35,"")<>"",COLUMN(D:Q)-3+((ROW(D$3:D$35)-2)/1000),""),ROW(A23))-INT(SMALL(IF(IF((MOD(COLUMN(D:Q),2)=0)*(Total!D$3:Q$35<>""),Total!D$3:Q$35,"")<>"",COLUMN(D:Q)-3+((ROW(D$3:D$35)-2)/1000),""),ROW(A23))))*1000,INT(SMALL(IF(IF((MOD(COLUMN(D:Q),2)=0)*(Total!D$3:Q$35<>""),Total!D$3:Q$35,"")<>"",COLUMN(D:Q)-3+((ROW(D$3:D$35)-2)/1000),""),ROW(A23))))} -> Coton ancestral | B25: {=IFERROR(OFFSET($A$2,MATCH(0,COUNTIF(B$2:B24,colA),0),),"")} -> Coton ancestral | C25: {=SUMPRODUCT(IFERROR(($D$3:$P$35=$B25)*($E$3:$Q$35),0))} -> 5 | D25: Coton ancestral | E25: =SUMIF(Tailleur!$E$5:$E$54,D25,Tailleur!$G$5:$G$54) -> 2 | F25: Defense du Sanglier | G25: =SUMIF(Bijoutier!$E$5:$E$58,F25,Bijoutier!$G$5:$G$58) -> 4 | H25: Feuille magique du tournesol affamé | I25: =SUMIF(Cordonnier!$E$5:$E$59,H25,Cordonnier!$G$5:$G$59) -> 1
A26: {=INDEX(D$3:Q$35,(SMALL(IF(IF((MOD(COLUMN(D:Q),2)=0)*(Total!D$3:Q$35<>""),Total!D$3:Q$35,"")<>"",COLUMN(D:Q)-3+((ROW(D$3:D$35)-2)/1000),""),ROW(A24))-INT(SMALL(IF(IF((MOD(COLUMN(D:Q),2)=0)*(Total!D$3:Q$35<>""),Total!D$3:Q$35,"")<>"",COLUMN(D:Q)-3+((ROW(D$3:D$35)-2)/1000),""),ROW(A24))))*1000,INT(SMALL(IF(IF((MOD(COLUMN(D:Q),2)=0)*(Total!D$3:Q$35<>""),Total!D$3:Q$35,"")<>"",COLUMN(D:Q)-3+((ROW(D$3:D$35)-2)/1000),""),ROW(A24))))} -> Pétale de rose démoniaque | B26: {=IFERROR(OFFSET($A$2,MATCH(0,COUNTIF(B$2:B25,colA),0),),"")} -> Pétale de rose démoniaque | C26: {=SUMPRODUCT(IFERROR(($D$3:$P$35=$B26)*($E$3:$Q$35),0))} -> 15 | D26: Pétale de rose démoniaque | E26: =SUMIF(Tailleur!$E$5:$E$54,D26,Tailleur!$G$5:$G$54) -> 3 | F26: Etoffe écurouille | G26: =SUMIF(Bijoutier!$E$5:$E$58,F26,Bijoutier!$G$5:$G$58) -> 1
A27: {=INDEX(D$3:Q$35,(SMALL(IF(IF((MOD(COLUMN(D:Q),2)=0)*(Total!D$3:Q$35<>""),Total!D$3:Q$35,"")<>"",COLUMN(D:Q)-3+((ROW(D$3:D$35)-2)/1000),""),ROW(A25))-INT(SMALL(IF(IF((MOD(COLUMN(D:Q),2)=0)*(Total!D$3:Q$35<>""),Total!D$3:Q$35,"")<>"",COLUMN(D:Q)-3+((ROW(D$3:D$35)-2)/1000),""),ROW(A25))))*1000,INT(SMALL(IF(IF((MOD(COLUMN(D:Q),2)=0)*(Total!D$3:Q$35<>""),Total!D$3:Q$35,"")<>"",COLUMN(D:Q)-3+((ROW(D$3:D$35)-2)/1000),""),ROW(A25))))} -> Croc de rat | B27: {=IFERROR(OFFSET($A$2,MATCH(0,COUNTIF(B$2:B26,colA),0),),"")} -> Croc de rat | C27: {=SUMPRODUCT(IFERROR(($D$3:$P$35=$B27)*($E$3:$Q$35),0))} -> 3 | D27: Croc de rat | E27: =SUMIF(Tailleur!$E$5:$E$54,D27,Tailleur!$G$5:$G$54) -> 3
A28: {=INDEX(D$3:Q$35,(SMALL(IF(IF((MOD(COLUMN(D:Q),2)=0)*(Total!D$3:Q$35<>""),Total!D$3:Q$35,"")<>"",COLUMN(D:Q)-3+((ROW(D$3:D$35)-2)/1000),""),ROW(A26))-INT(SMALL(IF(IF((MOD(COLUMN(D:Q),2)=0)*(Total!D$3:Q$35<>""),Total!D$3:Q$35,"")<>"",COLUMN(D:Q)-3+((ROW(D$3:D$35)-2)/1000),""),ROW(A26))))*1000,INT(SMALL(IF(IF((MOD(COLUMN(D:Q),2)=0)*(Total!D$3:Q$35<>""),Total!D$3:Q$35,"")<>"",COLUMN(D:Q)-3+((ROW(D$3:D$35)-2)/1000),""),ROW(A26))))} -> Pétale magique de Tournesol affamé | B28: {=IFERROR(OFFSET($A$2,MATCH(0,COUNTIF(B$2:B27,colA),0),),"")} -> Pétale magique de Tournesol affamé | C28: {=SUMPRODUCT(IFERROR(($D$3:$P$35=$B28)*($E$3:$Q$35),0))} -> 1 | D28: Pétale magique de Tournesol affamé | E28: =SUMIF(Tailleur!$E$5:$E$54,D28,Tailleur!$G$5:$G$54) -> 1
A29: {=INDEX(D$3:Q$35,(SMALL(IF(IF((MOD(COLUMN(D:Q),2)=0)*(Total!D$3:Q$35<>""),Total!D$3:Q$35,"")<>"",COLUMN(D:Q)-3+((ROW(D$3:D$35)-2)/1000),""),ROW(A27))-INT(SMALL(IF(IF((MOD(COLUMN(D:Q),2)=0)*(Total!D$3:Q$35<>""),Total!D$3:Q$35,"")<>"",COLUMN(D:Q)-3+((ROW(D$3:D$35)-2)/1000),""),ROW(A27))))*1000,INT(SMALL(IF(IF((MOD(COLUMN(D:Q),2)=0)*(Total!D$3:Q$35<>""),Total!D$3:Q$35,"")<>"",COLUMN(D:Q)-3+((ROW(D$3:D$35)-2)/1000),""),ROW(A27))))} -> Feu intérieur | B29: {=IFERROR(OFFSET($A$2,MATCH(0,COUNTIF(B$2:B28,colA),0),),"")} -> Blé | C29: {=SUMPRODUCT(IFERROR(($D$3:$P$35=$B29)*($E$3:$Q$35),0))} -> 2
A30: {=INDEX(D$3:Q$35,(SMALL(IF(IF((MOD(COLUMN(D:Q),2)=0)*(Total!D$3:Q$35<>""),Total!D$3:Q$35,"")<>"",COLUMN(D:Q)-3+((ROW(D$3:D$35)-2)/1000),""),ROW(A28))-INT(SMALL(IF(IF((MOD(COLUMN(D:Q),2)=0)*(Total!D$3:Q$35<>""),Total!D$3:Q$35,"")<>"",COLUMN(D:Q)-3+((ROW(D$3:D$35)-2)/1000),""),ROW(A28))))*1000,INT(SMALL(IF(IF((MOD(COLUMN(D:Q),2)=0)*(Total!D$3:Q$35<>""),Total!D$3:Q$35,"")<>"",COLUMN(D:Q)-3+((ROW(D$3:D$35)-2)/1000),""),ROW(A28))))} -> Blé | B30: {=IFERROR(OFFSET($A$2,MATCH(0,COUNTIF(B$2:B29,colA),0),),"")} -> Queue de Chapardam | C30: {=SUMPRODUCT(IFERROR(($D$3:$P$35=$B30)*($E$3:$Q$35),0))} -> 27
A31: {=INDEX(D$3:Q$35,(SMALL(IF(IF((MOD(COLUMN(D:Q),2)=0)*(Total!D$3:Q$35<>""),Total!D$3:Q$35,"")<>"",COLUMN(D:Q)-3+((ROW(D$3:D$35)-2)/1000),""),ROW(A29))-INT(SMALL(IF(IF((MOD(COLUMN(D:Q),2)=0)*(Total!D$3:Q$35<>""),Total!D$3:Q$35,"")<>"",COLUMN(D:Q)-3+((ROW(D$3:D$35)-2)/1000),""),ROW(A29))))*1000,INT(SMALL(IF(IF((MOD(COLUMN(D:Q),2)=0)*(Total!D$3:Q$35<>""),Total!D$3:Q$35,"")<>"",COLUMN(D:Q)-3+((ROW(D$3:D$35)-2)/1000),""),ROW(A29))))} -> Peau de Gloot | B31: {=IFERROR(OFFSET($A$2,MATCH(0,COUNTIF(B$2:B30,colA),0),),"")} -> Fer | C31: {=SUMPRODUCT(IFERROR(($D$3:$P$35=$B31)*($E$3:$Q$35),0))} -> 8
A32: {=INDEX(D$3:Q$35,(SMALL(IF(IF((MOD(COLUMN(D:Q),2)=0)*(Total!D$3:Q$35<>""),Total!D$3:Q$35,"")<>"",COLUMN(D:Q)-3+((ROW(D$3:D$35)-2)/1000),""),ROW(A30))-INT(SMALL(IF(IF((MOD(COLUMN(D:Q),2)=0)*(Total!D$3:Q$35<>""),Total!D$3:Q$35,"")<>"",COLUMN(D:Q)-3+((ROW(D$3:D$35)-2)/1000),""),ROW(A30))))*1000,INT(SMALL(IF(IF((MOD(COLUMN(D:Q),2)=0)*(Total!D$3:Q$35<>""),Total!D$3:Q$35,"")<>"",COLUMN(D:Q)-3+((ROW(D$3:D$35)-2)/1000),""),ROW(A30))))} -> Queue de Chapardam | B32: {=IFERROR(OFFSET($A$2,MATCH(0,COUNTIF(B$2:B31,colA),0),),"")} -> Volve d'Aminite | C32: {=SUMPRODUCT(IFERROR(($D$3:$P$35=$B32)*($E$3:$Q$35),0))} -> 20
A33: {=INDEX(D$3:Q$35,(SMALL(IF(IF((MOD(COLUMN(D:Q),2)=0)*(Total!D$3:Q$35<>""),Total!D$3:Q$35,"")<>"",COLUMN(D:Q)-3+((ROW(D$3:D$35)-2)/1000),""),ROW(A31))-INT(SMALL(IF(IF((MOD(COLUMN(D:Q),2)=0)*(Total!D$3:Q$35<>""),Total!D$3:Q$35,"")<>"",COLUMN(D:Q)-3+((ROW(D$3:D$35)-2)/1000),""),ROW(A31))))*1000,INT(SMALL(IF(IF((MOD(COLUMN(D:Q),2)=0)*(Total!D$3:Q$35<>""),Total!D$3:Q$35,"")<>"",COLUMN(D:Q)-3+((ROW(D$3:D$35)-2)/1000),""),ROW(A31))))} -> Pétale Diaphane | B33: {=IFERROR(OFFSET($A$2,MATCH(0,COUNTIF(B$2:B32,colA),0),),"")} -> Relique Incarnam | C33: {=SUMPRODUCT(IFERROR(($D$3:$P$35=$B33)*($E$3:$Q$35),0))} -> 159
A34: {=INDEX(D$3:Q$35,(SMALL(IF(IF((MOD(COLUMN(D:Q),2)=0)*(Total!D$3:Q$35<>""),Total!D$3:Q$35,"")<>"",COLUMN(D:Q)-3+((ROW(D$3:D$35)-2)/1000),""),ROW(A32))-INT(SMALL(IF(IF((MOD(COLUMN(D:Q),2)=0)*(Total!D$3:Q$35<>""),Total!D$3:Q$35,"")<>"",COLUMN(D:Q)-3+((ROW(D$3:D$35)-2)/1000),""),ROW(A32))))*1000,INT(SMALL(IF(IF((MOD(COLUMN(D:Q),2)=0)*(Total!D$3:Q$35<>""),Total!D$3:Q$35,"")<>"",COLUMN(D:Q)-3+((ROW(D$3:D$35)-2)/1000),""),ROW(A32))))} -> Poudre de Perlinpainpain | B34: {=IFERROR(OFFSET($A$2,MATCH(0,COUNTIF(B$2:B33,colA),0),),"")} -> Os de chafer | C34: {=SUMPRODUCT(IFERROR(($D$3:$P$35=$B34)*($E$3:$Q$35),0))} -> 9
A35: {=INDEX(D$3:Q$35,(SMALL(IF(IF((MOD(COLUMN(D:Q),2)=0)*(Total!D$3:Q$35<>""),Total!D$3:Q$35,"")<>"",COLUMN(D:Q)-3+((ROW(D$3:D$35)-2)/1000),""),ROW(A33))-INT(SMALL(IF(IF((MOD(COLUMN(D:Q),2)=0)*(Total!D$3:Q$35<>""),Total!D$3:Q$35,"")<>"",COLUMN(D:Q)-3+((ROW(D$3:D$35)-2)/1000),""),ROW(A33))))*1000,INT(SMALL(IF(IF((MOD(COLUMN(D:Q),2)=0)*(Total!D$3:Q$35<>""),Total!D$3:Q$35,"")<>"",COLUMN(D:Q)-3+((ROW(D$3:D$35)-2)/1000),""),ROW(A33))))} -> Laine céleste | B35: {=IFERROR(OFFSET($A$2,MATCH(0,COUNTIF(B$2:B34,colA),0),),"")} -> Epine du Champ Champ | C35: {=SUMPRODUCT(IFERROR(($D$3:$P$35=$B35)*($E$3:$Q$35),0))} -> 6
A36: {=INDEX(D$3:Q$35,(SMALL(IF(IF((MOD(COLUMN(D:Q),2)=0)*(Total!D$3:Q$35<>""),Total!D$3:Q$35,"")<>"",COLUMN(D:Q)-3+((ROW(D$3:D$35)-2)/1000),""),ROW(A34))-INT(SMALL(IF(IF((MOD(COLUMN(D:Q),2)=0)*(Total!D$3:Q$35<>""),Total!D$3:Q$35,"")<>"",COLUMN(D:Q)-3+((ROW(D$3:D$35)-2)/1000),""),ROW(A34))))*1000,INT(SMALL(IF(IF((MOD(COLUMN(D:Q),2)=0)*(Total!D$3:Q$35<>""),Total!D$3:Q$35,"")<>"",COLUMN(D:Q)-3+((ROW(D$3:D$35)-2)/1000),""),ROW(A34))))} -> Fer | B36: {=IFERROR(OFFSET($A$2,MATCH(0,COUNTIF(B$2:B35,colA),0),),"")} -> Peau de Larve Verte | C36: {=SUMPRODUCT(IFERROR(($D$3:$P$35=$B36)*($E$3:$Q$35),0))} -> 7
A37: {=INDEX(D$3:Q$35,(SMALL(IF(IF((MOD(COLUMN(D:Q),2)=0)*(Total!D$3:Q$35<>""),Total!D$3:Q$35,"")<>"",COLUMN(D:Q)-3+((ROW(D$3:D$35)-2)/1000),""),ROW(A35))-INT(SMALL(IF(IF((MOD(COLUMN(D:Q),2)=0)*(Total!D$3:Q$35<>""),Total!D$3:Q$35,"")<>"",COLUMN(D:Q)-3+((ROW(D$3:D$35)-2)/1000),""),ROW(A35))))*1000,INT(SMALL(IF(IF((MOD(COLUMN(D:Q),2)=0)*(Total!D$3:Q$35<>""),Total!D$3:Q$35,"")<>"",COLUMN(D:Q)-3+((ROW(D$3:D$35)-2)/1000),""),ROW(A35))))} -> Bave de bouftou | B37: {=IFERROR(OFFSET($A$2,MATCH(0,COUNTIF(B$2:B36,colA),0),),"")} -> Oeil d'Arakmuté | C37: {=SUMPRODUCT(IFERROR(($D$3:$P$35=$B37)*($E$3:$Q$35),0))} -> 9
A38: {=INDEX(D$3:Q$35,(SMALL(IF(IF((MOD(COLUMN(D:Q),2)=0)*(Total!D$3:Q$35<>""),Total!D$3:Q$35,"")<>"",COLUMN(D:Q)-3+((ROW(D$3:D$35)-2)/1000),""),ROW(A36))-INT(SMALL(IF(IF((MOD(COLUMN(D:Q),2)=0)*(Total!D$3:Q$35<>""),Total!D$3:Q$35,"")<>"",COLUMN(D:Q)-3+((ROW(D$3:D$35)-2)/1000),""),ROW(A36))))*1000,INT(SMALL(IF(IF((MOD(COLUMN(D:Q),2)=0)*(Total!D$3:Q$35<>""),Total!D$3:Q$35,"")<>"",COLUMN(D:Q)-3+((ROW(D$3:D$35)-2)/1000),""),ROW(A36))))} -> Volve d'Aminite | B38: {=IFERROR(OFFSET($A$2,MATCH(0,COUNTIF(B$2:B37,colA),0),),"")} -> Serviette de plage | C38: {=SUMPRODUCT(IFERROR(($D$3:$P$35=$B38)*($E$3:$Q$35),0))} -> 3
A39: {=INDEX(D$3:Q$35,(SMALL(IF(IF((MOD(COLUMN(D:Q),2)=0)*(Total!D$3:Q$35<>""),Total!D$3:Q$35,"")<>"",COLUMN(D:Q)-3+((ROW(D$3:D$35)-2)/1000),""),ROW(A37))-INT(SMALL(IF(IF((MOD(COLUMN(D:Q),2)=0)*(Total!D$3:Q$35<>""),Total!D$3:Q$35,"")<>"",COLUMN(D:Q)-3+((ROW(D$3:D$35)-2)/1000),""),ROW(A37))))*1000,INT(SMALL(IF(IF((MOD(COLUMN(D:Q),2)=0)*(Total!D$3:Q$35<>""),Total!D$3:Q$35,"")<>"",COLUMN(D:Q)-3+((ROW(D$3:D$35)-2)/1000),""),ROW(A37))))} -> Relique Incarnam | B39: {=IFERROR(OFFSET($A$2,MATCH(0,COUNTIF(B$2:B38,colA),0),),"")} -> Engrais | C39: {=SUMPRODUCT(IFERROR(($D$3:$P$35=$B39)*($E$3:$Q$35),0))} -> 3
A40: {=INDEX(D$3:Q$35,(SMALL(IF(IF((MOD(COLUMN(D:Q),2)=0)*(Total!D$3:Q$35<>""),Total!D$3:Q$35,"")<>"",COLUMN(D:Q)-3+((ROW(D$3:D$35)-2)/1000),""),ROW(A38))-INT(SMALL(IF(IF((MOD(COLUMN(D:Q),2)=0)*(Total!D$3:Q$35<>""),Total!D$3:Q$35,"")<>"",COLUMN(D:Q)-3+((ROW(D$3:D$35)-2)/1000),""),ROW(A38))))*1000,INT(SMALL(IF(IF((MOD(COLUMN(D:Q),2)=0)*(Total!D$3:Q$35<>""),Total!D$3:Q$35,"")<>"",COLUMN(D:Q)-3+((ROW(D$3:D$35)-2)/1000),""),ROW(A38))))} -> Os de chafer | B40: {=IFERROR(OFFSET($A$2,MATCH(0,COUNTIF(B$2:B39,colA),0),),"")} -> Plume de Piou Violet | C40: {=SUMPRODUCT(IFERROR(($D$3:$P$35=$B40)*($E$3:$Q$35),0))} -> 3
... A101: {=INDEX(D$3:Q$35,(SMALL(IF(IF((MOD(COLUMN(D:Q),2)=0)*(Total!D$3:Q$35<>""),Total!D$3:Q$35,"")<>"",COLUMN(D:Q)-3+((ROW(D$3:D$35)-2)/1000),""),ROW(A99))-INT(SMALL(IF(IF((MOD(COLUMN(D:Q),2)=0)*(Total!D$3:Q$35<>""),Total!D$3:Q$35,"")<>"",COLUMN(D:Q)-3+((ROW(D$3:D$35)-2)/1000),""),ROW(A99))))*1000,INT(SMALL(IF(IF((MOD(COLUMN(D:Q),2)=0)*(Total!D$3:Q$35<>""),Total!D$3:Q$35,"")<>"",COLUMN(D:Q)-3+((ROW(D$3:D$35)-2)/1000),""),ROW(A99))))} -> Cendres éternelles | B101: {=IFERROR(OFFSET($A$2,MATCH(0,COUNTIF(B$2:B100,colA),0),),"")} | C101: {=SUMPRODUCT(IFERROR(($D$3:$P$35=$B101)*($E$3:$Q$35),0))} -> 0
A102: {=INDEX(D$3:Q$35,(SMALL(IF(IF((MOD(COLUMN(D:Q),2)=0)*(Total!D$3:Q$35<>""),Total!D$3:Q$35,"")<>"",COLUMN(D:Q)-3+((ROW(D$3:D$35)-2)/1000),""),ROW(A100))-INT(SMALL(IF(IF((MOD(COLUMN(D:Q),2)=0)*(Total!D$3:Q$35<>""),Total!D$3:Q$35,"")<>"",COLUMN(D:Q)-3+((ROW(D$3:D$35)-2)/1000),""),ROW(A100))))*1000,INT(SMALL(IF(IF((MOD(COLUMN(D:Q),2)=0)*(Total!D$3:Q$35<>""),Total!D$3:Q$35,"")<>"",COLUMN(D:Q)-3+((ROW(D$3:D$35)-2)/1000),""),ROW(A100))))} -> Feu intérieur | B102: {=IFERROR(OFFSET($A$2,MATCH(0,COUNTIF(B$2:B101,colA),0),),"")}
A103: {=INDEX(D$3:Q$35,(SMALL(IF(IF((MOD(COLUMN(D:Q),2)=0)*(Total!D$3:Q$35<>""),Total!D$3:Q$35,"")<>"",COLUMN(D:Q)-3+((ROW(D$3:D$35)-2)/1000),""),ROW(A101))-INT(SMALL(IF(IF((MOD(COLUMN(D:Q),2)=0)*(Total!D$3:Q$35<>""),Total!D$3:Q$35,"")<>"",COLUMN(D:Q)-3+((ROW(D$3:D$35)-2)/1000),""),ROW(A101))))*1000,INT(SMALL(IF(IF((MOD(COLUMN(D:Q),2)=0)*(Total!D$3:Q$35<>""),Total!D$3:Q$35,"")<>"",COLUMN(D:Q)-3+((ROW(D$3:D$35)-2)/1000),""),ROW(A101))))} -> Os de chafer | B103: {=IFERROR(OFFSET($A$2,MATCH(0,COUNTIF(B$2:B102,colA),0),),"")}
A104: {=INDEX(D$3:Q$35,(SMALL(IF(IF((MOD(COLUMN(D:Q),2)=0)*(Total!D$3:Q$35<>""),Total!D$3:Q$35,"")<>"",COLUMN(D:Q)-3+((ROW(D$3:D$35)-2)/1000),""),ROW(A102))-INT(SMALL(IF(IF((MOD(COLUMN(D:Q),2)=0)*(Total!D$3:Q$35<>""),Total!D$3:Q$35,"")<>"",COLUMN(D:Q)-3+((ROW(D$3:D$35)-2)/1000),""),ROW(A102))))*1000,INT(SMALL(IF(IF((MOD(COLUMN(D:Q),2)=0)*(Total!D$3:Q$35<>""),Total!D$3:Q$35,"")<>"",COLUMN(D:Q)-3+((ROW(D$3:D$35)-2)/1000),""),ROW(A102))))} -> Volve d'Aminite | B104: {=IFERROR(OFFSET($A$2,MATCH(0,COUNTIF(B$2:B103,colA),0),),"")}
A105: {=INDEX(D$3:Q$35,(SMALL(IF(IF((MOD(COLUMN(D:Q),2)=0)*(Total!D$3:Q$35<>""),Total!D$3:Q$35,"")<>"",COLUMN(D:Q)-3+((ROW(D$3:D$35)-2)/1000),""),ROW(A103))-INT(SMALL(IF(IF((MOD(COLUMN(D:Q),2)=0)*(Total!D$3:Q$35<>""),Total!D$3:Q$35,"")<>"",COLUMN(D:Q)-3+((ROW(D$3:D$35)-2)/1000),""),ROW(A103))))*1000,INT(SMALL(IF(IF((MOD(COLUMN(D:Q),2)=0)*(Total!D$3:Q$35<>""),Total!D$3:Q$35,"")<>"",COLUMN(D:Q)-3+((ROW(D$3:D$35)-2)/1000),""),ROW(A103))))} -> Oeil d'Arakmuté | B105: {=IFERROR(OFFSET($A$2,MATCH(0,COUNTIF(B$2:B104,colA),0),),"")}
A106: {=INDEX(D$3:Q$35,(SMALL(IF(IF((MOD(COLUMN(D:Q),2)=0)*(Total!D$3:Q$35<>""),Total!D$3:Q$35,"")<>"",COLUMN(D:Q)-3+((ROW(D$3:D$35)-2)/1000),""),ROW(A104))-INT(SMALL(IF(IF((MOD(COLUMN(D:Q),2)=0)*(Total!D$3:Q$35<>""),Total!D$3:Q$35,"")<>"",COLUMN(D:Q)-3+((ROW(D$3:D$35)-2)/1000),""),ROW(A104))))*1000,INT(SMALL(IF(IF((MOD(COLUMN(D:Q),2)=0)*(Total!D$3:Q$35<>""),Total!D$3:Q$35,"")<>"",COLUMN(D:Q)-3+((ROW(D$3:D$35)-2)/1000),""),ROW(A104))))} -> Peau de larve jaune | B106: {=IFERROR(OFFSET($A$2,MATCH(0,COUNTIF(B$2:B105,colA),0),),"")}
A107: {=INDEX(D$3:Q$35,(SMALL(IF(IF((MOD(COLUMN(D:Q),2)=0)*(Total!D$3:Q$35<>""),Total!D$3:Q$35,"")<>"",COLUMN(D:Q)-3+((ROW(D$3:D$35)-2)/1000),""),ROW(A105))-INT(SMALL(IF(IF((MOD(COLUMN(D:Q),2)=0)*(Total!D$3:Q$35<>""),Total!D$3:Q$35,"")<>"",COLUMN(D:Q)-3+((ROW(D$3:D$35)-2)/1000),""),ROW(A105))))*1000,INT(SMALL(IF(IF((MOD(COLUMN(D:Q),2)=0)*(Total!D$3:Q$35<>""),Total!D$3:Q$35,"")<>"",COLUMN(D:Q)-3+((ROW(D$3:D$35)-2)/1000),""),ROW(A105))))} -> Bois vermoulu | B107: {=IFERROR(OFFSET($A$2,MATCH(0,COUNTIF(B$2:B106,colA),0),),"")}
A108: {=INDEX(D$3:Q$35,(SMALL(IF(IF((MOD(COLUMN(D:Q),2)=0)*(Total!D$3:Q$35<>""),Total!D$3:Q$35,"")<>"",COLUMN(D:Q)-3+((ROW(D$3:D$35)-2)/1000),""),ROW(A106))-INT(SMALL(IF(IF((MOD(COLUMN(D:Q),2)=0)*(Total!D$3:Q$35<>""),Total!D$3:Q$35,"")<>"",COLUMN(D:Q)-3+((ROW(D$3:D$35)-2)/1000),""),ROW(A106))))*1000,INT(SMALL(IF(IF((MOD(COLUMN(D:Q),2)=0)*(Total!D$3:Q$35<>""),Total!D$3:Q$35,"")<>"",COLUMN(D:Q)-3+((ROW(D$3:D$35)-2)/1000),""),ROW(A106))))} -> Poils d'arakne malade | B108: {=IFERROR(OFFSET($A$2,MATCH(0,COUNTIF(B$2:B107,colA),0),),"")}
A109: {=INDEX(D$3:Q$35,(SMALL(IF(IF((MOD(COLUMN(D:Q),2)=0)*(Total!D$3:Q$35<>""),Total!D$3:Q$35,"")<>"",COLUMN(D:Q)-3+((ROW(D$3:D$35)-2)/1000),""),ROW(A107))-INT(SMALL(IF(IF((MOD(COLUMN(D:Q),2)=0)*(Total!D$3:Q$35<>""),Total!D$3:Q$35,"")<>"",COLUMN(D:Q)-3+((ROW(D$3:D$35)-2)/1000),""),ROW(A107))))*1000,INT(SMALL(IF(IF((MOD(COLUMN(D:Q),2)=0)*(Total!D$3:Q$35<>""),Total!D$3:Q$35,"")<>"",COLUMN(D:Q)-3+((ROW(D$3:D$35)-2)/1000),""),ROW(A107))))} -> Bave de rose démoniaque | B109: {=IFERROR(OFFSET($A$2,MATCH(0,COUNTIF(B$2:B108,colA),0),),"")}
A110: {=INDEX(D$3:Q$35,(SMALL(IF(IF((MOD(COLUMN(D:Q),2)=0)*(Total!D$3:Q$35<>""),Total!D$3:Q$35,"")<>"",COLUMN(D:Q)-3+((ROW(D$3:D$35)-2)/1000),""),ROW(A108))-INT(SMALL(IF(IF((MOD(COLUMN(D:Q),2)=0)*(Total!D$3:Q$35<>""),Total!D$3:Q$35,"")<>"",COLUMN(D:Q)-3+((ROW(D$3:D$35)-2)/1000),""),ROW(A108))))*1000,INT(SMALL(IF(IF((MOD(COLUMN(D:Q),2)=0)*(Total!D$3:Q$35<>""),Total!D$3:Q$35,"")<>"",COLUMN(D:Q)-3+((ROW(D$3:D$35)-2)/1000),""),ROW(A108))))} -> Graine de tournesol | B110: {=IFERROR(OFFSET($A$2,MATCH(0,COUNTIF(B$2:B109,colA),0),),"")}
A111: {=INDEX(D$3:Q$35,(SMALL(IF(IF((MOD(COLUMN(D:Q),2)=0)*(Total!D$3:Q$35<>""),Total!D$3:Q$35,"")<>"",COLUMN(D:Q)-3+((ROW(D$3:D$35)-2)/1000),""),ROW(A109))-INT(SMALL(IF(IF((MOD(COLUMN(D:Q),2)=0)*(Total!D$3:Q$35<>""),Total!D$3:Q$35,"")<>"",COLUMN(D:Q)-3+((ROW(D$3:D$35)-2)/1000),""),ROW(A109))))*1000,INT(SMALL(IF(IF((MOD(COLUMN(D:Q),2)=0)*(Total!D$3:Q$35<>""),Total!D$3:Q$35,"")<>"",COLUMN(D:Q)-3+((ROW(D$3:D$35)-2)/1000),""),ROW(A109))))} -> Feuille de tournesol sauvage | B111: {=IFERROR(OFFSET($A$2,MATCH(0,COUNTIF(B$2:B110,colA),0),),"")}
A112: {=INDEX(D$3:Q$35,(SMALL(IF(IF((MOD(COLUMN(D:Q),2)=0)*(Total!D$3:Q$35<>""),Total!D$3:Q$35,"")<>"",COLUMN(D:Q)-3+((ROW(D$3:D$35)-2)/1000),""),ROW(A110))-INT(SMALL(IF(IF((MOD(COLUMN(D:Q),2)=0)*(Total!D$3:Q$35<>""),Total!D$3:Q$35,"")<>"",COLUMN(D:Q)-3+((ROW(D$3:D$35)-2)/1000),""),ROW(A110))))*1000,INT(SMALL(IF(IF((MOD(COLUMN(D:Q),2)=0)*(Total!D$3:Q$35<>""),Total!D$3:Q$35,"")<>"",COLUMN(D:Q)-3+((ROW(D$3:D$35)-2)/1000),""),ROW(A110))))} -> Pattes d'arakne | B112: {=IFERROR(OFFSET($A$2,MATCH(0,COUNTIF(B$2:B111,colA),0),),"")}
A113: {=INDEX(D$3:Q$35,(SMALL(IF(IF((MOD(COLUMN(D:Q),2)=0)*(Total!D$3:Q$35<>""),Total!D$3:Q$35,"")<>"",COLUMN(D:Q)-3+((ROW(D$3:D$35)-2)/1000),""),ROW(A111))-INT(SMALL(IF(IF((MOD(COLUMN(D:Q),2)=0)*(Total!D$3:Q$35<>""),Total!D$3:Q$35,"")<>"",COLUMN(D:Q)-3+((ROW(D$3:D$35)-2)/1000),""),ROW(A111))))*1000,INT(SMALL(IF(IF((MOD(COLUMN(D:Q),2)=0)*(Total!D$3:Q$35<>""),Total!D$3:Q$35,"")<>"",COLUMN(D:Q)-3+((ROW(D$3:D$35)-2)/1000),""),ROW(A111))))} -> Plume de piou jaune | B113: {=IFERROR(OFFSET($A$2,MATCH(0,COUNTIF(B$2:B112,colA),0),),"")}
... A121: {=INDEX(D$3:Q$35,(SMALL(IF(IF((MOD(COLUMN(D:Q),2)=0)*(Total!D$3:Q$35<>""),Total!D$3:Q$35,"")<>"",COLUMN(D:Q)-3+((ROW(D$3:D$35)-2)/1000),""),ROW(A119))-INT(SMALL(IF(IF((MOD(COLUMN(D:Q),2)=0)*(Total!D$3:Q$35<>""),Total!D$3:Q$35,"")<>"",COLUMN(D:Q)-3+((ROW(D$3:D$35)-2)/1000),""),ROW(A119))))*1000,INT(SMALL(IF(IF((MOD(COLUMN(D:Q),2)=0)*(Total!D$3:Q$35<>""),Total!D$3:Q$35,"")<>"",COLUMN(D:Q)-3+((ROW(D$3:D$35)-2)/1000),""),ROW(A119))))} -> Poils d'arakne malade | B121: {=IFERROR(OFFSET($A$2,MATCH(0,COUNTIF(B$2:B120,colA),0),),"")}
A122: {=INDEX(D$3:Q$35,(SMALL(IF(IF((MOD(COLUMN(D:Q),2)=0)*(Total!D$3:Q$35<>""),Total!D$3:Q$35,"")<>"",COLUMN(D:Q)-3+((ROW(D$3:D$35)-2)/1000),""),ROW(A120))-INT(SMALL(IF(IF((MOD(COLUMN(D:Q),2)=0)*(Total!D$3:Q$35<>""),Total!D$3:Q$35,"")<>"",COLUMN(D:Q)-3+((ROW(D$3:D$35)-2)/1000),""),ROW(A120))))*1000,INT(SMALL(IF(IF((MOD(COLUMN(D:Q),2)=0)*(Total!D$3:Q$35<>""),Total!D$3:Q$35,"")<>"",COLUMN(D:Q)-3+((ROW(D$3:D$35)-2)/1000),""),ROW(A120))))} -> #NUM!
A123: {=INDEX(D$3:Q$35,(SMALL(IF(IF((MOD(COLUMN(D:Q),2)=0)*(Total!D$3:Q$35<>""),Total!D$3:Q$35,"")<>"",COLUMN(D:Q)-3+((ROW(D$3:D$35)-2)/1000),""),ROW(A121))-INT(SMALL(IF(IF((MOD(COLUMN(D:Q),2)=0)*(Total!D$3:Q$35<>""),Total!D$3:Q$35,"")<>"",COLUMN(D:Q)-3+((ROW(D$3:D$35)-2)/1000),""),ROW(A121))))*1000,INT(SMALL(IF(IF((MOD(COLUMN(D:Q),2)=0)*(Total!D$3:Q$35<>""),Total!D$3:Q$35,"")<>"",COLUMN(D:Q)-3+((ROW(D$3:D$35)-2)/1000),""),ROW(A121))))} -> #NUM!

Sheet f1
B2: {=IF(IF((MOD(COLUMN(D:Q),2)=0)*(Total!D$3:Q$35<>""),Total!D$3:Q$35,"")<>"",COLUMN(D:Q)-3+((ROW(D$3:D$35)-2)/1000),"")} -> 1.001 | D2: 3.001 | F2: 5.001 | H2: 7.001 | J2: 9.001 | L2: 11.001 | N2: 13.001
B3: 1.002 | D3: 3.002 | F3: 5.002 | H3: 7.002 | J3: 9.002 | L3: 11.002 | N3: 13.002
B4: 1.003 | D4: 3.003 | F4: 5.003 | H4: 7.003 | J4: 9.003 | N4: 13.003
B5: 1.004 | D5: 3.004 | F5: 5.004 | H5: 7.004 | J5: 9.004 | N5: 13.004
B6: 1.005 | D6: 3.005 | F6: 5.005 | H6: 7.005 | J6: 9.005
B7: 1.006 | D7: 3.006 | F7: 5.006 | H7: 7.006 | J7: 9.006
B8: 1.007 | D8: 3.007 | F8: 5.007 | H8: 7.007 | J8: 9.007
B9: 1.008 | D9: 3.008 | F9: 5.008 | H9: 7.008 | J9: 9.008
B10: 1.009 | D10: 3.009 | F10: 5.009 | H10: 7.009 | J10: 9.009
B11: 1.01 | D11: 3.01 | F11: 5.01 | H11: 7.01 | J11: 9.01
B12: 1.011 | D12: 3.011 | F12: 5.011 | H12: 7.011 | J12: 9.011
B13: 1.012 | D13: 3.012 | F13: 5.012 | H13: 7.012 | J13: 9.012
B14: 1.013 | D14: 3.013 | F14: 5.013 | H14: 7.013 | J14: 9.013
B15: 1.014 | D15: 3.014 | F15: 5.014 | H15: 7.014 | J15: 9.014
B16: 1.015 | D16: 3.015 | F16: 5.015 | H16: 7.015 | J16: 9.015
B17: 1.016 | D17: 3.016 | F17: 5.016 | H17: 7.016 | J17: 9.016
... B19: 1.018 | D19: 3.018 | F19: 5.018 | H19: 7.018 | J19: 9.018
B20: 1.019 | D20: 3.019 | F20: 5.019 | J20: 9.019
B21: 1.02 | D21: 3.02 | F21: 5.02 | J21: 9.02
B22: 1.021 | D22: 3.021 | F22: 5.021 | J22: 9.021
B23: 1.022 | D23: 3.022 | F23: 5.022 | J23: 9.022
B24: 1.023 | D24: 3.023 | F24: 5.023
B25: 1.024 | D25: 3.024
B26: 1.025
B27: 1.026

Sheet Tailleur
B2: RUSH TAILLEUR
C3: Item craft | D3: Q | E3: Recettes | F3: Q | G3: Quantité total
B4: LVL 1 à 10 | I4: Liste ingrédients
B5: LVL 1 | C5: Le Floude | D5: 1 | E5: Laine celeste | F5: 2 | G5: =F5*$D$5 -> 2 | I5: Laine céleste | J5: =SUMIF($E$5:$E$54,I5,$G$5:$G$54) -> 3
E6: Orties | F6: 2 | G6: =F6*$D$5 -> 2 | I6: Orties | J6: =SUMIF($E$5:$E$54,I6,$G$5:$G$54) -> 2
I7: Poudre de perlinpainpain | J7: =SUMIF($E$5:$E$54,I7,$G$5:$G$54) -> 3
B8: LVL 2 | C8: Lisseur | D8: 1 | E8: Poudre de perlinpainpain | F8: 3 | G8: =$D$8*F8 -> 3 | I8: Cendres éternelles | J8: =SUMIF($E$5:$E$54,I8,$G$5:$G$54) -> 3
E9: Cendres éternelles | F9: 3 | G9: =$D$8*F9 -> 3 | I9: Feu intérieur | J9: =SUMIF($E$5:$E$54,I9,$G$5:$G$54) -> 7
I10: Eau | J10: =SUMIF($E$5:$E$54,I10,$G$5:$G$54) -> 3
B11: LVL 3 | C11: Bandeau de vitalité | D11: 1 | E11: Feu intérieur | F11: 3 | G11: =$D$11*F11 -> 3 | I11: Pétale Diaphane | J11: =SUMIF($E$5:$E$54,I11,$G$5:$G$54) -> 17
E12: Eau | F12: 3 | G12: =$D$11*F12 -> 3 | I12: Peau de Gloot | J12: =SUMIF($E$5:$E$54,I12,$G$5:$G$54) -> 9
I13: Plume chimérique | J13: =SUMIF($E$5:$E$54,I13,$G$5:$G$54) -> 7
B14: LVL 4 | C14: Bandeau Pandawushu | D14: 3 | E14: Pétale Diaphane | F14: 3 | G14: =$D$14*F14 -> 9 | I14: Volve d'amanite | J14: =SUMIF($E$5:$E$54,I14,$G$5:$G$54) -> 3
E15: Peau de Gloot | F15: 3 | G15: =$D$14*F15 -> 9 | I15: Plume Piou vert | J15: =SUMIF($E$5:$E$54,I15,$G$5:$G$54) -> 3
I16: Os chafer | J16: =SUMIF($E$5:$E$54,I16,$G$5:$G$54) -> 3
B17: LVL 6 | C17: Sac du Petit Récolteur | D17: 1 | E17: Plume chimérique | F17: 4 | G17: =$D$17*F17 -> 4 | I17: Feuille de tournesol | J17: =SUMIF($E$5:$E$54,I17,$G$5:$G$54) -> 1
E18: Laine céleste | F18: 3 | G18: =$D$17*F18 -> 3 | I18: Epine champchamp | J18: =SUMIF($E$5:$E$54,I18,$G$5:$G$54) -> 3
I19: Plume Piou Violet | J19: =SUMIF($E$5:$E$54,I19,$G$5:$G$54) -> 3
B20: LVL 7 | C20: Cape Bleutée | D20: 1 | E20: Volve d'amanite | F20: 3 | G20: =$D$20*F20 -> 3 | I20: Bave de bouftou | J20: =SUMIF($E$5:$E$54,I20,$G$5:$G$54) -> 3
E21: Plume chimérique | F21: 3 | G21: =$D$20*F21 -> 3 | I21: Langue d'épouvanteur | J21: =SUMIF($E$5:$E$54,I21,$G$5:$G$54) -> 8
I22: Bave de rose démoniaque | J22: =SUMIF($E$5:$E$54,I22,$G$5:$G$54) -> 2
B23: LVL 8 | C23: Coiffe Antôme | D23: 2 | E23: Pétale Diaphane | F23: 4 | G23: =$D$23*F23 -> 8 | I23: Plume de piou jaune | J23: =SUMIF($E$5:$E$54,I23,$G$5:$G$54) -> 6
E24: Feu intérieur | F24: 2 | G24: =$D$23*F24 -> 4 | I24: Fluide glacial | J24: =SUMIF($E$5:$E$54,I24,$G$5:$G$54) -> 1
B25: LVL 10 à 20 | I25: Aile de moskito | J25: =SUMIF($E$5:$E$54,I25,$G$5:$G$54) -> 4
B26: LVL 10 | C26: Cape du Piou Vert | D26: 1 | E26: Plume Piou vert | F26: 3 | G26: =F26*D26 -> 3 | I26: Sourcil de moskito | J26: =SUMIF($E$5:$E$54,I26,$G$5:$G$54) -> 1
E27: Os chafer | F27: 3 | G27: =F27*D26 -> 3 | I27: Coton ancestral | J27: =SUMIF($E$5:$E$54,I27,$G$5:$G$54) -> 2
I28: Pétale de rose démoniaque | J28: =SUMIF($E$5:$E$54,I28,$G$5:$G$54) -> 3
B29: LVL 11 | C29: Cape Pandawushu | D29: 1 | E29: Feuille de tournesol | F29: 1 | G29: =F29*D29 -> 1 | I29: Croc de rat | J29: =SUMIF($E$5:$E$54,I29,$G$5:$G$54) -> 3
E30: Epine champchamp | F30: 3 | G30: =F30*D29 -> 3 | I30: Pétale magique de Tournesol affamé | J30: =SUMIF($E$5:$E$54,I30,$G$5:$G$54) -> 1
B32: LVL 12 | C32: Cape du Piou Violet | D32: 1 | E32: Plume Piou Violet | F32: 3 | G32: =F32*D32 -> 3
E33: Bave de bouftou | F33: 3 | G33: =F33*D32 -> 3
B35: LVL 13 | C35: Capouze des Champs | D35: 1 | E35: Langue d'épouvanteur | F35: 4 | G35: =F35*D35 -> 4
E36: Bave de rose démoniaque | F36: 1 | G36: =F36*D35 -> 1
B38: LVL 14 | C38: Cape Ellinie | D38: 1 | E38: Plume de piou jaune | F38: 3 | G38: =F38*D38 -> 3
E39: Fluide glacial | F39: 1 | G39: =F39*D38 -> 1
B41: LVL 15 | C41: Moskitogalurette | D41: 1 | E41: Aile de moskito | F41: 4 | G41: =F41*D41 -> 4
E42: Sourcil de moskito | F42: 1 | G42: =F42*D41 -> 1
B44: LVL 16 | C44: Cape de Rougeur | D44: 1 | E44: Coton ancestral | F44: 1 | G44: =F44*D44 -> 1
E45: Plume de piou jaune | F45: 3 | G45: =F45*D44 -> 3
B47: LVL 17 | C47: Cape Abilité | D47: 1 | E47: Bave de rose démoniaque | F47: 1 | G47: =F47*D47 -> 1
E48: Pétale de rose démoniaque | F48: 3 | G48: =F48*D47 -> 3
B50: LVL 18 | C50: Cape Sombre | D50: 1 | E50: Coton ancestral | F50: 1 | G50: =F50*D50 -> 1
E51: Croc de rat | F51: 3 | G51: =F51*D50 -> 3
B53: LVL 19 | C53: Bob du Paysan | D53: 1 | E53: Langue d'épouvanteur | F53: 4 | G53: =F53*D53 -> 4
E54: Pétale magique de Tournesol affamé | F54: 1 | G54: =F54*D53 -> 1

Sheet Bijoutier
B2: RUSH BIJOUTIER
C3: Item craft | D3: Q | E3: Recettes | F3: Q | G3: Quantité total
B4: LVL 1 à 10 | I4: Liste ingrédients
B5: LVL 1 | C5: Le Plussain | D5: 1 | E5: Feu intérieur | F5: 2 | G5: =D5*F5 -> 2 | I5: Feu intérieur | J5: =SUMIF($E$5:$E$58,I5,$G$5:$G$58) -> 5
E6: Blé | F6: 2 | G6: =D5*F6 -> 2 | I6: Blé | J6: =SUMIF($E$5:$E$58,I6,$G$5:$G$58) -> 2
I7: Peau de Gloot | J7: =SUMIF($E$5:$E$58,I7,$G$5:$G$58) -> 3
B8: LVL 2 | C8: Anneau Forcesque | D8: 1 | E8: Peau de Gloot | F8: 3 | G8: =D8*F8 -> 3 | I8: Queue de Chapardam | J8: =SUMIF($E$5:$E$58,I8,$G$5:$G$58) -> 3
E9: Queue de Chapardam | F9: 3 | G9: =D8*F9 -> 3 | I9: Pétale Diaphane | J9: =SUMIF($E$5:$E$58,I9,$G$5:$G$58) -> 6
I10: Poudre de Perlinpainpain | J10: =SUMIF($E$5:$E$58,I10,$G$5:$G$58) -> 6
B11: LVL 3 | C11: Pendentif du Hibou Chétif | D11: 1 | E11: Pétale Diaphane | F11: 3 | G11: =D11*F11 -> 3 | I11: Laine céleste | J11: =SUMIF($E$5:$E$58,I11,$G$5:$G$58) -> 6
E12: Poudre de Perlinpainpain | F12: 3 | G12: =D11*F12 -> 3 | I12: Fer | J12: =SUMIF($E$5:$E$58,I12,$G$5:$G$58) -> 3
I13: Bave de bouftou | J13: =SUMIF($E$5:$E$58,I13,$G$5:$G$58) -> 12
B14: LVL 4 | C14: Camaïneux | D14: 1 | E14: Laine céleste | F14: 3 | G14: =D14*F14 -> 3 | I14: Volve d'Aminite | J14: =SUMIF($E$5:$E$58,I14,$G$5:$G$58) -> 7
E15: Fer | F15: 1 | G15: =D14*F15 -> 1 | I15: Relique Incarnam | J15: =SUMIF($E$5:$E$58,I15,$G$5:$G$58) -> 3
I16: Os de chafer | J16: =SUMIF($E$5:$E$58,I16,$G$5:$G$58) -> 3
B17: LVL 5 | C17: La larme du Bouftou | D17: 1 | E17: Feu intérieur | F17: 3 | G17: =D17*F17 -> 3 | I17: Volve d'Aminite | J17: =SUMIF($E$5:$E$58,I17,$G$5:$G$58) -> 7
E18: Bave de bouftou | F18: 3 | G18: =D17*F18 -> 3 | I18: Epine du Champ Champ | J18: =SUMIF($E$5:$E$58,I18,$G$5:$G$58) -> 6
I19: Peau de Larve Verte | J19: =SUMIF($E$5:$E$58,I19,$G$5:$G$58) -> 7
B20: LVL 6 | C20: Gantie Royal | D20: 1 | E20: Bave de bouftou | F20: 3 | G20: =D20*F20 -> 3 | I20: Oeil d'Arakmuté | J20: =SUMIF($E$5:$E$58,I20,$G$5:$G$58) -> 6
E21: Fer | F21: 1 | G21: =D20*F21 -> 1 | I21: Serviette de plage | J21: =SUMIF($E$5:$E$58,I21,$G$5:$G$58) -> 3
I22: Pétale de Rose démoniaque | J22: =SUMIF($E$5:$E$58,I22,$G$5:$G$58) -> 12
B23: LVL 7 | C23: Amulette du Sram | D23: 1 | E23: Volve d'Aminite | F23: 3 | G23: =D23*F23 -> 3 | I23: Engrais | J23: =SUMIF($E$5:$E$58,I23,$G$5:$G$58) -> 3
E24: Poudre de Perlinpainpain | F24: 3 | G24: =D23*F24 -> 3 | I24: Fluide Glacial | J24: =SUMIF($E$5:$E$58,I24,$G$5:$G$58) -> 1
I25: Plume de Piou Violet | J25: =SUMIF($E$5:$E$58,I25,$G$5:$G$58) -> 3
B26: LVL 8 | C26: Amulette du Hibou | D26: 1 | E26: Relique Incarnam | F26: 3 | G26: =D26*F26 -> 3 | I26: Fleur de Pissenlit | J26: =SUMIF($E$5:$E$58,I26,$G$5:$G$58) -> 3
E27: Bave de bouftou | F27: 3 | G27: =D26*F27 -> 3 | I27: Defense du Sanglier | J27: =SUMIF($E$5:$E$58,I27,$G$5:$G$58) -> 4
I28: Etoffe écurouille | J28: =SUMIF($E$5:$E$58,I28,$G$5:$G$58) -> 1
B29: LVL 9 | C29: Amulette de Krokette | D29: 1 | E29: Os de chafer | F29: 3 | G29: =D29*F29 -> 3
E30: Laine céleste | F30: 3 | G30: =D29*F30 -> 3
B32: LVL 10 à 20
B33: LVL 10 | C33: Amulette Tétriste | D33: 1 | E33: Volve d'Aminite | F33: 4 | G33: =D33*F33 -> 4
E34: Fer | F34: 1 | G34: =D33*F34 -> 1
B36: LVL 11 | C36: Alliance du Champ Champ | D36: 1 | E36: Epine du Champ Champ | F36: 3 | G36: =D36*F36 -> 3
E37: Pétale Diaphane | F37: 3 | G37: =D36*F37 -> 3
B39: LVL 12 | C39: L'Anneau de Valeur | D39: 1 | E39: Peau de Larve Verte | F39: 3 | G39: =D39*F39 -> 3
E40: Oeil d'Arakmuté | F40: 3 | G40: =D39*F40 -> 3
B42: LVL 13 | C42: Anneau du Champ Champ | D42: 1 | E42: Epine du Champ Champ | F42: 3 | G42: =D42*F42 -> 3
E43: Bave de Bouftou | F43: 3 | G43: =D42*F43 -> 3
B45: LVL 14 | C45: Anneau du Mental | D45: 1 | E45: Serviette de plage | F45: 3 | G45: =D45*F45 -> 3
E46: Oeil d'Arakmuté | F46: 3 | G46: =D45*F46 -> 3
B48: LVL 15 | C48: Anneau Champêtre | D48: 3 | E48: Pétale de Rose démoniaque | F48: 4 | G48: =D48*F48 -> 12
E49: Engrais | F49: 1 | G49: =D48*F49 -> 3
B51: LVL 17 | C51: Anneau du Bandit | D51: 1 | E51: Fluide Glacial | F51: 1 | G51: =D51*F51 -> 1
E52: Peau de Larve Verte | F52: 4 | G52: =D51*F52 -> 4
B54: LVL 18 | C54: Anneau Vice | D54: 1 | E54: Plume de Piou Violet | F54: 3 | G54: =D54*F54 -> 3
E55: Fleur de Pissenlit | F55: 3 | G55: =D54*F55 -> 3
B57: LVL 19 | C57: Anneau du Sanglier | D57: 1 | E57: Defense du Sanglier | F57: 4 | G57: =D57*F57 -> 4
E58: Etoffe écurouille | F58: 1 | G58: =D57*F58 -> 1

Sheet Cordonnier
B2: RUSH CORDONNIER
C3: Item craft | D3: Q | E3: Recettes | F3: Q | G3: Quantité total
B4: LVL 1 à 10 | I4: Liste ingrédients
B5: LVL 1 | C5: Bottes de Force | D5: 1 | E5: Queue de chapardam | F5: 3 | G5: =F5*D5 -> 3 | I5: Queue de chapardam | J5: =SUMIF($E$5:$E$59,I5,$G$5:$G$59) -> 15
E6: Pétale Diaphane | F6: 3 | G6: =F6*D5 -> 3 | I6: Pétale Diaphane | J6: =SUMIF($E$5:$E$59,I6,$G$5:$G$59) -> 6
I7: Plume chimérique | J7: =SUMIF($E$5:$E$59,I7,$G$5:$G$59) -> 12
B8: LVL 2 | C8: Fecaflip | D8: 1 | E8: Plume chimérique | F8: 3 | G8: =F8*D8 -> 3 | I8: Orties | J8: =SUMIF($E$5:$E$59,I8,$G$5:$G$59) -> 6
E9: Pétale Diaphane | F9: 3 | G9: =F9*D8 -> 3 | I9: Laine céleste | J9: =SUMIF($E$5:$E$59,I9,$G$5:$G$59) -> 3
I10: Cendres éternelles | J10: =SUMIF($E$5:$E$59,I10,$G$5:$G$59) -> 6
B11: LVL 3 | C11: Sandales Tofuesques | D11: 1 | E11: Queue de chapardam | F11: 3 | G11: =F11*D11 -> 3 | I11: Peau de Gloot | J11: =SUMIF($E$5:$E$59,I11,$G$5:$G$59) -> 3
E12: Orties | F12: 3 | G12: =F12*D11 -> 3 | I12: Os chafer | J12: =SUMIF($E$5:$E$59,I12,$G$5:$G$59) -> 5
I13: Relique incarnam | J13: =SUMIF($E$5:$E$59,I13,$G$5:$G$59) -> 6
B14: LVL 4 | C14: Bottes du Bouftou | D14: 1 | E14: Queue de chapardam | F14: 3 | G14: =F14*D14 -> 3 | I14: Volve d'Aminite | J14: =SUMIF($E$5:$E$59,I14,$G$5:$G$59) -> 3
E15: Plume chimérique | F15: 3 | G15: =F15*D14 -> 3 | I15: Orties | J15: =SUMIF($E$5:$E$59,I15,$G$5:$G$59) -> 6
I16: Plume de piou vert | J16: =SUMIF($E$5:$E$59,I16,$G$5:$G$59) -> 3
B17: LVL 5 | C17: Einekeineux | D17: 1 | E17: Laine céleste | F17: 3 | G17: =F17*D17 -> 3 | I17: Plume de piou bleu | J17: =SUMIF($E$5:$E$59,I17,$G$5:$G$59) -> 3
E18: Queue de chapardam | F18: 3 | G18: =F18*D17 -> 3 | I18: Intestin d'Araknosé | J18: =SUMIF($E$5:$E$59,I18,$G$5:$G$59) -> 12
I19: Aile de moskito | J19: =SUMIF($E$5:$E$59,I19,$G$5:$G$59) -> 9
B20: LVL 6 | C20: Sandales d'intelligence | D20: 1 | E20: Plume chimérique | F20: 3 | G20: =F20*D20 -> 3 | I20: Poils d'Arakne malade | J20: =SUMIF($E$5:$E$59,I20,$G$5:$G$59) -> 3
E21: Cendres éternelles | F21: 3 | G21: =F21*D20 -> 3 | I21: Peau de larve jaune | J21: =SUMIF($E$5:$E$59,I21,$G$5:$G$59) -> 7
I22: Patte d'Arakne magique | J22: =SUMIF($E$5:$E$59,I22,$G$5:$G$59) -> 1
B23: LVL 7 | C23: Ceinture du Kwabe | D23: 1 | E23: Peau de Gloot | F23: 3 | G23: =F23*D23 -> 3 | I23: Langue d'épouvanteur | J23: =SUMIF($E$5:$E$59,I23,$G$5:$G$59) -> 3
E24: Os chafer | F24: 2 | G24: =F24*D23 -> 2 | I24: Défense du sanglier | J24: =SUMIF($E$5:$E$59,I24,$G$5:$G$59) -> 4
I25: Poils de Darit | J25: =SUMIF($E$5:$E$59,I25,$G$5:$G$59) -> 1
B26: LVL 8 | C26: Bottes de Nexus | D26: 1 | E26: Plume chimérique | F26: 3 | G26: =F26*D26 -> 3 | I26: Coton ancestral | J26: =SUMIF($E$5:$E$59,I26,$G$5:$G$59) -> 3
E27: Relique incarnam | F27: 3 | G27: =F27*D26 -> 3 | I27: Feuille magique du tournesol affamé | J27: =SUMIF($E$5:$E$59,I27,$G$5:$G$59) -> 1
B29: LVL 9 | C29: Ceinture Vitalesque | D29: 1 | E29: Relique incarnam | F29: 3 | G29: =F29*D29 -> 3
E30: Volve d'Aminite | F30: 3 | G30: =F30*D29 -> 3
B32: LVL 10 à 20
B33: LVL 10 | C33: Pacmabottes | D33: 1 | E33: Os chafer | F33: 3 | G33: =F33*D33 -> 3
E34: Orties | F34: 3 | G34: =F34*D33 -> 3
B36: LVL 11 | C36: Sandales Piou vert | D36: 1 | E36: Plume de piou vert | F36: 3 | G36: =F36*D36 -> 3
E37: Queue de chapardam | F37: 3 | G37: =F37*D36 -> 3
B39: LVL 12 | C39: Ceinture Piou bleu | D39: 1 | E39: Plume de piou bleu | F39: 3 | G39: =F39*D39 -> 3
E40: Cendres éternelles | F40: 3 | G40: =F40*D39 -> 3
B42: LVL 13 | C42: Ceinture de poche | D42: 3 | E42: Intestin d'Araknosé | F42: 3 | G42: =F42*D42 -> 9
E43: Aile de moskito | F43: 3 | G43: =F43*D42 -> 9
B45: LVL 15 | C45: Ceinture du bandit | D45: 1 | E45: Poils d'Arakne malade | F45: 3 | G45: =F45*D45 -> 3
E46: Peau de larve jaune | F46: 4 | G46: =F46*D45 -> 4
B48: LVL 16 | C48: Bottes de puissance | D48: 1 | E48: Patte d'Arakne magique | F48: 1 | G48: =F48*D48 -> 1
E49: Langue d'épouvanteur | F49: 3 | G49: =F49*D48 -> 3
B51: LVL 17 | C51: Ceinture de sécurité | D51: 1 | E51: Intestin d'Araknosé | F51: 3 | G51: =F51*D51 -> 3
E52: Peau de larve jaune | F52: 3 | G52: =F52*D51 -> 3
B54: LVL 18 | C54: Sanglature | D54: 1 | E54: Défense du sanglier | F54: 4 | G54: =F54*D54 -> 4
E55: Poils de Darit | F55: 1 | G55: =F55*D54 -> 1
B57: LVL 19 | C57: Bottes paysannes | D57: 1 | E57: Coton ancestral | F57: 3 | G57: =F57*D57 -> 3
E58: Feuille magique du tournesol affamé | F58: 1 | G58: =F58*D57 -> 1

Sheet Forgeron
B2: RUSH FORGERON
C3: Item craft | D3: Q | E3: Recettes | F3: Q | G3: Quantité total
B4: LVL 1 à 10 | I4: Liste ingrédients
B5: LVL 1 | C5: Couteau de chasse | D5: 13 | E5: Poudre de perlinpainpain | F5: 3 | G5: =D5*F5 -> 39 | I5: Poudre de perlinpainpain | J5: =SUMIF($E$5:$E$38,I5,$G$5:$G$38) -> 39
E6: Laine céleste | F6: 3 | G6: =D5*F6 -> 39 | I6: Laine céleste | J6: =SUMIF($E$5:$E$38,I6,$G$5:$G$38) -> 39
I7: Ferrite | J7: =SUMIF($E$5:$E$38,I7,$G$5:$G$38) -> 3
B8: LVL 5 | C8: Hachette Hévlalav | D8: 1 | E8: Ferrite | F8: 1 | G8: =F8*D8 -> 1 | I8: Cendres éternelles | J8: =SUMIF($E$5:$E$38,I8,$G$5:$G$38) -> 3
E9: Cendres éternelles | F9: 3 | G9: =F9*D8 -> 3 | I9: Os de chafer | J9: =SUMIF($E$5:$E$38,I9,$G$5:$G$38) -> 3
I10: Fer | J10: =SUMIF($E$5:$E$38,I10,$G$5:$G$38) -> 1
B11: LVL 6 | C11: Marteau de Boisaille | D11: 1 | E11: Os de chafer | F11: 3 | G11: =F11*D11 -> 3 | I11: Plume chimérique | J11: =SUMIF($E$5:$E$38,I11,$G$5:$G$38) -> 30
E12: Fer | F12: 1 | G12: =F12*D11 -> 1 | I12: Bois de Frene | J12: =SUMIF($E$5:$E$38,I12,$G$5:$G$38) -> 30
I13: Bave de rose démoniaque | J13: =SUMIF($E$5:$E$38,I13,$G$5:$G$38) -> 2
B14: LVL 7 | C14: Epee de Boisaille | D14: 10 | E14: Plume chimérique | F14: 3 | G14: =F14*D14 -> 30 | I14: Plume de piou rose | J14: =SUMIF($E$5:$E$38,I14,$G$5:$G$38) -> 6
E15: Bois de Frene | F15: 3 | G15: =F15*D14 -> 30 | I15: Ecaille poisseuse | J15: =SUMIF($E$5:$E$38,I15,$G$5:$G$38) -> 2
I16: Petale de Tournesol sauvage | J16: =SUMIF($E$5:$E$38,I16,$G$5:$G$38) -> 9
B17: LVL 10 à 20 | I17: Crème à bronzer | J17: =SUMIF($E$5:$E$38,I17,$G$5:$G$38) -> 3
B18: LVL 12 | C18: Leurnettes | D18: 1 | E18: Bave de rose démoniaque | F18: 1 | G18: =F18*D18 -> 1 | I18: Fleur de pissenlit diabolique | J18: =SUMIF($E$5:$E$38,I18,$G$5:$G$38) -> 3
E19: Plume de piou rose | F19: 3 | G19: =F19*D18 -> 3 | I19: Patte d'Arakne magique | J19: =SUMIF($E$5:$E$38,I19,$G$5:$G$38) -> 1
I20: Bec du tofu | J20: =SUMIF($E$5:$E$38,I20,$G$5:$G$38) -> 3
B21: LVL 13 | C21: La queue | D21: 2 | E21: Ecaille poisseuse | F21: 1 | G21: =F21*D21 -> 2 | I21: Plume piou vert | J21: =SUMIF($E$5:$E$38,I21,$G$5:$G$38) -> 3
E22: Petale de Tournesol sauvage | F22: 3 | G22: =F22*D21 -> 6 | I22: Plume de piou rouge | J22: =SUMIF($E$5:$E$38,I22,$G$5:$G$38) -> 3
B24: LVL 15 | C24: Maillet Aclou | D24: 1 | E24: Ferrite | F24: 2 | G24: =F24*D24 -> 2
E25: Crème à bronzer | F25: 3 | G25: =F25*D24 -> 3
B27: LVL 16 | C27: Cerberus | D27: 1 | E27: Fleur de pissenlit diabolique | F27: 3 | G27: =F27*D27 -> 3
E28: Plume de piou rose | F28: 3 | G28: =F28*D27 -> 3
B30: LVL 17 | C30: Epee d'Ha | D30: 1 | E30: Patte d'Arakne magique | F30: 1 | G30: =F30*D30 -> 1
E31: Bec du tofu | F31: 3 | G31: =F31*D30 -> 3
B33: LVL 18 | C33: Koupe-koupe | D33: 1 | E33: Plume piou vert | F33: 3 | G33: =F33*D33 -> 3
E34: Petale de Tournesol sauvage | F34: 3 | G34: =F34*D33 -> 3
B36: LVL 19 | C36: Marteau d'Ivoire | D36: 1 | E36: Bave de rose démoniaque | F36: 1 | G36: =F36*D36 -> 1
E37: Plume de piou rouge | F37: 3 | G37: =F37*D36 -> 3

Sheet Sculpteur
B2: RUSH SCULPTEUR
C3: Item craft | D3: Q | E3: Recettes | F3: Q | G3: Quantité total
B4: LVL 1 à 10 | I4: Liste ingrédients
B5: LVL 1 | C5: Demi-baguette | D5: 4 | E5: Pétale Diaphane | F5: 3 | G5: =D5*F5 -> 12 | I5: Pétale Diaphane | J5: =SUMIF($E$5:$E$44,I5,$G$5:$G$44) -> 12
E6: Laine céleste | F6: 3 | G6: =D5*F6 -> 12 | I6: Laine céleste | J6: =SUMIF($E$5:$E$44,I6,$G$5:$G$44) -> 12
I7: Queue de chapardam | J7: =SUMIF($E$5:$E$44,I7,$G$5:$G$44) -> 9
B8: LVL 3 | C8: Baguette de boisaille | D8: 3 | E8: Queue de chapardam | F8: 3 | G8: =D8*F8 -> 9 | I8: Fer | J8: =SUMIF($E$5:$E$44,I8,$G$5:$G$44) -> 4
E9: Fer | F9: 1 | G9: =D8*F9 -> 3 | I9: Bave de bouftou | J9: =SUMIF($E$5:$E$44,I9,$G$5:$G$44) -> 6
I10: Orties | J10: =SUMIF($E$5:$E$44,I10,$G$5:$G$44) -> 9
B11: LVL 5 | C11: Arc Hade | D11: 2 | E11: Bave de bouftou | F11: 3 | G11: =D11*F11 -> 6 | I11: Peau de Gloot | J11: =SUMIF($E$5:$E$44,I11,$G$5:$G$44) -> 3
E12: Orties | F12: 3 | G12: =D11*F12 -> 6 | I12: Cendres éternelles | J12: =SUMIF($E$5:$E$44,I12,$G$5:$G$44) -> 3
I13: Feu intérieur | J13: =SUMIF($E$5:$E$44,I13,$G$5:$G$44) -> 6
B14: LVL 7 | C14: Arc de boisaille | D14: 1 | E14: Peau de Gloot | F14: 3 | G14: =D14*F14 -> 3 | I14: Os de chafer | J14: =SUMIF($E$5:$E$44,I14,$G$5:$G$44) -> 3
E15: Orties | F15: 3 | G15: =D14*F15 -> 3 | I15: Volve d'Aminite | J15: =SUMIF($E$5:$E$44,I15,$G$5:$G$44) -> 3
I16: Oeil d'Arakmuté | J16: =SUMIF($E$5:$E$44,I16,$G$5:$G$44) -> 3
B17: LVL 8 | C17: Baton Kouyu | D17: 1 | E17: Cendres éternelles | F17: 3 | G17: =D17*F17 -> 3 | I17: Peau de larve jaune | J17: =SUMIF($E$5:$E$44,I17,$G$5:$G$44) -> 12
E18: Fer | F18: 1 | G18: =D17*F18 -> 1 | I18: Bois vermoulu | J18: =SUMIF($E$5:$E$44,I18,$G$5:$G$44) -> 1
I19: Poils d'arakne malade | J19: =SUMIF($E$5:$E$44,I19,$G$5:$G$44) -> 3
B20: LVL 9 | C20: Baton de boisaille | D20: 1 | E20: Feu intérieur | F20: 3 | G20: =D20*F20 -> 3 | I20: Bave de rose démoniaque | J20: =SUMIF($E$5:$E$44,I20,$G$5:$G$44) -> 3
E21: Os de chafer | F21: 3 | G21: =D20*F21 -> 3 | I21: Graine de tournesol | J21: =SUMIF($E$5:$E$44,I21,$G$5:$G$44) -> 1
I22: Feuille de tournesol sauvage | J22: =SUMIF($E$5:$E$44,I22,$G$5:$G$44) -> 1
B23: LVL 10 à 20 | I23: Pattes d'arakne | J23: =SUMIF($E$5:$E$44,I23,$G$5:$G$44) -> 9
B24: LVL 10 | C24: Baguette de Feu Follesque | D24: 1 | E24: Feu intérieur | F24: 3 | G24: =D24*F24 -> 3 | I24: Plume de piou jaune | J24: =SUMIF($E$5:$E$44,I24,$G$5:$G$44) -> 9
E25: Volve d'Aminite | F25: 3 | G25: =D24*F25 -> 3 | I25: Crème à bronzer | J25: =SUMIF($E$5:$E$44,I25,$G$5:$G$44) -> 3
I26: Langue d'épouvanteur | J26: =SUMIF($E$5:$E$44,I26,$G$5:$G$44) -> 3
B27: LVL 11 | C27: Baguette de Glace | D27: 1 | E27: Oeil d'Arakmuté | F27: 3 | G27: =D27*F27 -> 3
E28: Peau de larve jaune | F28: 3 | G28: =D27*F28 -> 3
B30: LVL 12 | C30: Baton Feuillu | D30: 1 | E30: Bois vermoulu | F30: 1 | G30: =D30*F30 -> 1
E31: Poils d'arakne malade | F31: 3 | G31: =D30*F31 -> 3
B33: LVL 13 | C33: Arc Holic | D33: 3 | E33: Bave de rose démoniaque | F33: 1 | G33: =D33*F33 -> 3
E34: Peau de larve jaune | F34: 3 | G34: =D33*F34 -> 9
B36: LVL 15 | C36: La plantouze des champs | D36: 1 | E36: Graine de tournesol | F36: 1 | G36: =D36*F36 -> 1
E37: Feuille de tournesol sauvage | F37: 1 | G37: =D36*F37 -> 1
E38: , | I38: ,
B39: LVL 16 | C39: Baton spirituel | D39: 3 | E39: Pattes d'arakne | F39: 3 | G39: =D39*F39 -> 9
E40: Plume de piou jaune | F40: 3 | G40: =D39*F40 -> 9
B42: LVL 19 | C42: Arc déroutant | D42: 1 | E42: Crème à bronzer | F42: 3 | G42: =D42*F42 -> 3
E43: Langue d'épouvanteur | F43: 3 | G43: =D42*F43 -> 3

Sheet Façonneur
B2: RUSH FACONNEUR
C3: Item craft | D3: Q | E3: Recettes | F3: Q | G3: Quantité total
B4: LVL 1 à 200 | I4: Liste ingrédients
B5: LVL 1-5 | C5: Bouclier du bucheron | D5: 13 | E5: Planche aglomérée | F5: 1 | G5: =F5*$D$5 -> 13 | I5: Planche aglomérée | J5: =SUMIF($E$5:$E$13,I5,$G$5:$G$13) -> 45
E6: Eau ferrugineuse | F6: 1 | G6: =F6*$D$5 -> 13 | I6: Eau ferrugineuse | J6: =SUMIF($E$5:$E$13,I6,$G$5:$G$13) -> 13
I7: Pétale Diaphane | J7: =SUMIF($E$5:$E$13,I7,$G$5:$G$13) -> 18
B8: LVL 5-10 | C8: Bouclier du tournesol sauvage | D8: 9 | E8: Planche aglomérée | F8: 1 | G8: =F8*$D$8 -> 9 | I8: Poils d'arakne malade | J8: =SUMIF($E$5:$E$13,I8,$G$5:$G$13) -> 92
E9: Pétale Diaphane | F9: 2 | G9: =F9*$D$8 -> 18
B11: LVL 10-20 | C11: Bouclier Volant | D11: 23 | E11: Planche aglomérée | F11: 1 | G11: =F11*$D$11 -> 23
E12: Poils d'arakne malade | F12: 4 | G12: =F12*$D$11 -> 92

Sheet Bricoleur
B2: RUSH BRICOLEUR
C3: Item craft | D3: Q | E3: Recettes | F3: Q | G3: Quantité total | I3: Liste ingrédients
B4: LVL 1 à 10 | I4: Lvl 1 à 10
B5: LVL 1 | C5: Clef de la Crypte de Kardorim | D5: 50 | E5: Relique Incarnam | F5: 3 | G5: 150 | I5: Relique Incarnam | J5: =SUMIF($E$5:$E$7,I5,$G$5:$G$7) -> 150
E6: Cendres eternelles | F6: 5 | G6: 250 | I6: Cendres eternelles | J6: =SUMIF($E$5:$E$7,I6,$G$5:$G$7) -> 250
B8: LVL 10 à 20 | I8: Lvl 10 à 20
B9: LVL 10
B12: LVL 11
B15: LVL 12
B18: LVL 13
B21: LVL 14
B24: LVL 15
B27: LVL 16
B30: LVL 17
B33: LVL 18
B36: LVL 19

Sheet Chasseur
B2: RUSH CHASSEUR
C3: Item craft | D3: Q | E3: Recettes | F3: Q | G3: Quantité total
B4: LVL 1 à 200
B5: LVL 1 à 10 | C5: Bouillon de Chair | D5: 77 | E5: Chair intangible | F5: 1 | G5: 77
B8: LVL 10 à 20 | C8: Boulette de Viande | D8: 244 | E8: Boulettes de viandes | F8: 1 | G8: 244
B11: LVL 20 à 30 | C11: Beignet Astrubien | D11: 198 | E11: Viandes faisandées | F11: 1 | G11: 198
E12: Blé | F12: 1 | G12: 198
B14: LVL 30 à 40 | C14: Roulade de Carne | D14: 182 | E14: Viandes Frelaté | F14: 1 | G14: 182
E15: Blé | F15: 1 | G15: 182
B17: LVL 40 à 50 | C17: Papillote au Citron | D17: 176 | E17: Viande minérales | F17: 1 | G17: 176
E18: Orges | F18: 1 | G18: 176
E19: Citron | F19: 1 | G19: 176
B21: LVL 50 à 60 | C21: Salade Sufokienne | D21: 171 | E21: Viandes Tendres | F21: 1 | G21: 171
E22: orges | F22: 1 | G22: 171
E23: Citron | F23: 1 | G23: 171
B25: LVL 60 à 70 | C25: Friture Amaknéenne | D25: 168 | E25: Viandes ladre | F25: 1 | G25: 168
E26: Avoine | F26: 1 | G26: 168
E27: Huiles a frire | F27: 1 | G27: 168
B29: LVL 70 à 80 | C29: Parmentier à l'Oignon | D29: 166 | E29: Viande avarié | F29: 1 | G29: 166
E30: Avoine | F30: 1 | G30: 166
E31: oignon | F31: 1 | G31: 166
B33: LVL 80 à 90 | C33: Terrine Bontarienne | D33: 164 | E33: Viande sanguinolente | F33: 1 | G33: 164
E34: Houblon | F34: 1 | G34: 164
E35: Graisses gelatineuse | F35: 1 | G35: 164
B37: LVL 90 à 100 | C37: Pot-au-feu Goûteux | D37: 163 | E37: Viandes Rassies | F37: 1 | G37: 163
E38: Houblon | F38: 1 | G38: 163
E39: Dose de jus Goutu | F39: 1 | G39: 163
B41: LVL 100 à 110 | C41: Poêlée Paysanne | D41: 162 | E41: Viandes Exsudatives | F41: 1 | G41: 162
E42: Lin | F42: 1 | G42: 162
E43: Aubergines | F43: 1 | G43: 162
B45: LVL 110 à 120 | C45: Pemmican aux Haricots | D45: 162 | E45: Viande Sechées | F45: 1 | G45: 162
E46: Lin | F46: 1 | G46: 162
E47: Haricot | F47: 1 | G47: 162
B49: LVL 120 à 130 | C49: Grillade Brâkmarienne | D49: 161 | E49: Viande saignante | F49: 1 | G49: 161
E50: Seigle | F50: 1 | G50: 161
E51: Cendres eternelles | F51: 1 | G51: 161
B53: LVL 130 à 140 | C53: Marinade Sucrée-Salée | D53: 160 | E53: Viandes persillés | F53: 1 | G53: 160
E54: Seigle | F54: 1 | G54: 160
E55: Cerise | F55: 1 | G55: 160
B57: LVL 140 à 150 | C57: Boudin Noir | D57: 160 | E57: Viandes macérée | F57: 1 | G57: 160
E58: Malt | F58: 1 | G58: 160
E59: Sang de scorbute | F59: 1 | G59: 160
B61: LVL 150 à 160 | C61: Daube aux Épices | D61: 159 | E61: Viande Brousse | F61: 1 | G61: 159
E62: Malt | F62: 1 | G62: 159
E63: Epices | F63: 1 | G63: 159
B65: LVL 160 à 170 | C65: Mijoté Récréatif | D65: 159 | E65: Viande Fraiche | F65: 1 | G65: 159
E66: Chanvres | F66: 2 | G66: 318
E67: Eau potable | F67: 1 | G67: 159
B69: LVL 170 à 180 | C69: Filet Mignon | D69: 159 | E69: Viande Maigre | F69: 1 | G69: 159
E70: Chanvres | F70: 2 | G70: 318
E71: Poudre de perlinpainpain | F71: 1 | G71: 159
B73: LVL 180 à 190 | C73: Quenelle Tijan | D73: 158 | E73: Viande Gâtée | F73: 1 | G73: 158
E74: Maïs | F74: 2 | G74: 316
E75: Poudre de perlinpainpain | F75: 1 | G75: 158
B77: LVL 190 à 200 | C77: Andouillette de Gibier | D77: 158 | E77: Viandes Noires | F77: 1 | G77: 158
E78: Maïs | F78: 2 | G78: 316
E79: Résine | F79: 1 | G79: 158

Sheet Alchi
B2: RUSH Alchi
C3: Item craft | D3: Q | E3: Recettes | F3: Q | G3: Quantité total
B4: LVL 1 à 200
B5: LVL 1 à 10 | C5: Récolte de 595 Orties
B8: LVL 10 à 20 | C8: Potion de rappel | D8: 119 | E8: Orties | F8: 5 | G8: 595
E9: Eau | F9: 1 | G9: 119
B11: LVL 20 à 30 | C11: Récolte Sauge et Orties
B14: LVL 30 à 40 | C14: Potion de souvenirs | D14: XXX | E14: Sauges | F14: 10
E15: Orties | F15: 20
B17: LVL 40 à 50
B21: LVL 50 à 60
B25: LVL 60 à 70

Sheet Paysan
B2: RUSH Paysan
C3: Item craft | D3: Q | E3: Recettes | F3: Q | G3: Quantité total
B4: LVL 1 à 200
B5: LVL 1 à 10 | C5: Récolte de Blé
B8: LVL 10 à 20 | C8: Michettes | D8: 507 | E8: Blé | F8: 5 | G8: =D8*F8 -> 2535
B11: LVL 20 à 30 | C11: Récolte Orge
B14: LVL 30 à 40 | C14: Fougasse | D14: 367 | E14: Orges | F14: 5 | G14: =F14*D14 -> 1835
E15: Orties | F15: 1 | G15: =F15*D14 -> 367
B17: LVL 40 à 50 | C17: Récolte Avoine
B21: LVL 50 à 60
B25: LVL 60 à 70

Sheet Mineur
B2: RUSH Mineur
C3: Item craft | D3: Q | E3: Recettes | F3: Q | G3: Quantité total
B4: LVL 1 à 200
B5: LVL 1 à 10 | C5: Récolte de Fer
B8: LVL 10 à 20 | C8: Eau Ferrugineuse | D8: 24 | E8: Fer | F8: 10 | G8: =D8*F8 -> 240
E9: Eau | F9: 10 | G9: =D8*F9 -> 240
B11: LVL 20 à 30 | C11: Récolte Fer+Cuivre
B14: LVL 30 à 40 | C14: Aluminite | D14: 171 | E14: Fer | F14: 10 | G14: =F14*D14 -> 1710
E15: Cuivre | F15: 10 | G15: =F15*D14 -> 1710
B17: LVL 40 à 50 | C17: Récolte Fer + Cuivre + Bronze
B21: LVL 50 à 60 | C21: Ebonite | D21: 134 | E21: Fer | F21: 10 | G21: =$D$21*F21 -> 1340
E22: Cuivre | F22: 10 | G22: =$D$21*F22 -> 1340
E23: Bronze | F23: 10 | G23: =$D$21*F23 -> 1340
B25: LVL 60 à 70

Sheet Bucheron
B2: RUSH Bucheron
C3: Item craft | D3: Q | E3: Recettes | F3: Q | G3: Quantité total
B4: LVL 1 à 200
B5: LVL 1 à 20 | C5: Récolte de Frene | H5: } | I5: Récolter 1270 Frene et chataignier au minimum
B8: LVL 20 à 30 | C8: Récolte de Chataignier
B11: LVL 30-35 | C11: Planche contreplaquée | D11: 127 | E11: Frene | F11: 10 | G11: =D11*F11 -> 1270
E12: Chataignier | F12: 10 | G12: =D11*F12 -> 1270
B13: LVL 35-40 | C13: Substrat de buisson | D13: 127 | E13: Planche contreplaquée | F13: 1 | G13: =F13*D13 -> 127
E14: Potion de souvenir | F14: 1 | G14: =F14*D13 -> 127
B15: LVL 20 à 30
B18: LVL 30 à 40 | G18: =F18*D18 -> 0
G19: =F19*D18 -> 0
B21: LVL 40 à 50 | C21: Récolte Fer + Cuivre + Bronze
B25: LVL 50 à 60 | C25: Ebonite | D25: 134 | E25: Fer | F25: 10 | G25: =$D$25*F25 -> 1340
E26: Cuivre | F26: 10 | G26: =$D$25*F26 -> 1340
E27: Bronze | F27: 10 | G27: =$D$25*F27 -> 1340
B29: LVL 60 à 70

Sheet Pecheur
B2: RUSH Pecheur
C3: Item craft | D3: Q | E3: Recettes | F3: Q | G3: Quantité total
B4: LVL 1 à 200
B5: Plus facile pour up, Pecher et puis craft la récolte
D18: Garder tous les poissons rares, servira pour créer des jus de poissons (pouvant rapporter gros )
