Workbook

Sheet Données_2020
A1: Date | B1: Colonne1 | C1: Ligne-1 | D1: Equipe | E1: membre 1 | F1: membre 2 | G1: membre 3 | H1: membre 4 | I1: Mois
A2: 43921 | B2: =MATCH([1]!Tableau5[Date],[1]!Tableau5[Date],0) -> 1 | C2: =ROW([1]!Tableau5[[#This Row],[Date]])-1 -> 1 | D2: 1 | E2: L | F2: Inter2 | G2: Inter4 | I2: =MONTH(A:A) -> 3
A3: 43921 | B3: =MATCH([1]!Tableau5[Date],[1]!Tableau5[Date],0) -> 2 | C3: =ROW([1]!Tableau5[[#This Row],[Date]])-1 -> 2 | D3: 1 | E3: L | F3: Inter4 | G3: Inter2 | I3: =MONTH(A:A) -> 3
A4: 43920 | B4: =MATCH([1]!Tableau5[Date],[1]!Tableau5[Date],0) -> 2 | C4: =ROW([1]!Tableau5[[#This Row],[Date]])-1 -> 3 | D4: 1 | E4: L | F4: Inter2 | G4: C | I4: =MONTH(A:A) -> 3
A5: 43916 | B5: =MATCH([1]!Tableau5[Date],[1]!Tableau5[Date],0) -> 4 | C5: =ROW([1]!Tableau5[[#This Row],[Date]])-1 -> 4 | D5: 1 | E5: L | F5: Inter2 | G5: C | I5: =MONTH(A:A) -> 3
A6: 43916 | B6: =MATCH([1]!Tableau5[Date],[1]!Tableau5[Date],0) -> 4 | C6: =ROW([1]!Tableau5[[#This Row],[Date]])-1 -> 5 | D6: 1 | E6: L | F6: Inter2 | G6: C | I6: =MONTH(A:A) -> 3
A7: 43915 | B7: =MATCH([1]!Tableau5[Date],[1]!Tableau5[Date],0) -> 6 | C7: =ROW([1]!Tableau5[[#This Row],[Date]])-1 -> 6 | D7: 1 | E7: L | F7: Inter2 | G7: C | I7: =MONTH(A:A) -> 3
A8: 43915 | B8: =MATCH([1]!Tableau5[Date],[1]!Tableau5[Date],0) -> 6 | C8: =ROW([1]!Tableau5[[#This Row],[Date]])-1 -> 7 | D8: 1 | E8: L | F8: C | G8: Inter2 | I8: =MONTH(A:A) -> 3
A9: 43915 | B9: =MATCH([1]!Tableau5[Date],[1]!Tableau5[Date],0) -> 8 | C9: =ROW([1]!Tableau5[[#This Row],[Date]])-1 -> 8 | D9: 1 | E9: L | F9: Inter2 | G9: C | I9: =MONTH(A:A) -> 3
A10: 43914 | B10: =MATCH([1]!Tableau5[Date],[1]!Tableau5[Date],0) -> 9 | C10: =ROW([1]!Tableau5[[#This Row],[Date]])-1 -> 9 | D10: 1 | E10: L | F10: C | G10: Inter2 | I10: =MONTH(A:A) -> 3
A11: 43914 | B11: =MATCH([1]!Tableau5[Date],[1]!Tableau5[Date],0) -> 9 | C11: =ROW([1]!Tableau5[[#This Row],[Date]])-1 -> 10 | D11: 1 | E11: L | F11: C | G11: Inter2 | I11: =MONTH(A:A) -> 3
A12: 43914 | B12: =MATCH([1]!Tableau5[Date],[1]!Tableau5[Date],0) -> 11 | C12: =ROW([1]!Tableau5[[#This Row],[Date]])-1 -> 11 | D12: 1 | E12: L | F12: Inter2 | G12: C | I12: =MONTH(A:A) -> 3
A13: 43914 | B13: =MATCH([1]!Tableau5[Date],[1]!Tableau5[Date],0) -> 12 | C13: =ROW([1]!Tableau5[[#This Row],[Date]])-1 -> 12 | D13: 1 | E13: L | F13: Inter2 | G13: C | I13: =MONTH(A:A) -> 3
... A51: 43878 | B51: =MATCH([1]!Tableau5[Date],[1]!Tableau5[Date],0) -> 47 | C51: =ROW([1]!Tableau5[[#This Row],[Date]])-1 -> 50 | D51: 1 | E51: L | F51: M | G51: C | I51: =MONTH(A:A) -> 2
A52: 43873 | B52: =MATCH([1]!Tableau5[Date],[1]!Tableau5[Date],0) -> 47 | C52: =ROW([1]!Tableau5[[#This Row],[Date]])-1 -> 51 | D52: 1 | E52: L | F52: M | G52: Cz | H52: C | I52: =MONTH(A:A) -> 2
A53: 43873 | B53: =MATCH([1]!Tableau5[Date],[1]!Tableau5[Date],0) -> 52 | C53: =ROW([1]!Tableau5[[#This Row],[Date]])-1 -> 52 | D53: 1 | E53: L | F53: Cz | G53: M | H53: C | I53: =MONTH(A:A) -> 2
A54: 43872 | B54: =MATCH([1]!Tableau5[Date],[1]!Tableau5[Date],0) -> 52 | C54: =ROW([1]!Tableau5[[#This Row],[Date]])-1 -> 53 | D54: 1 | E54: L | F54: Cz | G54: M | I54: =MONTH(A:A) -> 2
A55: 43871 | B55: =MATCH([1]!Tableau5[Date],[1]!Tableau5[Date],0) -> 54 | C55: =ROW([1]!Tableau5[[#This Row],[Date]])-1 -> 54 | D55: 1 | E55: L | F55: M | G55: Cz | I55: =MONTH(A:A) -> 2
A56: 43871 | B56: =MATCH([1]!Tableau5[Date],[1]!Tableau5[Date],0) -> 55 | C56: =ROW([1]!Tableau5[[#This Row],[Date]])-1 -> 55 | D56: 1 | E56: L | F56: M | G56: Cz | I56: =MONTH(A:A) -> 2
A57: 43868 | B57: =MATCH([1]!Tableau5[Date],[1]!Tableau5[Date],0) -> 55 | C57: =ROW([1]!Tableau5[[#This Row],[Date]])-1 -> 56 | D57: 1 | E57: M | F57: C | G57: Cz | I57: =MONTH(A:A) -> 2
A58: 43868 | B58: =MATCH([1]!Tableau5[Date],[1]!Tableau5[Date],0) -> 57 | C58: =ROW([1]!Tableau5[[#This Row],[Date]])-1 -> 57 | D58: 1 | E58: C | F58: Cz | G58: M | I58: =MONTH(A:A) -> 2
A59: 43867 | B59: =MATCH([1]!Tableau5[Date],[1]!Tableau5[Date],0) -> 57 | C59: =ROW([1]!Tableau5[[#This Row],[Date]])-1 -> 58 | D59: 1 | E59: L | F59: M | G59: Cz | I59: =MONTH(A:A) -> 2
A60: 43866 | B60: =MATCH([1]!Tableau5[Date],[1]!Tableau5[Date],0) -> 59 | C60: =ROW([1]!Tableau5[[#This Row],[Date]])-1 -> 59 | D60: 1 | E60: L | F60: Cz | G60: M | I60: =MONTH(A:A) -> 2
A61: 43866 | B61: =MATCH([1]!Tableau5[Date],[1]!Tableau5[Date],0) -> 59 | C61: =ROW([1]!Tableau5[[#This Row],[Date]])-1 -> 60 | D61: 1 | E61: L | F61: M | G61: Cz | I61: =MONTH(A:A) -> 2
A62: 43865 | B62: =MATCH([1]!Tableau5[Date],[1]!Tableau5[Date],0) -> 61 | C62: =ROW([1]!Tableau5[[#This Row],[Date]])-1 -> 61 | D62: 1 | E62: C | F62: M | G62: Cz | I62: =MONTH(A:A) -> 2
A63: 43864 | B63: =MATCH([1]!Tableau5[Date],[1]!Tableau5[Date],0) -> 62 | C63: =ROW([1]!Tableau5[[#This Row],[Date]])-1 -> 62 | D63: 1 | E63: Cz | F63: M | G63: C | I63: =MONTH(A:A) -> 2
A64: 43864 | B64: =MATCH([1]!Tableau5[Date],[1]!Tableau5[Date],0) -> 62 | C64: =ROW([1]!Tableau5[[#This Row],[Date]])-1 -> 63 | D64: 1 | E64: Cz | F64: C | G64: M | I64: =MONTH(A:A) -> 2
A65: 43864 | B65: =MATCH([1]!Tableau5[Date],[1]!Tableau5[Date],0) -> 64 | C65: =ROW([1]!Tableau5[[#This Row],[Date]])-1 -> 64 | D65: 1 | E65: M | F65: Cz | G65: C | I65: =MONTH(A:A) -> 2
... A81: 43852 | B81: =MATCH([1]!Tableau5[Date],[1]!Tableau5[Date],0) -> 80 | C81: =ROW([1]!Tableau5[[#This Row],[Date]])-1 -> 80 | D81: 1 | E81: L | F81: M | G81: Cz | I81: =MONTH(A:A) -> 1

Sheet Analyse_2020
B1: Annuel | C1: Janvier | E1: 1 | F1: Février | G1: Février | H1: 2 | I1: Mars | J1: Février | K1: 3
B2: Nbre jours interventions différents | C2: Nbre jours interventions différents | F2: Nbre jours interventions différents | I2: Nbre jours interventions différents
A3: L | B3: =C3+F3 -> 18.333333 | C3: =SUMPRODUCT((MONTH(Tableau5[Date])=E$1)*(1/COUNTIF(Tableau5[Date],Tableau5[Date]))*(Tableau5[[membre 1]:[membre 4]]=$A3)) -> 4.3333333 | F3: =SUMPRODUCT((MONTH(Tableau5[Date])=H$1)*(1/COUNTIF(Tableau5[Date],Tableau5[Date]))*(Tableau5[[membre 1]:[membre 4]]=Analyse_2020!$A3)) -> 14 | I3: =SUMPRODUCT((MONTH(Tableau5[Date])=K$1)*(1/COUNTIF(Tableau5[Date],Tableau5[Date]))*(Tableau5[[membre 1]:[membre 4]]=Analyse_2020!$A3)) -> 6
A4: Cz | B4: =C4+F4 -> 21 | C4: =SUMPRODUCT((MONTH(Tableau5[Date])=E$1)*(1/COUNTIF(Tableau5[Date],Tableau5[Date]))*(Tableau5[[membre 1]:[membre 4]]=Analyse_2020!$A4)) -> 8 | F4: =SUMPRODUCT((MONTH(Tableau5[Date])=H$1)*(1/COUNTIF(Tableau5[Date],Tableau5[Date]))*(Tableau5[[membre 1]:[membre 4]]=Analyse_2020!$A4)) -> 13 | I4: =SUMPRODUCT((MONTH(Tableau5[Date])=K$1)*(1/COUNTIF(Tableau5[Date],Tableau5[Date]))*(Tableau5[[membre 1]:[membre 4]]=Analyse_2020!$A4)) -> 8
A5: C | B5: =C5+F5 -> 9.6666667 | C5: =SUMPRODUCT((MONTH(Tableau5[Date])=E$1)*(1/COUNTIF(Tableau5[Date],Tableau5[Date]))*(Tableau5[[membre 1]:[membre 4]]=Analyse_2020!$A5)) -> 3.6666667 | F5: =SUMPRODUCT((MONTH(Tableau5[Date])=H$1)*(1/COUNTIF(Tableau5[Date],Tableau5[Date]))*(Tableau5[[membre 1]:[membre 4]]=Analyse_2020!$A5)) -> 6 | I5: =SUMPRODUCT((MONTH(Tableau5[Date])=K$1)*(1/COUNTIF(Tableau5[Date],Tableau5[Date]))*(Tableau5[[membre 1]:[membre 4]]=Analyse_2020!$A5)) -> 5
A6: M | B6: =C6+F6 -> 24 | C6: =SUMPRODUCT((MONTH(Tableau5[Date])=E$1)*(1/COUNTIF(Tableau5[Date],Tableau5[Date]))*(Tableau5[[membre 1]:[membre 4]]=Analyse_2020!$A6)) -> 7 | F6: =SUMPRODUCT((MONTH(Tableau5[Date])=H$1)*(1/COUNTIF(Tableau5[Date],Tableau5[Date]))*(Tableau5[[membre 1]:[membre 4]]=Analyse_2020!$A6)) -> 17 | I6: =SUMPRODUCT((MONTH(Tableau5[Date])=K$1)*(1/COUNTIF(Tableau5[Date],Tableau5[Date]))*(Tableau5[[membre 1]:[membre 4]]=Analyse_2020!$A6)) -> 7
A7: Total | B7: =SUMPRODUCT((1/COUNTIF(Données_2020!A2:A81,Tableau5[Date]))) -> 38 | C7: =SUMPRODUCT((MONTH(Tableau5[Date])=E$1)*(1/COUNTIF(Tableau5[Date],Tableau5[Date]))*(Tableau5[Equipe]=1))+SUMPRODUCT((MONTH(Tableau5[Date])=E$1)*(1/COUNTIF(Tableau5[Date],Tableau5[Date]))*(Tableau5[Equipe]=2)) -> 8 | F7: =SUMPRODUCT((MONTH(Tableau5[Date])=H$1)*(1/COUNTIF(Tableau5[Date],Tableau5[Date]))*(Tableau5[Equipe]=1))+SUMPRODUCT((MONTH(Tableau5[Date])=H$1)*(1/COUNTIF(Tableau5[Date],Tableau5[Date]))*(Tableau5[Equipe]=2)) -> 17 | I7: =SUMPRODUCT((MONTH(Tableau5[Date])=K$1)*(1/COUNTIF(Tableau5[Date],Tableau5[Date]))*(Tableau5[Equipe]=1))+SUMPRODUCT((MONTH(Tableau5[Date])=K$1)*(1/COUNTIF(Tableau5[Date],Tableau5[Date]))*(Tableau5[Equipe]=2)) -> 13
B9: Formule directe tulipe_4 | C9: {=SUMPRODUCT((IF(MATCH(Tableau5[Date],Tableau5[Date],0)=ROW(Tableau5[Date])-1,Tableau5[[membre 1]:[membre 3]],"")=$A3)*(MONTH(Tableau5[Date])=E$1))} -> 4 | F9: {=SUMPRODUCT((IF(MATCH(Tableau5[Date],Tableau5[Date],0)=ROW(Tableau5[Date])-1,Tableau5[[membre 1]:[membre 3]],"")=$A3)*(MONTH(Tableau5[Date])=H$1))} -> 14 | I9: {=SUMPRODUCT((IF(MATCH(Tableau5[Date],Tableau5[Date],0)=ROW(Tableau5[Date])-1,Tableau5[[membre 1]:[membre 3]],"")=$A3)*(MONTH(Tableau5[Date])=K$1))} -> 6
C10: {=SUMPRODUCT((IF(MATCH(Tableau5[Date],Tableau5[Date],0)=ROW(Tableau5[Date])-1,Tableau5[[membre 1]:[membre 3]],"")=$A4)*(MONTH(Tableau5[Date])=E$1))} -> 8 | F10: {=SUMPRODUCT((IF(MATCH(Tableau5[Date],Tableau5[Date],0)=ROW(Tableau5[Date])-1,Tableau5[[membre 1]:[membre 3]],"")=$A4)*(MONTH(Tableau5[Date])=H$1))} -> 13 | I10: {=SUMPRODUCT((IF(MATCH(Tableau5[Date],Tableau5[Date],0)=ROW(Tableau5[Date])-1,Tableau5[[membre 1]:[membre 3]],"")=$A4)*(MONTH(Tableau5[Date])=K$1))} -> 8
C11: {=SUMPRODUCT((IF(MATCH(Tableau5[Date],Tableau5[Date],0)=ROW(Tableau5[Date])-1,Tableau5[[membre 1]:[membre 3]],"")=$A5)*(MONTH(Tableau5[Date])=E$1))} -> 4 | F11: {=SUMPRODUCT((IF(MATCH(Tableau5[Date],Tableau5[Date],0)=ROW(Tableau5[Date])-1,Tableau5[[membre 1]:[membre 3]],"")=$A5)*(MONTH(Tableau5[Date])=H$1))} -> 5 | I11: {=SUMPRODUCT((IF(MATCH(Tableau5[Date],Tableau5[Date],0)=ROW(Tableau5[Date])-1,Tableau5[[membre 1]:[membre 3]],"")=$A5)*(MONTH(Tableau5[Date])=K$1))} -> 5
C12: {=SUMPRODUCT((IF(MATCH(Tableau5[Date],Tableau5[Date],0)=ROW(Tableau5[Date])-1,Tableau5[[membre 1]:[membre 3]],"")=$A6)*(MONTH(Tableau5[Date])=E$1))} -> 7 | F12: {=SUMPRODUCT((IF(MATCH(Tableau5[Date],Tableau5[Date],0)=ROW(Tableau5[Date])-1,Tableau5[[membre 1]:[membre 3]],"")=$A6)*(MONTH(Tableau5[Date])=H$1))} -> 17 | I12: {=SUMPRODUCT((IF(MATCH(Tableau5[Date],Tableau5[Date],0)=ROW(Tableau5[Date])-1,Tableau5[[membre 1]:[membre 3]],"")=$A6)*(MONTH(Tableau5[Date])=K$1))} -> 7
B15: Décompo formule | C15: =SUMPRODUCT((IF(Tableau5[Colonne1]=Tableau5[Ligne-1],Tableau5[[membre 1]:[membre 4]],"")=$A3)*(Tableau5[Mois]=E$1)) -> 0 | F15: 1) tu selectionnes la cel orange (la 1ere de la plage)
C16: =SUMPRODUCT((IF(Tableau5[Colonne1]=Tableau5[Ligne-1],Tableau5[[membre 1]:[membre 4]],"")=$A4)*(Tableau5[Mois]=E$1)) -> 15 | F16: 2) dans la barre de formule tu mets le| à la dernière ) comme si tu voulais rajouter
C17: =SUMPRODUCT((IF(Tableau5[Colonne1]=Tableau5[Ligne-1],Tableau5[[membre 1]:[membre 4]],"")=$A5)*(Tableau5[Mois]=E$1)) -> 9 | F17: 3) tu appuies sur les 3 touches :Ctrl Maj Entrée en simultané , des { } vont se mettre automatiquement
C18: =SUMPRODUCT((IF(Tableau5[Colonne1]=Tableau5[Ligne-1],Tableau5[[membre 1]:[membre 4]],"")=$A6)*(Tableau5[Mois]=E$1)) -> 0 | F18: Ma fonction nessecite une validation matricielle
F19: 4) tu tires vers le bas pour dupliquer , pareil pour les autres mois

Sheet Feuil3
