Workbook

Sheet Feuil1
D2: Janvier | I2: Fevrier | M2: Mars | Q2: Avril | U2: Mai | Z2: Juin | AD2: Juillet | AH2: Aout | AM2: Septembre | AQ2: Octobre | AV2: Novembre | AZ2: Decembre
D3: S1 | E3: S2 | F3: S3 | G3: S4 | H3: S5 | I3: S6 | J3: S7 | K3: S8 | L3: S9 | M3: S10 | N3: S11 | O3: S12 | P3: S13 | Q3: S14 | R3: S15 | S3: S16 | T3: S17 | U3: S18 | V3: S19 | W3: S20 | X3: S21 | Y3: S22 | Z3: S23 | AA3: S24 | AB3: S25 | AC3: S26 | AD3: S27 | AE3: S28 | AF3: S29 | AG3: S30 | AH3: S31 | AI3: S32 | AJ3: S33 | AK3: S34 | AL3: S35 | AM3: S36 | AN3: S37 | AO3: S38 | AP3: S39 | AQ3: S40 | AR3: S41 | AS3: S42 | AT3: S43 | AU3: S44 | AV3: S45 | AW3: S46 | AX3: S47 | AY3: S48 | AZ3: S49 | BA3: S50 | BB3: S51 | BC3: S52
A4: Jardin 3 | B4: planche n° | C4: m²
B5: 1 | C5: 36 | U5: carotte | V5: carotte | W5: carotte | X5: carotte | Y5: carotte | Z5: carotte | AA5: carotte | AB5: carotte | AC5: carotte | AD5: carotte | AE5: carotte | AF5: carotte | AG5: carotte | AH5: carotte | AJ5: laitue | AK5: laitue | AL5: laitue | AM5: laitue | AN5: laitue | AO5: laitue | AP5: laitue | AQ5: laitue | AR5: laitue
B6: 2 | C6: 36 | X6: carotte | Y6: carotte | Z6: carotte | AA6: carotte | AB6: carotte | AC6: carotte | AD6: carotte | AE6: carotte | AF6: carotte | AG6: carotte | AH6: carotte | AI6: carotte | AJ6: carotte | AM6: laitue | AN6: laitue | AO6: laitue | AP6: laitue | AQ6: laitue | AR6: laitue | AS6: laitue | AT6: laitue | AU6: laitue
B7: 3 | C7: 36 | Z7: carotte | AA7: carotte | AB7: carotte | AC7: carotte | AD7: carotte | AE7: carotte | AF7: carotte | AG7: carotte | AH7: carotte | AI7: carotte | AJ7: carotte | AK7: carotte | AL7: carotte
B8: 4 | C8: 36 | AB8: radis | AC8: radis | AD8: radis | AE8: radis | AF8: radis | AH8: laitue | AI8: laitue | AJ8: laitue | AK8: laitue | AL8: laitue | AM8: laitue | AN8: laitue | AO8: laitue | AP8: laitue
B9: 5 | C9: 36 | Y9: radis | Z9: radis | AA9: radis | AB9: radis | AC9: radis | AK9: epinard | AL9: epinard | AM9: epinard | AN9: epinard | AO9: epinard | AP9: epinard | AQ9: epinard | AR9: epinard | AS9: epinard | AT9: epinard | AU9: epinard | AV9: epinard | AW9: epinard
B10: 6 | C10: 36 | U10: laitue | V10: laitue | W10: laitue | X10: laitue | Y10: laitue | Z10: laitue | AA10: laitue | AB10: laitue | AC10: laitue | AI10: carotte | AJ10: carotte | AK10: carotte | AL10: carotte | AM10: carotte | AN10: carotte | AO10: carotte | AP10: carotte | AQ10: carotte | AR10: carotte | AS10: carotte | AT10: carotte | AU10: carotte | AV10: carotte | AW10: carotte | AX10: carotte | AY10: carotte | AZ10: carotte | BA10: carotte | BB10: carotte | BC10: carotte
B11: 7 | C11: 36 | U11: betterave | V11: betterave | W11: betterave | X11: betterave | Y11: betterave | Z11: betterave | AA11: betterave | AB11: betterave | AC11: betterave | AD11: betterave | AJ11: carotte | AK11: carotte | AL11: carotte | AM11: carotte | AN11: carotte | AO11: carotte | AP11: carotte | AQ11: carotte | AR11: carotte | AS11: carotte | AT11: carotte | AU11: carotte | AV11: carotte | AW11: carotte | AX11: carotte | AY11: carotte | AZ11: carotte | BA11: carotte | BB11: carotte | BC11: carotte
B12: 8 | C12: 36 | U12: mesclun | V12: mesclun | W12: mesclun | X12: mesclun | Y12: mesclun | Z12: mesclun | AA12: mesclun | AD12: navet | AE12: navet | AF12: navet | AG12: navet | AH12: navet | AI12: navet | AJ12: navet | AK12: navet | AL12: navet
B13: 9 | C13: 36 | Y13: laitue | Z13: laitue | AA13: laitue | AB13: laitue | AC13: laitue | AD13: laitue | AE13: laitue | AF13: laitue | AG13: laitue | AL13: carotte | AM13: carotte | AN13: carotte | AO13: carotte | AP13: carotte | AQ13: carotte | AR13: carotte | AS13: carotte | AT13: carotte | AU13: carotte | AV13: carotte | AW13: carotte | AX13: carotte | AY13: carotte | AZ13: carotte | BA13: carotte | BB13: carotte | BC13: carotte
B14: 10 | C14: 36 | S14: bande fleuri | T14: bande fleuri | U14: bande fleuri | V14: bande fleuri | W14: bande fleuri | X14: bande fleuri | Y14: bande fleuri | Z14: bande fleuri | AA14: bande fleuri | AB14: bande fleuri | AC14: bande fleuri | AD14: bande fleuri | AE14: bande fleuri | AF14: bande fleuri | AG14: bande fleuri | AH14: bande fleuri | AI14: bande fleuri | AJ14: bande fleuri | AK14: bande fleuri | AL14: bande fleuri | AM14: bande fleuri | AN14: bande fleuri | AO14: bande fleuri | AP14: bande fleuri | AQ14: bande fleuri | AR14: bande fleuri | AS14: bande fleuri | AT14: bande fleuri | AU14: bande fleuri | AV14: bande fleuri | AW14: bande fleuri | AX14: bande fleuri | AY14: bande fleuri | AZ14: bande fleuri | BA14: bande fleuri | BB14: bande fleuri | BC14: bande fleuri
B15: 11 | C15: 36 | V15: navet | W15: navet | X15: navet | Y15: navet | Z15: navet | AA15: navet | AB15: navet | AC15: navet | AD15: navet | AF15: laitue | AG15: laitue | AH15: laitue | AI15: laitue | AJ15: laitue | AK15: laitue | AL15: laitue | AM15: laitue | AN15: laitue

Sheet Feuil2
A1: m² | B1: planche n° | C1: 1ere rotation | D1: n° semaine | E1: 2e rotation | F1: n° semaine | G1: 3e rotation | H1: n° semaine | I1: 4e rotation | J1: n° semaine
A2: 36 | B2: 1 | C2: {=INDEX(Feuil1!$D5:$BC5,,SMALL(IF(IFERROR(MATCH(Feuil1!$D5:$BC5,Feuil1!$D5:$BC5,0),"")=COLUMN($D:$BC)-3, COLUMN($D:$BC)-3,""),1))} -> carotte | D2: {=SMALL(IF(IFERROR(MATCH(Feuil1!$D5:$BC5,Feuil1!$D5:$BC5,0),"")=COLUMN($D:$BC)-3, COLUMN($D:$BC)-3,""),1)} -> 18 | E2: {=IFERROR(INDEX(Feuil1!$D5:$BC5,,SMALL(IF(IFERROR(MATCH(Feuil1!$D5:$BC5,Feuil1!$D5:$BC5,0),"")=COLUMN($D:$BC)-3, COLUMN($D:$BC)-3,""),2)),"")} -> laitue | F2: {=IFERROR(SMALL(IF(IFERROR(MATCH(Feuil1!$D5:$BC5,Feuil1!$D5:$BC5,0),"")=COLUMN($D:$BC)-3, COLUMN($D:$BC)-3,""),2),"")} -> 33 | G2: {=IFERROR(INDEX(Feuil1!$D5:$BC5,,SMALL(IF(IFERROR(MATCH(Feuil1!$D5:$BC5,Feuil1!$D5:$BC5,0),"")=COLUMN($D:$BC)-3, COLUMN($D:$BC)-3,""),3)),"")} | H2: {=IFERROR(SMALL(IF(IFERROR(MATCH(Feuil1!$D5:$BC5,Feuil1!$D5:$BC5,0),"")=COLUMN($D:$BC)-3, COLUMN($D:$BC)-3,""),3),"")} | I2: {=IFERROR(INDEX(Feuil1!$D5:$BC5,,SMALL(IF(IFERROR(MATCH(Feuil1!$D5:$BC5,Feuil1!$D5:$BC5,0),"")=COLUMN($D:$BC)-3, COLUMN($D:$BC)-3,""),4)),"")} | J2: {=IFERROR(SMALL(IF(IFERROR(MATCH(Feuil1!$D5:$BC5,Feuil1!$D5:$BC5,0),"")=COLUMN($D:$BC)-3, COLUMN($D:$BC)-3,""),4),"")}
A3: 36 | B3: 2 | C3: {=INDEX(Feuil1!$D6:$BC6,,SMALL(IF(IFERROR(MATCH(Feuil1!$D6:$BC6,Feuil1!$D6:$BC6,0),"")=COLUMN($D:$BC)-3, COLUMN($D:$BC)-3,""),1))} -> carotte | D3: {=SMALL(IF(IFERROR(MATCH(Feuil1!$D6:$BC6,Feuil1!$D6:$BC6,0),"")=COLUMN($D:$BC)-3, COLUMN($D:$BC)-3,""),1)} -> 21 | E3: {=IFERROR(INDEX(Feuil1!$D6:$BC6,,SMALL(IF(IFERROR(MATCH(Feuil1!$D6:$BC6,Feuil1!$D6:$BC6,0),"")=COLUMN($D:$BC)-3, COLUMN($D:$BC)-3,""),2)),"")} -> laitue | F3: {=IFERROR(SMALL(IF(IFERROR(MATCH(Feuil1!$D6:$BC6,Feuil1!$D6:$BC6,0),"")=COLUMN($D:$BC)-3, COLUMN($D:$BC)-3,""),2),"")} -> 36 | G3: {=IFERROR(INDEX(Feuil1!$D6:$BC6,,SMALL(IF(IFERROR(MATCH(Feuil1!$D6:$BC6,Feuil1!$D6:$BC6,0),"")=COLUMN($D:$BC)-3, COLUMN($D:$BC)-3,""),3)),"")} | H3: {=IFERROR(SMALL(IF(IFERROR(MATCH(Feuil1!$D6:$BC6,Feuil1!$D6:$BC6,0),"")=COLUMN($D:$BC)-3, COLUMN($D:$BC)-3,""),3),"")} | I3: {=IFERROR(INDEX(Feuil1!$D6:$BC6,,SMALL(IF(IFERROR(MATCH(Feuil1!$D6:$BC6,Feuil1!$D6:$BC6,0),"")=COLUMN($D:$BC)-3, COLUMN($D:$BC)-3,""),4)),"")} | J3: {=IFERROR(SMALL(IF(IFERROR(MATCH(Feuil1!$D6:$BC6,Feuil1!$D6:$BC6,0),"")=COLUMN($D:$BC)-3, COLUMN($D:$BC)-3,""),4),"")}
A4: 36 | B4: 3 | C4: {=INDEX(Feuil1!$D7:$BC7,,SMALL(IF(IFERROR(MATCH(Feuil1!$D7:$BC7,Feuil1!$D7:$BC7,0),"")=COLUMN($D:$BC)-3, COLUMN($D:$BC)-3,""),1))} -> carotte | D4: {=SMALL(IF(IFERROR(MATCH(Feuil1!$D7:$BC7,Feuil1!$D7:$BC7,0),"")=COLUMN($D:$BC)-3, COLUMN($D:$BC)-3,""),1)} -> 23 | E4: {=IFERROR(INDEX(Feuil1!$D7:$BC7,,SMALL(IF(IFERROR(MATCH(Feuil1!$D7:$BC7,Feuil1!$D7:$BC7,0),"")=COLUMN($D:$BC)-3, COLUMN($D:$BC)-3,""),2)),"")} | F4: {=IFERROR(SMALL(IF(IFERROR(MATCH(Feuil1!$D7:$BC7,Feuil1!$D7:$BC7,0),"")=COLUMN($D:$BC)-3, COLUMN($D:$BC)-3,""),2),"")} | G4: {=IFERROR(INDEX(Feuil1!$D7:$BC7,,SMALL(IF(IFERROR(MATCH(Feuil1!$D7:$BC7,Feuil1!$D7:$BC7,0),"")=COLUMN($D:$BC)-3, COLUMN($D:$BC)-3,""),3)),"")} | H4: {=IFERROR(SMALL(IF(IFERROR(MATCH(Feuil1!$D7:$BC7,Feuil1!$D7:$BC7,0),"")=COLUMN($D:$BC)-3, COLUMN($D:$BC)-3,""),3),"")} | I4: {=IFERROR(INDEX(Feuil1!$D7:$BC7,,SMALL(IF(IFERROR(MATCH(Feuil1!$D7:$BC7,Feuil1!$D7:$BC7,0),"")=COLUMN($D:$BC)-3, COLUMN($D:$BC)-3,""),4)),"")} | J4: {=IFERROR(SMALL(IF(IFERROR(MATCH(Feuil1!$D7:$BC7,Feuil1!$D7:$BC7,0),"")=COLUMN($D:$BC)-3, COLUMN($D:$BC)-3,""),4),"")}
A5: 36 | B5: 4 | C5: {=INDEX(Feuil1!$D8:$BC8,,SMALL(IF(IFERROR(MATCH(Feuil1!$D8:$BC8,Feuil1!$D8:$BC8,0),"")=COLUMN($D:$BC)-3, COLUMN($D:$BC)-3,""),1))} -> radis | D5: {=SMALL(IF(IFERROR(MATCH(Feuil1!$D8:$BC8,Feuil1!$D8:$BC8,0),"")=COLUMN($D:$BC)-3, COLUMN($D:$BC)-3,""),1)} -> 25 | E5: {=IFERROR(INDEX(Feuil1!$D8:$BC8,,SMALL(IF(IFERROR(MATCH(Feuil1!$D8:$BC8,Feuil1!$D8:$BC8,0),"")=COLUMN($D:$BC)-3, COLUMN($D:$BC)-3,""),2)),"")} -> laitue | F5: {=IFERROR(SMALL(IF(IFERROR(MATCH(Feuil1!$D8:$BC8,Feuil1!$D8:$BC8,0),"")=COLUMN($D:$BC)-3, COLUMN($D:$BC)-3,""),2),"")} -> 31 | G5: {=IFERROR(INDEX(Feuil1!$D8:$BC8,,SMALL(IF(IFERROR(MATCH(Feuil1!$D8:$BC8,Feuil1!$D8:$BC8,0),"")=COLUMN($D:$BC)-3, COLUMN($D:$BC)-3,""),3)),"")} | H5: {=IFERROR(SMALL(IF(IFERROR(MATCH(Feuil1!$D8:$BC8,Feuil1!$D8:$BC8,0),"")=COLUMN($D:$BC)-3, COLUMN($D:$BC)-3,""),3),"")} | I5: {=IFERROR(INDEX(Feuil1!$D8:$BC8,,SMALL(IF(IFERROR(MATCH(Feuil1!$D8:$BC8,Feuil1!$D8:$BC8,0),"")=COLUMN($D:$BC)-3, COLUMN($D:$BC)-3,""),4)),"")} | J5: {=IFERROR(SMALL(IF(IFERROR(MATCH(Feuil1!$D8:$BC8,Feuil1!$D8:$BC8,0),"")=COLUMN($D:$BC)-3, COLUMN($D:$BC)-3,""),4),"")}
A6: 36 | B6: 5 | C6: {=INDEX(Feuil1!$D9:$BC9,,SMALL(IF(IFERROR(MATCH(Feuil1!$D9:$BC9,Feuil1!$D9:$BC9,0),"")=COLUMN($D:$BC)-3, COLUMN($D:$BC)-3,""),1))} -> radis | D6: {=SMALL(IF(IFERROR(MATCH(Feuil1!$D9:$BC9,Feuil1!$D9:$BC9,0),"")=COLUMN($D:$BC)-3, COLUMN($D:$BC)-3,""),1)} -> 22 | E6: {=IFERROR(INDEX(Feuil1!$D9:$BC9,,SMALL(IF(IFERROR(MATCH(Feuil1!$D9:$BC9,Feuil1!$D9:$BC9,0),"")=COLUMN($D:$BC)-3, COLUMN($D:$BC)-3,""),2)),"")} -> epinard | F6: {=IFERROR(SMALL(IF(IFERROR(MATCH(Feuil1!$D9:$BC9,Feuil1!$D9:$BC9,0),"")=COLUMN($D:$BC)-3, COLUMN($D:$BC)-3,""),2),"")} -> 34 | G6: {=IFERROR(INDEX(Feuil1!$D9:$BC9,,SMALL(IF(IFERROR(MATCH(Feuil1!$D9:$BC9,Feuil1!$D9:$BC9,0),"")=COLUMN($D:$BC)-3, COLUMN($D:$BC)-3,""),3)),"")} | H6: {=IFERROR(SMALL(IF(IFERROR(MATCH(Feuil1!$D9:$BC9,Feuil1!$D9:$BC9,0),"")=COLUMN($D:$BC)-3, COLUMN($D:$BC)-3,""),3),"")} | I6: {=IFERROR(INDEX(Feuil1!$D9:$BC9,,SMALL(IF(IFERROR(MATCH(Feuil1!$D9:$BC9,Feuil1!$D9:$BC9,0),"")=COLUMN($D:$BC)-3, COLUMN($D:$BC)-3,""),4)),"")} | J6: {=IFERROR(SMALL(IF(IFERROR(MATCH(Feuil1!$D9:$BC9,Feuil1!$D9:$BC9,0),"")=COLUMN($D:$BC)-3, COLUMN($D:$BC)-3,""),4),"")}
A7: 36 | B7: 6 | C7: {=INDEX(Feuil1!$D10:$BC10,,SMALL(IF(IFERROR(MATCH(Feuil1!$D10:$BC10,Feuil1!$D10:$BC10,0),"")=COLUMN($D:$BC)-3, COLUMN($D:$BC)-3,""),1))} -> laitue | D7: {=SMALL(IF(IFERROR(MATCH(Feuil1!$D10:$BC10,Feuil1!$D10:$BC10,0),"")=COLUMN($D:$BC)-3, COLUMN($D:$BC)-3,""),1)} -> 18 | E7: {=IFERROR(INDEX(Feuil1!$D10:$BC10,,SMALL(IF(IFERROR(MATCH(Feuil1!$D10:$BC10,Feuil1!$D10:$BC10,0),"")=COLUMN($D:$BC)-3, COLUMN($D:$BC)-3,""),2)),"")} -> carotte | F7: {=IFERROR(SMALL(IF(IFERROR(MATCH(Feuil1!$D10:$BC10,Feuil1!$D10:$BC10,0),"")=COLUMN($D:$BC)-3, COLUMN($D:$BC)-3,""),2),"")} -> 32 | G7: {=IFERROR(INDEX(Feuil1!$D10:$BC10,,SMALL(IF(IFERROR(MATCH(Feuil1!$D10:$BC10,Feuil1!$D10:$BC10,0),"")=COLUMN($D:$BC)-3, COLUMN($D:$BC)-3,""),3)),"")} | H7: {=IFERROR(SMALL(IF(IFERROR(MATCH(Feuil1!$D10:$BC10,Feuil1!$D10:$BC10,0),"")=COLUMN($D:$BC)-3, COLUMN($D:$BC)-3,""),3),"")} | I7: {=IFERROR(INDEX(Feuil1!$D10:$BC10,,SMALL(IF(IFERROR(MATCH(Feuil1!$D10:$BC10,Feuil1!$D10:$BC10,0),"")=COLUMN($D:$BC)-3, COLUMN($D:$BC)-3,""),4)),"")} | J7: {=IFERROR(SMALL(IF(IFERROR(MATCH(Feuil1!$D10:$BC10,Feuil1!$D10:$BC10,0),"")=COLUMN($D:$BC)-3, COLUMN($D:$BC)-3,""),4),"")}
A8: 36 | B8: 7 | C8: {=INDEX(Feuil1!$D11:$BC11,,SMALL(IF(IFERROR(MATCH(Feuil1!$D11:$BC11,Feuil1!$D11:$BC11,0),"")=COLUMN($D:$BC)-3, COLUMN($D:$BC)-3,""),1))} -> betterave | D8: {=SMALL(IF(IFERROR(MATCH(Feuil1!$D11:$BC11,Feuil1!$D11:$BC11,0),"")=COLUMN($D:$BC)-3, COLUMN($D:$BC)-3,""),1)} -> 18 | E8: {=IFERROR(INDEX(Feuil1!$D11:$BC11,,SMALL(IF(IFERROR(MATCH(Feuil1!$D11:$BC11,Feuil1!$D11:$BC11,0),"")=COLUMN($D:$BC)-3, COLUMN($D:$BC)-3,""),2)),"")} -> carotte | F8: {=IFERROR(SMALL(IF(IFERROR(MATCH(Feuil1!$D11:$BC11,Feuil1!$D11:$BC11,0),"")=COLUMN($D:$BC)-3, COLUMN($D:$BC)-3,""),2),"")} -> 33 | G8: {=IFERROR(INDEX(Feuil1!$D11:$BC11,,SMALL(IF(IFERROR(MATCH(Feuil1!$D11:$BC11,Feuil1!$D11:$BC11,0),"")=COLUMN($D:$BC)-3, COLUMN($D:$BC)-3,""),3)),"")} | H8: {=IFERROR(SMALL(IF(IFERROR(MATCH(Feuil1!$D11:$BC11,Feuil1!$D11:$BC11,0),"")=COLUMN($D:$BC)-3, COLUMN($D:$BC)-3,""),3),"")} | I8: {=IFERROR(INDEX(Feuil1!$D11:$BC11,,SMALL(IF(IFERROR(MATCH(Feuil1!$D11:$BC11,Feuil1!$D11:$BC11,0),"")=COLUMN($D:$BC)-3, COLUMN($D:$BC)-3,""),4)),"")} | J8: {=IFERROR(SMALL(IF(IFERROR(MATCH(Feuil1!$D11:$BC11,Feuil1!$D11:$BC11,0),"")=COLUMN($D:$BC)-3, COLUMN($D:$BC)-3,""),4),"")}
A9: 36 | B9: 8 | C9: {=INDEX(Feuil1!$D12:$BC12,,SMALL(IF(IFERROR(MATCH(Feuil1!$D12:$BC12,Feuil1!$D12:$BC12,0),"")=COLUMN($D:$BC)-3, COLUMN($D:$BC)-3,""),1))} -> mesclun | D9: {=SMALL(IF(IFERROR(MATCH(Feuil1!$D12:$BC12,Feuil1!$D12:$BC12,0),"")=COLUMN($D:$BC)-3, COLUMN($D:$BC)-3,""),1)} -> 18 | E9: {=IFERROR(INDEX(Feuil1!$D12:$BC12,,SMALL(IF(IFERROR(MATCH(Feuil1!$D12:$BC12,Feuil1!$D12:$BC12,0),"")=COLUMN($D:$BC)-3, COLUMN($D:$BC)-3,""),2)),"")} -> navet | F9: {=IFERROR(SMALL(IF(IFERROR(MATCH(Feuil1!$D12:$BC12,Feuil1!$D12:$BC12,0),"")=COLUMN($D:$BC)-3, COLUMN($D:$BC)-3,""),2),"")} -> 27 | G9: {=IFERROR(INDEX(Feuil1!$D12:$BC12,,SMALL(IF(IFERROR(MATCH(Feuil1!$D12:$BC12,Feuil1!$D12:$BC12,0),"")=COLUMN($D:$BC)-3, COLUMN($D:$BC)-3,""),3)),"")} | H9: {=IFERROR(SMALL(IF(IFERROR(MATCH(Feuil1!$D12:$BC12,Feuil1!$D12:$BC12,0),"")=COLUMN($D:$BC)-3, COLUMN($D:$BC)-3,""),3),"")} | I9: {=IFERROR(INDEX(Feuil1!$D12:$BC12,,SMALL(IF(IFERROR(MATCH(Feuil1!$D12:$BC12,Feuil1!$D12:$BC12,0),"")=COLUMN($D:$BC)-3, COLUMN($D:$BC)-3,""),4)),"")} | J9: {=IFERROR(SMALL(IF(IFERROR(MATCH(Feuil1!$D12:$BC12,Feuil1!$D12:$BC12,0),"")=COLUMN($D:$BC)-3, COLUMN($D:$BC)-3,""),4),"")}
A10: 36 | B10: 9 | C10: {=INDEX(Feuil1!$D13:$BC13,,SMALL(IF(IFERROR(MATCH(Feuil1!$D13:$BC13,Feuil1!$D13:$BC13,0),"")=COLUMN($D:$BC)-3, COLUMN($D:$BC)-3,""),1))} -> laitue | D10: {=SMALL(IF(IFERROR(MATCH(Feuil1!$D13:$BC13,Feuil1!$D13:$BC13,0),"")=COLUMN($D:$BC)-3, COLUMN($D:$BC)-3,""),1)} -> 22 | E10: {=IFERROR(INDEX(Feuil1!$D13:$BC13,,SMALL(IF(IFERROR(MATCH(Feuil1!$D13:$BC13,Feuil1!$D13:$BC13,0),"")=COLUMN($D:$BC)-3, COLUMN($D:$BC)-3,""),2)),"")} -> carotte | F10: {=IFERROR(SMALL(IF(IFERROR(MATCH(Feuil1!$D13:$BC13,Feuil1!$D13:$BC13,0),"")=COLUMN($D:$BC)-3, COLUMN($D:$BC)-3,""),2),"")} -> 35 | G10: {=IFERROR(INDEX(Feuil1!$D13:$BC13,,SMALL(IF(IFERROR(MATCH(Feuil1!$D13:$BC13,Feuil1!$D13:$BC13,0),"")=COLUMN($D:$BC)-3, COLUMN($D:$BC)-3,""),3)),"")} | H10: {=IFERROR(SMALL(IF(IFERROR(MATCH(Feuil1!$D13:$BC13,Feuil1!$D13:$BC13,0),"")=COLUMN($D:$BC)-3, COLUMN($D:$BC)-3,""),3),"")} | I10: {=IFERROR(INDEX(Feuil1!$D13:$BC13,,SMALL(IF(IFERROR(MATCH(Feuil1!$D13:$BC13,Feuil1!$D13:$BC13,0),"")=COLUMN($D:$BC)-3, COLUMN($D:$BC)-3,""),4)),"")} | J10: {=IFERROR(SMALL(IF(IFERROR(MATCH(Feuil1!$D13:$BC13,Feuil1!$D13:$BC13,0),"")=COLUMN($D:$BC)-3, COLUMN($D:$BC)-3,""),4),"")}
A11: 36 | B11: 10 | C11: {=INDEX(Feuil1!$D14:$BC14,,SMALL(IF(IFERROR(MATCH(Feuil1!$D14:$BC14,Feuil1!$D14:$BC14,0),"")=COLUMN($D:$BC)-3, COLUMN($D:$BC)-3,""),1))} -> bande fleuri | D11: {=SMALL(IF(IFERROR(MATCH(Feuil1!$D14:$BC14,Feuil1!$D14:$BC14,0),"")=COLUMN($D:$BC)-3, COLUMN($D:$BC)-3,""),1)} -> 16 | E11: {=IFERROR(INDEX(Feuil1!$D14:$BC14,,SMALL(IF(IFERROR(MATCH(Feuil1!$D14:$BC14,Feuil1!$D14:$BC14,0),"")=COLUMN($D:$BC)-3, COLUMN($D:$BC)-3,""),2)),"")} | F11: {=IFERROR(SMALL(IF(IFERROR(MATCH(Feuil1!$D14:$BC14,Feuil1!$D14:$BC14,0),"")=COLUMN($D:$BC)-3, COLUMN($D:$BC)-3,""),2),"")} | G11: {=IFERROR(INDEX(Feuil1!$D14:$BC14,,SMALL(IF(IFERROR(MATCH(Feuil1!$D14:$BC14,Feuil1!$D14:$BC14,0),"")=COLUMN($D:$BC)-3, COLUMN($D:$BC)-3,""),3)),"")} | H11: {=IFERROR(SMALL(IF(IFERROR(MATCH(Feuil1!$D14:$BC14,Feuil1!$D14:$BC14,0),"")=COLUMN($D:$BC)-3, COLUMN($D:$BC)-3,""),3),"")} | I11: {=IFERROR(INDEX(Feuil1!$D14:$BC14,,SMALL(IF(IFERROR(MATCH(Feuil1!$D14:$BC14,Feuil1!$D14:$BC14,0),"")=COLUMN($D:$BC)-3, COLUMN($D:$BC)-3,""),4)),"")} | J11: {=IFERROR(SMALL(IF(IFERROR(MATCH(Feuil1!$D14:$BC14,Feuil1!$D14:$BC14,0),"")=COLUMN($D:$BC)-3, COLUMN($D:$BC)-3,""),4),"")}
A12: 36 | B12: 11 | C12: {=INDEX(Feuil1!$D15:$BC15,,SMALL(IF(IFERROR(MATCH(Feuil1!$D15:$BC15,Feuil1!$D15:$BC15,0),"")=COLUMN($D:$BC)-3, COLUMN($D:$BC)-3,""),1))} -> navet | D12: {=SMALL(IF(IFERROR(MATCH(Feuil1!$D15:$BC15,Feuil1!$D15:$BC15,0),"")=COLUMN($D:$BC)-3, COLUMN($D:$BC)-3,""),1)} -> 19 | E12: {=IFERROR(INDEX(Feuil1!$D15:$BC15,,SMALL(IF(IFERROR(MATCH(Feuil1!$D15:$BC15,Feuil1!$D15:$BC15,0),"")=COLUMN($D:$BC)-3, COLUMN($D:$BC)-3,""),2)),"")} -> laitue | F12: {=IFERROR(SMALL(IF(IFERROR(MATCH(Feuil1!$D15:$BC15,Feuil1!$D15:$BC15,0),"")=COLUMN($D:$BC)-3, COLUMN($D:$BC)-3,""),2),"")} -> 29 | G12: {=IFERROR(INDEX(Feuil1!$D15:$BC15,,SMALL(IF(IFERROR(MATCH(Feuil1!$D15:$BC15,Feuil1!$D15:$BC15,0),"")=COLUMN($D:$BC)-3, COLUMN($D:$BC)-3,""),3)),"")} | H12: {=IFERROR(SMALL(IF(IFERROR(MATCH(Feuil1!$D15:$BC15,Feuil1!$D15:$BC15,0),"")=COLUMN($D:$BC)-3, COLUMN($D:$BC)-3,""),3),"")} | I12: {=IFERROR(INDEX(Feuil1!$D15:$BC15,,SMALL(IF(IFERROR(MATCH(Feuil1!$D15:$BC15,Feuil1!$D15:$BC15,0),"")=COLUMN($D:$BC)-3, COLUMN($D:$BC)-3,""),4)),"")} | J12: {=IFERROR(SMALL(IF(IFERROR(MATCH(Feuil1!$D15:$BC15,Feuil1!$D15:$BC15,0),"")=COLUMN($D:$BC)-3, COLUMN($D:$BC)-3,""),4),"")}
