Workbook

Sheet TEAM 1
A1: SCENARIO x | L1: TEAM | O1: 2
A5: Heure début mission | E5: 0.58333333 | I5: Temps annoncé | L5: 0.059027778 | O5: Ecart Final | Q5: =ROUND((M12-L5)*24*60,0) -> -26 | R5: mn
A8: Heure Abordage physique | E8: 0.59027778 | I8: Temps abordage | L8: =E8-E5 -> 0.0069444444
A10: Heure Sécurisation | E10: 0.59166667 | I10: Temps sécurisation | L10: =E10-E8 -> 0.0013888889
C11: <10' | D11: >10' | E11: >15' | F11: >20' | G11: NON
C12: 0 | D12: -5 | E12: -10 | F12: -15 | G12: -40 | I12: Temps d'évacuation | M12: =H38-E5-L32 -> 0.040972222
A13: Contact Victime | C13: =IF(MATCH(INT($L$8*1440),{0;5;10;15},1)=COLUMNS($C$11:C11),"x","") | D13: =IF(MATCH(INT($L$8*1440),{0;5;10;15},1)=COLUMNS($C$11:D11),"x","") -> x | E13: =IF(MATCH(INT($L$8*1440),{0;5;10;15},1)=COLUMNS($C$11:E11),"x","") | F13: =IF(MATCH(INT($L$8*1440),{0;5;10;15},1)=COLUMNS($C$11:F11),"x","")
C14: ≤1' | D14: >1' | E14: >3' | F14: >5' | G14: NON
A15: Victime sécurisée | C15: =IF(MATCH(INT($L$10*1440),{0;1;3;5},1)=COLUMNS($C$14:C14),"x","") | D15: =IF(MATCH(INT($L$10*1440),{0;1;3;5},1)=COLUMNS($C$14:D14),"x","") -> x | E15: =IF(MATCH(INT($L$10*1440),{0;1;3;5},1)=COLUMNS($C$14:E14),"x","") | F15: =IF(MATCH(INT($L$10*1440),{0;1;3;5},1)=COLUMNS($C$14:F14),"x","") | I15: Temps total | M15: =H40-E5-L32 -> 0.050694444
Q16: Pénalités | R16: {=SUMPRODUCT((C13:G15="x")*(C12:G12))} -> -10
Q17: Points/40 | R17: =R16+40 -> 30
C20: OUI | D20: NON | M20: NON | N20: OUI | O20: OUI | P20: OUI
C21: 0 | D21: -5 | E21: heure | M21: 0 | N21: -5 | O21: -10 | P21: -15
H22: Matériel heurte / tombe sur victime | M22: X
A23: Garrot | D23: X
H24: Sortie civière/victime : | M24: X | Q24: Pénalités | R24: {=SUMPRODUCT((C22:D24="X")*(C21:D21))+SUMPRODUCT((M22:P24="X")*(M21:P21))} -> -5
Q25: Points/40 | R25: =R24+40 -> 35
A29: SAFETY CHECK NON DEMANDE
E31: STOP 1 | I31: 0 | J31: -10 | L31: TEMPS IMMOBILISATION
A32: SAFETY CHECK | E32: 0.61458333 | I32: X | L32: =H36-E32 -> 0.0013888889
A36: DEBUT DEPLACEMENT CIVIERE | H36: 0.61597222 | M36: Temps pour prise en charge médic (safety check retiré) | Q36: =H38-E5-L32 -> 0.040972222
A38: ARRIVEE ZONE DE POSE | H38: 0.62569444
A40: FIN DE MISSION | H40: 0.63541667
Q41: Pénalités | R41: {=SUMPRODUCT((F29="x")*(I31:J31))+SUMPRODUCT((I32:J32="x")*(I31:J31))} -> 0
A42: HORS TEMPS / ARRET EPREUVE | I42: (Uniquement points abordage comptabilisés ) | Q42: Points / 30 | R42: =R41+30 -> 30
F46: 0 | G46: -1 | H46: -2 | I46: -4
A47: Organisation de l'équipe, Sécurité, Gestion des aléas, Leadership etc… | F47: X | Q47: Pénalités | R47: {=SUMPRODUCT((F47:I50="x")*(F46:I46))} -> -2
Q48: Points / 10 | R48: =R47+10 -> 8
A50: Attitude (respect, etc…) | H50: X
A51: Commentaire :
A57: FAUTES DE SECURITE | Q57: Pénalités | R57: {=SUMPRODUCT((H60:L69="x")*(H59:L59))} -> -2
H58: 1ere | I58: 2eme | J58: 3ème | K58: 4ème | L58: 5ème | Q58: Points / 80 | R58: =R57+80 -> 78
H59: -1 | I59: -1 | J59: -2 | K59: -3 | L59: -4
A60: Ancrage / amarrage
A61: Chute matériel >3m
A62: Evolution ou déplacement sur 1 seule corde
A63: Frottement corde/sangle non protégé | H63: X
A64: Mousqueton non verrouillé
A65: Mousqueton travaille mal (porte à faux, etc…)
A66: Oubli de matériel | H66: X
...

Sheet TEAM 2
A1: SCENARIO x | L1: TEAM | O1: 2
A5: Heure début mission | E5: 0.58333333 | I5: Temps annoncé | L5: 0.0625 | O5: Ecart Final | Q5: =ROUND((M12-L5)*24*60,0) -> 0 | R5: mn
A8: Heure Abordage physique | E8: 0.58680556 | I8: Temps abordage | L8: =E8-E5 -> 0.0034722222
A10: Heure Sécurisation | E10: 0.5875 | I10: Temps sécurisation | L10: =E10-E8 -> 0.00069444444
C11: <10 | D11: >10 | E11: >15 | F11: >20 | G11: NON
C12: 0 | D12: -5 | E12: -10 | F12: -15 | G12: -40 | I12: Temps d'évacuation | M12: =H38-E5-L32 -> 0.0625
A13: Contact Victime | C13: =IF(MATCH(INT($L$8*1440),{0;10;15;20},1)=COLUMNS($C$11:C11),"x","") -> x | D13: =IF(MATCH(INT($L$8*1440),{0;10;15;20},1)=COLUMNS($C$11:D11),"x","") | E13: =IF(MATCH(INT($L$8*1440),{0;10;15;20},1)=COLUMNS($C$11:E11),"x","") | F13: =IF(MATCH(INT($L$8*1440),{0;10;15;20},1)=COLUMNS($C$11:F11),"x","")
C14: ≤1' | D14: >1' | E14: >3' | F14: >5' | G14: NON
A15: Victime sécurisée | C15: =IF(MATCH(INT($L$10*1440),{0;1;3;5},1)=COLUMNS($C$14:C14),"x","") -> x | D15: =IF(MATCH(INT($L$10*1440),{0;1;3;5},1)=COLUMNS($C$14:D14),"x","") | E15: =IF(MATCH(INT($L$10*1440),{0;1;3;5},1)=COLUMNS($C$14:E14),"x","") | F15: =IF(MATCH(INT($L$10*1440),{0;1;3;5},1)=COLUMNS($C$14:F14),"x","") | I15: Temps total | M15: =H40-E5-L32 -> 0.072222222
Q16: Pénalités | R16: {=SUMPRODUCT((C13:G15="x")*(C12:G12))} -> 0
Q17: Points/40 | R17: =R16+40 -> 40
C20: OUI | D20: NON | M20: NON | N20: OUI | O20: OUI | P20: OUI
C21: 0 | D21: -5 | E21: heure | M21: 0 | N21: -5 | O21: -10 | P21: -15
H22: Matériel heurte / tombe sur victime | M22: X
A23: Garrot | C23: X
H24: Sortie civière/victime : | N24: X | Q24: Pénalités | R24: {=SUMPRODUCT((C22:D24="X")*(C21:D21))+SUMPRODUCT((M22:P24="X")*(M21:P21))} -> -5
Q25: Points/40 | R25: =R24+40 -> 35
A29: SAFETY CHECK NON DEMANDE | F29: X
E31: STOP 1 | I31: 0 | J31: -10 | L31: TEMPS IMMOBILISATION
A32: SAFETY CHECK | E32: 0.63402778 | I32: X | L32: =H36-E32 -> 0.0013888889
A36: DEBUT DEPLACEMENT CIVIERE | H36: 0.63541667 | M36: Temps pour prise en charge médic (safety check retiré) | Q36: =H38-E5-L32 -> 0.0625
A38: ARRIVEE ZONE DE POSE | H38: 0.64722222
A40: FIN DE MISSION | H40: 0.65694444
Q41: Pénalités | R41: {=SUMPRODUCT((F29="x")*(I31:J31))+SUMPRODUCT((I32:J32="x")*(I31:J31))} -> -10
A42: HORS TEMPS / ARRET EPREUVE | I42: (Uniquement points abordage comptabilisés ) | Q42: Points / 30 | R42: =R41+30 -> 20
F46: 0 | G46: -1 | H46: -2 | I46: -4
A47: Organisation de l'équipe, Sécurité, Gestion des aléas, Leadership etc… | F47: X | Q47: Pénalités | R47: {=SUMPRODUCT((F47:I50="x")*(F46:I46))} -> 0
Q48: Points / 10 | R48: =R47+10 -> 10
A50: Attitude (respect, etc…) | F50: X
A51: Commentaire :
A57: FAUTES DE SECURITE | Q57: Pénalités | R57: {=SUMPRODUCT((H60:L69="x")*(H59:L59))} -> -1
H58: 1ere | I58: 2eme | J58: 3ème | K58: 4ème | L58: 5ème | Q58: Points / 80 | R58: =R57+80 -> 79
H59: -1 | I59: -1 | J59: -2 | K59: -3 | L59: -4
A60: Ancrage / amarrage
A61: Chute matériel >3m
A62: Evolution ou déplacement sur 1 seule corde
A63: Frottement corde/sangle non protégé
A64: Mousqueton non verrouillé
A65: Mousqueton travaille mal (porte à faux, etc…)
A66: Oubli de matériel
...

Sheet TEAM 3
A1: SCENARIO x | L1: TEAM | O1: 2
A5: Heure début mission | E5: 0.58333333 | I5: Temps annoncé | L5: 0.059027778 | O5: Ecart Final | Q5: =ROUND((M12-L5)*24*60,0) -> -26 | R5: mn
A8: Heure Abordage physique | E8: 0.59027778 | I8: Temps abordage | L8: =E8-E5 -> 0.0069444444
A10: Heure Sécurisation | E10: 0.59166667 | I10: Temps sécurisation | L10: =E10-E8 -> 0.0013888889
C11: <10' | D11: >10' | E11: >15' | F11: >20' | G11: NON
C12: 0 | D12: -5 | E12: -10 | F12: -15 | G12: -40 | I12: Temps d'évacuation | M12: =H38-E5-L32 -> 0.040972222
A13: Contact Victime | C13: =IF(MATCH(INT($L$8*1440),{0;5;10;15},1)=COLUMNS($C$11:C11),"x","") | D13: =IF(MATCH(INT($L$8*1440),{0;5;10;15},1)=COLUMNS($C$11:D11),"x","") -> x | E13: =IF(MATCH(INT($L$8*1440),{0;5;10;15},1)=COLUMNS($C$11:E11),"x","") | F13: =IF(MATCH(INT($L$8*1440),{0;5;10;15},1)=COLUMNS($C$11:F11),"x","")
C14: ≤1' | D14: >1' | E14: >3' | F14: >5' | G14: NON
A15: Victime sécurisée | C15: =IF(MATCH(INT($L$10*1440),{0;1;3;5},1)=COLUMNS($C$14:C14),"x","") | D15: =IF(MATCH(INT($L$10*1440),{0;1;3;5},1)=COLUMNS($C$14:D14),"x","") -> x | E15: =IF(MATCH(INT($L$10*1440),{0;1;3;5},1)=COLUMNS($C$14:E14),"x","") | F15: =IF(MATCH(INT($L$10*1440),{0;1;3;5},1)=COLUMNS($C$14:F14),"x","") | I15: Temps total | M15: =H40-E5-L32 -> 0.050694444
Q16: Pénalités | R16: {=SUMPRODUCT((C13:G15="x")*(C12:G12))} -> -10
Q17: Points/40 | R17: =R16+40 -> 30
C20: OUI | D20: NON | M20: NON | N20: OUI | O20: OUI | P20: OUI
C21: 0 | D21: -5 | E21: heure | M21: 0 | N21: -5 | O21: -10 | P21: -15
H22: Matériel heurte / tombe sur victime | M22: X
A23: Garrot | D23: X
H24: Sortie civière/victime : | M24: X | Q24: Pénalités | R24: {=SUMPRODUCT((C22:D24="X")*(C21:D21))+SUMPRODUCT((M22:P24="X")*(M21:P21))} -> -5
Q25: Points/40 | R25: =R24+40 -> 35
A29: SAFETY CHECK NON DEMANDE
E31: STOP 1 | I31: 0 | J31: -10 | L31: TEMPS IMMOBILISATION
A32: SAFETY CHECK | E32: 0.61458333 | I32: X | L32: =H36-E32 -> 0.0013888889
A36: DEBUT DEPLACEMENT CIVIERE | H36: 0.61597222 | M36: Temps pour prise en charge médic (safety check retiré) | Q36: =H38-E5-L32 -> 0.040972222
A38: ARRIVEE ZONE DE POSE | H38: 0.62569444
A40: FIN DE MISSION | H40: 0.63541667
Q41: Pénalités | R41: {=SUMPRODUCT((F29="x")*(I31:J31))+SUMPRODUCT((I32:J32="x")*(I31:J31))} -> 0
A42: HORS TEMPS / ARRET EPREUVE | I42: (Uniquement points abordage comptabilisés ) | Q42: Points / 30 | R42: =R41+30 -> 30
F46: 0 | G46: -1 | H46: -2 | I46: -4
A47: Organisation de l'équipe, Sécurité, Gestion des aléas, Leadership etc… | F47: X | Q47: Pénalités | R47: {=SUMPRODUCT((F47:I50="x")*(F46:I46))} -> -2
Q48: Points / 10 | R48: =R47+10 -> 8
A50: Attitude (respect, etc…) | H50: X
A51: Commentaire :
A57: FAUTES DE SECURITE | Q57: Pénalités | R57: {=SUMPRODUCT((H60:L69="x")*(H59:L59))} -> -2
H58: 1ere | I58: 2eme | J58: 3ème | K58: 4ème | L58: 5ème | Q58: Points / 80 | R58: =R57+80 -> 78
H59: -1 | I59: -1 | J59: -2 | K59: -3 | L59: -4
A60: Ancrage / amarrage
A61: Chute matériel >3m
A62: Evolution ou déplacement sur 1 seule corde
A63: Frottement corde/sangle non protégé | H63: X
A64: Mousqueton non verrouillé
A65: Mousqueton travaille mal (porte à faux, etc…)
A66: Oubli de matériel | H66: X
...

Sheet TEAM 4

Sheet TEAM 5

Sheet TEAM 6

Sheet TEAM 7

Sheet TEAM 8

Sheet RECAP SCENARIO 1
B2: TEAM 1 | C2: TEAM 2 | D2: TEAM 3 | E2: TEAM 4 | F2: TEAM 5 | G2: TEAM 6 | H2: TEAM 7 | I2: TEAM 8
A3: ABORDAGE (40) | B3: {=INDIRECT("'"&B$2&"'!$R$"&$J3)} -> 30 | C3: {=INDIRECT("'"&C$2&"'!$R$"&$J3)} -> 40 | D3: {=INDIRECT("'"&D$2&"'!$R$"&$J3)} -> 30 | E3: {=INDIRECT("'"&E$2&"'!$R$"&$J3)} -> 0 | F3: {=INDIRECT("'"&F$2&"'!$R$"&$J3)} -> 0 | G3: {=INDIRECT("'"&G$2&"'!$R$"&$J3)} -> 0 | H3: {=INDIRECT("'"&H$2&"'!$R$"&$J3)} -> 0 | I3: {=INDIRECT("'"&I$2&"'!$R$"&$J3)} -> 0 | J3: 17
A4: BILAN - GESTES SEC (40) | B4: {=INDIRECT("'"&B$2&"'!$R$"&$J4)} -> 35 | C4: {=INDIRECT("'"&C$2&"'!$R$"&$J4)} -> 35 | D4: {=INDIRECT("'"&D$2&"'!$R$"&$J4)} -> 35 | E4: {=INDIRECT("'"&E$2&"'!$R$"&$J4)} -> 0 | F4: {=INDIRECT("'"&F$2&"'!$R$"&$J4)} -> 0 | G4: {=INDIRECT("'"&G$2&"'!$R$"&$J4)} -> 0 | H4: {=INDIRECT("'"&H$2&"'!$R$"&$J4)} -> 0 | I4: {=INDIRECT("'"&I$2&"'!$R$"&$J4)} -> 0 | J4: 25
A5: SAFETY CHECK (30) | B5: {=INDIRECT("'"&B$2&"'!$R$"&$J5)} -> 30 | C5: {=INDIRECT("'"&C$2&"'!$R$"&$J5)} -> 20 | D5: {=INDIRECT("'"&D$2&"'!$R$"&$J5)} -> 30 | E5: {=INDIRECT("'"&E$2&"'!$R$"&$J5)} -> 0 | F5: {=INDIRECT("'"&F$2&"'!$R$"&$J5)} -> 0 | G5: {=INDIRECT("'"&G$2&"'!$R$"&$J5)} -> 0 | H5: {=INDIRECT("'"&H$2&"'!$R$"&$J5)} -> 0 | I5: {=INDIRECT("'"&I$2&"'!$R$"&$J5)} -> 0 | J5: 42
A6: COMMANDEMENT (10) | B6: {=INDIRECT("'"&B$2&"'!$R$"&$J6)} -> 8 | C6: {=INDIRECT("'"&C$2&"'!$R$"&$J6)} -> 10 | D6: {=INDIRECT("'"&D$2&"'!$R$"&$J6)} -> 8 | E6: {=INDIRECT("'"&E$2&"'!$R$"&$J6)} -> 0 | F6: {=INDIRECT("'"&F$2&"'!$R$"&$J6)} -> 0 | G6: {=INDIRECT("'"&G$2&"'!$R$"&$J6)} -> 0 | H6: {=INDIRECT("'"&H$2&"'!$R$"&$J6)} -> 0 | I6: {=INDIRECT("'"&I$2&"'!$R$"&$J6)} -> 0 | J6: 48
A7: FAUTES DE SECURITE (80) | B7: {=INDIRECT("'"&B$2&"'!$R$"&$J7)} -> 78 | C7: {=INDIRECT("'"&C$2&"'!$R$"&$J7)} -> 79 | D7: {=INDIRECT("'"&D$2&"'!$R$"&$J7)} -> 78 | E7: {=INDIRECT("'"&E$2&"'!$R$"&$J7)} -> 0 | F7: {=INDIRECT("'"&F$2&"'!$R$"&$J7)} -> 0 | G7: {=INDIRECT("'"&G$2&"'!$R$"&$J7)} -> 0 | H7: {=INDIRECT("'"&H$2&"'!$R$"&$J7)} -> 0 | I7: {=INDIRECT("'"&I$2&"'!$R$"&$J7)} -> 0 | J7: 58
A8: POINTS TECHNIQUES /200 | B8: {=INDIRECT("'"&B$2&"'!$q$"&$J8)} -> 181 | C8: {=INDIRECT("'"&C$2&"'!$q$"&$J8)} -> 184 | D8: {=INDIRECT("'"&D$2&"'!$q$"&$J8)} -> 181 | E8: {=INDIRECT("'"&E$2&"'!$q$"&$J8)} -> 0 | F8: {=INDIRECT("'"&F$2&"'!$q$"&$J8)} -> 0 | G8: {=INDIRECT("'"&G$2&"'!$q$"&$J8)} -> 0 | H8: {=INDIRECT("'"&H$2&"'!$q$"&$J8)} -> 0 | I8: {=INDIRECT("'"&I$2&"'!$q$"&$J8)} -> 0 | J8: 82
A9: Classement | B9: =RANK(B8,$B8:$I8,1) -> 6 | C9: =RANK(C8,$B8:$I8,1) -> 8 | D9: =RANK(D8,$B8:$I8,1) -> 6 | E9: =RANK(E8,$B8:$I8,1) -> 1 | F9: =RANK(F8,$B8:$I8,1) -> 1 | G9: =RANK(G8,$B8:$I8,1) -> 1 | H9: =RANK(H8,$B8:$I8,1) -> 1 | I9: =RANK(I8,$B8:$I8,1) -> 1
A11: TEMPS ABORDAGE PONDERE | B11: {=INDIRECT("'"&B$2&"'!$L8")} -> 0.0069444444 | C11: {=INDIRECT("'"&C$2&"'!$L8")} -> 0.0034722222 | D11: {=INDIRECT("'"&D$2&"'!$L8")} -> 0.0069444444 | E11: {=INDIRECT("'"&E$2&"'!$L8")} -> 0 | F11: {=INDIRECT("'"&F$2&"'!$L8")} -> 0 | G11: {=INDIRECT("'"&G$2&"'!$L8")} -> 0 | H11: {=INDIRECT("'"&H$2&"'!$L8")} -> 0 | I11: {=INDIRECT("'"&I$2&"'!$L8")} -> 0
A12: Points | B12: =100-(B13-1)*10 -> 40 | C12: =100-(C13-1)*10 -> 50 | D12: =100-(D13-1)*10 -> 40 | E12: =100-(E13-1)*10 -> 100 | F12: =100-(F13-1)*10 -> 100 | G12: =100-(G13-1)*10 -> 100 | H12: =100-(H13-1)*10 -> 100 | I12: =100-(I13-1)*10 -> 100
A13: Classement | B13: =RANK(B11,$B11:$I11,1) -> 7 | C13: =RANK(C11,$B11:$I11,1) -> 6 | D13: =RANK(D11,$B11:$I11,1) -> 7 | E13: =RANK(E11,$B11:$I11,1) -> 1 | F13: =RANK(F11,$B11:$I11,1) -> 1 | G13: =RANK(G11,$B11:$I11,1) -> 1 | H13: =RANK(H11,$B11:$I11,1) -> 1 | I13: =RANK(I11,$B11:$I11,1) -> 1
A15: Temps de prise en charge | B15: ='TEAM 1'!M12 -> 0.040972222 | C15: =#REF! -> #REF! | D15: =#REF! -> #REF! | E15: =#REF! -> #REF! | F15: =#REF! -> #REF! | G15: =#REF! -> #REF! | H15: =#REF! -> #REF! | I15: =#REF! -> #REF!
A16: Points | B16: =100-(B17-1)*10 -> #REF! | C16: =100-(C17-1)*10 -> #REF! | D16: =100-(D17-1)*10 -> #REF! | E16: =100-(E17-1)*10 -> #REF! | F16: =100-(F17-1)*10 -> #REF! | G16: =100-(G17-1)*10 -> #REF! | H16: =100-(H17-1)*10 -> #REF! | I16: =100-(I17-1)*10 -> #REF!
A17: Classement | B17: =RANK(B15,$B15:$I15,1) -> #REF! | C17: =RANK(C15,$B15:$I15,1) -> #REF! | D17: =RANK(D15,$B15:$I15,1) -> #REF! | E17: =RANK(E15,$B15:$I15,1) -> #REF! | F17: =RANK(F15,$B15:$I15,1) -> #REF! | G17: =RANK(G15,$B15:$I15,1) -> #REF! | H17: =RANK(H15,$B15:$I15,1) -> #REF! | I17: =RANK(I15,$B15:$I15,1) -> #REF!
A20: CRITERE SPECIFIQUE | B20: ='TEAM 1'!F80 -> 0 | C20: ='TEAM 2'!F80 -> 20 | D20: ='TEAM 3'!F80 -> 0 | E20: ='TEAM 4'!F80 -> 0 | F20: ='TEAM 5'!F80 -> 0 | G20: ='TEAM 6'!F80 -> 0 | H20: ='TEAM 7'!F80 -> 0 | I20: ='TEAM 8'!F80 -> 0
A21: Nb de points | B21: =100-(B22-1)*10 -> 100 | C21: =100-(C22-1)*10 -> 30 | D21: =100-(D22-1)*10 -> 100 | E21: =100-(E22-1)*10 -> 100 | F21: =100-(F22-1)*10 -> 100 | G21: =100-(G22-1)*10 -> 100 | H21: =100-(H22-1)*10 -> 100 | I21: =100-(I22-1)*10 -> 100
A22: Classement critère spécifique | B22: =RANK(B20,$B20:$I20,1) -> 1 | C22: =RANK(C20,$B20:$I20,1) -> 8 | D22: =RANK(D20,$B20:$I20,1) -> 1 | E22: =RANK(E20,$B20:$I20,1) -> 1 | F22: =RANK(F20,$B20:$I20,1) -> 1 | G22: =RANK(G20,$B20:$I20,1) -> 1 | H22: =RANK(H20,$B20:$I20,1) -> 1 | I22: =RANK(I20,$B20:$I20,1) -> 1
A24: TEMPS GLOBAL EPREUVE | B24: ='TEAM 1'!M15 -> 0.050694444 | C24: =#REF! -> #REF! | D24: =#REF! -> #REF! | E24: =#REF! -> #REF! | F24: =#REF! -> #REF! | G24: =#REF! -> #REF! | H24: =#REF! -> #REF! | I24: =#REF! -> #REF!
A25: Nb de points | B25: =100-(B26-1)*10 -> #REF! | C25: =100-(C26-1)*10 -> #REF! | D25: =100-(D26-1)*10 -> #REF! | E25: =100-(E26-1)*10 -> #REF! | F25: =100-(F26-1)*10 -> #REF! | G25: =100-(G26-1)*10 -> #REF! | H25: =100-(H26-1)*10 -> #REF! | I25: =100-(I26-1)*10 -> #REF!
A26: Classement | B26: =RANK(B24,$B24:$I24,1) -> #REF! | C26: =RANK(C24,$B24:$I24,1) -> #REF! | D26: =RANK(D24,$B24:$I24,1) -> #REF! | E26: =RANK(E24,$B24:$I24,1) -> #REF! | F26: =RANK(F24,$B24:$I24,1) -> #REF! | G26: =RANK(G24,$B24:$I24,1) -> #REF! | H26: =RANK(H24,$B24:$I24,1) -> #REF! | I26: =RANK(I24,$B24:$I24,1) -> #REF!
A29: TOTAL | B29: =B8+B12+B16+B21+B25 -> #REF! | C29: =C8+C12+C16+C21+C25 -> #REF! | D29: =D8+D12+D16+D21+D25 -> #REF! | E29: =E8+E12+E16+E21+E25 -> #REF! | F29: =F8+F12+F16+F21+F25 -> #REF! | G29: =G8+G12+G16+G21+G25 -> #REF! | H29: =H8+H12+H16+H21+H25 -> #REF! | I29: =I8+I12+I16+I21+I25 -> #REF!
B30: =IF(#REF!,"x",B8) -> #REF! | I30: =IF(#REF!,"x",I8) -> #REF!
A31: Classement | B31: {=SUMPRODUCT(--($B29:$I29>B29))+1} -> #REF! | C31: {=SUMPRODUCT(--($B29:$I29>C29))+1} -> #REF! | D31: {=SUMPRODUCT(--($B29:$I29>D29))+1} -> #REF! | E31: {=SUMPRODUCT(--($B29:$I29>E29))+1} -> #REF! | F31: {=SUMPRODUCT(--($B29:$I29>F29))+1} -> #REF! | G31: {=SUMPRODUCT(--($B29:$I29>G29))+1} -> #REF! | H31: {=SUMPRODUCT(--($B29:$I29>H29))+1} -> #REF! | I31: {=SUMPRODUCT(--($B29:$I29>I29))+1} -> #REF!
