Workbook

Sheet Feuil1
C2: RECAP
C5: NOM | D5: OBJET | E5: QUANTITE
A6: 45433 | B6: =WEEKNUM(A6) -> 21 | C6: DUBOIS ERIC | D6: Baguette | E6: 1
A7: 45433 | B7: =WEEKNUM(A7) -> 21 | C7: MICHEL MIREILLE | D7: Chocolatine | E7: 3
B8: =WEEKNUM(A8) -> 0
B9: =WEEKNUM(A9) -> 0
A10: 45434 | B10: =WEEKNUM(A10) -> 21 | C10: tulipe | D10: ricard | E10: 1
B11: =WEEKNUM(A11) -> 0
A12: 45442 | B12: =WEEKNUM(A12) -> 22 | C12: marcel | D12: gateau | E12: 2

Sheet Feuil2
B4: Semaine | C4: =WEEKNUM(C5) -> 21
B5: Date d'envoi | C5: 45433
D8: NOM | E8: OBJET | F8: QUANTITE
D9: {=IFERROR(INDEX(Feuil1!C$6:C$110,SUMPRODUCT(SMALL((Feuil1!$B$6:$B$110=$C$4)*ROW(Feuil1!$B$6:$B$110),COUNTIF(Feuil1!$B$6:$B$110,"<>"&$C$4)+ROW($A1)))-5),"")} -> DUBOIS ERIC | E9: {=IFERROR(INDEX(Feuil1!D$6:D$110,SUMPRODUCT(SMALL((Feuil1!$B$6:$B$110=$C$4)*ROW(Feuil1!$B$6:$B$110),COUNTIF(Feuil1!$B$6:$B$110,"<>"&$C$4)+ROW($A1)))-5),"")} -> Baguette | F9: {=IFERROR(INDEX(Feuil1!E$6:E$110,SUMPRODUCT(SMALL((Feuil1!$B$6:$B$110=$C$4)*ROW(Feuil1!$B$6:$B$110),COUNTIF(Feuil1!$B$6:$B$110,"<>"&$C$4)+ROW($A1)))-5),"")} -> 1
D10: {=IFERROR(INDEX(Feuil1!C$6:C$110,SUMPRODUCT(SMALL((Feuil1!$B$6:$B$110=$C$4)*ROW(Feuil1!$B$6:$B$110),COUNTIF(Feuil1!$B$6:$B$110,"<>"&$C$4)+ROW($A2)))-5),"")} -> MICHEL MIREILLE | E10: {=IFERROR(INDEX(Feuil1!D$6:D$110,SUMPRODUCT(SMALL((Feuil1!$B$6:$B$110=$C$4)*ROW(Feuil1!$B$6:$B$110),COUNTIF(Feuil1!$B$6:$B$110,"<>"&$C$4)+ROW($A2)))-5),"")} -> Chocolatine | F10: {=IFERROR(INDEX(Feuil1!E$6:E$110,SUMPRODUCT(SMALL((Feuil1!$B$6:$B$110=$C$4)*ROW(Feuil1!$B$6:$B$110),COUNTIF(Feuil1!$B$6:$B$110,"<>"&$C$4)+ROW($A2)))-5),"")} -> 3
D11: {=IFERROR(INDEX(Feuil1!C$6:C$110,SUMPRODUCT(SMALL((Feuil1!$B$6:$B$110=$C$4)*ROW(Feuil1!$B$6:$B$110),COUNTIF(Feuil1!$B$6:$B$110,"<>"&$C$4)+ROW($A3)))-5),"")} -> tulipe | E11: {=IFERROR(INDEX(Feuil1!D$6:D$110,SUMPRODUCT(SMALL((Feuil1!$B$6:$B$110=$C$4)*ROW(Feuil1!$B$6:$B$110),COUNTIF(Feuil1!$B$6:$B$110,"<>"&$C$4)+ROW($A3)))-5),"")} -> ricard | F11: {=IFERROR(INDEX(Feuil1!E$6:E$110,SUMPRODUCT(SMALL((Feuil1!$B$6:$B$110=$C$4)*ROW(Feuil1!$B$6:$B$110),COUNTIF(Feuil1!$B$6:$B$110,"<>"&$C$4)+ROW($A3)))-5),"")} -> 1
D12: {=IFERROR(INDEX(Feuil1!C$6:C$110,SUMPRODUCT(SMALL((Feuil1!$B$6:$B$110=$C$4)*ROW(Feuil1!$B$6:$B$110),COUNTIF(Feuil1!$B$6:$B$110,"<>"&$C$4)+ROW($A4)))-5),"")} | E12: {=IFERROR(INDEX(Feuil1!D$6:D$110,SUMPRODUCT(SMALL((Feuil1!$B$6:$B$110=$C$4)*ROW(Feuil1!$B$6:$B$110),COUNTIF(Feuil1!$B$6:$B$110,"<>"&$C$4)+ROW($A4)))-5),"")} | F12: {=IFERROR(INDEX(Feuil1!E$6:E$110,SUMPRODUCT(SMALL((Feuil1!$B$6:$B$110=$C$4)*ROW(Feuil1!$B$6:$B$110),COUNTIF(Feuil1!$B$6:$B$110,"<>"&$C$4)+ROW($A4)))-5),"")}
D13: {=IFERROR(INDEX(Feuil1!C$6:C$110,SUMPRODUCT(SMALL((Feuil1!$B$6:$B$110=$C$4)*ROW(Feuil1!$B$6:$B$110),COUNTIF(Feuil1!$B$6:$B$110,"<>"&$C$4)+ROW($A5)))-5),"")} | E13: {=IFERROR(INDEX(Feuil1!D$6:D$110,SUMPRODUCT(SMALL((Feuil1!$B$6:$B$110=$C$4)*ROW(Feuil1!$B$6:$B$110),COUNTIF(Feuil1!$B$6:$B$110,"<>"&$C$4)+ROW($A5)))-5),"")} | F13: {=IFERROR(INDEX(Feuil1!E$6:E$110,SUMPRODUCT(SMALL((Feuil1!$B$6:$B$110=$C$4)*ROW(Feuil1!$B$6:$B$110),COUNTIF(Feuil1!$B$6:$B$110,"<>"&$C$4)+ROW($A5)))-5),"")}
D14: {=IFERROR(INDEX(Feuil1!C$6:C$110,SUMPRODUCT(SMALL((Feuil1!$B$6:$B$110=$C$4)*ROW(Feuil1!$B$6:$B$110),COUNTIF(Feuil1!$B$6:$B$110,"<>"&$C$4)+ROW($A6)))-5),"")} | E14: {=IFERROR(INDEX(Feuil1!D$6:D$110,SUMPRODUCT(SMALL((Feuil1!$B$6:$B$110=$C$4)*ROW(Feuil1!$B$6:$B$110),COUNTIF(Feuil1!$B$6:$B$110,"<>"&$C$4)+ROW($A6)))-5),"")} | F14: {=IFERROR(INDEX(Feuil1!E$6:E$110,SUMPRODUCT(SMALL((Feuil1!$B$6:$B$110=$C$4)*ROW(Feuil1!$B$6:$B$110),COUNTIF(Feuil1!$B$6:$B$110,"<>"&$C$4)+ROW($A6)))-5),"")}
D15: {=IFERROR(INDEX(Feuil1!C$6:C$110,SUMPRODUCT(SMALL((Feuil1!$B$6:$B$110=$C$4)*ROW(Feuil1!$B$6:$B$110),COUNTIF(Feuil1!$B$6:$B$110,"<>"&$C$4)+ROW($A7)))-5),"")} | E15: {=IFERROR(INDEX(Feuil1!D$6:D$110,SUMPRODUCT(SMALL((Feuil1!$B$6:$B$110=$C$4)*ROW(Feuil1!$B$6:$B$110),COUNTIF(Feuil1!$B$6:$B$110,"<>"&$C$4)+ROW($A7)))-5),"")} | F15: {=IFERROR(INDEX(Feuil1!E$6:E$110,SUMPRODUCT(SMALL((Feuil1!$B$6:$B$110=$C$4)*ROW(Feuil1!$B$6:$B$110),COUNTIF(Feuil1!$B$6:$B$110,"<>"&$C$4)+ROW($A7)))-5),"")}
D16: {=IFERROR(INDEX(Feuil1!C$6:C$110,SUMPRODUCT(SMALL((Feuil1!$B$6:$B$110=$C$4)*ROW(Feuil1!$B$6:$B$110),COUNTIF(Feuil1!$B$6:$B$110,"<>"&$C$4)+ROW($A8)))-5),"")} | E16: {=IFERROR(INDEX(Feuil1!D$6:D$110,SUMPRODUCT(SMALL((Feuil1!$B$6:$B$110=$C$4)*ROW(Feuil1!$B$6:$B$110),COUNTIF(Feuil1!$B$6:$B$110,"<>"&$C$4)+ROW($A8)))-5),"")} | F16: {=IFERROR(INDEX(Feuil1!E$6:E$110,SUMPRODUCT(SMALL((Feuil1!$B$6:$B$110=$C$4)*ROW(Feuil1!$B$6:$B$110),COUNTIF(Feuil1!$B$6:$B$110,"<>"&$C$4)+ROW($A8)))-5),"")}
D17: {=IFERROR(INDEX(Feuil1!C$6:C$110,SUMPRODUCT(SMALL((Feuil1!$B$6:$B$110=$C$4)*ROW(Feuil1!$B$6:$B$110),COUNTIF(Feuil1!$B$6:$B$110,"<>"&$C$4)+ROW($A9)))-5),"")} | E17: {=IFERROR(INDEX(Feuil1!D$6:D$110,SUMPRODUCT(SMALL((Feuil1!$B$6:$B$110=$C$4)*ROW(Feuil1!$B$6:$B$110),COUNTIF(Feuil1!$B$6:$B$110,"<>"&$C$4)+ROW($A9)))-5),"")} | F17: {=IFERROR(INDEX(Feuil1!E$6:E$110,SUMPRODUCT(SMALL((Feuil1!$B$6:$B$110=$C$4)*ROW(Feuil1!$B$6:$B$110),COUNTIF(Feuil1!$B$6:$B$110,"<>"&$C$4)+ROW($A9)))-5),"")}
D18: {=IFERROR(INDEX(Feuil1!C$6:C$110,SUMPRODUCT(SMALL((Feuil1!$B$6:$B$110=$C$4)*ROW(Feuil1!$B$6:$B$110),COUNTIF(Feuil1!$B$6:$B$110,"<>"&$C$4)+ROW($A10)))-5),"")} | E18: {=IFERROR(INDEX(Feuil1!D$6:D$110,SUMPRODUCT(SMALL((Feuil1!$B$6:$B$110=$C$4)*ROW(Feuil1!$B$6:$B$110),COUNTIF(Feuil1!$B$6:$B$110,"<>"&$C$4)+ROW($A10)))-5),"")} | F18: {=IFERROR(INDEX(Feuil1!E$6:E$110,SUMPRODUCT(SMALL((Feuil1!$B$6:$B$110=$C$4)*ROW(Feuil1!$B$6:$B$110),COUNTIF(Feuil1!$B$6:$B$110,"<>"&$C$4)+ROW($A10)))-5),"")}
D19: {=IFERROR(INDEX(Feuil1!C$6:C$110,SUMPRODUCT(SMALL((Feuil1!$B$6:$B$110=$C$4)*ROW(Feuil1!$B$6:$B$110),COUNTIF(Feuil1!$B$6:$B$110,"<>"&$C$4)+ROW($A11)))-5),"")} | E19: {=IFERROR(INDEX(Feuil1!D$6:D$110,SUMPRODUCT(SMALL((Feuil1!$B$6:$B$110=$C$4)*ROW(Feuil1!$B$6:$B$110),COUNTIF(Feuil1!$B$6:$B$110,"<>"&$C$4)+ROW($A11)))-5),"")} | F19: {=IFERROR(INDEX(Feuil1!E$6:E$110,SUMPRODUCT(SMALL((Feuil1!$B$6:$B$110=$C$4)*ROW(Feuil1!$B$6:$B$110),COUNTIF(Feuil1!$B$6:$B$110,"<>"&$C$4)+ROW($A11)))-5),"")}
D20: {=IFERROR(INDEX(Feuil1!C$6:C$110,SUMPRODUCT(SMALL((Feuil1!$B$6:$B$110=$C$4)*ROW(Feuil1!$B$6:$B$110),COUNTIF(Feuil1!$B$6:$B$110,"<>"&$C$4)+ROW($A12)))-5),"")} | E20: {=IFERROR(INDEX(Feuil1!D$6:D$110,SUMPRODUCT(SMALL((Feuil1!$B$6:$B$110=$C$4)*ROW(Feuil1!$B$6:$B$110),COUNTIF(Feuil1!$B$6:$B$110,"<>"&$C$4)+ROW($A12)))-5),"")} | F20: {=IFERROR(INDEX(Feuil1!E$6:E$110,SUMPRODUCT(SMALL((Feuil1!$B$6:$B$110=$C$4)*ROW(Feuil1!$B$6:$B$110),COUNTIF(Feuil1!$B$6:$B$110,"<>"&$C$4)+ROW($A12)))-5),"")}
... D50: {=IFERROR(INDEX(Feuil1!C$6:C$110,SUMPRODUCT(SMALL((Feuil1!$B$6:$B$110=$C$4)*ROW(Feuil1!$B$6:$B$110),COUNTIF(Feuil1!$B$6:$B$110,"<>"&$C$4)+ROW($A42)))-5),"")} | E50: {=IFERROR(INDEX(Feuil1!D$6:D$110,SUMPRODUCT(SMALL((Feuil1!$B$6:$B$110=$C$4)*ROW(Feuil1!$B$6:$B$110),COUNTIF(Feuil1!$B$6:$B$110,"<>"&$C$4)+ROW($A42)))-5),"")} | F50: {=IFERROR(INDEX(Feuil1!E$6:E$110,SUMPRODUCT(SMALL((Feuil1!$B$6:$B$110=$C$4)*ROW(Feuil1!$B$6:$B$110),COUNTIF(Feuil1!$B$6:$B$110,"<>"&$C$4)+ROW($A42)))-5),"")}
