Workbook
Name activité: OFFSET(canton,,1,)
Name canton: OFFSET(Source!$A$2,,,COUNTIF(Source!$A:$A,"><")-1)
Name contribution: OFFSET(canton,,2,)
Name dept: Source!$B$2
Name formule: OFFSET(dept,MATCH(Calcul!$E$4,canton,0)-1,,COUNTIF(canton,Calcul!$E$4))
Name liste: OFFSET(Source!$E$2,,,COUNTIF(Source!$E:$E,"><")-1)
Name liste1: OFFSET(Source!$H$1,,,COUNTIF(Source!$H:$H,"><"))

Sheet Calcul
B2: Calcul de la contribution selon les barèmes cantonaux
C4: Saisir le canton | E4: Fribourg
C8: Définir le domaine d'activité | E8: tout
C12: Contribution | E12: =IF(E8="tout",SUMIF(canton,E4,contribution),SUMPRODUCT((canton=E4)*(activité=E8)*(contribution))) -> 21
C17: * contribution du Canton et de l'activité, selon la colonne C de l'autre feuille

Sheet Source
A1: Cantons | B1: Activité | C1: Contribution | H1: tout
A2: Fribourg | B2: Aide-concierge | C2: 3 | E2: {=OFFSET(A$1,MATCH(0,COUNTIF(H$1:H1,canton),0),)} -> Fribourg | H2: {=INDEX(activité,SMALL(IF(canton=Calcul!E$4,ROW(canton)-1,""),ROW(A1)))} -> Aide-concierge
A3: Fribourg | B3: Aide de cuisine | C3: 3 | E3: {=OFFSET(A$1,MATCH(0,COUNTIF(E$1:E2,canton),0),)} -> Valais | F3: extraction automatisée | H3: {=INDEX(activité,SMALL(IF(canton=Calcul!E$4,ROW(canton)-1,""),ROW(A2)))} -> Aide de cuisine
A4: Fribourg | B4: Cuisinier | C4: 4 | E4: {=OFFSET(A$1,MATCH(0,COUNTIF(E$1:E3,canton),0),)} -> Berne | H4: {=INDEX(activité,SMALL(IF(canton=Calcul!E$4,ROW(canton)-1,""),ROW(A3)))} -> Cuisinier
A5: Fribourg | B5: Aide-infirmier | C5: 5 | E5: {=OFFSET(A$1,MATCH(0,COUNTIF(E$1:E4,canton),0),)} -> Jura | H5: {=INDEX(activité,SMALL(IF(canton=Calcul!E$4,ROW(canton)-1,""),ROW(A4)))} -> Aide-infirmier
A6: Fribourg | B6: Physiothérapeute | C6: 6 | E6: {=OFFSET(A$1,MATCH(0,COUNTIF(E$1:E5,canton),0),)} -> Neuchâtel | H6: {=INDEX(activité,SMALL(IF(canton=Calcul!E$4,ROW(canton)-1,""),ROW(A5)))} -> Physiothérapeute
A7: Valais | B7: Aide de cuisine | C7: 3 | E7: {=OFFSET(A$1,MATCH(0,COUNTIF(E$1:E6,canton),0),)} -> Genève | H7: {=INDEX(activité,SMALL(IF(canton=Calcul!E$4,ROW(canton)-1,""),ROW(A6)))} -> #NUM!
A8: Valais | B8: Cuisinier | C8: 4 | E8: {=OFFSET(A$1,MATCH(0,COUNTIF(E$1:E7,canton),0),)} -> Vaud | H8: {=INDEX(activité,SMALL(IF(canton=Calcul!E$4,ROW(canton)-1,""),ROW(A7)))} -> #NUM!
A9: Valais | B9: Infirmier diplômé | C9: 6 | E9: {=OFFSET(A$1,MATCH(0,COUNTIF(E$1:E8,canton),0),)} -> #N/A | H9: {=INDEX(activité,SMALL(IF(canton=Calcul!E$4,ROW(canton)-1,""),ROW(A8)))} -> #NUM!
A10: Valais | B10: Aide-soignant | C10: 5 | E10: {=OFFSET(A$1,MATCH(0,COUNTIF(E$1:E9,canton),0),)} -> #N/A | H10: {=INDEX(activité,SMALL(IF(canton=Calcul!E$4,ROW(canton)-1,""),ROW(A9)))} -> #NUM!
A11: Valais | B11: Médecin-assistant | C11: 7 | E11: {=OFFSET(A$1,MATCH(0,COUNTIF(E$1:E10,canton),0),)} -> #N/A | H11: {=INDEX(activité,SMALL(IF(canton=Calcul!E$4,ROW(canton)-1,""),ROW(A10)))} -> #NUM!
A12: Valais | B12: Aide-concierge | C12: 3 | E12: {=OFFSET(A$1,MATCH(0,COUNTIF(E$1:E11,canton),0),)} -> #N/A
A13: Berne | B13: Aide-concierge | C13: 3 | E13: {=OFFSET(A$1,MATCH(0,COUNTIF(E$1:E12,canton),0),)} -> #N/A
A14: Berne | B14: Personnel de nettoyage | C14: 3 | E14: {=OFFSET(A$1,MATCH(0,COUNTIF(E$1:E13,canton),0),)} -> #N/A
A15: Berne | B15: Aide de cuisine | C15: 3 | E15: {=OFFSET(A$1,MATCH(0,COUNTIF(E$1:E14,canton),0),)} -> #N/A
A16: Berne | B16: Cuisinier | C16: 3 | E16: {=OFFSET(A$1,MATCH(0,COUNTIF(E$1:E15,canton),0),)} -> #N/A
A17: Berne | B17: Chauffeur | C17: 3
A18: Berne | B18: Opérateur informatique | C18: 4
A19: Jura | B19: Aide de cuisine | C19: 3
A20: Jura | B20: Cuisinier | C20: 4
A21: Jura | B21: Employé/e de lingerie | C21: 3
A22: Jura | B22: Aide-concierge | C22: 3
A23: Jura | B23: Aide-animateur | C23: 5
A24: Jura | B24: Aide-soignant | C24: 3
A25: Neuchâtel | B25: Aide de cuisine | C25: 3
A26: Neuchâtel | B26: Cuisinier | C26: 4
A27: Neuchâtel | B27: Aide de bureau | C27: 3
A28: Neuchâtel | B28: Employé de commerce CFC | C28: 4
... A43: Vaud | B43: Employé de commerce CFC | C43: 3
