Workbook
Name collab: OFFSET(zone2,,1,)
Name forfait: OFFSET(zone2,,3,)
Name listezone: OFFSET(param!$A$2,,,COUNTIF(param!$A:$A,"><")-1)
Name zone2: OFFSET(Test!$B$2,,,SUMPRODUCT(MAX((Test!$A$2:$A$2000=Test!$I$15)*(ROW(Test!$A$2:$A$2000))))-1)

Sheet Test
A1: Période | B1: Région | C1: Collab | D1: Hors forfait | J1: la liste des regions ne correspond qu'au dispo dans le tablo
A2: 42736 | B2: Paris | C2: Dominique | D2: 20 | E2: =IF(COUNTIF(C$2:C2,C2)=COUNTIF(collab,C2),SUMPRODUCT((B$2:B2=J$15)*(C$2:C2=C2)*D$2:D2),0) -> 0 | M2: sinon ça beuge
A3: 42736 | B3: Paris | C3: Lionel | D3: 1 | E3: =IF(COUNTIF(C$2:C3,C3)=COUNTIF(collab,C3),SUMPRODUCT((B$2:B3=J$15)*(C$2:C3=C3)*D$2:D3),0) -> 0
A4: 42736 | B4: Lyon | C4: Fred | D4: 10 | E4: =IF(COUNTIF(C$2:C4,C4)=COUNTIF(collab,C4),SUMPRODUCT((B$2:B4=J$15)*(C$2:C4=C4)*D$2:D4),0) -> 0 | G4: au mois | H4: Classement hors forfait | I4: date | J4: Région
A5: 42736 | B5: Lyon | C5: Marie | D5: 5 | E5: =IF(COUNTIF(C$2:C5,C5)=COUNTIF(collab,C5),SUMPRODUCT((B$2:B5=J$15)*(C$2:C5=C5)*D$2:D5),0) -> 0 | I5: 42887 | J5: Lyon
A6: 42767 | B6: Paris | C6: Dominique | D6: 5 | E6: =IF(COUNTIF(C$2:C6,C6)=COUNTIF(collab,C6),SUMPRODUCT((B$2:B6=J$15)*(C$2:C6=C6)*D$2:D6),0) -> 0 | K6: Rang 1 | L6: {=IFERROR(INDEX(C$2:C$20,MATCH(SUMPRODUCT(LARGE((A$2:A$20=I$5)*(B$2:B$20=J$5)*(D$2:D$20+ROW(A$2:A$20)/1000),1)),(D$2:D$20+ROW(A$2:A$20)/1000),0)),"")} -> Fred
A7: 42767 | B7: Lyon | C7: Marie | D7: 15 | E7: =IF(COUNTIF(C$2:C7,C7)=COUNTIF(collab,C7),SUMPRODUCT((B$2:B7=J$15)*(C$2:C7=C7)*D$2:D7),0) -> 0 | K7: Rang 2 | L7: {=IFERROR(INDEX(C$2:C$20,MATCH(SUMPRODUCT(LARGE((A$2:A$20=I$5)*(B$2:B$20=J$5)*(D$2:D$20+ROW(A$2:A$20)/1000),2)),(D$2:D$20+ROW(A$2:A$20)/1000),0)),"date & lieu unique")} -> Marie
A8: 42767 | B8: Paris | C8: Lionel | D8: 30 | E8: =IF(COUNTIF(C$2:C8,C8)=COUNTIF(collab,C8),SUMPRODUCT((B$2:B8=J$15)*(C$2:C8=C8)*D$2:D8),0) -> 0
A9: 42795 | B9: Lyon | C9: Marie | D9: 10 | E9: =IF(COUNTIF(C$2:C9,C9)=COUNTIF(collab,C9),SUMPRODUCT((B$2:B9=J$15)*(C$2:C9=C9)*D$2:D9),0) -> 0
A10: 42826 | B10: Paris | C10: Dominique | D10: 20 | E10: =IF(COUNTIF(C$2:C10,C10)=COUNTIF(collab,C10),SUMPRODUCT((B$2:B10=J$15)*(C$2:C10=C10)*D$2:D10),0) -> 0
A11: 42826 | B11: Lyon | C11: Fred | D11: 5 | E11: =IF(COUNTIF(C$2:C11,C11)=COUNTIF(collab,C11),SUMPRODUCT((B$2:B11=J$15)*(C$2:C11=C11)*D$2:D11),0) -> 0
A12: 42826 | B12: Lyon | C12: Marie | D12: 5 | E12: =IF(COUNTIF(C$2:C12,C12)=COUNTIF(collab,C12),SUMPRODUCT((B$2:B12=J$15)*(C$2:C12=C12)*D$2:D12),0) -> 0
A13: 42856 | B13: Paris | C13: Dominique | D13: 15 | E13: =IF(COUNTIF(C$2:C13,C13)=COUNTIF(collab,C13),SUMPRODUCT((B$2:B13=J$15)*(C$2:C13=C13)*D$2:D13),0) -> 0
A14: 42856 | B14: Lyon | C14: Marie | D14: 10 | E14: =IF(COUNTIF(C$2:C14,C14)=COUNTIF(collab,C14),SUMPRODUCT((B$2:B14=J$15)*(C$2:C14=C14)*D$2:D14),0) -> 0
A15: 42887 | B15: Paris | C15: Dominique | D15: 5 | E15: =IF(COUNTIF(C$2:C15,C15)=COUNTIF(collab,C15),SUMPRODUCT((B$2:B15=J$15)*(C$2:C15=C15)*D$2:D15),0) -> 0 | G15: de janvier à:>>>>>>> | I15: 42795 | J15: Lyon
A16: 42887 | B16: Lyon | C16: Fred | D16: 30 | E16: =IF(COUNTIF(C$2:C16,C16)=COUNTIF(collab,C16),SUMPRODUCT((B$2:B16=J$15)*(C$2:C16=C16)*D$2:D16),0) -> 0 | K16: rang1 | L16: =INDEX(collab,MATCH(MAX(forfait),forfait,0)) -> Fred
A17: 42887 | B17: Lyon | C17: Marie | D17: 5 | E17: =IF(COUNTIF(C$2:C17,C17)=COUNTIF(collab,C17),SUMPRODUCT((B$2:B17=J$15)*(C$2:C17=C17)*D$2:D17),0) -> 50 | K17: rang2 | L17: =IF(INDEX(collab,MATCH(LARGE(forfait,2),forfait,0))=L16,"",INDEX(collab,MATCH(LARGE(forfait,2),forfait,0))) -> Marie
A18: 42887 | B18: Paris | C18: Lionel | D18: 50 | E18: =IF(COUNTIF(C$2:C18,C18)=COUNTIF(collab,C18),SUMPRODUCT((B$2:B18=J$15)*(C$2:C18=C18)*D$2:D18),0) -> 0
A19: 42917 | B19: Paris | C19: Dominique | D19: 10 | E19: =IF(COUNTIF(C$2:C19,C19)=COUNTIF(collab,C19),SUMPRODUCT((B$2:B19=J$15)*(C$2:C19=C19)*D$2:D19),0) -> 0
A20: 42917 | B20: Lyon | C20: Fred | D20: 50 | E20: =IF(COUNTIF(C$2:C20,C20)=COUNTIF(collab,C20),SUMPRODUCT((B$2:B20=J$15)*(C$2:C20=C20)*D$2:D20),0) -> 95
E21: =IF(COUNTIF(C$2:C21,C21)=COUNTIF(collab,C21),SUMPRODUCT((B$2:B21=J$15)*(C$2:C21=C21)*D$2:D21),0) -> 0
E22: =IF(COUNTIF(C$2:C22,C22)=COUNTIF(collab,C22),SUMPRODUCT((B$2:B22=J$15)*(C$2:C22=C22)*D$2:D22),0) -> 0
A23: 42736 | B23: Lyon | E23: =IF(COUNTIF(C$2:C23,C23)=COUNTIF(collab,C23),SUMPRODUCT((B$2:B23=J$15)*(C$2:C23=C23)*D$2:D23),0) -> 0
A24: 42767 | B24: Paris | E24: =IF(COUNTIF(C$2:C24,C24)=COUNTIF(collab,C24),SUMPRODUCT((B$2:B24=J$15)*(C$2:C24=C24)*D$2:D24),0) -> 0
A25: 42795 | E25: =IF(COUNTIF(C$2:C25,C25)=COUNTIF(collab,C25),SUMPRODUCT((B$2:B25=J$15)*(C$2:C25=C25)*D$2:D25),0) -> 0
A26: 42826 | E26: =IF(COUNTIF(C$2:C26,C26)=COUNTIF(collab,C26),SUMPRODUCT((B$2:B26=J$15)*(C$2:C26=C26)*D$2:D26),0) -> 0
A27: 42856 | E27: =IF(COUNTIF(C$2:C27,C27)=COUNTIF(collab,C27),SUMPRODUCT((B$2:B27=J$15)*(C$2:C27=C27)*D$2:D27),0) -> 0
A28: 42887 | E28: =IF(COUNTIF(C$2:C28,C28)=COUNTIF(collab,C28),SUMPRODUCT((B$2:B28=J$15)*(C$2:C28=C28)*D$2:D28),0) -> 0
A29: 42917 | E29: =IF(COUNTIF(C$2:C29,C29)=COUNTIF(collab,C29),SUMPRODUCT((B$2:B29=J$15)*(C$2:C29=C29)*D$2:D29),0) -> 0
A30: 42948 | E30: =IF(COUNTIF(C$2:C30,C30)=COUNTIF(collab,C30),SUMPRODUCT((B$2:B30=J$15)*(C$2:C30=C30)*D$2:D30),0) -> 0
A31: 42979 | E31: =IF(COUNTIF(C$2:C31,C31)=COUNTIF(collab,C31),SUMPRODUCT((B$2:B31=J$15)*(C$2:C31=C31)*D$2:D31),0) -> 0
A32: 43009 | E32: =IF(COUNTIF(C$2:C32,C32)=COUNTIF(collab,C32),SUMPRODUCT((B$2:B32=J$15)*(C$2:C32=C32)*D$2:D32),0) -> 0
A33: 43040 | E33: =IF(COUNTIF(C$2:C33,C33)=COUNTIF(collab,C33),SUMPRODUCT((B$2:B33=J$15)*(C$2:C33=C33)*D$2:D33),0) -> 0
A34: 43070 | E34: =IF(COUNTIF(C$2:C34,C34)=COUNTIF(collab,C34),SUMPRODUCT((B$2:B34=J$15)*(C$2:C34=C34)*D$2:D34),0) -> 0
E35: =IF(COUNTIF(C$2:C35,C35)=COUNTIF(collab,C35),SUMPRODUCT((B$2:B35=J$15)*(C$2:C35=C35)*D$2:D35),0) -> 0
E36: =IF(COUNTIF(C$2:C36,C36)=COUNTIF(collab,C36),SUMPRODUCT((B$2:B36=J$15)*(C$2:C36=C36)*D$2:D36),0) -> 0
E37: =IF(COUNTIF(C$2:C37,C37)=COUNTIF(collab,C37),SUMPRODUCT((B$2:B37=J$15)*(C$2:C37=C37)*D$2:D37),0) -> 0
E38: =IF(COUNTIF(C$2:C38,C38)=COUNTIF(collab,C38),SUMPRODUCT((B$2:B38=J$15)*(C$2:C38=C38)*D$2:D38),0) -> 0
E39: =IF(COUNTIF(C$2:C39,C39)=COUNTIF(collab,C39),SUMPRODUCT((B$2:B39=J$15)*(C$2:C39=C39)*D$2:D39),0) -> 0
E40: =IF(COUNTIF(C$2:C40,C40)=COUNTIF(collab,C40),SUMPRODUCT((B$2:B40=J$15)*(C$2:C40=C40)*D$2:D40),0) -> 0
...

Sheet param
A1: listezone
A2: {=OFFSET(Test!$B$1,MATCH(0,COUNTIF(A$1:A1,zone2),0),)} -> Paris
A3: {=OFFSET(Test!$B$1,MATCH(0,COUNTIF(A$1:A2,zone2),0),)} -> Lyon
A4: {=OFFSET(Test!$B$1,MATCH(0,COUNTIF(A$1:A3,zone2),0),)} -> 0
A5: {=OFFSET(Test!$B$1,MATCH(0,COUNTIF(A$1:A4,zone2),0),)} -> #N/A
A6: {=OFFSET(Test!$B$1,MATCH(0,COUNTIF(A$1:A5,zone2),0),)} -> #N/A
A7: {=OFFSET(Test!$B$1,MATCH(0,COUNTIF(A$1:A6,zone2),0),)} -> #N/A
A8: {=OFFSET(Test!$B$1,MATCH(0,COUNTIF(A$1:A7,zone2),0),)} -> #N/A
A9: {=OFFSET(Test!$B$1,MATCH(0,COUNTIF(A$1:A8,zone2),0),)} -> #N/A
A10: {=OFFSET(Test!$B$1,MATCH(0,COUNTIF(A$1:A9,zone2),0),)} -> #N/A
A11: {=OFFSET(Test!$B$1,MATCH(0,COUNTIF(A$1:A10,zone2),0),)} -> #N/A
A12: {=OFFSET(Test!$B$1,MATCH(0,COUNTIF(A$1:A11,zone2),0),)} -> #N/A
A13: {=OFFSET(Test!$B$1,MATCH(0,COUNTIF(A$1:A12,zone2),0),)} -> #N/A
