Workbook
Name tabloA: Feuil2!$A$2:$A$29
Name tabloB: Feuil2!$B$2:$B$29

Sheet Feuil1
A1: BAMAKO | B1: GAO | C1: KIDAL | D1: TESSALIT | E1: 0 | F1: 0 | G1: 0 | H1: 0 | J1: {=SUM(IF(IFERROR(MATCH(IF(INDEX(Feuil1!$A1:$H1,,tabloB)=0,"",INDEX(Feuil1!$A1:$H1,,tabloA))&IF(INDEX(Feuil1!$A1:$H1,,tabloB)=0,"",INDEX(Feuil1!$A1:$H1,,tabloB)),IF(INDEX(Feuil1!$A1:$H1,,tabloB)=INDEX(Feuil1!$A1:$H1,,tabloA),"",INDEX(Feuil1!$A1:$H1,,tabloA))&INDEX(Feuil1!$A1:$H1,,tabloB),0),"")=ROW(tabloA)-1,1,""))} -> 6 | N1: {=MATCH(L1:L22&M1:M22,L1:L22&M1:M22,0)} -> 1
A2: TESSALIT | B2: KIDAL | C2: GAO | D2: BAMAKO | E2: 0 | F2: 0 | G2: 0 | H2: 0 | J2: {=SUM(IF(IFERROR(MATCH(IF(INDEX(Feuil1!$A2:$H2,,tabloB)=0,"",INDEX(Feuil1!$A2:$H2,,tabloA))&IF(INDEX(Feuil1!$A2:$H2,,tabloB)=0,"",INDEX(Feuil1!$A2:$H2,,tabloB)),IF(INDEX(Feuil1!$A2:$H2,,tabloB)=INDEX(Feuil1!$A2:$H2,,tabloA),"",INDEX(Feuil1!$A2:$H2,,tabloA))&INDEX(Feuil1!$A2:$H2,,tabloB),0),"")=ROW(tabloA)-1,1,""))} -> 6 | N2: 1
A3: BAMAKO | B3: KAYES | C3: YELIMANE | D3: NIORO DU SAHEL | E3: YELIMANE | F3: KAYES | G3: BAMAKO | H3: 0 | J3: {=SUM(IF(IFERROR(MATCH(IF(INDEX(Feuil1!$A3:$H3,,tabloB)=0,"",INDEX(Feuil1!$A3:$H3,,tabloA))&IF(INDEX(Feuil1!$A3:$H3,,tabloB)=0,"",INDEX(Feuil1!$A3:$H3,,tabloB)),IF(INDEX(Feuil1!$A3:$H3,,tabloB)=INDEX(Feuil1!$A3:$H3,,tabloA),"",INDEX(Feuil1!$A3:$H3,,tabloA))&INDEX(Feuil1!$A3:$H3,,tabloB),0),"")=ROW(tabloA)-1,1,""))} -> 12 | N3: 1
A4: 0 | B4: 0 | C4: 0 | D4: 0 | E4: 0 | F4: 0 | G4: 0 | H4: 0 | J4: {=SUM(IF(IFERROR(MATCH(IF(INDEX(Feuil1!$A4:$H4,,tabloB)=0,"",INDEX(Feuil1!$A4:$H4,,tabloA))&IF(INDEX(Feuil1!$A4:$H4,,tabloB)=0,"",INDEX(Feuil1!$A4:$H4,,tabloB)),IF(INDEX(Feuil1!$A4:$H4,,tabloB)=INDEX(Feuil1!$A4:$H4,,tabloA),"",INDEX(Feuil1!$A4:$H4,,tabloA))&INDEX(Feuil1!$A4:$H4,,tabloB),0),"")=ROW(tabloA)-1,1,""))} -> 0 | N4: 1
A5: 0 | B5: 0 | C5: 0 | D5: 0 | E5: 0 | F5: 0 | G5: 0 | H5: 0 | J5: {=SUM(IF(IFERROR(MATCH(IF(INDEX(Feuil1!$A5:$H5,,tabloB)=0,"",INDEX(Feuil1!$A5:$H5,,tabloA))&IF(INDEX(Feuil1!$A5:$H5,,tabloB)=0,"",INDEX(Feuil1!$A5:$H5,,tabloB)),IF(INDEX(Feuil1!$A5:$H5,,tabloB)=INDEX(Feuil1!$A5:$H5,,tabloA),"",INDEX(Feuil1!$A5:$H5,,tabloA))&INDEX(Feuil1!$A5:$H5,,tabloB),0),"")=ROW(tabloA)-1,1,""))} -> 0 | N5: 1
A6: 0 | B6: 0 | C6: 0 | D6: 0 | E6: 0 | F6: 0 | G6: 0 | H6: 0 | J6: {=SUM(IF(IFERROR(MATCH(IF(INDEX(Feuil1!$A6:$H6,,tabloB)=0,"",INDEX(Feuil1!$A6:$H6,,tabloA))&IF(INDEX(Feuil1!$A6:$H6,,tabloB)=0,"",INDEX(Feuil1!$A6:$H6,,tabloB)),IF(INDEX(Feuil1!$A6:$H6,,tabloB)=INDEX(Feuil1!$A6:$H6,,tabloA),"",INDEX(Feuil1!$A6:$H6,,tabloA))&INDEX(Feuil1!$A6:$H6,,tabloB),0),"")=ROW(tabloA)-1,1,""))} -> 0 | N6: 1
A7: 0 | B7: 0 | C7: 0 | D7: 0 | E7: 0 | F7: 0 | G7: 0 | H7: 0 | J7: {=SUM(IF(IFERROR(MATCH(IF(INDEX(Feuil1!$A7:$H7,,tabloB)=0,"",INDEX(Feuil1!$A7:$H7,,tabloA))&IF(INDEX(Feuil1!$A7:$H7,,tabloB)=0,"",INDEX(Feuil1!$A7:$H7,,tabloB)),IF(INDEX(Feuil1!$A7:$H7,,tabloB)=INDEX(Feuil1!$A7:$H7,,tabloA),"",INDEX(Feuil1!$A7:$H7,,tabloA))&INDEX(Feuil1!$A7:$H7,,tabloB),0),"")=ROW(tabloA)-1,1,""))} -> 0 | N7: 1
A8: BAMAKO | B8: MOPTI | C8: GAO | D8: 0 | E8: 0 | F8: 0 | G8: 0 | H8: 0 | J8: {=SUM(IF(IFERROR(MATCH(IF(INDEX(Feuil1!$A8:$H8,,tabloB)=0,"",INDEX(Feuil1!$A8:$H8,,tabloA))&IF(INDEX(Feuil1!$A8:$H8,,tabloB)=0,"",INDEX(Feuil1!$A8:$H8,,tabloB)),IF(INDEX(Feuil1!$A8:$H8,,tabloB)=INDEX(Feuil1!$A8:$H8,,tabloA),"",INDEX(Feuil1!$A8:$H8,,tabloA))&INDEX(Feuil1!$A8:$H8,,tabloB),0),"")=ROW(tabloA)-1,1,""))} -> 3 | N8: 1
A9: GAO | B9: MOPTI | C9: BAMAKO | D9: 0 | E9: 0 | F9: 0 | G9: 0 | H9: 0 | J9: {=SUM(IF(IFERROR(MATCH(IF(INDEX(Feuil1!$A9:$H9,,tabloB)=0,"",INDEX(Feuil1!$A9:$H9,,tabloA))&IF(INDEX(Feuil1!$A9:$H9,,tabloB)=0,"",INDEX(Feuil1!$A9:$H9,,tabloB)),IF(INDEX(Feuil1!$A9:$H9,,tabloB)=INDEX(Feuil1!$A9:$H9,,tabloA),"",INDEX(Feuil1!$A9:$H9,,tabloA))&INDEX(Feuil1!$A9:$H9,,tabloB),0),"")=ROW(tabloA)-1,1,""))} -> 3 | N9: 1
A10: BAMAKO | B10: KAYES | C10: NIORO DU SAHEL | D10: YELIMANE | E10: 0 | F10: 0 | G10: 0 | H10: 0 | J10: {=SUM(IF(IFERROR(MATCH(IF(INDEX(Feuil1!$A10:$H10,,tabloB)=0,"",INDEX(Feuil1!$A10:$H10,,tabloA))&IF(INDEX(Feuil1!$A10:$H10,,tabloB)=0,"",INDEX(Feuil1!$A10:$H10,,tabloB)),IF(INDEX(Feuil1!$A10:$H10,,tabloB)=INDEX(Feuil1!$A10:$H10,,tabloA),"",INDEX(Feuil1!$A10:$H10,,tabloA))&INDEX(Feuil1!$A10:$H10,,tabloB),0),"")=ROW(tabloA)-1,1,""))} -> 6 | N10: 1
A11: YELIMANE | B11: NIORO DU SAHEL | C11: KAYES | D11: BAMAKO | E11: 0 | F11: 0 | G11: 0 | H11: 0 | J11: {=SUM(IF(IFERROR(MATCH(IF(INDEX(Feuil1!$A11:$H11,,tabloB)=0,"",INDEX(Feuil1!$A11:$H11,,tabloA))&IF(INDEX(Feuil1!$A11:$H11,,tabloB)=0,"",INDEX(Feuil1!$A11:$H11,,tabloB)),IF(INDEX(Feuil1!$A11:$H11,,tabloB)=INDEX(Feuil1!$A11:$H11,,tabloA),"",INDEX(Feuil1!$A11:$H11,,tabloA))&INDEX(Feuil1!$A11:$H11,,tabloB),0),"")=ROW(tabloA)-1,1,""))} -> 6 | N11: 1
A12: 0 | B12: 0 | C12: 0 | D12: 0 | E12: 0 | F12: 0 | G12: 0 | H12: 0 | J12: {=SUM(IF(IFERROR(MATCH(IF(INDEX(Feuil1!$A12:$H12,,tabloB)=0,"",INDEX(Feuil1!$A12:$H12,,tabloA))&IF(INDEX(Feuil1!$A12:$H12,,tabloB)=0,"",INDEX(Feuil1!$A12:$H12,,tabloB)),IF(INDEX(Feuil1!$A12:$H12,,tabloB)=INDEX(Feuil1!$A12:$H12,,tabloA),"",INDEX(Feuil1!$A12:$H12,,tabloA))&INDEX(Feuil1!$A12:$H12,,tabloB),0),"")=ROW(tabloA)-1,1,""))} -> 0 | N12: 1
A13: 0 | B13: 0 | C13: 0 | D13: 0 | E13: 0 | F13: 0 | G13: 0 | H13: 0 | J13: {=SUM(IF(IFERROR(MATCH(IF(INDEX(Feuil1!$A13:$H13,,tabloB)=0,"",INDEX(Feuil1!$A13:$H13,,tabloA))&IF(INDEX(Feuil1!$A13:$H13,,tabloB)=0,"",INDEX(Feuil1!$A13:$H13,,tabloB)),IF(INDEX(Feuil1!$A13:$H13,,tabloB)=INDEX(Feuil1!$A13:$H13,,tabloA),"",INDEX(Feuil1!$A13:$H13,,tabloA))&INDEX(Feuil1!$A13:$H13,,tabloB),0),"")=ROW(tabloA)-1,1,""))} -> 0 | N13: 1
A14: 0 | B14: 0 | C14: 0 | D14: 0 | E14: 0 | F14: 0 | G14: 0 | H14: 0 | J14: {=SUM(IF(IFERROR(MATCH(IF(INDEX(Feuil1!$A14:$H14,,tabloB)=0,"",INDEX(Feuil1!$A14:$H14,,tabloA))&IF(INDEX(Feuil1!$A14:$H14,,tabloB)=0,"",INDEX(Feuil1!$A14:$H14,,tabloB)),IF(INDEX(Feuil1!$A14:$H14,,tabloB)=INDEX(Feuil1!$A14:$H14,,tabloA),"",INDEX(Feuil1!$A14:$H14,,tabloA))&INDEX(Feuil1!$A14:$H14,,tabloB),0),"")=ROW(tabloA)-1,1,""))} -> 0 | N14: 1
A15: BAMAKO | B15: MOPTI | C15: TOMBOUCTOU | D15: GAO | E15: 0 | F15: 0 | G15: 0 | H15: 0 | J15: {=SUM(IF(IFERROR(MATCH(IF(INDEX(Feuil1!$A15:$H15,,tabloB)=0,"",INDEX(Feuil1!$A15:$H15,,tabloA))&IF(INDEX(Feuil1!$A15:$H15,,tabloB)=0,"",INDEX(Feuil1!$A15:$H15,,tabloB)),IF(INDEX(Feuil1!$A15:$H15,,tabloB)=INDEX(Feuil1!$A15:$H15,,tabloA),"",INDEX(Feuil1!$A15:$H15,,tabloA))&INDEX(Feuil1!$A15:$H15,,tabloB),0),"")=ROW(tabloA)-1,1,""))} -> 6 | N15: 1
A16: GAO | B16: TOMBOUCTOU | C16: MOPTI | D16: BAMAKO | E16: 0 | F16: 0 | G16: 0 | H16: 0 | J16: {=SUM(IF(IFERROR(MATCH(IF(INDEX(Feuil1!$A16:$H16,,tabloB)=0,"",INDEX(Feuil1!$A16:$H16,,tabloA))&IF(INDEX(Feuil1!$A16:$H16,,tabloB)=0,"",INDEX(Feuil1!$A16:$H16,,tabloB)),IF(INDEX(Feuil1!$A16:$H16,,tabloB)=INDEX(Feuil1!$A16:$H16,,tabloA),"",INDEX(Feuil1!$A16:$H16,,tabloA))&INDEX(Feuil1!$A16:$H16,,tabloB),0),"")=ROW(tabloA)-1,1,""))} -> 6 | N16: 1
A17: BAMAKO | B17: KAYES | C17: NIORO DU SAHEL | D17: YELIMANE | E17: 0 | F17: 0 | G17: 0 | H17: 0 | J17: {=SUM(IF(IFERROR(MATCH(IF(INDEX(Feuil1!$A17:$H17,,tabloB)=0,"",INDEX(Feuil1!$A17:$H17,,tabloA))&IF(INDEX(Feuil1!$A17:$H17,,tabloB)=0,"",INDEX(Feuil1!$A17:$H17,,tabloB)),IF(INDEX(Feuil1!$A17:$H17,,tabloB)=INDEX(Feuil1!$A17:$H17,,tabloA),"",INDEX(Feuil1!$A17:$H17,,tabloA))&INDEX(Feuil1!$A17:$H17,,tabloB),0),"")=ROW(tabloA)-1,1,""))} -> 6 | N17: 1
A18: YELIMANE | B18: NIORO DU SAHEL | C18: KAYES | D18: BAMAKO | E18: 0 | F18: 0 | G18: 0 | H18: 0 | J18: {=SUM(IF(IFERROR(MATCH(IF(INDEX(Feuil1!$A18:$H18,,tabloB)=0,"",INDEX(Feuil1!$A18:$H18,,tabloA))&IF(INDEX(Feuil1!$A18:$H18,,tabloB)=0,"",INDEX(Feuil1!$A18:$H18,,tabloB)),IF(INDEX(Feuil1!$A18:$H18,,tabloB)=INDEX(Feuil1!$A18:$H18,,tabloA),"",INDEX(Feuil1!$A18:$H18,,tabloA))&INDEX(Feuil1!$A18:$H18,,tabloB),0),"")=ROW(tabloA)-1,1,""))} -> 6 | N18: 1
A19: 0 | B19: 0 | C19: 0 | D19: 0 | E19: 0 | F19: 0 | G19: 0 | H19: 0 | J19: {=SUM(IF(IFERROR(MATCH(IF(INDEX(Feuil1!$A19:$H19,,tabloB)=0,"",INDEX(Feuil1!$A19:$H19,,tabloA))&IF(INDEX(Feuil1!$A19:$H19,,tabloB)=0,"",INDEX(Feuil1!$A19:$H19,,tabloB)),IF(INDEX(Feuil1!$A19:$H19,,tabloB)=INDEX(Feuil1!$A19:$H19,,tabloA),"",INDEX(Feuil1!$A19:$H19,,tabloA))&INDEX(Feuil1!$A19:$H19,,tabloB),0),"")=ROW(tabloA)-1,1,""))} -> 0 | N19: 1
A20: 0 | B20: 0 | C20: 0 | D20: 0 | E20: 0 | F20: 0 | G20: 0 | H20: 0 | J20: {=SUM(IF(IFERROR(MATCH(IF(INDEX(Feuil1!$A20:$H20,,tabloB)=0,"",INDEX(Feuil1!$A20:$H20,,tabloA))&IF(INDEX(Feuil1!$A20:$H20,,tabloB)=0,"",INDEX(Feuil1!$A20:$H20,,tabloB)),IF(INDEX(Feuil1!$A20:$H20,,tabloB)=INDEX(Feuil1!$A20:$H20,,tabloA),"",INDEX(Feuil1!$A20:$H20,,tabloA))&INDEX(Feuil1!$A20:$H20,,tabloB),0),"")=ROW(tabloA)-1,1,""))} -> 0 | N20: 1
A21: 0 | B21: 0 | C21: 0 | D21: 0 | E21: 0 | F21: 0 | G21: 0 | H21: 0 | J21: {=SUM(IF(IFERROR(MATCH(IF(INDEX(Feuil1!$A21:$H21,,tabloB)=0,"",INDEX(Feuil1!$A21:$H21,,tabloA))&IF(INDEX(Feuil1!$A21:$H21,,tabloB)=0,"",INDEX(Feuil1!$A21:$H21,,tabloB)),IF(INDEX(Feuil1!$A21:$H21,,tabloB)=INDEX(Feuil1!$A21:$H21,,tabloA),"",INDEX(Feuil1!$A21:$H21,,tabloA))&INDEX(Feuil1!$A21:$H21,,tabloB),0),"")=ROW(tabloA)-1,1,""))} -> 0 | N21: 1
A22: BAMAKO | B22: GAO | C22: TESSALIT | D22: KIDAL | E22: 0 | F22: 0 | G22: 0 | H22: 0 | J22: {=SUM(IF(IFERROR(MATCH(IF(INDEX(Feuil1!$A22:$H22,,tabloB)=0,"",INDEX(Feuil1!$A22:$H22,,tabloA))&IF(INDEX(Feuil1!$A22:$H22,,tabloB)=0,"",INDEX(Feuil1!$A22:$H22,,tabloB)),IF(INDEX(Feuil1!$A22:$H22,,tabloB)=INDEX(Feuil1!$A22:$H22,,tabloA),"",INDEX(Feuil1!$A22:$H22,,tabloA))&INDEX(Feuil1!$A22:$H22,,tabloB),0),"")=ROW(tabloA)-1,1,""))} -> 6 | N22: 1
A23: KIDAL | B23: TESSALIT | C23: GAO | D23: BAMAKO | E23: 0 | F23: 0 | G23: 0 | H23: 0 | J23: {=SUM(IF(IFERROR(MATCH(IF(INDEX(Feuil1!$A23:$H23,,tabloB)=0,"",INDEX(Feuil1!$A23:$H23,,tabloA))&IF(INDEX(Feuil1!$A23:$H23,,tabloB)=0,"",INDEX(Feuil1!$A23:$H23,,tabloB)),IF(INDEX(Feuil1!$A23:$H23,,tabloB)=INDEX(Feuil1!$A23:$H23,,tabloA),"",INDEX(Feuil1!$A23:$H23,,tabloA))&INDEX(Feuil1!$A23:$H23,,tabloB),0),"")=ROW(tabloA)-1,1,""))} -> 6
A24: BAMAKO | B24: TOMBOUCTOU | C24: BAMAKO | D24: 0 | E24: 0 | F24: 0 | G24: 0 | H24: 0 | J24: {=SUM(IF(IFERROR(MATCH(IF(INDEX(Feuil1!$A24:$H24,,tabloB)=0,"",INDEX(Feuil1!$A24:$H24,,tabloA))&IF(INDEX(Feuil1!$A24:$H24,,tabloB)=0,"",INDEX(Feuil1!$A24:$H24,,tabloB)),IF(INDEX(Feuil1!$A24:$H24,,tabloB)=INDEX(Feuil1!$A24:$H24,,tabloA),"",INDEX(Feuil1!$A24:$H24,,tabloA))&INDEX(Feuil1!$A24:$H24,,tabloB),0),"")=ROW(tabloA)-1,1,""))} -> 2
A25: 0 | B25: 0 | C25: 0 | D25: 0 | E25: 0 | F25: 0 | G25: 0 | H25: 0 | J25: {=SUM(IF(IFERROR(MATCH(IF(INDEX(Feuil1!$A25:$H25,,tabloB)=0,"",INDEX(Feuil1!$A25:$H25,,tabloA))&IF(INDEX(Feuil1!$A25:$H25,,tabloB)=0,"",INDEX(Feuil1!$A25:$H25,,tabloB)),IF(INDEX(Feuil1!$A25:$H25,,tabloB)=INDEX(Feuil1!$A25:$H25,,tabloA),"",INDEX(Feuil1!$A25:$H25,,tabloA))&INDEX(Feuil1!$A25:$H25,,tabloB),0),"")=ROW(tabloA)-1,1,""))} -> 0
A26: 0 | B26: 0 | C26: 0 | D26: 0 | E26: 0 | F26: 0 | G26: 0 | H26: 0 | J26: {=SUM(IF(IFERROR(MATCH(IF(INDEX(Feuil1!$A26:$H26,,tabloB)=0,"",INDEX(Feuil1!$A26:$H26,,tabloA))&IF(INDEX(Feuil1!$A26:$H26,,tabloB)=0,"",INDEX(Feuil1!$A26:$H26,,tabloB)),IF(INDEX(Feuil1!$A26:$H26,,tabloB)=INDEX(Feuil1!$A26:$H26,,tabloA),"",INDEX(Feuil1!$A26:$H26,,tabloA))&INDEX(Feuil1!$A26:$H26,,tabloB),0),"")=ROW(tabloA)-1,1,""))} -> 0
A27: 0 | B27: 0 | C27: 0 | D27: 0 | E27: 0 | F27: 0 | G27: 0 | H27: 0 | J27: {=SUM(IF(IFERROR(MATCH(IF(INDEX(Feuil1!$A27:$H27,,tabloB)=0,"",INDEX(Feuil1!$A27:$H27,,tabloA))&IF(INDEX(Feuil1!$A27:$H27,,tabloB)=0,"",INDEX(Feuil1!$A27:$H27,,tabloB)),IF(INDEX(Feuil1!$A27:$H27,,tabloB)=INDEX(Feuil1!$A27:$H27,,tabloA),"",INDEX(Feuil1!$A27:$H27,,tabloA))&INDEX(Feuil1!$A27:$H27,,tabloB),0),"")=ROW(tabloA)-1,1,""))} -> 0
A28: 0 | B28: 0 | C28: 0 | D28: 0 | E28: 0 | F28: 0 | G28: 0 | H28: 0 | J28: {=SUM(IF(IFERROR(MATCH(IF(INDEX(Feuil1!$A28:$H28,,tabloB)=0,"",INDEX(Feuil1!$A28:$H28,,tabloA))&IF(INDEX(Feuil1!$A28:$H28,,tabloB)=0,"",INDEX(Feuil1!$A28:$H28,,tabloB)),IF(INDEX(Feuil1!$A28:$H28,,tabloB)=INDEX(Feuil1!$A28:$H28,,tabloA),"",INDEX(Feuil1!$A28:$H28,,tabloA))&INDEX(Feuil1!$A28:$H28,,tabloB),0),"")=ROW(tabloA)-1,1,""))} -> 0
A29: BAMAKO | B29: MOPTI | C29: GAO | D29: 0 | E29: 0 | F29: 0 | G29: 0 | H29: 0 | J29: {=SUM(IF(IFERROR(MATCH(IF(INDEX(Feuil1!$A29:$H29,,tabloB)=0,"",INDEX(Feuil1!$A29:$H29,,tabloA))&IF(INDEX(Feuil1!$A29:$H29,,tabloB)=0,"",INDEX(Feuil1!$A29:$H29,,tabloB)),IF(INDEX(Feuil1!$A29:$H29,,tabloB)=INDEX(Feuil1!$A29:$H29,,tabloA),"",INDEX(Feuil1!$A29:$H29,,tabloA))&INDEX(Feuil1!$A29:$H29,,tabloB),0),"")=ROW(tabloA)-1,1,""))} -> 3
A30: GAO | B30: MOPTI | C30: BAMAKO | D30: 0 | E30: 0 | F30: 0 | G30: 0 | H30: 0 | J30: {=SUM(IF(IFERROR(MATCH(IF(INDEX(Feuil1!$A30:$H30,,tabloB)=0,"",INDEX(Feuil1!$A30:$H30,,tabloA))&IF(INDEX(Feuil1!$A30:$H30,,tabloB)=0,"",INDEX(Feuil1!$A30:$H30,,tabloB)),IF(INDEX(Feuil1!$A30:$H30,,tabloB)=INDEX(Feuil1!$A30:$H30,,tabloA),"",INDEX(Feuil1!$A30:$H30,,tabloA))&INDEX(Feuil1!$A30:$H30,,tabloB),0),"")=ROW(tabloA)-1,1,""))} -> 3
A31: BAMAKO | B31: TOMBOUCTOU | C31: BAMAKO | D31: 0 | E31: 0 | F31: 0 | G31: 0 | H31: 0 | J31: {=SUM(IF(IFERROR(MATCH(IF(INDEX(Feuil1!$A31:$H31,,tabloB)=0,"",INDEX(Feuil1!$A31:$H31,,tabloA))&IF(INDEX(Feuil1!$A31:$H31,,tabloB)=0,"",INDEX(Feuil1!$A31:$H31,,tabloB)),IF(INDEX(Feuil1!$A31:$H31,,tabloB)=INDEX(Feuil1!$A31:$H31,,tabloA),"",INDEX(Feuil1!$A31:$H31,,tabloA))&INDEX(Feuil1!$A31:$H31,,tabloB),0),"")=ROW(tabloA)-1,1,""))} -> 2
A32: BAMAKO | B32: KAYES | C32: BAMAKO | D32: 0 | E32: 0 | F32: 0 | G32: 0 | H32: 0 | J32: {=SUM(IF(IFERROR(MATCH(IF(INDEX(Feuil1!$A32:$H32,,tabloB)=0,"",INDEX(Feuil1!$A32:$H32,,tabloA))&IF(INDEX(Feuil1!$A32:$H32,,tabloB)=0,"",INDEX(Feuil1!$A32:$H32,,tabloB)),IF(INDEX(Feuil1!$A32:$H32,,tabloB)=INDEX(Feuil1!$A32:$H32,,tabloA),"",INDEX(Feuil1!$A32:$H32,,tabloA))&INDEX(Feuil1!$A32:$H32,,tabloB),0),"")=ROW(tabloA)-1,1,""))} -> 2
A33: 0 | B33: 0 | C33: 0 | D33: 0 | E33: 0 | F33: 0 | G33: 0 | H33: 0 | J33: {=SUM(IF(IFERROR(MATCH(IF(INDEX(Feuil1!$A33:$H33,,tabloB)=0,"",INDEX(Feuil1!$A33:$H33,,tabloA))&IF(INDEX(Feuil1!$A33:$H33,,tabloB)=0,"",INDEX(Feuil1!$A33:$H33,,tabloB)),IF(INDEX(Feuil1!$A33:$H33,,tabloB)=INDEX(Feuil1!$A33:$H33,,tabloA),"",INDEX(Feuil1!$A33:$H33,,tabloA))&INDEX(Feuil1!$A33:$H33,,tabloB),0),"")=ROW(tabloA)-1,1,""))} -> 0
A34: 0 | B34: 0 | C34: 0 | D34: 0 | E34: 0 | F34: 0 | G34: 0 | H34: 0 | J34: {=SUM(IF(IFERROR(MATCH(IF(INDEX(Feuil1!$A34:$H34,,tabloB)=0,"",INDEX(Feuil1!$A34:$H34,,tabloA))&IF(INDEX(Feuil1!$A34:$H34,,tabloB)=0,"",INDEX(Feuil1!$A34:$H34,,tabloB)),IF(INDEX(Feuil1!$A34:$H34,,tabloB)=INDEX(Feuil1!$A34:$H34,,tabloA),"",INDEX(Feuil1!$A34:$H34,,tabloA))&INDEX(Feuil1!$A34:$H34,,tabloB),0),"")=ROW(tabloA)-1,1,""))} -> 0
A35: 0 | B35: 0 | C35: 0 | D35: 0 | E35: 0 | F35: 0 | G35: 0 | H35: 0 | J35: {=SUM(IF(IFERROR(MATCH(IF(INDEX(Feuil1!$A35:$H35,,tabloB)=0,"",INDEX(Feuil1!$A35:$H35,,tabloA))&IF(INDEX(Feuil1!$A35:$H35,,tabloB)=0,"",INDEX(Feuil1!$A35:$H35,,tabloB)),IF(INDEX(Feuil1!$A35:$H35,,tabloB)=INDEX(Feuil1!$A35:$H35,,tabloA),"",INDEX(Feuil1!$A35:$H35,,tabloA))&INDEX(Feuil1!$A35:$H35,,tabloB),0),"")=ROW(tabloA)-1,1,""))} -> 0
A36: BAMAKO | B36: MOPTI | C36: TOMBOUCTOU | D36: GAO | E36: 0 | F36: 0 | G36: 0 | H36: 0 | J36: {=SUM(IF(IFERROR(MATCH(IF(INDEX(Feuil1!$A36:$H36,,tabloB)=0,"",INDEX(Feuil1!$A36:$H36,,tabloA))&IF(INDEX(Feuil1!$A36:$H36,,tabloB)=0,"",INDEX(Feuil1!$A36:$H36,,tabloB)),IF(INDEX(Feuil1!$A36:$H36,,tabloB)=INDEX(Feuil1!$A36:$H36,,tabloA),"",INDEX(Feuil1!$A36:$H36,,tabloA))&INDEX(Feuil1!$A36:$H36,,tabloB),0),"")=ROW(tabloA)-1,1,""))} -> 6
A37: GAO | B37: TOMBOUCTOU | C37: MOPTI | D37: BAMAKO | E37: 0 | F37: 0 | G37: 0 | H37: 0 | J37: {=SUM(IF(IFERROR(MATCH(IF(INDEX(Feuil1!$A37:$H37,,tabloB)=0,"",INDEX(Feuil1!$A37:$H37,,tabloA))&IF(INDEX(Feuil1!$A37:$H37,,tabloB)=0,"",INDEX(Feuil1!$A37:$H37,,tabloB)),IF(INDEX(Feuil1!$A37:$H37,,tabloB)=INDEX(Feuil1!$A37:$H37,,tabloA),"",INDEX(Feuil1!$A37:$H37,,tabloA))&INDEX(Feuil1!$A37:$H37,,tabloB),0),"")=ROW(tabloA)-1,1,""))} -> 6
A38: BAMAKO | B38: TOMBOUCTOU | C38: BAMAKO | D38: 0 | E38: 0 | F38: 0 | G38: 0 | H38: 0 | J38: {=SUM(IF(IFERROR(MATCH(IF(INDEX(Feuil1!$A38:$H38,,tabloB)=0,"",INDEX(Feuil1!$A38:$H38,,tabloA))&IF(INDEX(Feuil1!$A38:$H38,,tabloB)=0,"",INDEX(Feuil1!$A38:$H38,,tabloB)),IF(INDEX(Feuil1!$A38:$H38,,tabloB)=INDEX(Feuil1!$A38:$H38,,tabloA),"",INDEX(Feuil1!$A38:$H38,,tabloA))&INDEX(Feuil1!$A38:$H38,,tabloB),0),"")=ROW(tabloA)-1,1,""))} -> 2
A39: BAMAKO | B39: KAYES | C39: BAMAKO | D39: 0 | E39: 0 | F39: 0 | G39: 0 | H39: 0 | J39: {=SUM(IF(IFERROR(MATCH(IF(INDEX(Feuil1!$A39:$H39,,tabloB)=0,"",INDEX(Feuil1!$A39:$H39,,tabloA))&IF(INDEX(Feuil1!$A39:$H39,,tabloB)=0,"",INDEX(Feuil1!$A39:$H39,,tabloB)),IF(INDEX(Feuil1!$A39:$H39,,tabloB)=INDEX(Feuil1!$A39:$H39,,tabloA),"",INDEX(Feuil1!$A39:$H39,,tabloA))&INDEX(Feuil1!$A39:$H39,,tabloB),0),"")=ROW(tabloA)-1,1,""))} -> 2
A40: 0 | B40: 0 | C40: 0 | D40: 0 | E40: 0 | F40: 0 | G40: 0 | H40: 0 | J40: {=SUM(IF(IFERROR(MATCH(IF(INDEX(Feuil1!$A40:$H40,,tabloB)=0,"",INDEX(Feuil1!$A40:$H40,,tabloA))&IF(INDEX(Feuil1!$A40:$H40,,tabloB)=0,"",INDEX(Feuil1!$A40:$H40,,tabloB)),IF(INDEX(Feuil1!$A40:$H40,,tabloB)=INDEX(Feuil1!$A40:$H40,,tabloA),"",INDEX(Feuil1!$A40:$H40,,tabloA))&INDEX(Feuil1!$A40:$H40,,tabloB),0),"")=ROW(tabloA)-1,1,""))} -> 0
...

Sheet Feuil2
A2: 1 | B2: 2 | E2: ne rien modifier
A3: 1 | B3: 3
A4: 1 | B4: 4
A5: 1 | B5: 5
A6: 1 | B6: 6
A7: 1 | B7: 7
A8: 1 | B8: 8
A9: 2 | B9: 3
A10: 2 | B10: 4
A11: 2 | B11: 5
A12: 2 | B12: 6
A13: 2 | B13: 7
A14: 2 | B14: 8
... A29: 7 | B29: 8
