Workbook
Name ListeIntermittents: OFFSET(Données!$D$2,0,0,COUNTA(Données!$D:$D)-1,1)

Sheet EDTglobal
A1: Spectacle | B1: Salle | E1: Affectation des salariés intermittents
E2: DEN | F2: REMI | G2: MEH | H2: ETIE | I2: TOJ | J2: TOC | K2: J.V. | L2: JUST | M2: DEB | N2: LAUR | O2: CALI | P2: CAM | Q2: OLIV | R2: GEN | S2: FEL | T2: FRA | U2: PAUL | V2: THIB | W2: ARNO | X2: MATC | Y2: MAL | Z2: MANU | AA2: ERIC | AB2: PIER | AC2: JUL | AD2: CSL | AE2: Jouv
C3: =Données!B1 -> 45566 | D3: 1 | E3: jouv
D4: 2 | E4: jouv
D5: 3
C6: =IFERROR(IF(C3+1>Données!$B$2,"",C3+1),"") -> 45567 | D6: 1
D7: 2 | E7: csl
D8: 3 | E8: jouv
C9: =IFERROR(IF(C6+1>Données!$B$2,"",C6+1),"") -> 45568 | D9: 1
D10: 2
D11: 3 | E11: crr
C12: =IFERROR(IF(C9+1>Données!$B$2,"",C9+1),"") -> 45569 | D12: 1
D13: 2 | E13: toto
D14: 3
C15: =IFERROR(IF(C12+1>Données!$B$2,"",C12+1),"") -> 45570 | D15: 1 | E15: tulipe
D16: 2
D17: 3
C18: =IFERROR(IF(C15+1>Données!$B$2,"",C15+1),"") -> 45571 | D18: 1 | E18: marcel
D19: 2
D20: 3
C21: =IFERROR(IF(C18+1>Données!$B$2,"",C18+1),"") -> 45572 | D21: 1 | E21: raymond
D22: 2
D23: 3
C24: =IFERROR(IF(C21+1>Données!$B$2,"",C21+1),"") -> 45573 | D24: 1
D25: 2
D26: 3
C27: =IFERROR(IF(C24+1>Données!$B$2,"",C24+1),"") -> 45574 | D27: 1
D28: 2
D29: 3
C30: =IFERROR(IF(C27+1>Données!$B$2,"",C27+1),"") -> 45575 | D30: 1
D31: 2
D32: 3
C33: =IFERROR(IF(C30+1>Données!$B$2,"",C30+1),"") -> 45576 | D33: 1
D34: 2
D35: 3
C36: =IFERROR(IF(C33+1>Données!$B$2,"",C33+1),"") -> 45577 | D36: 1
D37: 2
D38: 3
C39: =IFERROR(IF(C36+1>Données!$B$2,"",C36+1),"") -> 45578 | D39: 1
D40: 2
...

Sheet Denis
A1: =Données!B3 -> octobre 2024 | B1: L'Étincelle
A3: Denis
B4: Services | C4: Lieu | D4: Horaire | E4: Nom spectacle | F4: Tranche horaire
A5: =EDTglobal!$C$3 -> 45566 | B5: =COUNTIF(EDTglobal!E3:E5,"*") -> 2 | C5: {=IFERROR(INDEX(EDTglobal!E$3:E$100,SMALL(IF(OFFSET(EDTglobal!E$2,MATCH(Denis!A5,EDTglobal!C$3:C$98,0),,3)<>"",ROW(OFFSET(EDTglobal!E$2,MATCH(Denis!A5,EDTglobal!C$3:C$98,0),,3))-2,""),1)),"")} -> jouv | D5: =IF(F5=1,"9h",IF(F5=2,"14h",IF(F5=3,"19h",""))) -> 9h | E5: =EDTglobal!AD3 -> 0 | F5: =IFERROR(MATCH("*",OFFSET(EDTglobal!E$2,MATCH(Denis!A5,EDTglobal!C$3:C$98,0),,3),0),"") -> 1
A6: =IFERROR(IF(A5+1>Données!$B$2,"",A5+1),"") -> 45567 | B6: =COUNTIF(OFFSET(EDTglobal!$E$3,(ROW()-5)*3,0,3,1),"*") -> 2 | C6: {=IFERROR(INDEX(EDTglobal!E$3:E$100,SMALL(IF(OFFSET(EDTglobal!E$2,MATCH(Denis!A6,EDTglobal!C$3:C$98,0),,3)<>"",ROW(OFFSET(EDTglobal!E$2,MATCH(Denis!A6,EDTglobal!C$3:C$98,0),,3))-2,""),1)),"")} -> csl | D6: =IF(F6=1,"9h",IF(F6=2,"14h",IF(F6=3,"19h",""))) -> 14h | E6: =EDTglobal!AD6 -> 0 | F6: =IFERROR(MATCH("*",OFFSET(EDTglobal!E$2,MATCH(Denis!A6,EDTglobal!C$3:C$98,0),,3),0),"") -> 2
A7: =IFERROR(IF(A6+1>Données!$B$2,"",A6+1),"") -> 45568 | B7: =COUNTIF(OFFSET(EDTglobal!$E$3,(ROW()-5)*3,0,3,1),"*") -> 1 | C7: {=IFERROR(INDEX(EDTglobal!E$3:E$100,SMALL(IF(OFFSET(EDTglobal!E$2,MATCH(Denis!A7,EDTglobal!C$3:C$98,0),,3)<>"",ROW(OFFSET(EDTglobal!E$2,MATCH(Denis!A7,EDTglobal!C$3:C$98,0),,3))-2,""),1)),"")} -> crr | D7: =IF(F7=1,"9h",IF(F7=2,"14h",IF(F7=3,"19h",""))) -> 19h | E7: =EDTglobal!AD9 -> 0 | F7: =IFERROR(MATCH("*",OFFSET(EDTglobal!E$2,MATCH(Denis!A7,EDTglobal!C$3:C$98,0),,3),0),"") -> 3
A8: =IFERROR(IF(A7+1>Données!$B$2,"",A7+1),"") -> 45569 | B8: =COUNTIF(OFFSET(EDTglobal!$E$3,(ROW()-5)*3,0,3,1),"*") -> 1 | C8: {=IFERROR(INDEX(EDTglobal!E$3:E$100,SMALL(IF(OFFSET(EDTglobal!E$2,MATCH(Denis!A8,EDTglobal!C$3:C$98,0),,3)<>"",ROW(OFFSET(EDTglobal!E$2,MATCH(Denis!A8,EDTglobal!C$3:C$98,0),,3))-2,""),1)),"")} -> toto | D8: =IF(F8=1,"9h",IF(F8=2,"14h",IF(F8=3,"19h",""))) -> 14h | E8: =EDTglobal!AD12 -> 0 | F8: =IFERROR(MATCH("*",OFFSET(EDTglobal!E$2,MATCH(Denis!A8,EDTglobal!C$3:C$98,0),,3),0),"") -> 2
A9: =IFERROR(IF(A8+1>Données!$B$2,"",A8+1),"") -> 45570 | B9: =COUNTIF(OFFSET(EDTglobal!$E$3,(ROW()-5)*3,0,3,1),"*") -> 1 | C9: {=IFERROR(INDEX(EDTglobal!E$3:E$100,SMALL(IF(OFFSET(EDTglobal!E$2,MATCH(Denis!A9,EDTglobal!C$3:C$98,0),,3)<>"",ROW(OFFSET(EDTglobal!E$2,MATCH(Denis!A9,EDTglobal!C$3:C$98,0),,3))-2,""),1)),"")} -> tulipe | D9: =IF(F9=1,"9h",IF(F9=2,"14h",IF(F9=3,"19h",""))) -> 9h | E9: =EDTglobal!AD15 -> 0 | F9: =IFERROR(MATCH("*",OFFSET(EDTglobal!E$2,MATCH(Denis!A9,EDTglobal!C$3:C$98,0),,3),0),"") -> 1
A10: =IFERROR(IF(A9+1>Données!$B$2,"",A9+1),"") -> 45571 | B10: =COUNTIF(OFFSET(EDTglobal!$E$3,(ROW()-5)*3,0,3,1),"*") -> 1 | C10: {=IFERROR(INDEX(EDTglobal!E$3:E$100,SMALL(IF(OFFSET(EDTglobal!E$2,MATCH(Denis!A10,EDTglobal!C$3:C$98,0),,3)<>"",ROW(OFFSET(EDTglobal!E$2,MATCH(Denis!A10,EDTglobal!C$3:C$98,0),,3))-2,""),1)),"")} -> marcel | D10: =IF(F10=1,"9h",IF(F10=2,"14h",IF(F10=3,"19h",""))) -> 9h | E10: =EDTglobal!AD18 -> 0 | F10: =IFERROR(MATCH("*",OFFSET(EDTglobal!E$2,MATCH(Denis!A10,EDTglobal!C$3:C$98,0),,3),0),"") -> 1
A11: =IFERROR(IF(A10+1>Données!$B$2,"",A10+1),"") -> 45572 | B11: =COUNTIF(OFFSET(EDTglobal!$E$3,(ROW()-5)*3,0,3,1),"*") -> 1 | C11: {=IFERROR(INDEX(EDTglobal!E$3:E$100,SMALL(IF(OFFSET(EDTglobal!E$2,MATCH(Denis!A11,EDTglobal!C$3:C$98,0),,3)<>"",ROW(OFFSET(EDTglobal!E$2,MATCH(Denis!A11,EDTglobal!C$3:C$98,0),,3))-2,""),1)),"")} -> raymond | D11: =IF(F11=1,"9h",IF(F11=2,"14h",IF(F11=3,"19h",""))) -> 9h | E11: =EDTglobal!AD21 -> 0 | F11: =IFERROR(MATCH("*",OFFSET(EDTglobal!E$2,MATCH(Denis!A11,EDTglobal!C$3:C$98,0),,3),0),"") -> 1
A12: =IFERROR(IF(A11+1>Données!$B$2,"",A11+1),"") -> 45573 | B12: =COUNTIF(OFFSET(EDTglobal!$E$3,(ROW()-5)*3,0,3,1),"*") -> 0 | C12: {=IFERROR(INDEX(EDTglobal!E$3:E$100,SMALL(IF(OFFSET(EDTglobal!E$2,MATCH(Denis!A12,EDTglobal!C$3:C$98,0),,3)<>"",ROW(OFFSET(EDTglobal!E$2,MATCH(Denis!A12,EDTglobal!C$3:C$98,0),,3))-2,""),1)),"")} | D12: =IF(F12=1,"9h",IF(F12=2,"14h",IF(F12=3,"19h",""))) | E12: =EDTglobal!AD24 -> 0 | F12: =IFERROR(MATCH("*",OFFSET(EDTglobal!E$2,MATCH(Denis!A12,EDTglobal!C$3:C$98,0),,3),0),"")
A13: =IFERROR(IF(A12+1>Données!$B$2,"",A12+1),"") -> 45574 | B13: =COUNTIF(OFFSET(EDTglobal!$E$3,(ROW()-5)*3,0,3,1),"*") -> 0 | C13: {=IFERROR(INDEX(EDTglobal!E$3:E$100,SMALL(IF(OFFSET(EDTglobal!E$2,MATCH(Denis!A13,EDTglobal!C$3:C$98,0),,3)<>"",ROW(OFFSET(EDTglobal!E$2,MATCH(Denis!A13,EDTglobal!C$3:C$98,0),,3))-2,""),1)),"")} | D13: =IF(F13=1,"9h",IF(F13=2,"14h",IF(F13=3,"19h",""))) | E13: =EDTglobal!AD27 -> 0 | F13: =IFERROR(MATCH("*",OFFSET(EDTglobal!E$2,MATCH(Denis!A13,EDTglobal!C$3:C$98,0),,3),0),"")
A14: =IFERROR(IF(A13+1>Données!$B$2,"",A13+1),"") -> 45575 | B14: =COUNTIF(OFFSET(EDTglobal!$E$3,(ROW()-5)*3,0,3,1),"*") -> 0 | C14: {=IFERROR(INDEX(EDTglobal!E$3:E$100,SMALL(IF(OFFSET(EDTglobal!E$2,MATCH(Denis!A14,EDTglobal!C$3:C$98,0),,3)<>"",ROW(OFFSET(EDTglobal!E$2,MATCH(Denis!A14,EDTglobal!C$3:C$98,0),,3))-2,""),1)),"")} | D14: =IF(F14=1,"9h",IF(F14=2,"14h",IF(F14=3,"19h",""))) | E14: =EDTglobal!AD30 -> 0 | F14: =IFERROR(MATCH("*",OFFSET(EDTglobal!E$2,MATCH(Denis!A14,EDTglobal!C$3:C$98,0),,3),0),"")
A15: =IFERROR(IF(A14+1>Données!$B$2,"",A14+1),"") -> 45576 | B15: =COUNTIF(OFFSET(EDTglobal!$E$3,(ROW()-5)*3,0,3,1),"*") -> 0 | C15: {=IFERROR(INDEX(EDTglobal!E$3:E$100,SMALL(IF(OFFSET(EDTglobal!E$2,MATCH(Denis!A15,EDTglobal!C$3:C$98,0),,3)<>"",ROW(OFFSET(EDTglobal!E$2,MATCH(Denis!A15,EDTglobal!C$3:C$98,0),,3))-2,""),1)),"")} | D15: =IF(F15=1,"9h",IF(F15=2,"14h",IF(F15=3,"19h",""))) | E15: =EDTglobal!AD33 -> 0 | F15: =IFERROR(MATCH("*",OFFSET(EDTglobal!E$2,MATCH(Denis!A15,EDTglobal!C$3:C$98,0),,3),0),"")
A16: =IFERROR(IF(A15+1>Données!$B$2,"",A15+1),"") -> 45577 | B16: =COUNTIF(OFFSET(EDTglobal!$E$3,(ROW()-5)*3,0,3,1),"*") -> 0 | C16: {=IFERROR(INDEX(EDTglobal!E$3:E$100,SMALL(IF(OFFSET(EDTglobal!E$2,MATCH(Denis!A16,EDTglobal!C$3:C$98,0),,3)<>"",ROW(OFFSET(EDTglobal!E$2,MATCH(Denis!A16,EDTglobal!C$3:C$98,0),,3))-2,""),1)),"")} | D16: =IF(F16=1,"9h",IF(F16=2,"14h",IF(F16=3,"19h",""))) | E16: =EDTglobal!AD36 -> 0 | F16: =IFERROR(MATCH("*",OFFSET(EDTglobal!E$2,MATCH(Denis!A16,EDTglobal!C$3:C$98,0),,3),0),"")
A17: =IFERROR(IF(A16+1>Données!$B$2,"",A16+1),"") -> 45578 | B17: =COUNTIF(OFFSET(EDTglobal!$E$3,(ROW()-5)*3,0,3,1),"*") -> 0 | C17: {=IFERROR(INDEX(EDTglobal!E$3:E$100,SMALL(IF(OFFSET(EDTglobal!E$2,MATCH(Denis!A17,EDTglobal!C$3:C$98,0),,3)<>"",ROW(OFFSET(EDTglobal!E$2,MATCH(Denis!A17,EDTglobal!C$3:C$98,0),,3))-2,""),1)),"")} | D17: =IF(F17=1,"9h",IF(F17=2,"14h",IF(F17=3,"19h",""))) | E17: =EDTglobal!AD39 -> 0 | F17: =IFERROR(MATCH("*",OFFSET(EDTglobal!E$2,MATCH(Denis!A17,EDTglobal!C$3:C$98,0),,3),0),"")
A18: =IFERROR(IF(A17+1>Données!$B$2,"",A17+1),"") -> 45579 | B18: =COUNTIF(OFFSET(EDTglobal!$E$3,(ROW()-5)*3,0,3,1),"*") -> 0 | C18: {=IFERROR(INDEX(EDTglobal!E$3:E$100,SMALL(IF(OFFSET(EDTglobal!E$2,MATCH(Denis!A18,EDTglobal!C$3:C$98,0),,3)<>"",ROW(OFFSET(EDTglobal!E$2,MATCH(Denis!A18,EDTglobal!C$3:C$98,0),,3))-2,""),1)),"")} | D18: =IF(F18=1,"9h",IF(F18=2,"14h",IF(F18=3,"19h",""))) | E18: =EDTglobal!AD42 -> 0 | F18: =IFERROR(MATCH("*",OFFSET(EDTglobal!E$2,MATCH(Denis!A18,EDTglobal!C$3:C$98,0),,3),0),"")
A19: =IFERROR(IF(A18+1>Données!$B$2,"",A18+1),"") -> 45580 | B19: =COUNTIF(OFFSET(EDTglobal!$E$3,(ROW()-5)*3,0,3,1),"*") -> 0 | C19: {=IFERROR(INDEX(EDTglobal!E$3:E$100,SMALL(IF(OFFSET(EDTglobal!E$2,MATCH(Denis!A19,EDTglobal!C$3:C$98,0),,3)<>"",ROW(OFFSET(EDTglobal!E$2,MATCH(Denis!A19,EDTglobal!C$3:C$98,0),,3))-2,""),1)),"")} | D19: =IF(F19=1,"9h",IF(F19=2,"14h",IF(F19=3,"19h",""))) | E19: =EDTglobal!AD45 -> 0 | F19: =IFERROR(MATCH("*",OFFSET(EDTglobal!E$2,MATCH(Denis!A19,EDTglobal!C$3:C$98,0),,3),0),"")
A20: =IFERROR(IF(A19+1>Données!$B$2,"",A19+1),"") -> 45581 | B20: =COUNTIF(OFFSET(EDTglobal!$E$3,(ROW()-5)*3,0,3,1),"*") -> 0 | C20: {=IFERROR(INDEX(EDTglobal!E$3:E$100,SMALL(IF(OFFSET(EDTglobal!E$2,MATCH(Denis!A20,EDTglobal!C$3:C$98,0),,3)<>"",ROW(OFFSET(EDTglobal!E$2,MATCH(Denis!A20,EDTglobal!C$3:C$98,0),,3))-2,""),1)),"")} | D20: =IF(F20=1,"9h",IF(F20=2,"14h",IF(F20=3,"19h",""))) | E20: =EDTglobal!AD48 -> 0 | F20: =IFERROR(MATCH("*",OFFSET(EDTglobal!E$2,MATCH(Denis!A20,EDTglobal!C$3:C$98,0),,3),0),"")
A21: =IFERROR(IF(A20+1>Données!$B$2,"",A20+1),"") -> 45582 | B21: =COUNTIF(OFFSET(EDTglobal!$E$3,(ROW()-5)*3,0,3,1),"*") -> 0 | C21: {=IFERROR(INDEX(EDTglobal!E$3:E$100,SMALL(IF(OFFSET(EDTglobal!E$2,MATCH(Denis!A21,EDTglobal!C$3:C$98,0),,3)<>"",ROW(OFFSET(EDTglobal!E$2,MATCH(Denis!A21,EDTglobal!C$3:C$98,0),,3))-2,""),1)),"")} | D21: =IF(F21=1,"9h",IF(F21=2,"14h",IF(F21=3,"19h",""))) | E21: =EDTglobal!AD51 -> 0 | F21: =IFERROR(MATCH("*",OFFSET(EDTglobal!E$2,MATCH(Denis!A21,EDTglobal!C$3:C$98,0),,3),0),"")
A22: =IFERROR(IF(A21+1>Données!$B$2,"",A21+1),"") -> 45583 | B22: =COUNTIF(OFFSET(EDTglobal!$E$3,(ROW()-5)*3,0,3,1),"*") -> 0 | C22: {=IFERROR(INDEX(EDTglobal!E$3:E$100,SMALL(IF(OFFSET(EDTglobal!E$2,MATCH(Denis!A22,EDTglobal!C$3:C$98,0),,3)<>"",ROW(OFFSET(EDTglobal!E$2,MATCH(Denis!A22,EDTglobal!C$3:C$98,0),,3))-2,""),1)),"")} | D22: =IF(F22=1,"9h",IF(F22=2,"14h",IF(F22=3,"19h",""))) | E22: =EDTglobal!AD54 -> 0 | F22: =IFERROR(MATCH("*",OFFSET(EDTglobal!E$2,MATCH(Denis!A22,EDTglobal!C$3:C$98,0),,3),0),"")
A23: =IFERROR(IF(A22+1>Données!$B$2,"",A22+1),"") -> 45584 | B23: =COUNTIF(OFFSET(EDTglobal!$E$3,(ROW()-5)*3,0,3,1),"*") -> 0 | C23: {=IFERROR(INDEX(EDTglobal!E$3:E$100,SMALL(IF(OFFSET(EDTglobal!E$2,MATCH(Denis!A23,EDTglobal!C$3:C$98,0),,3)<>"",ROW(OFFSET(EDTglobal!E$2,MATCH(Denis!A23,EDTglobal!C$3:C$98,0),,3))-2,""),1)),"")} | D23: =IF(F23=1,"9h",IF(F23=2,"14h",IF(F23=3,"19h",""))) | E23: =EDTglobal!AD57 -> 0 | F23: =IFERROR(MATCH("*",OFFSET(EDTglobal!E$2,MATCH(Denis!A23,EDTglobal!C$3:C$98,0),,3),0),"")
A24: =IFERROR(IF(A23+1>Données!$B$2,"",A23+1),"") -> 45585 | B24: =COUNTIF(OFFSET(EDTglobal!$E$3,(ROW()-5)*3,0,3,1),"*") -> 0 | C24: {=IFERROR(INDEX(EDTglobal!E$3:E$100,SMALL(IF(OFFSET(EDTglobal!E$2,MATCH(Denis!A24,EDTglobal!C$3:C$98,0),,3)<>"",ROW(OFFSET(EDTglobal!E$2,MATCH(Denis!A24,EDTglobal!C$3:C$98,0),,3))-2,""),1)),"")} | D24: =IF(F24=1,"9h",IF(F24=2,"14h",IF(F24=3,"19h",""))) | E24: =EDTglobal!AD60 -> 0 | F24: =IFERROR(MATCH("*",OFFSET(EDTglobal!E$2,MATCH(Denis!A24,EDTglobal!C$3:C$98,0),,3),0),"")
A25: =IFERROR(IF(A24+1>Données!$B$2,"",A24+1),"") -> 45586 | B25: =COUNTIF(OFFSET(EDTglobal!$E$3,(ROW()-5)*3,0,3,1),"*") -> 0 | C25: {=IFERROR(INDEX(EDTglobal!E$3:E$100,SMALL(IF(OFFSET(EDTglobal!E$2,MATCH(Denis!A25,EDTglobal!C$3:C$98,0),,3)<>"",ROW(OFFSET(EDTglobal!E$2,MATCH(Denis!A25,EDTglobal!C$3:C$98,0),,3))-2,""),1)),"")} | D25: =IF(F25=1,"9h",IF(F25=2,"14h",IF(F25=3,"19h",""))) | E25: =EDTglobal!AD63 -> 0 | F25: =IFERROR(MATCH("*",OFFSET(EDTglobal!E$2,MATCH(Denis!A25,EDTglobal!C$3:C$98,0),,3),0),"")
A26: =IFERROR(IF(A25+1>Données!$B$2,"",A25+1),"") -> 45587 | B26: =COUNTIF(OFFSET(EDTglobal!$E$3,(ROW()-5)*3,0,3,1),"*") -> 0 | C26: {=IFERROR(INDEX(EDTglobal!E$3:E$100,SMALL(IF(OFFSET(EDTglobal!E$2,MATCH(Denis!A26,EDTglobal!C$3:C$98,0),,3)<>"",ROW(OFFSET(EDTglobal!E$2,MATCH(Denis!A26,EDTglobal!C$3:C$98,0),,3))-2,""),1)),"")} | D26: =IF(F26=1,"9h",IF(F26=2,"14h",IF(F26=3,"19h",""))) | E26: =EDTglobal!AD66 -> 0 | F26: =IFERROR(MATCH("*",OFFSET(EDTglobal!E$2,MATCH(Denis!A26,EDTglobal!C$3:C$98,0),,3),0),"")
A27: =IFERROR(IF(A26+1>Données!$B$2,"",A26+1),"") -> 45588 | B27: =COUNTIF(OFFSET(EDTglobal!$E$3,(ROW()-5)*3,0,3,1),"*") -> 0 | C27: {=IFERROR(INDEX(EDTglobal!E$3:E$100,SMALL(IF(OFFSET(EDTglobal!E$2,MATCH(Denis!A27,EDTglobal!C$3:C$98,0),,3)<>"",ROW(OFFSET(EDTglobal!E$2,MATCH(Denis!A27,EDTglobal!C$3:C$98,0),,3))-2,""),1)),"")} | D27: =IF(F27=1,"9h",IF(F27=2,"14h",IF(F27=3,"19h",""))) | E27: =EDTglobal!AD69 -> 0 | F27: =IFERROR(MATCH("*",OFFSET(EDTglobal!E$2,MATCH(Denis!A27,EDTglobal!C$3:C$98,0),,3),0),"")
A28: =IFERROR(IF(A27+1>Données!$B$2,"",A27+1),"") -> 45589 | B28: =COUNTIF(OFFSET(EDTglobal!$E$3,(ROW()-5)*3,0,3,1),"*") -> 0 | C28: {=IFERROR(INDEX(EDTglobal!E$3:E$100,SMALL(IF(OFFSET(EDTglobal!E$2,MATCH(Denis!A28,EDTglobal!C$3:C$98,0),,3)<>"",ROW(OFFSET(EDTglobal!E$2,MATCH(Denis!A28,EDTglobal!C$3:C$98,0),,3))-2,""),1)),"")} | D28: =IF(F28=1,"9h",IF(F28=2,"14h",IF(F28=3,"19h",""))) | E28: =EDTglobal!AD72 -> 0 | F28: =IFERROR(MATCH("*",OFFSET(EDTglobal!E$2,MATCH(Denis!A28,EDTglobal!C$3:C$98,0),,3),0),"")
A29: =IFERROR(IF(A28+1>Données!$B$2,"",A28+1),"") -> 45590 | B29: =COUNTIF(OFFSET(EDTglobal!$E$3,(ROW()-5)*3,0,3,1),"*") -> 0 | C29: {=IFERROR(INDEX(EDTglobal!E$3:E$100,SMALL(IF(OFFSET(EDTglobal!E$2,MATCH(Denis!A29,EDTglobal!C$3:C$98,0),,3)<>"",ROW(OFFSET(EDTglobal!E$2,MATCH(Denis!A29,EDTglobal!C$3:C$98,0),,3))-2,""),1)),"")} | D29: =IF(F29=1,"9h",IF(F29=2,"14h",IF(F29=3,"19h",""))) | E29: =EDTglobal!AD75 -> 0 | F29: =IFERROR(MATCH("*",OFFSET(EDTglobal!E$2,MATCH(Denis!A29,EDTglobal!C$3:C$98,0),,3),0),"")
A30: =IFERROR(IF(A29+1>Données!$B$2,"",A29+1),"") -> 45591 | B30: =COUNTIF(OFFSET(EDTglobal!$E$3,(ROW()-5)*3,0,3,1),"*") -> 0 | C30: {=IFERROR(INDEX(EDTglobal!E$3:E$100,SMALL(IF(OFFSET(EDTglobal!E$2,MATCH(Denis!A30,EDTglobal!C$3:C$98,0),,3)<>"",ROW(OFFSET(EDTglobal!E$2,MATCH(Denis!A30,EDTglobal!C$3:C$98,0),,3))-2,""),1)),"")} | D30: =IF(F30=1,"9h",IF(F30=2,"14h",IF(F30=3,"19h",""))) | E30: =EDTglobal!AD78 -> 0 | F30: =IFERROR(MATCH("*",OFFSET(EDTglobal!E$2,MATCH(Denis!A30,EDTglobal!C$3:C$98,0),,3),0),"")
A31: =IFERROR(IF(A30+1>Données!$B$2,"",A30+1),"") -> 45592 | B31: =COUNTIF(OFFSET(EDTglobal!$E$3,(ROW()-5)*3,0,3,1),"*") -> 0 | C31: {=IFERROR(INDEX(EDTglobal!E$3:E$100,SMALL(IF(OFFSET(EDTglobal!E$2,MATCH(Denis!A31,EDTglobal!C$3:C$98,0),,3)<>"",ROW(OFFSET(EDTglobal!E$2,MATCH(Denis!A31,EDTglobal!C$3:C$98,0),,3))-2,""),1)),"")} | D31: =IF(F31=1,"9h",IF(F31=2,"14h",IF(F31=3,"19h",""))) | E31: =EDTglobal!AD81 -> 0 | F31: =IFERROR(MATCH("*",OFFSET(EDTglobal!E$2,MATCH(Denis!A31,EDTglobal!C$3:C$98,0),,3),0),"")
A32: =IFERROR(IF(A31+1>Données!$B$2,"",A31+1),"") -> 45593 | B32: =COUNTIF(OFFSET(EDTglobal!$E$3,(ROW()-5)*3,0,3,1),"*") -> 0 | C32: {=IFERROR(INDEX(EDTglobal!E$3:E$100,SMALL(IF(OFFSET(EDTglobal!E$2,MATCH(Denis!A32,EDTglobal!C$3:C$98,0),,3)<>"",ROW(OFFSET(EDTglobal!E$2,MATCH(Denis!A32,EDTglobal!C$3:C$98,0),,3))-2,""),1)),"")} | D32: =IF(F32=1,"9h",IF(F32=2,"14h",IF(F32=3,"19h",""))) | E32: =EDTglobal!AD84 -> 0 | F32: =IFERROR(MATCH("*",OFFSET(EDTglobal!E$2,MATCH(Denis!A32,EDTglobal!C$3:C$98,0),,3),0),"")
A33: =IFERROR(IF(A32+1>Données!$B$2,"",A32+1),"") -> 45594 | B33: =COUNTIF(OFFSET(EDTglobal!$E$3,(ROW()-5)*3,0,3,1),"*") -> 0 | C33: {=IFERROR(INDEX(EDTglobal!E$3:E$100,SMALL(IF(OFFSET(EDTglobal!E$2,MATCH(Denis!A33,EDTglobal!C$3:C$98,0),,3)<>"",ROW(OFFSET(EDTglobal!E$2,MATCH(Denis!A33,EDTglobal!C$3:C$98,0),,3))-2,""),1)),"")} | D33: =IF(F33=1,"9h",IF(F33=2,"14h",IF(F33=3,"19h",""))) | E33: =EDTglobal!AD87 -> 0 | F33: =IFERROR(MATCH("*",OFFSET(EDTglobal!E$2,MATCH(Denis!A33,EDTglobal!C$3:C$98,0),,3),0),"")
A34: =IFERROR(IF(A33+1>Données!$B$2,"",A33+1),"") -> 45595 | B34: =COUNTIF(OFFSET(EDTglobal!$E$3,(ROW()-5)*3,0,3,1),"*") -> 0 | C34: {=IFERROR(INDEX(EDTglobal!E$3:E$100,SMALL(IF(OFFSET(EDTglobal!E$2,MATCH(Denis!A34,EDTglobal!C$3:C$98,0),,3)<>"",ROW(OFFSET(EDTglobal!E$2,MATCH(Denis!A34,EDTglobal!C$3:C$98,0),,3))-2,""),1)),"")} | D34: =IF(F34=1,"9h",IF(F34=2,"14h",IF(F34=3,"19h",""))) | E34: =EDTglobal!AD90 -> 0 | F34: =IFERROR(MATCH("*",OFFSET(EDTglobal!E$2,MATCH(Denis!A34,EDTglobal!C$3:C$98,0),,3),0),"")
A35: =IFERROR(IF(A34+1>Données!$B$2,"",A34+1),"") -> 45596 | B35: =COUNTIF(OFFSET(EDTglobal!$E$3,(ROW()-5)*3,0,3,1),"*") -> 0 | C35: {=IFERROR(INDEX(EDTglobal!E$3:E$100,SMALL(IF(OFFSET(EDTglobal!E$2,MATCH(Denis!A35,EDTglobal!C$3:C$98,0),,3)<>"",ROW(OFFSET(EDTglobal!E$2,MATCH(Denis!A35,EDTglobal!C$3:C$98,0),,3))-2,""),1)),"")} | D35: =IF(F35=1,"9h",IF(F35=2,"14h",IF(F35=3,"19h",""))) | E35: =EDTglobal!AD93 -> 0 | F35: =IFERROR(MATCH("*",OFFSET(EDTglobal!E$2,MATCH(Denis!A35,EDTglobal!C$3:C$98,0),,3),0),"")
A37: Total services : | B37: =SUM(B5:B35) -> 9
A38: =IFERROR(IF(#REF!+1>Données!$B$2,"",#REF!+1),"") | B38: Régisseur de scène
B39: Technicien de scène
A41: =IFERROR(IF(#REF!+1>Données!$B$2,"",#REF!+1),"")
A42: =IFERROR(IF(A41+1>Données!$B$2,"",A41+1),"")
A43: =IFERROR(IF(A42+1>Données!$B$2,"",A42+1),"")
...

Sheet Données
A1: Date de début : | B1: 45566
A2: Date de fin : | B2: =EOMONTH(B1,0) -> 45596
A3: Mois de : | B3: =TEXT(B1,"mmmm aaaa") -> octobre 2024
