Workbook
Name refer2: OFFSET('recherche eco'!$B$3,,,COUNTIF('recherche eco'!$B:$B,"><"))
Name Référence: OFFSET(Feuil1!$A$2,,,COUNTIF(Feuil1!$A:$A,"><")-1)

Sheet Feuil1
A1: Référence | B1: Quantité | C1: Dispo | E1: Import | F1: Rexel | G1: CEBEO
A2: C4034V400 | B2: 1 | C2: OUI | E2: 953.74 | F2: 1221.73 | G2: 1206
A3: C40N3 | B3: 1 | C3: OUI | E3: 389.25 | F3: 498.63 | G3: 492
A4: A9L16293 | B4: 1 | C4: OUI | E4: 141 | F4: 148.12 | G4: 146
A5: C12E3TM160L | B5: 1 | C5: OUI | E5: 225.3 | F5: 242.43 | G5: 239
A6: C11E3TM100L | B6: 1 | C6: NON | E6: 134.96 | F6: 121.02 | G6: 119.51
A7: LC1G330KUEN | B7: 1 | C7: NON | E7: 630.5 | F7: 618.38 | G7: 630.88
A8: BMXXBP0800 | B8: 1 | C8: OUI | E8: 123.71 | F8: 151 | G8: 146.69
A9: BMXCPS2010 | B9: 1 | C9: OUI | E9: 175.1 | F9: 187.27 | G9: 181.67
A10: BMXP341000 | B10: 1 | C10: OUI | E10: 390.03 | F10: 513.39 | G10: 498.03
A11: BMXDDI1602 | B11: 2 | C11: OUI | E11: 262.08 | F11: 320.34 | G11: 310.75
A12: BMXDDO1602 | B12: 1 | C12: OUI | E12: 179.55 | F12: 219.46 | G12: 212.9
A13: BMXART0414 | B13: 1 | C13: NON | E13: 465.92 | F13: 332.2 | G13: 322.26
... A20: LC1DWK12P7_ | B20: 1 | C20: OUI | E20: 169.82 | F20: 267.18 | G20: 268.88
E21: =SUM(E2:E20) -> 5763.01 | F21: =SUM(F2:F20) -> 6406.77 | G21: =SUM(G2:G20) -> 6285.05
E22: 0.03
E23: 5590.12
D25: Total moins chere | E25: 5492.16

Sheet recherche eco
A2: panier (mettre un nb) | C2: moins cher | D2: dispo | G2: total panier
B3: {=IFERROR(INDEX(Référence,MATCH(SMALL(COUNTIF(Référence,"<"&Référence),ROW(A1)),COUNTIF(Référence,"<"&Référence),0)),"")} -> A9L16293 | C3: =MIN(OFFSET(Feuil1!$E$1:$G$1,MATCH(B3,Référence,0),)) -> 141 | D3: =IFERROR(IF(VLOOKUP(B3,Feuil1!A:C,3,0)="oui","",VLOOKUP(B3,Feuil1!A:C,3,0)),"") | F3: {=SUMPRODUCT((OFFSET(refer2,,-1,)<>"")*(OFFSET(refer2,,1,))*(OFFSET(refer2,,-1,)*(OFFSET(refer2,,2,)<>"non")))} -> 712.23
B4: {=IFERROR(INDEX(Référence,MATCH(SMALL(COUNTIF(Référence,"<"&Référence),ROW(A2)),COUNTIF(Référence,"<"&Référence),0)),"")} -> BMXART0414 | C4: =MIN(OFFSET(Feuil1!$E$1:$G$1,MATCH(B4,Référence,0),)) -> 322.26 | D4: =IFERROR(IF(VLOOKUP(B4,Feuil1!A:C,3,0)="oui","",VLOOKUP(B4,Feuil1!A:C,3,0)),"") -> NON
B5: {=IFERROR(INDEX(Référence,MATCH(SMALL(COUNTIF(Référence,"<"&Référence),ROW(A3)),COUNTIF(Référence,"<"&Référence),0)),"")} -> BMXCPS2010 | C5: =MIN(OFFSET(Feuil1!$E$1:$G$1,MATCH(B5,Référence,0),)) -> 175.1 | D5: =IFERROR(IF(VLOOKUP(B5,Feuil1!A:C,3,0)="oui","",VLOOKUP(B5,Feuil1!A:C,3,0)),"")
A6: 1 | B6: {=IFERROR(INDEX(Référence,MATCH(SMALL(COUNTIF(Référence,"<"&Référence),ROW(A4)),COUNTIF(Référence,"<"&Référence),0)),"")} -> BMXDDI1602 | C6: =MIN(OFFSET(Feuil1!$E$1:$G$1,MATCH(B6,Référence,0),)) -> 262.08 | D6: =IFERROR(IF(VLOOKUP(B6,Feuil1!A:C,3,0)="oui","",VLOOKUP(B6,Feuil1!A:C,3,0)),"")
B7: {=IFERROR(INDEX(Référence,MATCH(SMALL(COUNTIF(Référence,"<"&Référence),ROW(A5)),COUNTIF(Référence,"<"&Référence),0)),"")} -> BMXDDO1602 | C7: =MIN(OFFSET(Feuil1!$E$1:$G$1,MATCH(B7,Référence,0),)) -> 179.55 | D7: =IFERROR(IF(VLOOKUP(B7,Feuil1!A:C,3,0)="oui","",VLOOKUP(B7,Feuil1!A:C,3,0)),"")
A8: 1 | B8: {=IFERROR(INDEX(Référence,MATCH(SMALL(COUNTIF(Référence,"<"&Référence),ROW(A6)),COUNTIF(Référence,"<"&Référence),0)),"")} -> BMXP341000 | C8: =MIN(OFFSET(Feuil1!$E$1:$G$1,MATCH(B8,Référence,0),)) -> 390.03 | D8: =IFERROR(IF(VLOOKUP(B8,Feuil1!A:C,3,0)="oui","",VLOOKUP(B8,Feuil1!A:C,3,0)),"")
B9: {=IFERROR(INDEX(Référence,MATCH(SMALL(COUNTIF(Référence,"<"&Référence),ROW(A7)),COUNTIF(Référence,"<"&Référence),0)),"")} -> BMXXBP0800 | C9: =MIN(OFFSET(Feuil1!$E$1:$G$1,MATCH(B9,Référence,0),)) -> 123.71 | D9: =IFERROR(IF(VLOOKUP(B9,Feuil1!A:C,3,0)="oui","",VLOOKUP(B9,Feuil1!A:C,3,0)),"")
B10: {=IFERROR(INDEX(Référence,MATCH(SMALL(COUNTIF(Référence,"<"&Référence),ROW(A8)),COUNTIF(Référence,"<"&Référence),0)),"")} -> C11E3TM100L | C10: =MIN(OFFSET(Feuil1!$E$1:$G$1,MATCH(B10,Référence,0),)) -> 119.51 | D10: =IFERROR(IF(VLOOKUP(B10,Feuil1!A:C,3,0)="oui","",VLOOKUP(B10,Feuil1!A:C,3,0)),"") -> NON
B11: {=IFERROR(INDEX(Référence,MATCH(SMALL(COUNTIF(Référence,"<"&Référence),ROW(A9)),COUNTIF(Référence,"<"&Référence),0)),"")} -> C12E3TM160L | C11: =MIN(OFFSET(Feuil1!$E$1:$G$1,MATCH(B11,Référence,0),)) -> 225.3 | D11: =IFERROR(IF(VLOOKUP(B11,Feuil1!A:C,3,0)="oui","",VLOOKUP(B11,Feuil1!A:C,3,0)),"")
B12: {=IFERROR(INDEX(Référence,MATCH(SMALL(COUNTIF(Référence,"<"&Référence),ROW(A10)),COUNTIF(Référence,"<"&Référence),0)),"")} -> C4034V400 | C12: =MIN(OFFSET(Feuil1!$E$1:$G$1,MATCH(B12,Référence,0),)) -> 953.74 | D12: =IFERROR(IF(VLOOKUP(B12,Feuil1!A:C,3,0)="oui","",VLOOKUP(B12,Feuil1!A:C,3,0)),"")
B13: {=IFERROR(INDEX(Référence,MATCH(SMALL(COUNTIF(Référence,"<"&Référence),ROW(A11)),COUNTIF(Référence,"<"&Référence),0)),"")} -> C40N3 | C13: =MIN(OFFSET(Feuil1!$E$1:$G$1,MATCH(B13,Référence,0),)) -> 389.25 | D13: =IFERROR(IF(VLOOKUP(B13,Feuil1!A:C,3,0)="oui","",VLOOKUP(B13,Feuil1!A:C,3,0)),"")
A14: 2 | B14: {=IFERROR(INDEX(Référence,MATCH(SMALL(COUNTIF(Référence,"<"&Référence),ROW(A12)),COUNTIF(Référence,"<"&Référence),0)),"")} -> GV2ME08 | C14: =MIN(OFFSET(Feuil1!$E$1:$G$1,MATCH(B14,Référence,0),)) -> 30.06 | D14: =IFERROR(IF(VLOOKUP(B14,Feuil1!A:C,3,0)="oui","",VLOOKUP(B14,Feuil1!A:C,3,0)),"")
B15: {=IFERROR(INDEX(Référence,MATCH(SMALL(COUNTIF(Référence,"<"&Référence),ROW(A13)),COUNTIF(Référence,"<"&Référence),0)),"")} -> GV2ME14 | C15: =MIN(OFFSET(Feuil1!$E$1:$G$1,MATCH(B15,Référence,0),)) -> 34.67 | D15: =IFERROR(IF(VLOOKUP(B15,Feuil1!A:C,3,0)="oui","",VLOOKUP(B15,Feuil1!A:C,3,0)),"")
B16: {=IFERROR(INDEX(Référence,MATCH(SMALL(COUNTIF(Référence,"<"&Référence),ROW(A14)),COUNTIF(Référence,"<"&Référence),0)),"")} -> GV2ME16 | C16: =IF(B16="","",MIN(OFFSET(Feuil1!$E$1:$G$1,MATCH(B16,Référence,0),))) -> 70.58 | D16: =IFERROR(IF(VLOOKUP(B16,Feuil1!A:C,3,0)="oui","",VLOOKUP(B16,Feuil1!A:C,3,0)),"")
B17: {=IFERROR(INDEX(Référence,MATCH(SMALL(COUNTIF(Référence,"<"&Référence),ROW(A15)),COUNTIF(Référence,"<"&Référence),0)),"")} -> HMIGTO5310 | C17: =IF(B17="","",MIN(OFFSET(Feuil1!$E$1:$G$1,MATCH(B17,Référence,0),))) -> 1200.38 | D17: =IFERROR(IF(VLOOKUP(B17,Feuil1!A:C,3,0)="oui","",VLOOKUP(B17,Feuil1!A:C,3,0)),"")
B18: {=IFERROR(INDEX(Référence,MATCH(SMALL(COUNTIF(Référence,"<"&Référence),ROW(A16)),COUNTIF(Référence,"<"&Référence),0)),"")} -> LC1D09P7 | C18: =IF(B18="","",MIN(OFFSET(Feuil1!$E$1:$G$1,MATCH(B18,Référence,0),))) -> 32.66 | D18: =IFERROR(IF(VLOOKUP(B18,Feuil1!A:C,3,0)="oui","",VLOOKUP(B18,Feuil1!A:C,3,0)),"")
B19: {=IFERROR(INDEX(Référence,MATCH(SMALL(COUNTIF(Référence,"<"&Référence),ROW(A17)),COUNTIF(Référence,"<"&Référence),0)),"")} -> LC1D18M7 | C19: =IF(B19="","",MIN(OFFSET(Feuil1!$E$1:$G$1,MATCH(B19,Référence,0),))) -> 54.08 | D19: =IFERROR(IF(VLOOKUP(B19,Feuil1!A:C,3,0)="oui","",VLOOKUP(B19,Feuil1!A:C,3,0)),"")
B20: {=IFERROR(INDEX(Référence,MATCH(SMALL(COUNTIF(Référence,"<"&Référence),ROW(A18)),COUNTIF(Référence,"<"&Référence),0)),"")} -> LC1DWK12P7_ | C20: =IF(B20="","",MIN(OFFSET(Feuil1!$E$1:$G$1,MATCH(B20,Référence,0),))) -> 169.82 | D20: =IFERROR(IF(VLOOKUP(B20,Feuil1!A:C,3,0)="oui","",VLOOKUP(B20,Feuil1!A:C,3,0)),"")
B21: {=IFERROR(INDEX(Référence,MATCH(SMALL(COUNTIF(Référence,"<"&Référence),ROW(A19)),COUNTIF(Référence,"<"&Référence),0)),"")} -> LC1G330KUEN | C21: =IF(B21="","",MIN(OFFSET(Feuil1!$E$1:$G$1,MATCH(B21,Référence,0),))) -> 618.38 | D21: =IFERROR(IF(VLOOKUP(B21,Feuil1!A:C,3,0)="oui","",VLOOKUP(B21,Feuil1!A:C,3,0)),"") -> NON
B22: {=IFERROR(INDEX(Référence,MATCH(SMALL(COUNTIF(Référence,"<"&Référence),ROW(A20)),COUNTIF(Référence,"<"&Référence),0)),"")} | C22: =IF(B22="","",MIN(OFFSET(Feuil1!$E$1:$G$1,MATCH(B22,Référence,0),))) | D22: =IFERROR(IF(VLOOKUP(B22,Feuil1!A:C,3,0)="oui","",VLOOKUP(B22,Feuil1!A:C,3,0)),"")
B23: {=IFERROR(INDEX(Référence,MATCH(SMALL(COUNTIF(Référence,"<"&Référence),ROW(A21)),COUNTIF(Référence,"<"&Référence),0)),"")} | C23: =IF(B23="","",MIN(OFFSET(Feuil1!$E$1:$G$1,MATCH(B23,Référence,0),))) | D23: =IFERROR(IF(VLOOKUP(B23,Feuil1!A:C,3,0)="oui","",VLOOKUP(B23,Feuil1!A:C,3,0)),"")
B24: {=IFERROR(INDEX(Référence,MATCH(SMALL(COUNTIF(Référence,"<"&Référence),ROW(A22)),COUNTIF(Référence,"<"&Référence),0)),"")} | C24: =IF(B24="","",MIN(OFFSET(Feuil1!$E$1:$G$1,MATCH(B24,Référence,0),))) | D24: =IFERROR(IF(VLOOKUP(B24,Feuil1!A:C,3,0)="oui","",VLOOKUP(B24,Feuil1!A:C,3,0)),"")
B25: {=IFERROR(INDEX(Référence,MATCH(SMALL(COUNTIF(Référence,"<"&Référence),ROW(A23)),COUNTIF(Référence,"<"&Référence),0)),"")} | C25: =IF(B25="","",MIN(OFFSET(Feuil1!$E$1:$G$1,MATCH(B25,Référence,0),))) | D25: =IFERROR(IF(VLOOKUP(B25,Feuil1!A:C,3,0)="oui","",VLOOKUP(B25,Feuil1!A:C,3,0)),"")
B26: {=IFERROR(INDEX(Référence,MATCH(SMALL(COUNTIF(Référence,"<"&Référence),ROW(A24)),COUNTIF(Référence,"<"&Référence),0)),"")} | C26: =IF(B26="","",MIN(OFFSET(Feuil1!$E$1:$G$1,MATCH(B26,Référence,0),))) | D26: =IFERROR(IF(VLOOKUP(B26,Feuil1!A:C,3,0)="oui","",VLOOKUP(B26,Feuil1!A:C,3,0)),"")
B27: {=IFERROR(INDEX(Référence,MATCH(SMALL(COUNTIF(Référence,"<"&Référence),ROW(A25)),COUNTIF(Référence,"<"&Référence),0)),"")} | C27: =IF(B27="","",MIN(OFFSET(Feuil1!$E$1:$G$1,MATCH(B27,Référence,0),))) | D27: =IFERROR(IF(VLOOKUP(B27,Feuil1!A:C,3,0)="oui","",VLOOKUP(B27,Feuil1!A:C,3,0)),"")
... B75: {=IFERROR(INDEX(Référence,MATCH(SMALL(COUNTIF(Référence,"<"&Référence),ROW(A73)),COUNTIF(Référence,"<"&Référence),0)),"")} | C75: =IF(B75="","",MIN(OFFSET(Feuil1!$E$1:$G$1,MATCH(B75,Référence,0),))) | D75: =IFERROR(IF(VLOOKUP(B75,Feuil1!A:C,3,0)="oui","",VLOOKUP(B75,Feuil1!A:C,3,0)),"")
B76: {=IFERROR(INDEX(Référence,MATCH(SMALL(COUNTIF(Référence,"<"&Référence),ROW(A74)),COUNTIF(Référence,"<"&Référence),0)),"")} | C76: =IF(B76="","",MIN(OFFSET(Feuil1!$E$1:$G$1,MATCH(B76,Référence,0),))) | D76: =IFERROR(IF(VLOOKUP(B76,Feuil1!A:C,3,0)="oui","",VLOOKUP(B76,Feuil1!A:C,3,0)),"") | R76: {=INDEX(Référence,MATCH(SMALL(COUNTIF(Référence,"<"&Référence),ROW(A75)),COUNTIF(Référence,"<"&Référence),0))} -> #NUM!
B77: {=IFERROR(INDEX(Référence,MATCH(SMALL(COUNTIF(Référence,"<"&Référence),ROW(A75)),COUNTIF(Référence,"<"&Référence),0)),"")} | C77: =IF(B77="","",MIN(OFFSET(Feuil1!$E$1:$G$1,MATCH(B77,Référence,0),))) | D77: =IFERROR(IF(VLOOKUP(B77,Feuil1!A:C,3,0)="oui","",VLOOKUP(B77,Feuil1!A:C,3,0)),"") | R77: {=INDEX(Référence,MATCH(SMALL(COUNTIF(Référence,"<"&Référence),ROW(A76)),COUNTIF(Référence,"<"&Référence),0))} -> #NUM!
B78: {=IFERROR(INDEX(Référence,MATCH(SMALL(COUNTIF(Référence,"<"&Référence),ROW(A76)),COUNTIF(Référence,"<"&Référence),0)),"")} | C78: =IF(B78="","",MIN(OFFSET(Feuil1!$E$1:$G$1,MATCH(B78,Référence,0),))) | D78: =IFERROR(IF(VLOOKUP(B78,Feuil1!A:C,3,0)="oui","",VLOOKUP(B78,Feuil1!A:C,3,0)),"") | R78: {=INDEX(Référence,MATCH(SMALL(COUNTIF(Référence,"<"&Référence),ROW(A77)),COUNTIF(Référence,"<"&Référence),0))} -> #NUM!
B79: {=IFERROR(INDEX(Référence,MATCH(SMALL(COUNTIF(Référence,"<"&Référence),ROW(A77)),COUNTIF(Référence,"<"&Référence),0)),"")} | C79: =IF(B79="","",MIN(OFFSET(Feuil1!$E$1:$G$1,MATCH(B79,Référence,0),))) | D79: =IFERROR(IF(VLOOKUP(B79,Feuil1!A:C,3,0)="oui","",VLOOKUP(B79,Feuil1!A:C,3,0)),"") | R79: {=INDEX(Référence,MATCH(SMALL(COUNTIF(Référence,"<"&Référence),ROW(A78)),COUNTIF(Référence,"<"&Référence),0))} -> #NUM!
B80: {=IFERROR(INDEX(Référence,MATCH(SMALL(COUNTIF(Référence,"<"&Référence),ROW(A78)),COUNTIF(Référence,"<"&Référence),0)),"")} | C80: =IF(B80="","",MIN(OFFSET(Feuil1!$E$1:$G$1,MATCH(B80,Référence,0),))) | D80: =IFERROR(IF(VLOOKUP(B80,Feuil1!A:C,3,0)="oui","",VLOOKUP(B80,Feuil1!A:C,3,0)),"") | R80: {=INDEX(Référence,MATCH(SMALL(COUNTIF(Référence,"<"&Référence),ROW(A79)),COUNTIF(Référence,"<"&Référence),0))} -> #NUM!
B81: {=IFERROR(INDEX(Référence,MATCH(SMALL(COUNTIF(Référence,"<"&Référence),ROW(A79)),COUNTIF(Référence,"<"&Référence),0)),"")} | C81: =IF(B81="","",MIN(OFFSET(Feuil1!$E$1:$G$1,MATCH(B81,Référence,0),))) | D81: =IFERROR(IF(VLOOKUP(B81,Feuil1!A:C,3,0)="oui","",VLOOKUP(B81,Feuil1!A:C,3,0)),"") | R81: {=INDEX(Référence,MATCH(SMALL(COUNTIF(Référence,"<"&Référence),ROW(A80)),COUNTIF(Référence,"<"&Référence),0))} -> #NUM!
B82: {=IFERROR(INDEX(Référence,MATCH(SMALL(COUNTIF(Référence,"<"&Référence),ROW(A80)),COUNTIF(Référence,"<"&Référence),0)),"")} | C82: =IF(B82="","",MIN(OFFSET(Feuil1!$E$1:$G$1,MATCH(B82,Référence,0),))) | D82: =IFERROR(IF(VLOOKUP(B82,Feuil1!A:C,3,0)="oui","",VLOOKUP(B82,Feuil1!A:C,3,0)),"") | R82: {=INDEX(Référence,MATCH(SMALL(COUNTIF(Référence,"<"&Référence),ROW(A81)),COUNTIF(Référence,"<"&Référence),0))} -> #NUM!
B83: {=IFERROR(INDEX(Référence,MATCH(SMALL(COUNTIF(Référence,"<"&Référence),ROW(A81)),COUNTIF(Référence,"<"&Référence),0)),"")} | C83: =IF(B83="","",MIN(OFFSET(Feuil1!$E$1:$G$1,MATCH(B83,Référence,0),))) | D83: =IFERROR(IF(VLOOKUP(B83,Feuil1!A:C,3,0)="oui","",VLOOKUP(B83,Feuil1!A:C,3,0)),"") | R83: {=INDEX(Référence,MATCH(SMALL(COUNTIF(Référence,"<"&Référence),ROW(A82)),COUNTIF(Référence,"<"&Référence),0))} -> #NUM!
B84: {=IFERROR(INDEX(Référence,MATCH(SMALL(COUNTIF(Référence,"<"&Référence),ROW(A82)),COUNTIF(Référence,"<"&Référence),0)),"")} | C84: =IF(B84="","",MIN(OFFSET(Feuil1!$E$1:$G$1,MATCH(B84,Référence,0),))) | D84: =IFERROR(IF(VLOOKUP(B84,Feuil1!A:C,3,0)="oui","",VLOOKUP(B84,Feuil1!A:C,3,0)),"") | R84: {=INDEX(Référence,MATCH(SMALL(COUNTIF(Référence,"<"&Référence),ROW(A83)),COUNTIF(Référence,"<"&Référence),0))} -> #NUM!
B85: {=IFERROR(INDEX(Référence,MATCH(SMALL(COUNTIF(Référence,"<"&Référence),ROW(A83)),COUNTIF(Référence,"<"&Référence),0)),"")} | C85: =IF(B85="","",MIN(OFFSET(Feuil1!$E$1:$G$1,MATCH(B85,Référence,0),))) | D85: =IFERROR(IF(VLOOKUP(B85,Feuil1!A:C,3,0)="oui","",VLOOKUP(B85,Feuil1!A:C,3,0)),"") | R85: {=INDEX(Référence,MATCH(SMALL(COUNTIF(Référence,"<"&Référence),ROW(A84)),COUNTIF(Référence,"<"&Référence),0))} -> #NUM!
B86: {=IFERROR(INDEX(Référence,MATCH(SMALL(COUNTIF(Référence,"<"&Référence),ROW(A84)),COUNTIF(Référence,"<"&Référence),0)),"")} | C86: =IF(B86="","",MIN(OFFSET(Feuil1!$E$1:$G$1,MATCH(B86,Référence,0),))) | D86: =IFERROR(IF(VLOOKUP(B86,Feuil1!A:C,3,0)="oui","",VLOOKUP(B86,Feuil1!A:C,3,0)),"") | R86: {=INDEX(Référence,MATCH(SMALL(COUNTIF(Référence,"<"&Référence),ROW(A85)),COUNTIF(Référence,"<"&Référence),0))} -> #NUM!
B87: {=IFERROR(INDEX(Référence,MATCH(SMALL(COUNTIF(Référence,"<"&Référence),ROW(A85)),COUNTIF(Référence,"<"&Référence),0)),"")} | C87: =IF(B87="","",MIN(OFFSET(Feuil1!$E$1:$G$1,MATCH(B87,Référence,0),))) | D87: =IFERROR(IF(VLOOKUP(B87,Feuil1!A:C,3,0)="oui","",VLOOKUP(B87,Feuil1!A:C,3,0)),"") | R87: {=INDEX(Référence,MATCH(SMALL(COUNTIF(Référence,"<"&Référence),ROW(A86)),COUNTIF(Référence,"<"&Référence),0))} -> #NUM!
... B269: {=IFERROR(INDEX(Référence,MATCH(SMALL(COUNTIF(Référence,"<"&Référence),ROW(A267)),COUNTIF(Référence,"<"&Référence),0)),"")} | C269: =IF(B269="","",MIN(OFFSET(Feuil1!$E$1:$G$1,MATCH(B269,Référence,0),))) | D269: =IFERROR(IF(VLOOKUP(B269,Feuil1!A:C,3,0)="oui","",VLOOKUP(B269,Feuil1!A:C,3,0)),"") | R269: {=INDEX(Référence,MATCH(SMALL(COUNTIF(Référence,"<"&Référence),ROW(A268)),COUNTIF(Référence,"<"&Référence),0))} -> #NUM!
R270: {=INDEX(Référence,MATCH(SMALL(COUNTIF(Référence,"<"&Référence),ROW(A269)),COUNTIF(Référence,"<"&Référence),0))} -> #NUM!
R271: {=INDEX(Référence,MATCH(SMALL(COUNTIF(Référence,"<"&Référence),ROW(A270)),COUNTIF(Référence,"<"&Référence),0))} -> #NUM!
R272: {=INDEX(Référence,MATCH(SMALL(COUNTIF(Référence,"<"&Référence),ROW(A271)),COUNTIF(Référence,"<"&Référence),0))} -> #NUM!
R273: {=INDEX(Référence,MATCH(SMALL(COUNTIF(Référence,"<"&Référence),ROW(A272)),COUNTIF(Référence,"<"&Référence),0))} -> #NUM!
R274: {=INDEX(Référence,MATCH(SMALL(COUNTIF(Référence,"<"&Référence),ROW(A273)),COUNTIF(Référence,"<"&Référence),0))} -> #NUM!
R275: {=INDEX(Référence,MATCH(SMALL(COUNTIF(Référence,"<"&Référence),ROW(A274)),COUNTIF(Référence,"<"&Référence),0))} -> #NUM!
R276: {=INDEX(Référence,MATCH(SMALL(COUNTIF(Référence,"<"&Référence),ROW(A275)),COUNTIF(Référence,"<"&Référence),0))} -> #NUM!
R277: {=INDEX(Référence,MATCH(SMALL(COUNTIF(Référence,"<"&Référence),ROW(A276)),COUNTIF(Référence,"<"&Référence),0))} -> #NUM!
R278: {=INDEX(Référence,MATCH(SMALL(COUNTIF(Référence,"<"&Référence),ROW(A277)),COUNTIF(Référence,"<"&Référence),0))} -> #NUM!
R279: {=INDEX(Référence,MATCH(SMALL(COUNTIF(Référence,"<"&Référence),ROW(A278)),COUNTIF(Référence,"<"&Référence),0))} -> #NUM!
R280: {=INDEX(Référence,MATCH(SMALL(COUNTIF(Référence,"<"&Référence),ROW(A279)),COUNTIF(Référence,"<"&Référence),0))} -> #NUM!
R281: {=INDEX(Référence,MATCH(SMALL(COUNTIF(Référence,"<"&Référence),ROW(A280)),COUNTIF(Référence,"<"&Référence),0))} -> #NUM!
... R288: {=INDEX(Référence,MATCH(SMALL(COUNTIF(Référence,"<"&Référence),ROW(A287)),COUNTIF(Référence,"<"&Référence),0))} -> #NUM!
