Workbook

Sheet LIST
A1: INFO 1 | B1: 852.13242 | C1: {=SUMPRODUCT(COUNTIF(INDIRECT("'"&J$1:J$3&"'!a2:a100"),A1))} -> 1 | H1: noter les noms d'onglet | J1: RECAP 1
A2: INFO 2 | B2: 947.53448 | C2: {=SUMPRODUCT(COUNTIF(INDIRECT("'"&J$1:J$3&"'!a2:a100"),A2))} -> 1 | H2: sans faire de faute | J2: RECAP 2
A3: INFO 3 | B3: ROUGE | C3: {=SUMPRODUCT(COUNTIF(INDIRECT("'"&J$1:J$3&"'!a2:a100"),A3))} -> 1 | J3: RECAP 3
A4: INFO 4 | B4: 737.44239 | C4: {=SUMPRODUCT(COUNTIF(INDIRECT("'"&J$1:J$3&"'!a2:a100"),A4))} -> 1
A5: INFO 5 | B5: 909.38836 | C5: {=SUMPRODUCT(COUNTIF(INDIRECT("'"&J$1:J$3&"'!a2:a100"),A5))} -> 1
A6: INFO 6 | B6: GRAND | C6: {=SUMPRODUCT(COUNTIF(INDIRECT("'"&J$1:J$3&"'!a2:a100"),A6))} -> 0
A7: INFO 7 | B7: 615.85661 | C7: {=SUMPRODUCT(COUNTIF(INDIRECT("'"&J$1:J$3&"'!a2:a100"),A7))} -> 0
A8: INFO 8 | B8: 184.25579 | C8: {=SUMPRODUCT(COUNTIF(INDIRECT("'"&J$1:J$3&"'!a2:a100"),A8))} -> 1
A9: INFO 9 | B9: 83.928145 | C9: {=SUMPRODUCT(COUNTIF(INDIRECT("'"&J$1:J$3&"'!a2:a100"),A9))} -> 0
A10: INFO 10 | B10: XL | C10: {=SUMPRODUCT(COUNTIF(INDIRECT("'"&J$1:J$3&"'!a2:a100"),A10))} -> 1
A11: INFO 11 | B11: 657.03837 | C11: {=SUMPRODUCT(COUNTIF(INDIRECT("'"&J$1:J$3&"'!a2:a100"),A11))} -> 0
A12: INFO 12 | B12: 942.74575 | C12: {=SUMPRODUCT(COUNTIF(INDIRECT("'"&J$1:J$3&"'!a2:a100"),A12))} -> 1
A13: INFO 13 | B13: MIXTE | C13: {=SUMPRODUCT(COUNTIF(INDIRECT("'"&J$1:J$3&"'!a2:a100"),A13))} -> 1
A14: INFO 14 | B14: 472.85272 | C14: {=SUMPRODUCT(COUNTIF(INDIRECT("'"&J$1:J$3&"'!a2:a100"),A14))} -> 1
A15: INFO 15 | B15: 779.64172 | C15: {=SUMPRODUCT(COUNTIF(INDIRECT("'"&J$1:J$3&"'!a2:a100"),A15))} -> 1
A16: INFO 16 | B16: 780.36665 | C16: {=SUMPRODUCT(COUNTIF(INDIRECT("'"&J$1:J$3&"'!a2:a100"),A16))} -> 0
A17: INFO 17 | B17: 782.89819 | C17: {=SUMPRODUCT(COUNTIF(INDIRECT("'"&J$1:J$3&"'!a2:a100"),A17))} -> 0
A18: INFO 18 | B18: 45280 | C18: {=SUMPRODUCT(COUNTIF(INDIRECT("'"&J$1:J$3&"'!a2:a100"),A18))} -> 0
F24: =

Sheet RECAP 1
A1: RECAPITULATIF
A2: INFO 1 | B2: =INDEX(LIST!$B$1:$B$18,MATCH(A2,LIST!$A$1:$A$18,0)) -> 852.13242
A3: INFO 3 | B3: =INDEX(LIST!$B$1:$B$18,MATCH(A3,LIST!$A$1:$A$18,0)) -> ROUGE
A4: INFO 8 | B4: =INDEX(LIST!$B$1:$B$18,MATCH(A4,LIST!$A$1:$A$18,0)) -> 184.25579

Sheet RECAP 2
A1: RECAPITULATIF
A2: INFO 10 | B2: =INDEX(LIST!$B$1:$B$18,MATCH(A2,LIST!$A$1:$A$18,0)) -> XL
A3: INFO 5 | B3: =INDEX(LIST!$B$1:$B$18,MATCH(A3,LIST!$A$1:$A$18,0)) -> 909.38836

Sheet RECAP 3
A1: RECAPITULATIF
A2: INFO 2 | B2: =INDEX(LIST!$B$1:$B$18,MATCH(A2,LIST!$A$1:$A$18,0)) -> 947.53448
A3: INFO 4 | B3: =INDEX(LIST!$B$1:$B$18,MATCH(A3,LIST!$A$1:$A$18,0)) -> 737.44239
A4: INFO 12 | B4: =INDEX(LIST!$B$1:$B$18,MATCH(A4,LIST!$A$1:$A$18,0)) -> 942.74575
A5: INFO 13 | B5: =INDEX(LIST!$B$1:$B$18,MATCH(A5,LIST!$A$1:$A$18,0)) -> MIXTE
A6: INFO 14 | B6: =INDEX(LIST!$B$1:$B$18,MATCH(A6,LIST!$A$1:$A$18,0)) -> 472.85272
A7: INFO 15 | B7: =INDEX(LIST!$B$1:$B$18,MATCH(A7,LIST!$A$1:$A$18,0)) -> 779.64172
