Workbook
Name moisannee: data!$A$1:$A$3

Sheet F1
C1: 2 | D1: 3 | E1: 4 | F1: 5 | G1: 6
B2: 45261 | C2: {=IF(SUMPRODUCT((data!$B$1:$E$3=C$4)*ROW(1:3))*SUMPRODUCT((data!$B$1:$E$3=C$4)*COLUMN($B:$E))=0,"",INDEX(data!$B$1:$E$4,SUMPRODUCT((data!$B$1:$E$3=C$4)*ROW(1:3)),SUMPRODUCT((data!$B$1:$E$3=C$4)*COLUMN($B:$E))))} | D2: {=IF(SUMPRODUCT((data!$B$1:$E$3=D$4)*ROW(1:3))*SUMPRODUCT((data!$B$1:$E$3=D$4)*COLUMN($B:$E))=0,"",INDEX(data!$B$1:$E$4,SUMPRODUCT((data!$B$1:$E$3=D$4)*ROW(1:3)),SUMPRODUCT((data!$B$1:$E$3=D$4)*COLUMN($B:$E))))} | E2: {=IF(SUMPRODUCT((data!$B$1:$E$3=E$4)*ROW(1:3))*SUMPRODUCT((data!$B$1:$E$3=E$4)*COLUMN($B:$E))=0,"",INDEX(data!$B$1:$E$4,SUMPRODUCT((data!$B$1:$E$3=E$4)*ROW(1:3)),SUMPRODUCT((data!$B$1:$E$3=E$4)*COLUMN($B:$E))))} | F2: {=IF(SUMPRODUCT((data!$B$1:$E$3=F$4)*ROW(1:3))*SUMPRODUCT((data!$B$1:$E$3=F$4)*COLUMN($B:$E))=0,"",INDEX(data!$B$1:$E$4,SUMPRODUCT((data!$B$1:$E$3=F$4)*ROW(1:3)),SUMPRODUCT((data!$B$1:$E$3=F$4)*COLUMN($B:$E))))} | G2: {=IF(SUMPRODUCT((data!$B$1:$E$3=G$4)*ROW(1:3))*SUMPRODUCT((data!$B$1:$E$3=G$4)*COLUMN($B:$E))=0,"",INDEX(data!$B$1:$E$4,SUMPRODUCT((data!$B$1:$E$3=G$4)*ROW(1:3)),SUMPRODUCT((data!$B$1:$E$3=G$4)*COLUMN($B:$E))))} | H2: {=IF(SUMPRODUCT((data!$B$1:$E$3=H$4)*ROW(1:3))*SUMPRODUCT((data!$B$1:$E$3=H$4)*COLUMN($B:$E))=0,"",INDEX(data!$B$1:$E$4,SUMPRODUCT((data!$B$1:$E$3=H$4)*ROW(1:3)),SUMPRODUCT((data!$B$1:$E$3=H$4)*COLUMN($B:$E))))} | I2: {=IF(SUMPRODUCT((data!$B$1:$E$3=I$4)*ROW(1:3))*SUMPRODUCT((data!$B$1:$E$3=I$4)*COLUMN($B:$E))=0,"",INDEX(data!$B$1:$E$4,SUMPRODUCT((data!$B$1:$E$3=I$4)*ROW(1:3)),SUMPRODUCT((data!$B$1:$E$3=I$4)*COLUMN($B:$E))))} | J2: {=IF(SUMPRODUCT((data!$B$1:$E$3=J$4)*ROW(1:3))*SUMPRODUCT((data!$B$1:$E$3=J$4)*COLUMN($B:$E))=0,"",INDEX(data!$B$1:$E$4,SUMPRODUCT((data!$B$1:$E$3=J$4)*ROW(1:3)),SUMPRODUCT((data!$B$1:$E$3=J$4)*COLUMN($B:$E))))} | ... AG2: {=IF(SUMPRODUCT((data!$B$1:$E$3=AG$4)*ROW(1:3))*SUMPRODUCT((data!$B$1:$E$3=AG$4)*COLUMN($B:$E))=0,"",INDEX(data!$B$1:$E$4,SUMPRODUCT((data!$B$1:$E$3=AG$4)*ROW(1:3)),SUMPRODUCT((data!$B$1:$E$3=AG$4)*COLUMN($B:$E))))}
C4: =IF(WEEKDAY($B$2)=C1,$B$2,IF(WEEKDAY($B$2)=1,$B$2+1,IF(WEEKDAY($B$2)=7,$B$2+2,""))) | D4: =IF(C4<>"",C4+1,IF(WEEKDAY($B$2)=D1,$B$2,IF(WEEKDAY($B$2)=1,$B$2+1,IF(WEEKDAY($B$2)=7,$B$2+2,"")))) | E4: =IF(D4<>"",D4+1,IF(WEEKDAY($B$2)=E1,$B$2,IF(WEEKDAY($B$2)=1,$B$2+1,IF(WEEKDAY($B$2)=7,$B$2+2,"")))) | F4: =IF(E4<>"",E4+1,IF(WEEKDAY($B$2)=F1,$B$2,IF(WEEKDAY($B$2)=1,$B$2+1,IF(WEEKDAY($B$2)=7,$B$2+2,"")))) | G4: =IF(F4<>"",F4+1,IF(WEEKDAY($B$2)=G1,$B$2,IF(WEEKDAY($B$2)=1,$B$2+1,IF(WEEKDAY($B$2)=7,$B$2+2,"")))) -> 45261 | I4: =G4+3 -> 45264 | J4: =I4+1 -> 45265 | K4: =J4+1 -> 45266 | L4: =K4+1 -> 45267 | M4: =L4+1 -> 45268 | O4: =M4+3 -> 45271 | P4: =O4+1 -> 45272 | Q4: =P4+1 -> 45273 | R4: =Q4+1 -> 45274 | S4: =R4+1 -> 45275 | U4: =S4+3 -> 45278 | V4: =U4+1 -> 45279 | W4: =V4+1 -> 45280 | X4: =W4+1 -> 45281 | Y4: =X4+1 -> 45282 | AA4: =Y4+3 -> 45285 | AB4: =AA4+1 -> 45286 | AC4: =AA4+3 -> 45288 | AD4: =AC4+1 -> 45289 | AE4: =AC4+3 -> 45291 | AF4: =AB4+1 -> 45287 | AG4: =AF4+1 -> 45288
D11: SI(SOMMEPROD((data!$B$1:$E$3=C$4)*LIGNE(1:3))*SOMMEPROD((data!$B$1:$E$3=C$4)*COLONNE($B:$E))=0;"";INDEX(data!$B$1:$E$4;SOMMEPROD((data!$B$1:$E$3=C$4)*LIGNE(1:3));SOMMEPROD((data!$B$1:$E$3=C$4)*COLONNE($B:$E))))

Sheet data
A1: 45231 | B1: 45236 | C1: match 1 | D1: 45251 | E1: match2
A2: 45261 | B2: 45267 | C2: match 1 | D2: 45282 | E2: match2
A3: 45292 | B3: 45302 | C3: match 1 | D3: 45313 | E3: match2
