Workbook

Sheet Récap agence
A1: N° commande | B1: commercial | C1: client | D1: code produit | E1: montant HT | F1: TVA | G1: Montant TTC | J1: Paul
A2: 1 | B2: {=IF(SUMPRODUCT(COUNTIF(INDIRECT(J$1:J$3&"!a2:a18"),A2))=0,"",INDEX(J$1:J$3,MAX(CHOOSE({1,2,3},(Paul!$A$2:A$18=A2)*1,(Jean!A$2:A$18=A2)*2,(Aude!A$2:A$18=A2)*3))))} -> Paul | C2: =IFERROR(VLOOKUP($A2,INDIRECT($B2&"!a2:g18"),COLUMN(C:C),0),"") -> SARL DUPOND | D2: =IFERROR(VLOOKUP($A2,INDIRECT($B2&"!a2:g18"),COLUMN(D:D),0),"") -> 3645-1 | E2: =IFERROR(VLOOKUP($A2,INDIRECT($B2&"!a2:g18"),COLUMN(E:E),0),"") -> 1000 | F2: =IFERROR(VLOOKUP($A2,INDIRECT($B2&"!a2:g18"),COLUMN(F:F),0),"") -> 0.2 | G2: =IFERROR(VLOOKUP($A2,INDIRECT($B2&"!a2:g18"),COLUMN(G:G),0),"") -> 1200 | J2: Jean | L2: faire la liste des onglet
A3: 2 | B3: {=IF(SUMPRODUCT(COUNTIF(INDIRECT(J$1:J$3&"!a2:a18"),A3))=0,"",INDEX(J$1:J$3,MAX(CHOOSE({1,2,3},(Paul!$A$2:A$18=A3)*1,(Jean!A$2:A$18=A3)*2,(Aude!A$2:A$18=A3)*3))))} -> Paul | C3: =IFERROR(VLOOKUP($A3,INDIRECT($B3&"!a2:g18"),COLUMN(C:C),0),"") -> SARL DUPOND | D3: =IFERROR(VLOOKUP($A3,INDIRECT($B3&"!a2:g18"),COLUMN(D:D),0),"") -> 3213-0 | E3: =IFERROR(VLOOKUP($A3,INDIRECT($B3&"!a2:g18"),COLUMN(E:E),0),"") -> 230 | F3: =IFERROR(VLOOKUP($A3,INDIRECT($B3&"!a2:g18"),COLUMN(F:F),0),"") -> 0.2 | G3: =IFERROR(VLOOKUP($A3,INDIRECT($B3&"!a2:g18"),COLUMN(G:G),0),"") -> 276 | J3: Aude | L3: dans le meme ordre
A4: 3 | B4: {=IF(SUMPRODUCT(COUNTIF(INDIRECT(J$1:J$3&"!a2:a18"),A4))=0,"",INDEX(J$1:J$3,MAX(CHOOSE({1,2,3},(Paul!$A$2:A$18=A4)*1,(Jean!A$2:A$18=A4)*2,(Aude!A$2:A$18=A4)*3))))} -> Jean | C4: =IFERROR(VLOOKUP($A4,INDIRECT($B4&"!a2:g18"),COLUMN(C:C),0),"") -> SARL MARTIN | D4: =IFERROR(VLOOKUP($A4,INDIRECT($B4&"!a2:g18"),COLUMN(D:D),0),"") -> 3210-1 | E4: =IFERROR(VLOOKUP($A4,INDIRECT($B4&"!a2:g18"),COLUMN(E:E),0),"") -> 250 | F4: =IFERROR(VLOOKUP($A4,INDIRECT($B4&"!a2:g18"),COLUMN(F:F),0),"") -> 0.2 | G4: =IFERROR(VLOOKUP($A4,INDIRECT($B4&"!a2:g18"),COLUMN(G:G),0),"") -> 300
A5: 4 | B5: {=IF(SUMPRODUCT(COUNTIF(INDIRECT(J$1:J$3&"!a2:a18"),A5))=0,"",INDEX(J$1:J$3,MAX(CHOOSE({1,2,3},(Paul!$A$2:A$18=A5)*1,(Jean!A$2:A$18=A5)*2,(Aude!A$2:A$18=A5)*3))))} -> Aude | C5: =IFERROR(VLOOKUP($A5,INDIRECT($B5&"!a2:g18"),COLUMN(C:C),0),"") -> SA MICHEL | D5: =IFERROR(VLOOKUP($A5,INDIRECT($B5&"!a2:g18"),COLUMN(D:D),0),"") -> 7463-3 | E5: =IFERROR(VLOOKUP($A5,INDIRECT($B5&"!a2:g18"),COLUMN(E:E),0),"") -> 1560 | F5: =IFERROR(VLOOKUP($A5,INDIRECT($B5&"!a2:g18"),COLUMN(F:F),0),"") -> 0.196 | G5: =IFERROR(VLOOKUP($A5,INDIRECT($B5&"!a2:g18"),COLUMN(G:G),0),"") -> 1865.76
A6: 5 | B6: {=IF(SUMPRODUCT(COUNTIF(INDIRECT(J$1:J$3&"!a2:a18"),A6))=0,"",INDEX(J$1:J$3,MAX(CHOOSE({1,2,3},(Paul!$A$2:A$18=A6)*1,(Jean!A$2:A$18=A6)*2,(Aude!A$2:A$18=A6)*3))))} -> Paul | C6: =IFERROR(VLOOKUP($A6,INDIRECT($B6&"!a2:g18"),COLUMN(C:C),0),"") -> SC TINTIN | D6: =IFERROR(VLOOKUP($A6,INDIRECT($B6&"!a2:g18"),COLUMN(D:D),0),"") -> 9645-1 | E6: =IFERROR(VLOOKUP($A6,INDIRECT($B6&"!a2:g18"),COLUMN(E:E),0),"") -> 45 | F6: =IFERROR(VLOOKUP($A6,INDIRECT($B6&"!a2:g18"),COLUMN(F:F),0),"") -> 0.1 | G6: =IFERROR(VLOOKUP($A6,INDIRECT($B6&"!a2:g18"),COLUMN(G:G),0),"") -> 49.5
A7: 6 | B7: {=IF(SUMPRODUCT(COUNTIF(INDIRECT(J$1:J$3&"!a2:a18"),A7))=0,"",INDEX(J$1:J$3,MAX(CHOOSE({1,2,3},(Paul!$A$2:A$18=A7)*1,(Jean!A$2:A$18=A7)*2,(Aude!A$2:A$18=A7)*3))))} -> Jean | C7: =IFERROR(VLOOKUP($A7,INDIRECT($B7&"!a2:g18"),COLUMN(C:C),0),"") -> PAROLE | D7: =IFERROR(VLOOKUP($A7,INDIRECT($B7&"!a2:g18"),COLUMN(D:D),0),"") -> 5412-2 | E7: =IFERROR(VLOOKUP($A7,INDIRECT($B7&"!a2:g18"),COLUMN(E:E),0),"") -> 364 | F7: =IFERROR(VLOOKUP($A7,INDIRECT($B7&"!a2:g18"),COLUMN(F:F),0),"") -> 0.2 | G7: =IFERROR(VLOOKUP($A7,INDIRECT($B7&"!a2:g18"),COLUMN(G:G),0),"") -> 436.8
A8: 7 | B8: {=IF(SUMPRODUCT(COUNTIF(INDIRECT(J$1:J$3&"!a2:a18"),A8))=0,"",INDEX(J$1:J$3,MAX(CHOOSE({1,2,3},(Paul!$A$2:A$18=A8)*1,(Jean!A$2:A$18=A8)*2,(Aude!A$2:A$18=A8)*3))))} -> Jean | C8: =IFERROR(VLOOKUP($A8,INDIRECT($B8&"!a2:g18"),COLUMN(C:C),0),"") -> PAROLE | D8: =IFERROR(VLOOKUP($A8,INDIRECT($B8&"!a2:g18"),COLUMN(D:D),0),"") -> 5412-3 | E8: =IFERROR(VLOOKUP($A8,INDIRECT($B8&"!a2:g18"),COLUMN(E:E),0),"") -> 84 | F8: =IFERROR(VLOOKUP($A8,INDIRECT($B8&"!a2:g18"),COLUMN(F:F),0),"") -> 0.1 | G8: =IFERROR(VLOOKUP($A8,INDIRECT($B8&"!a2:g18"),COLUMN(G:G),0),"") -> 92.4
A9: 8 | B9: {=IF(SUMPRODUCT(COUNTIF(INDIRECT(J$1:J$3&"!a2:a18"),A9))=0,"",INDEX(J$1:J$3,MAX(CHOOSE({1,2,3},(Paul!$A$2:A$18=A9)*1,(Jean!A$2:A$18=A9)*2,(Aude!A$2:A$18=A9)*3))))} -> Aude | C9: =IFERROR(VLOOKUP($A9,INDIRECT($B9&"!a2:g18"),COLUMN(C:C),0),"") -> SC TILLEUL | D9: =IFERROR(VLOOKUP($A9,INDIRECT($B9&"!a2:g18"),COLUMN(D:D),0),"") -> 4863-0 | E9: =IFERROR(VLOOKUP($A9,INDIRECT($B9&"!a2:g18"),COLUMN(E:E),0),"") -> 634 | F9: =IFERROR(VLOOKUP($A9,INDIRECT($B9&"!a2:g18"),COLUMN(F:F),0),"") -> 0.1 | G9: =IFERROR(VLOOKUP($A9,INDIRECT($B9&"!a2:g18"),COLUMN(G:G),0),"") -> 697.4
A10: 9 | B10: {=IF(SUMPRODUCT(COUNTIF(INDIRECT(J$1:J$3&"!a2:a18"),A10))=0,"",INDEX(J$1:J$3,MAX(CHOOSE({1,2,3},(Paul!$A$2:A$18=A10)*1,(Jean!A$2:A$18=A10)*2,(Aude!A$2:A$18=A10)*3))))} -> Paul | C10: =IFERROR(VLOOKUP($A10,INDIRECT($B10&"!a2:g18"),COLUMN(C:C),0),"") -> BEAUMIRAGE | D10: =IFERROR(VLOOKUP($A10,INDIRECT($B10&"!a2:g18"),COLUMN(D:D),0),"") -> 9875-0 | E10: =IFERROR(VLOOKUP($A10,INDIRECT($B10&"!a2:g18"),COLUMN(E:E),0),"") -> 690 | F10: =IFERROR(VLOOKUP($A10,INDIRECT($B10&"!a2:g18"),COLUMN(F:F),0),"") -> 0.2 | G10: =IFERROR(VLOOKUP($A10,INDIRECT($B10&"!a2:g18"),COLUMN(G:G),0),"") -> 828
A11: 10 | B11: {=IF(SUMPRODUCT(COUNTIF(INDIRECT(J$1:J$3&"!a2:a18"),A11))=0,"",INDEX(J$1:J$3,MAX(CHOOSE({1,2,3},(Paul!$A$2:A$18=A11)*1,(Jean!A$2:A$18=A11)*2,(Aude!A$2:A$18=A11)*3))))} -> Jean | C11: =IFERROR(VLOOKUP($A11,INDIRECT($B11&"!a2:g18"),COLUMN(C:C),0),"") -> JARDIN&CO | D11: =IFERROR(VLOOKUP($A11,INDIRECT($B11&"!a2:g18"),COLUMN(D:D),0),"") -> 9756-1 | E11: =IFERROR(VLOOKUP($A11,INDIRECT($B11&"!a2:g18"),COLUMN(E:E),0),"") -> 540 | F11: =IFERROR(VLOOKUP($A11,INDIRECT($B11&"!a2:g18"),COLUMN(F:F),0),"") -> 0.2 | G11: =IFERROR(VLOOKUP($A11,INDIRECT($B11&"!a2:g18"),COLUMN(G:G),0),"") -> 648
A12: 11 | B12: {=IF(SUMPRODUCT(COUNTIF(INDIRECT(J$1:J$3&"!a2:a18"),A12))=0,"",INDEX(J$1:J$3,MAX(CHOOSE({1,2,3},(Paul!$A$2:A$18=A12)*1,(Jean!A$2:A$18=A12)*2,(Aude!A$2:A$18=A12)*3))))} -> Jean | C12: =IFERROR(VLOOKUP($A12,INDIRECT($B12&"!a2:g18"),COLUMN(C:C),0),"") -> JARDIN&CO | D12: =IFERROR(VLOOKUP($A12,INDIRECT($B12&"!a2:g18"),COLUMN(D:D),0),"") -> 9756-2 | E12: =IFERROR(VLOOKUP($A12,INDIRECT($B12&"!a2:g18"),COLUMN(E:E),0),"") -> 321 | F12: =IFERROR(VLOOKUP($A12,INDIRECT($B12&"!a2:g18"),COLUMN(F:F),0),"") -> 0.196 | G12: =IFERROR(VLOOKUP($A12,INDIRECT($B12&"!a2:g18"),COLUMN(G:G),0),"") -> 383.916
A13: 12 | B13: {=IF(SUMPRODUCT(COUNTIF(INDIRECT(J$1:J$3&"!a2:a18"),A13))=0,"",INDEX(J$1:J$3,MAX(CHOOSE({1,2,3},(Paul!$A$2:A$18=A13)*1,(Jean!A$2:A$18=A13)*2,(Aude!A$2:A$18=A13)*3))))} -> Paul | C13: =IFERROR(VLOOKUP($A13,INDIRECT($B13&"!a2:g18"),COLUMN(C:C),0),"") -> SC TINTIN | D13: =IFERROR(VLOOKUP($A13,INDIRECT($B13&"!a2:g18"),COLUMN(D:D),0),"") -> 6342-0 | E13: =IFERROR(VLOOKUP($A13,INDIRECT($B13&"!a2:g18"),COLUMN(E:E),0),"") -> 63 | F13: =IFERROR(VLOOKUP($A13,INDIRECT($B13&"!a2:g18"),COLUMN(F:F),0),"") -> 0.196 | G13: =IFERROR(VLOOKUP($A13,INDIRECT($B13&"!a2:g18"),COLUMN(G:G),0),"") -> 75.348
A14: 13 | B14: {=IF(SUMPRODUCT(COUNTIF(INDIRECT(J$1:J$3&"!a2:a18"),A14))=0,"",INDEX(J$1:J$3,MAX(CHOOSE({1,2,3},(Paul!$A$2:A$18=A14)*1,(Jean!A$2:A$18=A14)*2,(Aude!A$2:A$18=A14)*3))))} -> Paul | C14: =IFERROR(VLOOKUP($A14,INDIRECT($B14&"!a2:g18"),COLUMN(C:C),0),"") -> SC TINTIN | D14: =IFERROR(VLOOKUP($A14,INDIRECT($B14&"!a2:g18"),COLUMN(D:D),0),"") -> 6343-0 | E14: =IFERROR(VLOOKUP($A14,INDIRECT($B14&"!a2:g18"),COLUMN(E:E),0),"") -> 842 | F14: =IFERROR(VLOOKUP($A14,INDIRECT($B14&"!a2:g18"),COLUMN(F:F),0),"") -> 0.2 | G14: =IFERROR(VLOOKUP($A14,INDIRECT($B14&"!a2:g18"),COLUMN(G:G),0),"") -> 1010.4
A15: 14 | B15: {=IF(SUMPRODUCT(COUNTIF(INDIRECT(J$1:J$3&"!a2:a18"),A15))=0,"",INDEX(J$1:J$3,MAX(CHOOSE({1,2,3},(Paul!$A$2:A$18=A15)*1,(Jean!A$2:A$18=A15)*2,(Aude!A$2:A$18=A15)*3))))} -> Aude | C15: =IFERROR(VLOOKUP($A15,INDIRECT($B15&"!a2:g18"),COLUMN(C:C),0),"") -> ENVOL | D15: =IFERROR(VLOOKUP($A15,INDIRECT($B15&"!a2:g18"),COLUMN(D:D),0),"") -> 2323-0 | E15: =IFERROR(VLOOKUP($A15,INDIRECT($B15&"!a2:g18"),COLUMN(E:E),0),"") -> 987 | F15: =IFERROR(VLOOKUP($A15,INDIRECT($B15&"!a2:g18"),COLUMN(F:F),0),"") -> 0.2 | G15: =IFERROR(VLOOKUP($A15,INDIRECT($B15&"!a2:g18"),COLUMN(G:G),0),"") -> 1184.4
... A18: 17 | B18: {=IF(SUMPRODUCT(COUNTIF(INDIRECT(J$1:J$3&"!a2:a18"),A18))=0,"",INDEX(J$1:J$3,MAX(CHOOSE({1,2,3},(Paul!$A$2:A$18=A18)*1,(Jean!A$2:A$18=A18)*2,(Aude!A$2:A$18=A18)*3))))} | C18: =IFERROR(VLOOKUP($A18,INDIRECT($B18&"!a2:g18"),COLUMN(C:C),0),"") | D18: =IFERROR(VLOOKUP($A18,INDIRECT($B18&"!a2:g18"),COLUMN(D:D),0),"") | E18: =IFERROR(VLOOKUP($A18,INDIRECT($B18&"!a2:g18"),COLUMN(E:E),0),"") | F18: =IFERROR(VLOOKUP($A18,INDIRECT($B18&"!a2:g18"),COLUMN(F:F),0),"") | G18: =IFERROR(VLOOKUP($A18,INDIRECT($B18&"!a2:g18"),COLUMN(G:G),0),"")
B20: fonction n°1 | C20: à partir de la colonne C ;Recherchev utilise le resultat de la fonction n°1 grace à Indirect

Sheet Paul
A1: N° commande | B1: commercial | C1: client | D1: code produit | E1: montant HT | F1: TVA | G1: Montant TTC
A2: 1 | B2: Paul | C2: SARL DUPOND | D2: 3645-1 | E2: 1000 | F2: 0.2 | G2: =E2*(1+F2) -> 1200
A3: 2 | B3: Paul | C3: SARL DUPOND | D3: 3213-0 | E3: 230 | F3: 0.2 | G3: =E3*(1+F3) -> 276
A4: 5 | B4: Paul | C4: SC TINTIN | D4: 9645-1 | E4: 45 | F4: 0.1 | G4: =E4*(1+F4) -> 49.5
A5: 9 | B5: Paul | C5: BEAUMIRAGE | D5: 9875-0 | E5: 690 | F5: 0.2 | G5: =E5*(1+F5) -> 828
A6: 12 | B6: Paul | C6: SC TINTIN | D6: 6342-0 | E6: 63 | F6: 0.196 | G6: =E6*(1+F6) -> 75.348
A7: 13 | B7: Paul | C7: SC TINTIN | D7: 6343-0 | E7: 842 | F7: 0.2 | G7: =E7*(1+F7) -> 1010.4

Sheet Jean
A1: N° commande | B1: commercial | C1: client | D1: code produit | E1: montant HT | F1: TVA | G1: Montant TTC
A2: 3 | B2: Jean | C2: SARL MARTIN | D2: 3210-1 | E2: 250 | F2: 0.2 | G2: =E2*(1+F2) -> 300
A3: 6 | B3: Jean | C3: PAROLE | D3: 5412-2 | E3: 364 | F3: 0.2 | G3: =E3*(1+F3) -> 436.8
A4: 7 | B4: Jean | C4: PAROLE | D4: 5412-3 | E4: 84 | F4: 0.1 | G4: =E4*(1+F4) -> 92.4
A5: 10 | B5: Jean | C5: JARDIN&CO | D5: 9756-1 | E5: 540 | F5: 0.2 | G5: =E5*(1+F5) -> 648
A6: 11 | B6: Jean | C6: JARDIN&CO | D6: 9756-2 | E6: 321 | F6: 0.196 | G6: =E6*(1+F6) -> 383.916

Sheet Aude
A1: N° commande | B1: commercial | C1: client | D1: code produit | E1: montant HT | F1: TVA | G1: Montant TTC
A2: 4 | B2: Aude | C2: SA MICHEL | D2: 7463-3 | E2: 1560 | F2: 0.196 | G2: =E2*(1+F2) -> 1865.76
A3: 8 | B3: Aude | C3: SC TILLEUL | D3: 4863-0 | E3: 634 | F3: 0.1 | G3: =E3*(1+F3) -> 697.4
A4: 14 | B4: Aude | C4: ENVOL | D4: 2323-0 | E4: 987 | F4: 0.2 | G4: =E4*(1+F4) -> 1184.4
A5: 15 | B5: Aude | C5: ENVOL | D5: 2324-1 | E5: 854 | F5: 0.2 | G5: =E5*(1+F5) -> 1024.8
