Workbook

Sheet Feuil4
A3: Étiquettes de lignes | B3: 70712001 | C3: 70712005 | D3: 70712205 | E3: 70712305 | F3: 70712503 | G3: 70712505 | H3: 70910001 | I3: 70971005 | J3: Total général
A4: AIB01 | B4: 1 | C4: 2 | D4: 3 | E4: 4 | F4: 5 | G4: 6 | H4: 7 | I4: 8 | J4: 36
A5: AIB02 | B5: 2 | C5: 3 | D5: 4 | E5: 5 | F5: 6 | G5: 7 | H5: 8 | I5: 9 | J5: 44
A6: AIB03 | B6: 3 | C6: 4 | D6: 5 | E6: 6 | F6: 7 | G6: 8 | H6: 9 | I6: 10 | J6: 52
A7: AIB04 | B7: 4 | C7: 5 | D7: 6 | E7: 7 | F7: 8 | G7: 9 | H7: 10 | I7: 11 | J7: 60
A8: AIB05 | B8: 5 | C8: 6 | D8: 7 | E8: 8 | F8: 9 | G8: 10 | H8: 11 | I8: 12 | J8: 68
A9: AIB06 | B9: 6 | C9: 7 | D9: 8 | E9: 9 | F9: 10 | G9: 11 | H9: 12 | I9: 13 | J9: 76
A10: AIB07 | B10: 7 | C10: 8 | D10: 9 | E10: 10 | F10: 11 | G10: 12 | H10: 13 | I10: 14 | J10: 84
A11: AIB08 | B11: 8 | C11: 9 | D11: 10 | E11: 11 | F11: 12 | G11: 13 | H11: 14 | I11: 15 | J11: 92
A12: AIB09 | B12: 9 | C12: 10 | D12: 11 | E12: 12 | F12: 13 | G12: 14 | H12: 15 | I12: 16 | J12: 100
A13: AIB10 | B13: 10 | C13: 11 | D13: 12 | E13: 13 | F13: 14 | G13: 15 | H13: 16 | I13: 17 | J13: 108
A14: AIB11 | B14: 11 | C14: 12 | D14: 13 | E14: 14 | F14: 15 | G14: 16 | H14: 17 | I14: 18 | J14: 116
A15: AIB12 | B15: 12 | C15: 13 | D15: 14 | E15: 15 | F15: 16 | G15: 17 | H15: 18 | I15: 19 | J15: 124
... A71: Total général | B71: 2278 | C71: 2345 | D71: 2412 | E71: 2479 | F71: 2546 | G71: 2613 | H71: 2680 | I71: 2747 | J71: 20100

Sheet Feuil2
B1: Article Facturé CDG | J1: Remises par caisse
A2: Analytique - Code | B2: 70712001 | C2: 70712005 | D2: 70712205 | E2: 70712305 | F2: 70712503 | G2: 70712505 | H2: 70880000 | I2: 70880005 | J2: 70910001 | K2: 70971005 | L2: Total général CA HT brut
A3: AIB01 | B3: {=SUMPRODUCT((Feuil4!$A$4:$A$70=Feuil2!$A3)*(Feuil4!$B$3:$I$3=Feuil2!B$2)*(Feuil4!$B$4:$I$70))} -> 1 | C3: {=SUMPRODUCT((Feuil4!$A$4:$A$70=Feuil2!$A3)*(Feuil4!$B$3:$I$3=Feuil2!C$2)*(Feuil4!$B$4:$I$70))} -> 2 | D3: {=SUMPRODUCT((Feuil4!$A$4:$A$70=Feuil2!$A3)*(Feuil4!$B$3:$I$3=Feuil2!D$2)*(Feuil4!$B$4:$I$70))} -> 3 | E3: {=SUMPRODUCT((Feuil4!$A$4:$A$70=Feuil2!$A3)*(Feuil4!$B$3:$I$3=Feuil2!E$2)*(Feuil4!$B$4:$I$70))} -> 4 | F3: {=SUMPRODUCT((Feuil4!$A$4:$A$70=Feuil2!$A3)*(Feuil4!$B$3:$I$3=Feuil2!F$2)*(Feuil4!$B$4:$I$70))} -> 5 | G3: {=SUMPRODUCT((Feuil4!$A$4:$A$70=Feuil2!$A3)*(Feuil4!$B$3:$I$3=Feuil2!G$2)*(Feuil4!$B$4:$I$70))} -> 6 | H3: {=SUMPRODUCT((Feuil4!$A$4:$A$70=Feuil2!$A3)*(Feuil4!$B$3:$I$3=Feuil2!H$2)*(Feuil4!$B$4:$I$70))} -> 0 | I3: {=SUMPRODUCT((Feuil4!$A$4:$A$70=Feuil2!$A3)*(Feuil4!$B$3:$I$3=Feuil2!I$2)*(Feuil4!$B$4:$I$70))} -> 0 | ... K3: {=SUMPRODUCT((Feuil4!$A$4:$A$70=Feuil2!$A3)*(Feuil4!$B$3:$I$3=Feuil2!K$2)*(Feuil4!$B$4:$I$70))} -> 8 | L3: =SUM(B3:K3) -> 36
A4: AIB02 | B4: {=SUMPRODUCT((Feuil4!$A$4:$A$70=Feuil2!$A4)*(Feuil4!$B$3:$I$3=Feuil2!B$2)*(Feuil4!$B$4:$I$70))} -> 2 | C4: {=SUMPRODUCT((Feuil4!$A$4:$A$70=Feuil2!$A4)*(Feuil4!$B$3:$I$3=Feuil2!C$2)*(Feuil4!$B$4:$I$70))} -> 3 | D4: {=SUMPRODUCT((Feuil4!$A$4:$A$70=Feuil2!$A4)*(Feuil4!$B$3:$I$3=Feuil2!D$2)*(Feuil4!$B$4:$I$70))} -> 4 | E4: {=SUMPRODUCT((Feuil4!$A$4:$A$70=Feuil2!$A4)*(Feuil4!$B$3:$I$3=Feuil2!E$2)*(Feuil4!$B$4:$I$70))} -> 5 | F4: {=SUMPRODUCT((Feuil4!$A$4:$A$70=Feuil2!$A4)*(Feuil4!$B$3:$I$3=Feuil2!F$2)*(Feuil4!$B$4:$I$70))} -> 6 | G4: {=SUMPRODUCT((Feuil4!$A$4:$A$70=Feuil2!$A4)*(Feuil4!$B$3:$I$3=Feuil2!G$2)*(Feuil4!$B$4:$I$70))} -> 7 | H4: {=SUMPRODUCT((Feuil4!$A$4:$A$70=Feuil2!$A4)*(Feuil4!$B$3:$I$3=Feuil2!H$2)*(Feuil4!$B$4:$I$70))} -> 0 | I4: {=SUMPRODUCT((Feuil4!$A$4:$A$70=Feuil2!$A4)*(Feuil4!$B$3:$I$3=Feuil2!I$2)*(Feuil4!$B$4:$I$70))} -> 0 | ... K4: {=SUMPRODUCT((Feuil4!$A$4:$A$70=Feuil2!$A4)*(Feuil4!$B$3:$I$3=Feuil2!K$2)*(Feuil4!$B$4:$I$70))} -> 9 | L4: =SUM(B4:K4) -> 44
A5: AIB03 | B5: {=SUMPRODUCT((Feuil4!$A$4:$A$70=Feuil2!$A5)*(Feuil4!$B$3:$I$3=Feuil2!B$2)*(Feuil4!$B$4:$I$70))} -> 3 | C5: {=SUMPRODUCT((Feuil4!$A$4:$A$70=Feuil2!$A5)*(Feuil4!$B$3:$I$3=Feuil2!C$2)*(Feuil4!$B$4:$I$70))} -> 4 | D5: {=SUMPRODUCT((Feuil4!$A$4:$A$70=Feuil2!$A5)*(Feuil4!$B$3:$I$3=Feuil2!D$2)*(Feuil4!$B$4:$I$70))} -> 5 | E5: {=SUMPRODUCT((Feuil4!$A$4:$A$70=Feuil2!$A5)*(Feuil4!$B$3:$I$3=Feuil2!E$2)*(Feuil4!$B$4:$I$70))} -> 6 | F5: {=SUMPRODUCT((Feuil4!$A$4:$A$70=Feuil2!$A5)*(Feuil4!$B$3:$I$3=Feuil2!F$2)*(Feuil4!$B$4:$I$70))} -> 7 | G5: {=SUMPRODUCT((Feuil4!$A$4:$A$70=Feuil2!$A5)*(Feuil4!$B$3:$I$3=Feuil2!G$2)*(Feuil4!$B$4:$I$70))} -> 8 | H5: {=SUMPRODUCT((Feuil4!$A$4:$A$70=Feuil2!$A5)*(Feuil4!$B$3:$I$3=Feuil2!H$2)*(Feuil4!$B$4:$I$70))} -> 0 | I5: {=SUMPRODUCT((Feuil4!$A$4:$A$70=Feuil2!$A5)*(Feuil4!$B$3:$I$3=Feuil2!I$2)*(Feuil4!$B$4:$I$70))} -> 0 | ... K5: {=SUMPRODUCT((Feuil4!$A$4:$A$70=Feuil2!$A5)*(Feuil4!$B$3:$I$3=Feuil2!K$2)*(Feuil4!$B$4:$I$70))} -> 10 | L5: =SUM(B5:K5) -> 52
A6: AIB04 | B6: {=SUMPRODUCT((Feuil4!$A$4:$A$70=Feuil2!$A6)*(Feuil4!$B$3:$I$3=Feuil2!B$2)*(Feuil4!$B$4:$I$70))} -> 4 | C6: {=SUMPRODUCT((Feuil4!$A$4:$A$70=Feuil2!$A6)*(Feuil4!$B$3:$I$3=Feuil2!C$2)*(Feuil4!$B$4:$I$70))} -> 5 | D6: {=SUMPRODUCT((Feuil4!$A$4:$A$70=Feuil2!$A6)*(Feuil4!$B$3:$I$3=Feuil2!D$2)*(Feuil4!$B$4:$I$70))} -> 6 | E6: {=SUMPRODUCT((Feuil4!$A$4:$A$70=Feuil2!$A6)*(Feuil4!$B$3:$I$3=Feuil2!E$2)*(Feuil4!$B$4:$I$70))} -> 7 | F6: {=SUMPRODUCT((Feuil4!$A$4:$A$70=Feuil2!$A6)*(Feuil4!$B$3:$I$3=Feuil2!F$2)*(Feuil4!$B$4:$I$70))} -> 8 | G6: {=SUMPRODUCT((Feuil4!$A$4:$A$70=Feuil2!$A6)*(Feuil4!$B$3:$I$3=Feuil2!G$2)*(Feuil4!$B$4:$I$70))} -> 9 | H6: {=SUMPRODUCT((Feuil4!$A$4:$A$70=Feuil2!$A6)*(Feuil4!$B$3:$I$3=Feuil2!H$2)*(Feuil4!$B$4:$I$70))} -> 0 | I6: {=SUMPRODUCT((Feuil4!$A$4:$A$70=Feuil2!$A6)*(Feuil4!$B$3:$I$3=Feuil2!I$2)*(Feuil4!$B$4:$I$70))} -> 0 | ... K6: {=SUMPRODUCT((Feuil4!$A$4:$A$70=Feuil2!$A6)*(Feuil4!$B$3:$I$3=Feuil2!K$2)*(Feuil4!$B$4:$I$70))} -> 11 | L6: =SUM(B6:K6) -> 60
A7: AIB05 | B7: {=SUMPRODUCT((Feuil4!$A$4:$A$70=Feuil2!$A7)*(Feuil4!$B$3:$I$3=Feuil2!B$2)*(Feuil4!$B$4:$I$70))} -> 5 | C7: {=SUMPRODUCT((Feuil4!$A$4:$A$70=Feuil2!$A7)*(Feuil4!$B$3:$I$3=Feuil2!C$2)*(Feuil4!$B$4:$I$70))} -> 6 | D7: {=SUMPRODUCT((Feuil4!$A$4:$A$70=Feuil2!$A7)*(Feuil4!$B$3:$I$3=Feuil2!D$2)*(Feuil4!$B$4:$I$70))} -> 7 | E7: {=SUMPRODUCT((Feuil4!$A$4:$A$70=Feuil2!$A7)*(Feuil4!$B$3:$I$3=Feuil2!E$2)*(Feuil4!$B$4:$I$70))} -> 8 | F7: {=SUMPRODUCT((Feuil4!$A$4:$A$70=Feuil2!$A7)*(Feuil4!$B$3:$I$3=Feuil2!F$2)*(Feuil4!$B$4:$I$70))} -> 9 | G7: {=SUMPRODUCT((Feuil4!$A$4:$A$70=Feuil2!$A7)*(Feuil4!$B$3:$I$3=Feuil2!G$2)*(Feuil4!$B$4:$I$70))} -> 10 | H7: {=SUMPRODUCT((Feuil4!$A$4:$A$70=Feuil2!$A7)*(Feuil4!$B$3:$I$3=Feuil2!H$2)*(Feuil4!$B$4:$I$70))} -> 0 | I7: {=SUMPRODUCT((Feuil4!$A$4:$A$70=Feuil2!$A7)*(Feuil4!$B$3:$I$3=Feuil2!I$2)*(Feuil4!$B$4:$I$70))} -> 0 | ... K7: {=SUMPRODUCT((Feuil4!$A$4:$A$70=Feuil2!$A7)*(Feuil4!$B$3:$I$3=Feuil2!K$2)*(Feuil4!$B$4:$I$70))} -> 12 | L7: =SUM(B7:K7) -> 68
A8: AIB06 | B8: {=SUMPRODUCT((Feuil4!$A$4:$A$70=Feuil2!$A8)*(Feuil4!$B$3:$I$3=Feuil2!B$2)*(Feuil4!$B$4:$I$70))} -> 6 | C8: {=SUMPRODUCT((Feuil4!$A$4:$A$70=Feuil2!$A8)*(Feuil4!$B$3:$I$3=Feuil2!C$2)*(Feuil4!$B$4:$I$70))} -> 7 | D8: {=SUMPRODUCT((Feuil4!$A$4:$A$70=Feuil2!$A8)*(Feuil4!$B$3:$I$3=Feuil2!D$2)*(Feuil4!$B$4:$I$70))} -> 8 | E8: {=SUMPRODUCT((Feuil4!$A$4:$A$70=Feuil2!$A8)*(Feuil4!$B$3:$I$3=Feuil2!E$2)*(Feuil4!$B$4:$I$70))} -> 9 | F8: {=SUMPRODUCT((Feuil4!$A$4:$A$70=Feuil2!$A8)*(Feuil4!$B$3:$I$3=Feuil2!F$2)*(Feuil4!$B$4:$I$70))} -> 10 | G8: {=SUMPRODUCT((Feuil4!$A$4:$A$70=Feuil2!$A8)*(Feuil4!$B$3:$I$3=Feuil2!G$2)*(Feuil4!$B$4:$I$70))} -> 11 | H8: {=SUMPRODUCT((Feuil4!$A$4:$A$70=Feuil2!$A8)*(Feuil4!$B$3:$I$3=Feuil2!H$2)*(Feuil4!$B$4:$I$70))} -> 0 | I8: {=SUMPRODUCT((Feuil4!$A$4:$A$70=Feuil2!$A8)*(Feuil4!$B$3:$I$3=Feuil2!I$2)*(Feuil4!$B$4:$I$70))} -> 0 | ... K8: {=SUMPRODUCT((Feuil4!$A$4:$A$70=Feuil2!$A8)*(Feuil4!$B$3:$I$3=Feuil2!K$2)*(Feuil4!$B$4:$I$70))} -> 13 | L8: =SUM(B8:K8) -> 76
A9: AIB07 | B9: {=SUMPRODUCT((Feuil4!$A$4:$A$70=Feuil2!$A9)*(Feuil4!$B$3:$I$3=Feuil2!B$2)*(Feuil4!$B$4:$I$70))} -> 7 | C9: {=SUMPRODUCT((Feuil4!$A$4:$A$70=Feuil2!$A9)*(Feuil4!$B$3:$I$3=Feuil2!C$2)*(Feuil4!$B$4:$I$70))} -> 8 | D9: {=SUMPRODUCT((Feuil4!$A$4:$A$70=Feuil2!$A9)*(Feuil4!$B$3:$I$3=Feuil2!D$2)*(Feuil4!$B$4:$I$70))} -> 9 | E9: {=SUMPRODUCT((Feuil4!$A$4:$A$70=Feuil2!$A9)*(Feuil4!$B$3:$I$3=Feuil2!E$2)*(Feuil4!$B$4:$I$70))} -> 10 | F9: {=SUMPRODUCT((Feuil4!$A$4:$A$70=Feuil2!$A9)*(Feuil4!$B$3:$I$3=Feuil2!F$2)*(Feuil4!$B$4:$I$70))} -> 11 | G9: {=SUMPRODUCT((Feuil4!$A$4:$A$70=Feuil2!$A9)*(Feuil4!$B$3:$I$3=Feuil2!G$2)*(Feuil4!$B$4:$I$70))} -> 12 | H9: {=SUMPRODUCT((Feuil4!$A$4:$A$70=Feuil2!$A9)*(Feuil4!$B$3:$I$3=Feuil2!H$2)*(Feuil4!$B$4:$I$70))} -> 0 | I9: {=SUMPRODUCT((Feuil4!$A$4:$A$70=Feuil2!$A9)*(Feuil4!$B$3:$I$3=Feuil2!I$2)*(Feuil4!$B$4:$I$70))} -> 0 | ... K9: {=SUMPRODUCT((Feuil4!$A$4:$A$70=Feuil2!$A9)*(Feuil4!$B$3:$I$3=Feuil2!K$2)*(Feuil4!$B$4:$I$70))} -> 14 | L9: =SUM(B9:K9) -> 84
A10: AIB08 | B10: {=SUMPRODUCT((Feuil4!$A$4:$A$70=Feuil2!$A10)*(Feuil4!$B$3:$I$3=Feuil2!B$2)*(Feuil4!$B$4:$I$70))} -> 8 | C10: {=SUMPRODUCT((Feuil4!$A$4:$A$70=Feuil2!$A10)*(Feuil4!$B$3:$I$3=Feuil2!C$2)*(Feuil4!$B$4:$I$70))} -> 9 | D10: {=SUMPRODUCT((Feuil4!$A$4:$A$70=Feuil2!$A10)*(Feuil4!$B$3:$I$3=Feuil2!D$2)*(Feuil4!$B$4:$I$70))} -> 10 | E10: {=SUMPRODUCT((Feuil4!$A$4:$A$70=Feuil2!$A10)*(Feuil4!$B$3:$I$3=Feuil2!E$2)*(Feuil4!$B$4:$I$70))} -> 11 | F10: {=SUMPRODUCT((Feuil4!$A$4:$A$70=Feuil2!$A10)*(Feuil4!$B$3:$I$3=Feuil2!F$2)*(Feuil4!$B$4:$I$70))} -> 12 | G10: {=SUMPRODUCT((Feuil4!$A$4:$A$70=Feuil2!$A10)*(Feuil4!$B$3:$I$3=Feuil2!G$2)*(Feuil4!$B$4:$I$70))} -> 13 | H10: {=SUMPRODUCT((Feuil4!$A$4:$A$70=Feuil2!$A10)*(Feuil4!$B$3:$I$3=Feuil2!H$2)*(Feuil4!$B$4:$I$70))} -> 0 | I10: {=SUMPRODUCT((Feuil4!$A$4:$A$70=Feuil2!$A10)*(Feuil4!$B$3:$I$3=Feuil2!I$2)*(Feuil4!$B$4:$I$70))} -> 0 | ... K10: {=SUMPRODUCT((Feuil4!$A$4:$A$70=Feuil2!$A10)*(Feuil4!$B$3:$I$3=Feuil2!K$2)*(Feuil4!$B$4:$I$70))} -> 15 | L10: =SUM(B10:K10) -> 92
A11: AIB09 | B11: {=SUMPRODUCT((Feuil4!$A$4:$A$70=Feuil2!$A11)*(Feuil4!$B$3:$I$3=Feuil2!B$2)*(Feuil4!$B$4:$I$70))} -> 9 | C11: {=SUMPRODUCT((Feuil4!$A$4:$A$70=Feuil2!$A11)*(Feuil4!$B$3:$I$3=Feuil2!C$2)*(Feuil4!$B$4:$I$70))} -> 10 | D11: {=SUMPRODUCT((Feuil4!$A$4:$A$70=Feuil2!$A11)*(Feuil4!$B$3:$I$3=Feuil2!D$2)*(Feuil4!$B$4:$I$70))} -> 11 | E11: {=SUMPRODUCT((Feuil4!$A$4:$A$70=Feuil2!$A11)*(Feuil4!$B$3:$I$3=Feuil2!E$2)*(Feuil4!$B$4:$I$70))} -> 12 | F11: {=SUMPRODUCT((Feuil4!$A$4:$A$70=Feuil2!$A11)*(Feuil4!$B$3:$I$3=Feuil2!F$2)*(Feuil4!$B$4:$I$70))} -> 13 | G11: {=SUMPRODUCT((Feuil4!$A$4:$A$70=Feuil2!$A11)*(Feuil4!$B$3:$I$3=Feuil2!G$2)*(Feuil4!$B$4:$I$70))} -> 14 | H11: {=SUMPRODUCT((Feuil4!$A$4:$A$70=Feuil2!$A11)*(Feuil4!$B$3:$I$3=Feuil2!H$2)*(Feuil4!$B$4:$I$70))} -> 0 | I11: {=SUMPRODUCT((Feuil4!$A$4:$A$70=Feuil2!$A11)*(Feuil4!$B$3:$I$3=Feuil2!I$2)*(Feuil4!$B$4:$I$70))} -> 0 | ... K11: {=SUMPRODUCT((Feuil4!$A$4:$A$70=Feuil2!$A11)*(Feuil4!$B$3:$I$3=Feuil2!K$2)*(Feuil4!$B$4:$I$70))} -> 16 | L11: =SUM(B11:K11) -> 100
A12: AIB10 | B12: {=SUMPRODUCT((Feuil4!$A$4:$A$70=Feuil2!$A12)*(Feuil4!$B$3:$I$3=Feuil2!B$2)*(Feuil4!$B$4:$I$70))} -> 10 | C12: {=SUMPRODUCT((Feuil4!$A$4:$A$70=Feuil2!$A12)*(Feuil4!$B$3:$I$3=Feuil2!C$2)*(Feuil4!$B$4:$I$70))} -> 11 | D12: {=SUMPRODUCT((Feuil4!$A$4:$A$70=Feuil2!$A12)*(Feuil4!$B$3:$I$3=Feuil2!D$2)*(Feuil4!$B$4:$I$70))} -> 12 | E12: {=SUMPRODUCT((Feuil4!$A$4:$A$70=Feuil2!$A12)*(Feuil4!$B$3:$I$3=Feuil2!E$2)*(Feuil4!$B$4:$I$70))} -> 13 | F12: {=SUMPRODUCT((Feuil4!$A$4:$A$70=Feuil2!$A12)*(Feuil4!$B$3:$I$3=Feuil2!F$2)*(Feuil4!$B$4:$I$70))} -> 14 | G12: {=SUMPRODUCT((Feuil4!$A$4:$A$70=Feuil2!$A12)*(Feuil4!$B$3:$I$3=Feuil2!G$2)*(Feuil4!$B$4:$I$70))} -> 15 | H12: {=SUMPRODUCT((Feuil4!$A$4:$A$70=Feuil2!$A12)*(Feuil4!$B$3:$I$3=Feuil2!H$2)*(Feuil4!$B$4:$I$70))} -> 0 | I12: {=SUMPRODUCT((Feuil4!$A$4:$A$70=Feuil2!$A12)*(Feuil4!$B$3:$I$3=Feuil2!I$2)*(Feuil4!$B$4:$I$70))} -> 0 | ... K12: {=SUMPRODUCT((Feuil4!$A$4:$A$70=Feuil2!$A12)*(Feuil4!$B$3:$I$3=Feuil2!K$2)*(Feuil4!$B$4:$I$70))} -> 17 | L12: =SUM(B12:K12) -> 108
A13: AIB11 | B13: {=SUMPRODUCT((Feuil4!$A$4:$A$70=Feuil2!$A13)*(Feuil4!$B$3:$I$3=Feuil2!B$2)*(Feuil4!$B$4:$I$70))} -> 11 | C13: {=SUMPRODUCT((Feuil4!$A$4:$A$70=Feuil2!$A13)*(Feuil4!$B$3:$I$3=Feuil2!C$2)*(Feuil4!$B$4:$I$70))} -> 12 | D13: {=SUMPRODUCT((Feuil4!$A$4:$A$70=Feuil2!$A13)*(Feuil4!$B$3:$I$3=Feuil2!D$2)*(Feuil4!$B$4:$I$70))} -> 13 | E13: {=SUMPRODUCT((Feuil4!$A$4:$A$70=Feuil2!$A13)*(Feuil4!$B$3:$I$3=Feuil2!E$2)*(Feuil4!$B$4:$I$70))} -> 14 | F13: {=SUMPRODUCT((Feuil4!$A$4:$A$70=Feuil2!$A13)*(Feuil4!$B$3:$I$3=Feuil2!F$2)*(Feuil4!$B$4:$I$70))} -> 15 | G13: {=SUMPRODUCT((Feuil4!$A$4:$A$70=Feuil2!$A13)*(Feuil4!$B$3:$I$3=Feuil2!G$2)*(Feuil4!$B$4:$I$70))} -> 16 | H13: {=SUMPRODUCT((Feuil4!$A$4:$A$70=Feuil2!$A13)*(Feuil4!$B$3:$I$3=Feuil2!H$2)*(Feuil4!$B$4:$I$70))} -> 0 | I13: {=SUMPRODUCT((Feuil4!$A$4:$A$70=Feuil2!$A13)*(Feuil4!$B$3:$I$3=Feuil2!I$2)*(Feuil4!$B$4:$I$70))} -> 0 | ... K13: {=SUMPRODUCT((Feuil4!$A$4:$A$70=Feuil2!$A13)*(Feuil4!$B$3:$I$3=Feuil2!K$2)*(Feuil4!$B$4:$I$70))} -> 18 | L13: =SUM(B13:K13) -> 116
A14: AIB12 | B14: {=SUMPRODUCT((Feuil4!$A$4:$A$70=Feuil2!$A14)*(Feuil4!$B$3:$I$3=Feuil2!B$2)*(Feuil4!$B$4:$I$70))} -> 12 | C14: {=SUMPRODUCT((Feuil4!$A$4:$A$70=Feuil2!$A14)*(Feuil4!$B$3:$I$3=Feuil2!C$2)*(Feuil4!$B$4:$I$70))} -> 13 | D14: {=SUMPRODUCT((Feuil4!$A$4:$A$70=Feuil2!$A14)*(Feuil4!$B$3:$I$3=Feuil2!D$2)*(Feuil4!$B$4:$I$70))} -> 14 | E14: {=SUMPRODUCT((Feuil4!$A$4:$A$70=Feuil2!$A14)*(Feuil4!$B$3:$I$3=Feuil2!E$2)*(Feuil4!$B$4:$I$70))} -> 15 | F14: {=SUMPRODUCT((Feuil4!$A$4:$A$70=Feuil2!$A14)*(Feuil4!$B$3:$I$3=Feuil2!F$2)*(Feuil4!$B$4:$I$70))} -> 16 | G14: {=SUMPRODUCT((Feuil4!$A$4:$A$70=Feuil2!$A14)*(Feuil4!$B$3:$I$3=Feuil2!G$2)*(Feuil4!$B$4:$I$70))} -> 17 | H14: {=SUMPRODUCT((Feuil4!$A$4:$A$70=Feuil2!$A14)*(Feuil4!$B$3:$I$3=Feuil2!H$2)*(Feuil4!$B$4:$I$70))} -> 0 | I14: {=SUMPRODUCT((Feuil4!$A$4:$A$70=Feuil2!$A14)*(Feuil4!$B$3:$I$3=Feuil2!I$2)*(Feuil4!$B$4:$I$70))} -> 0 | ... K14: {=SUMPRODUCT((Feuil4!$A$4:$A$70=Feuil2!$A14)*(Feuil4!$B$3:$I$3=Feuil2!K$2)*(Feuil4!$B$4:$I$70))} -> 19 | L14: =SUM(B14:K14) -> 124
... A20: AIB18 | B20: {=SUMPRODUCT((Feuil4!$A$4:$A$70=Feuil2!$A20)*(Feuil4!$B$3:$I$3=Feuil2!B$2)*(Feuil4!$B$4:$I$70))} -> 18 | C20: {=SUMPRODUCT((Feuil4!$A$4:$A$70=Feuil2!$A20)*(Feuil4!$B$3:$I$3=Feuil2!C$2)*(Feuil4!$B$4:$I$70))} -> 19 | D20: {=SUMPRODUCT((Feuil4!$A$4:$A$70=Feuil2!$A20)*(Feuil4!$B$3:$I$3=Feuil2!D$2)*(Feuil4!$B$4:$I$70))} -> 20 | E20: {=SUMPRODUCT((Feuil4!$A$4:$A$70=Feuil2!$A20)*(Feuil4!$B$3:$I$3=Feuil2!E$2)*(Feuil4!$B$4:$I$70))} -> 21 | F20: {=SUMPRODUCT((Feuil4!$A$4:$A$70=Feuil2!$A20)*(Feuil4!$B$3:$I$3=Feuil2!F$2)*(Feuil4!$B$4:$I$70))} -> 22 | G20: {=SUMPRODUCT((Feuil4!$A$4:$A$70=Feuil2!$A20)*(Feuil4!$B$3:$I$3=Feuil2!G$2)*(Feuil4!$B$4:$I$70))} -> 23 | H20: {=SUMPRODUCT((Feuil4!$A$4:$A$70=Feuil2!$A20)*(Feuil4!$B$3:$I$3=Feuil2!H$2)*(Feuil4!$B$4:$I$70))} -> 0 | I20: {=SUMPRODUCT((Feuil4!$A$4:$A$70=Feuil2!$A20)*(Feuil4!$B$3:$I$3=Feuil2!I$2)*(Feuil4!$B$4:$I$70))} -> 0 | ... K20: {=SUMPRODUCT((Feuil4!$A$4:$A$70=Feuil2!$A20)*(Feuil4!$B$3:$I$3=Feuil2!K$2)*(Feuil4!$B$4:$I$70))} -> 25 | L20: =SUM(B20:K20) -> 172
A21: AIB19 | B21: =SUMIF(Feuil4!A:A,Feuil2!$A21,Feuil4!B:B) -> 19 | C21: {=SUMPRODUCT((Feuil4!$A$4:$A$70=Feuil2!$A21)*(Feuil4!$B$3:$I$3=Feuil2!C$2)*(Feuil4!$B$4:$I$70))} -> 20 | D21: {=SUMPRODUCT((Feuil4!$A$4:$A$70=Feuil2!$A21)*(Feuil4!$B$3:$I$3=Feuil2!D$2)*(Feuil4!$B$4:$I$70))} -> 21 | E21: {=SUMPRODUCT((Feuil4!$A$4:$A$70=Feuil2!$A21)*(Feuil4!$B$3:$I$3=Feuil2!E$2)*(Feuil4!$B$4:$I$70))} -> 22 | F21: {=SUMPRODUCT((Feuil4!$A$4:$A$70=Feuil2!$A21)*(Feuil4!$B$3:$I$3=Feuil2!F$2)*(Feuil4!$B$4:$I$70))} -> 23 | G21: {=SUMPRODUCT((Feuil4!$A$4:$A$70=Feuil2!$A21)*(Feuil4!$B$3:$I$3=Feuil2!G$2)*(Feuil4!$B$4:$I$70))} -> 24 | H21: {=SUMPRODUCT((Feuil4!$A$4:$A$70=Feuil2!$A21)*(Feuil4!$B$3:$I$3=Feuil2!H$2)*(Feuil4!$B$4:$I$70))} -> 0 | I21: {=SUMPRODUCT((Feuil4!$A$4:$A$70=Feuil2!$A21)*(Feuil4!$B$3:$I$3=Feuil2!I$2)*(Feuil4!$B$4:$I$70))} -> 0 | J21: {=SUMPRODUCT((Feuil4!$A$4:$A$70=Feuil2!$A21)*(Feuil4!$B$3:$I$3=Feuil2!J$2)*(Feuil4!$B$4:$I$70))} -> 25 | K21: {=SUMPRODUCT((Feuil4!$A$4:$A$70=Feuil2!$A21)*(Feuil4!$B$3:$I$3=Feuil2!K$2)*(Feuil4!$B$4:$I$70))} -> 26 | L21: =SUM(B21:K21) -> 180
A22: AIB20 | B22: =SUMIF(Feuil4!A:A,Feuil2!$A22,Feuil4!B:B) -> 20 | C22: {=SUMPRODUCT((Feuil4!$A$4:$A$70=Feuil2!$A22)*(Feuil4!$B$3:$I$3=Feuil2!C$2)*(Feuil4!$B$4:$I$70))} -> 21 | D22: {=SUMPRODUCT((Feuil4!$A$4:$A$70=Feuil2!$A22)*(Feuil4!$B$3:$I$3=Feuil2!D$2)*(Feuil4!$B$4:$I$70))} -> 22 | E22: {=SUMPRODUCT((Feuil4!$A$4:$A$70=Feuil2!$A22)*(Feuil4!$B$3:$I$3=Feuil2!E$2)*(Feuil4!$B$4:$I$70))} -> 23 | F22: {=SUMPRODUCT((Feuil4!$A$4:$A$70=Feuil2!$A22)*(Feuil4!$B$3:$I$3=Feuil2!F$2)*(Feuil4!$B$4:$I$70))} -> 24 | G22: {=SUMPRODUCT((Feuil4!$A$4:$A$70=Feuil2!$A22)*(Feuil4!$B$3:$I$3=Feuil2!G$2)*(Feuil4!$B$4:$I$70))} -> 25 | H22: {=SUMPRODUCT((Feuil4!$A$4:$A$70=Feuil2!$A22)*(Feuil4!$B$3:$I$3=Feuil2!H$2)*(Feuil4!$B$4:$I$70))} -> 0 | I22: {=SUMPRODUCT((Feuil4!$A$4:$A$70=Feuil2!$A22)*(Feuil4!$B$3:$I$3=Feuil2!I$2)*(Feuil4!$B$4:$I$70))} -> 0 | J22: {=SUMPRODUCT((Feuil4!$A$4:$A$70=Feuil2!$A22)*(Feuil4!$B$3:$I$3=Feuil2!J$2)*(Feuil4!$B$4:$I$70))} -> 26 | K22: {=SUMPRODUCT((Feuil4!$A$4:$A$70=Feuil2!$A22)*(Feuil4!$B$3:$I$3=Feuil2!K$2)*(Feuil4!$B$4:$I$70))} -> 27 | L22: =SUM(B22:K22) -> 188
A23: AIB21 | B23: =SUMIF(Feuil4!A:A,Feuil2!$A23,Feuil4!B:B) -> 21 | C23: {=SUMPRODUCT((Feuil4!$A$4:$A$70=Feuil2!$A23)*(Feuil4!$B$3:$I$3=Feuil2!C$2)*(Feuil4!$B$4:$I$70))} -> 22 | D23: {=SUMPRODUCT((Feuil4!$A$4:$A$70=Feuil2!$A23)*(Feuil4!$B$3:$I$3=Feuil2!D$2)*(Feuil4!$B$4:$I$70))} -> 23 | E23: {=SUMPRODUCT((Feuil4!$A$4:$A$70=Feuil2!$A23)*(Feuil4!$B$3:$I$3=Feuil2!E$2)*(Feuil4!$B$4:$I$70))} -> 24 | F23: {=SUMPRODUCT((Feuil4!$A$4:$A$70=Feuil2!$A23)*(Feuil4!$B$3:$I$3=Feuil2!F$2)*(Feuil4!$B$4:$I$70))} -> 25 | G23: {=SUMPRODUCT((Feuil4!$A$4:$A$70=Feuil2!$A23)*(Feuil4!$B$3:$I$3=Feuil2!G$2)*(Feuil4!$B$4:$I$70))} -> 26 | H23: {=SUMPRODUCT((Feuil4!$A$4:$A$70=Feuil2!$A23)*(Feuil4!$B$3:$I$3=Feuil2!H$2)*(Feuil4!$B$4:$I$70))} -> 0 | I23: {=SUMPRODUCT((Feuil4!$A$4:$A$70=Feuil2!$A23)*(Feuil4!$B$3:$I$3=Feuil2!I$2)*(Feuil4!$B$4:$I$70))} -> 0 | J23: {=SUMPRODUCT((Feuil4!$A$4:$A$70=Feuil2!$A23)*(Feuil4!$B$3:$I$3=Feuil2!J$2)*(Feuil4!$B$4:$I$70))} -> 27 | K23: {=SUMPRODUCT((Feuil4!$A$4:$A$70=Feuil2!$A23)*(Feuil4!$B$3:$I$3=Feuil2!K$2)*(Feuil4!$B$4:$I$70))} -> 28 | L23: =SUM(B23:K23) -> 196
A24: AIB22 | B24: =SUMIF(Feuil4!A:A,Feuil2!$A24,Feuil4!B:B) -> 22 | C24: {=SUMPRODUCT((Feuil4!$A$4:$A$70=Feuil2!$A24)*(Feuil4!$B$3:$I$3=Feuil2!C$2)*(Feuil4!$B$4:$I$70))} -> 23 | D24: {=SUMPRODUCT((Feuil4!$A$4:$A$70=Feuil2!$A24)*(Feuil4!$B$3:$I$3=Feuil2!D$2)*(Feuil4!$B$4:$I$70))} -> 24 | E24: {=SUMPRODUCT((Feuil4!$A$4:$A$70=Feuil2!$A24)*(Feuil4!$B$3:$I$3=Feuil2!E$2)*(Feuil4!$B$4:$I$70))} -> 25 | F24: {=SUMPRODUCT((Feuil4!$A$4:$A$70=Feuil2!$A24)*(Feuil4!$B$3:$I$3=Feuil2!F$2)*(Feuil4!$B$4:$I$70))} -> 26 | G24: {=SUMPRODUCT((Feuil4!$A$4:$A$70=Feuil2!$A24)*(Feuil4!$B$3:$I$3=Feuil2!G$2)*(Feuil4!$B$4:$I$70))} -> 27 | H24: {=SUMPRODUCT((Feuil4!$A$4:$A$70=Feuil2!$A24)*(Feuil4!$B$3:$I$3=Feuil2!H$2)*(Feuil4!$B$4:$I$70))} -> 0 | I24: {=SUMPRODUCT((Feuil4!$A$4:$A$70=Feuil2!$A24)*(Feuil4!$B$3:$I$3=Feuil2!I$2)*(Feuil4!$B$4:$I$70))} -> 0 | J24: {=SUMPRODUCT((Feuil4!$A$4:$A$70=Feuil2!$A24)*(Feuil4!$B$3:$I$3=Feuil2!J$2)*(Feuil4!$B$4:$I$70))} -> 28 | K24: {=SUMPRODUCT((Feuil4!$A$4:$A$70=Feuil2!$A24)*(Feuil4!$B$3:$I$3=Feuil2!K$2)*(Feuil4!$B$4:$I$70))} -> 29 | L24: =SUM(B24:K24) -> 204
A25: AIB23 | B25: =SUMIF(Feuil4!A:A,Feuil2!$A25,Feuil4!B:B) -> 23 | C25: {=SUMPRODUCT((Feuil4!$A$4:$A$70=Feuil2!$A25)*(Feuil4!$B$3:$I$3=Feuil2!C$2)*(Feuil4!$B$4:$I$70))} -> 24 | D25: {=SUMPRODUCT((Feuil4!$A$4:$A$70=Feuil2!$A25)*(Feuil4!$B$3:$I$3=Feuil2!D$2)*(Feuil4!$B$4:$I$70))} -> 25 | E25: {=SUMPRODUCT((Feuil4!$A$4:$A$70=Feuil2!$A25)*(Feuil4!$B$3:$I$3=Feuil2!E$2)*(Feuil4!$B$4:$I$70))} -> 26 | F25: {=SUMPRODUCT((Feuil4!$A$4:$A$70=Feuil2!$A25)*(Feuil4!$B$3:$I$3=Feuil2!F$2)*(Feuil4!$B$4:$I$70))} -> 27 | G25: {=SUMPRODUCT((Feuil4!$A$4:$A$70=Feuil2!$A25)*(Feuil4!$B$3:$I$3=Feuil2!G$2)*(Feuil4!$B$4:$I$70))} -> 28 | H25: {=SUMPRODUCT((Feuil4!$A$4:$A$70=Feuil2!$A25)*(Feuil4!$B$3:$I$3=Feuil2!H$2)*(Feuil4!$B$4:$I$70))} -> 0 | I25: {=SUMPRODUCT((Feuil4!$A$4:$A$70=Feuil2!$A25)*(Feuil4!$B$3:$I$3=Feuil2!I$2)*(Feuil4!$B$4:$I$70))} -> 0 | J25: {=SUMPRODUCT((Feuil4!$A$4:$A$70=Feuil2!$A25)*(Feuil4!$B$3:$I$3=Feuil2!J$2)*(Feuil4!$B$4:$I$70))} -> 29 | K25: {=SUMPRODUCT((Feuil4!$A$4:$A$70=Feuil2!$A25)*(Feuil4!$B$3:$I$3=Feuil2!K$2)*(Feuil4!$B$4:$I$70))} -> 30 | L25: =SUM(B25:K25) -> 212
A26: AIB24 | B26: =SUMIF(Feuil4!A:A,Feuil2!$A26,Feuil4!B:B) -> 24 | C26: {=SUMPRODUCT((Feuil4!$A$4:$A$70=Feuil2!$A26)*(Feuil4!$B$3:$I$3=Feuil2!C$2)*(Feuil4!$B$4:$I$70))} -> 25 | D26: {=SUMPRODUCT((Feuil4!$A$4:$A$70=Feuil2!$A26)*(Feuil4!$B$3:$I$3=Feuil2!D$2)*(Feuil4!$B$4:$I$70))} -> 26 | E26: {=SUMPRODUCT((Feuil4!$A$4:$A$70=Feuil2!$A26)*(Feuil4!$B$3:$I$3=Feuil2!E$2)*(Feuil4!$B$4:$I$70))} -> 27 | F26: {=SUMPRODUCT((Feuil4!$A$4:$A$70=Feuil2!$A26)*(Feuil4!$B$3:$I$3=Feuil2!F$2)*(Feuil4!$B$4:$I$70))} -> 28 | G26: {=SUMPRODUCT((Feuil4!$A$4:$A$70=Feuil2!$A26)*(Feuil4!$B$3:$I$3=Feuil2!G$2)*(Feuil4!$B$4:$I$70))} -> 29 | H26: {=SUMPRODUCT((Feuil4!$A$4:$A$70=Feuil2!$A26)*(Feuil4!$B$3:$I$3=Feuil2!H$2)*(Feuil4!$B$4:$I$70))} -> 0 | I26: {=SUMPRODUCT((Feuil4!$A$4:$A$70=Feuil2!$A26)*(Feuil4!$B$3:$I$3=Feuil2!I$2)*(Feuil4!$B$4:$I$70))} -> 0 | J26: {=SUMPRODUCT((Feuil4!$A$4:$A$70=Feuil2!$A26)*(Feuil4!$B$3:$I$3=Feuil2!J$2)*(Feuil4!$B$4:$I$70))} -> 30 | K26: {=SUMPRODUCT((Feuil4!$A$4:$A$70=Feuil2!$A26)*(Feuil4!$B$3:$I$3=Feuil2!K$2)*(Feuil4!$B$4:$I$70))} -> 31 | L26: =SUM(B26:K26) -> 220
A27: AIB25 | B27: =SUMIF(Feuil4!A:A,Feuil2!$A27,Feuil4!B:B) -> 25 | C27: {=SUMPRODUCT((Feuil4!$A$4:$A$70=Feuil2!$A27)*(Feuil4!$B$3:$I$3=Feuil2!C$2)*(Feuil4!$B$4:$I$70))} -> 26 | D27: {=SUMPRODUCT((Feuil4!$A$4:$A$70=Feuil2!$A27)*(Feuil4!$B$3:$I$3=Feuil2!D$2)*(Feuil4!$B$4:$I$70))} -> 27 | E27: {=SUMPRODUCT((Feuil4!$A$4:$A$70=Feuil2!$A27)*(Feuil4!$B$3:$I$3=Feuil2!E$2)*(Feuil4!$B$4:$I$70))} -> 28 | F27: {=SUMPRODUCT((Feuil4!$A$4:$A$70=Feuil2!$A27)*(Feuil4!$B$3:$I$3=Feuil2!F$2)*(Feuil4!$B$4:$I$70))} -> 29 | G27: {=SUMPRODUCT((Feuil4!$A$4:$A$70=Feuil2!$A27)*(Feuil4!$B$3:$I$3=Feuil2!G$2)*(Feuil4!$B$4:$I$70))} -> 30 | H27: {=SUMPRODUCT((Feuil4!$A$4:$A$70=Feuil2!$A27)*(Feuil4!$B$3:$I$3=Feuil2!H$2)*(Feuil4!$B$4:$I$70))} -> 0 | I27: {=SUMPRODUCT((Feuil4!$A$4:$A$70=Feuil2!$A27)*(Feuil4!$B$3:$I$3=Feuil2!I$2)*(Feuil4!$B$4:$I$70))} -> 0 | J27: {=SUMPRODUCT((Feuil4!$A$4:$A$70=Feuil2!$A27)*(Feuil4!$B$3:$I$3=Feuil2!J$2)*(Feuil4!$B$4:$I$70))} -> 31 | K27: {=SUMPRODUCT((Feuil4!$A$4:$A$70=Feuil2!$A27)*(Feuil4!$B$3:$I$3=Feuil2!K$2)*(Feuil4!$B$4:$I$70))} -> 32 | L27: =SUM(B27:K27) -> 228
A28: AIB26 | B28: =SUMIF(Feuil4!A:A,Feuil2!$A28,Feuil4!B:B) -> 26 | C28: {=SUMPRODUCT((Feuil4!$A$4:$A$70=Feuil2!$A28)*(Feuil4!$B$3:$I$3=Feuil2!C$2)*(Feuil4!$B$4:$I$70))} -> 27 | D28: {=SUMPRODUCT((Feuil4!$A$4:$A$70=Feuil2!$A28)*(Feuil4!$B$3:$I$3=Feuil2!D$2)*(Feuil4!$B$4:$I$70))} -> 28 | E28: {=SUMPRODUCT((Feuil4!$A$4:$A$70=Feuil2!$A28)*(Feuil4!$B$3:$I$3=Feuil2!E$2)*(Feuil4!$B$4:$I$70))} -> 29 | F28: {=SUMPRODUCT((Feuil4!$A$4:$A$70=Feuil2!$A28)*(Feuil4!$B$3:$I$3=Feuil2!F$2)*(Feuil4!$B$4:$I$70))} -> 30 | G28: {=SUMPRODUCT((Feuil4!$A$4:$A$70=Feuil2!$A28)*(Feuil4!$B$3:$I$3=Feuil2!G$2)*(Feuil4!$B$4:$I$70))} -> 31 | H28: {=SUMPRODUCT((Feuil4!$A$4:$A$70=Feuil2!$A28)*(Feuil4!$B$3:$I$3=Feuil2!H$2)*(Feuil4!$B$4:$I$70))} -> 0 | I28: {=SUMPRODUCT((Feuil4!$A$4:$A$70=Feuil2!$A28)*(Feuil4!$B$3:$I$3=Feuil2!I$2)*(Feuil4!$B$4:$I$70))} -> 0 | J28: {=SUMPRODUCT((Feuil4!$A$4:$A$70=Feuil2!$A28)*(Feuil4!$B$3:$I$3=Feuil2!J$2)*(Feuil4!$B$4:$I$70))} -> 32 | K28: {=SUMPRODUCT((Feuil4!$A$4:$A$70=Feuil2!$A28)*(Feuil4!$B$3:$I$3=Feuil2!K$2)*(Feuil4!$B$4:$I$70))} -> 33 | L28: =SUM(B28:K28) -> 236
A29: AIB27 | B29: =SUMIF(Feuil4!A:A,Feuil2!$A29,Feuil4!B:B) -> 27 | C29: {=SUMPRODUCT((Feuil4!$A$4:$A$70=Feuil2!$A29)*(Feuil4!$B$3:$I$3=Feuil2!C$2)*(Feuil4!$B$4:$I$70))} -> 28 | D29: {=SUMPRODUCT((Feuil4!$A$4:$A$70=Feuil2!$A29)*(Feuil4!$B$3:$I$3=Feuil2!D$2)*(Feuil4!$B$4:$I$70))} -> 29 | E29: {=SUMPRODUCT((Feuil4!$A$4:$A$70=Feuil2!$A29)*(Feuil4!$B$3:$I$3=Feuil2!E$2)*(Feuil4!$B$4:$I$70))} -> 30 | F29: {=SUMPRODUCT((Feuil4!$A$4:$A$70=Feuil2!$A29)*(Feuil4!$B$3:$I$3=Feuil2!F$2)*(Feuil4!$B$4:$I$70))} -> 31 | G29: {=SUMPRODUCT((Feuil4!$A$4:$A$70=Feuil2!$A29)*(Feuil4!$B$3:$I$3=Feuil2!G$2)*(Feuil4!$B$4:$I$70))} -> 32 | H29: {=SUMPRODUCT((Feuil4!$A$4:$A$70=Feuil2!$A29)*(Feuil4!$B$3:$I$3=Feuil2!H$2)*(Feuil4!$B$4:$I$70))} -> 0 | I29: {=SUMPRODUCT((Feuil4!$A$4:$A$70=Feuil2!$A29)*(Feuil4!$B$3:$I$3=Feuil2!I$2)*(Feuil4!$B$4:$I$70))} -> 0 | J29: {=SUMPRODUCT((Feuil4!$A$4:$A$70=Feuil2!$A29)*(Feuil4!$B$3:$I$3=Feuil2!J$2)*(Feuil4!$B$4:$I$70))} -> 33 | K29: {=SUMPRODUCT((Feuil4!$A$4:$A$70=Feuil2!$A29)*(Feuil4!$B$3:$I$3=Feuil2!K$2)*(Feuil4!$B$4:$I$70))} -> 34 | L29: =SUM(B29:K29) -> 244
A30: AIB28 | B30: =SUMIF(Feuil4!A:A,Feuil2!$A30,Feuil4!B:B) -> 28 | C30: {=SUMPRODUCT((Feuil4!$A$4:$A$70=Feuil2!$A30)*(Feuil4!$B$3:$I$3=Feuil2!C$2)*(Feuil4!$B$4:$I$70))} -> 29 | D30: {=SUMPRODUCT((Feuil4!$A$4:$A$70=Feuil2!$A30)*(Feuil4!$B$3:$I$3=Feuil2!D$2)*(Feuil4!$B$4:$I$70))} -> 30 | E30: {=SUMPRODUCT((Feuil4!$A$4:$A$70=Feuil2!$A30)*(Feuil4!$B$3:$I$3=Feuil2!E$2)*(Feuil4!$B$4:$I$70))} -> 31 | F30: {=SUMPRODUCT((Feuil4!$A$4:$A$70=Feuil2!$A30)*(Feuil4!$B$3:$I$3=Feuil2!F$2)*(Feuil4!$B$4:$I$70))} -> 32 | G30: {=SUMPRODUCT((Feuil4!$A$4:$A$70=Feuil2!$A30)*(Feuil4!$B$3:$I$3=Feuil2!G$2)*(Feuil4!$B$4:$I$70))} -> 33 | H30: {=SUMPRODUCT((Feuil4!$A$4:$A$70=Feuil2!$A30)*(Feuil4!$B$3:$I$3=Feuil2!H$2)*(Feuil4!$B$4:$I$70))} -> 0 | I30: {=SUMPRODUCT((Feuil4!$A$4:$A$70=Feuil2!$A30)*(Feuil4!$B$3:$I$3=Feuil2!I$2)*(Feuil4!$B$4:$I$70))} -> 0 | J30: {=SUMPRODUCT((Feuil4!$A$4:$A$70=Feuil2!$A30)*(Feuil4!$B$3:$I$3=Feuil2!J$2)*(Feuil4!$B$4:$I$70))} -> 34 | K30: {=SUMPRODUCT((Feuil4!$A$4:$A$70=Feuil2!$A30)*(Feuil4!$B$3:$I$3=Feuil2!K$2)*(Feuil4!$B$4:$I$70))} -> 35 | L30: =SUM(B30:K30) -> 252
A31: AIB29 | B31: =SUMIF(Feuil4!A:A,Feuil2!$A31,Feuil4!B:B) -> 29 | C31: {=SUMPRODUCT((Feuil4!$A$4:$A$70=Feuil2!$A31)*(Feuil4!$B$3:$I$3=Feuil2!C$2)*(Feuil4!$B$4:$I$70))} -> 30 | D31: {=SUMPRODUCT((Feuil4!$A$4:$A$70=Feuil2!$A31)*(Feuil4!$B$3:$I$3=Feuil2!D$2)*(Feuil4!$B$4:$I$70))} -> 31 | E31: {=SUMPRODUCT((Feuil4!$A$4:$A$70=Feuil2!$A31)*(Feuil4!$B$3:$I$3=Feuil2!E$2)*(Feuil4!$B$4:$I$70))} -> 32 | F31: {=SUMPRODUCT((Feuil4!$A$4:$A$70=Feuil2!$A31)*(Feuil4!$B$3:$I$3=Feuil2!F$2)*(Feuil4!$B$4:$I$70))} -> 33 | G31: {=SUMPRODUCT((Feuil4!$A$4:$A$70=Feuil2!$A31)*(Feuil4!$B$3:$I$3=Feuil2!G$2)*(Feuil4!$B$4:$I$70))} -> 34 | H31: {=SUMPRODUCT((Feuil4!$A$4:$A$70=Feuil2!$A31)*(Feuil4!$B$3:$I$3=Feuil2!H$2)*(Feuil4!$B$4:$I$70))} -> 0 | I31: {=SUMPRODUCT((Feuil4!$A$4:$A$70=Feuil2!$A31)*(Feuil4!$B$3:$I$3=Feuil2!I$2)*(Feuil4!$B$4:$I$70))} -> 0 | J31: {=SUMPRODUCT((Feuil4!$A$4:$A$70=Feuil2!$A31)*(Feuil4!$B$3:$I$3=Feuil2!J$2)*(Feuil4!$B$4:$I$70))} -> 35 | K31: {=SUMPRODUCT((Feuil4!$A$4:$A$70=Feuil2!$A31)*(Feuil4!$B$3:$I$3=Feuil2!K$2)*(Feuil4!$B$4:$I$70))} -> 36 | L31: =SUM(B31:K31) -> 260
A32: AIB30 | B32: =SUMIF(Feuil4!A:A,Feuil2!$A32,Feuil4!B:B) -> 30 | C32: {=SUMPRODUCT((Feuil4!$A$4:$A$70=Feuil2!$A32)*(Feuil4!$B$3:$I$3=Feuil2!C$2)*(Feuil4!$B$4:$I$70))} -> 31 | D32: {=SUMPRODUCT((Feuil4!$A$4:$A$70=Feuil2!$A32)*(Feuil4!$B$3:$I$3=Feuil2!D$2)*(Feuil4!$B$4:$I$70))} -> 32 | E32: {=SUMPRODUCT((Feuil4!$A$4:$A$70=Feuil2!$A32)*(Feuil4!$B$3:$I$3=Feuil2!E$2)*(Feuil4!$B$4:$I$70))} -> 33 | F32: {=SUMPRODUCT((Feuil4!$A$4:$A$70=Feuil2!$A32)*(Feuil4!$B$3:$I$3=Feuil2!F$2)*(Feuil4!$B$4:$I$70))} -> 34 | G32: {=SUMPRODUCT((Feuil4!$A$4:$A$70=Feuil2!$A32)*(Feuil4!$B$3:$I$3=Feuil2!G$2)*(Feuil4!$B$4:$I$70))} -> 35 | H32: {=SUMPRODUCT((Feuil4!$A$4:$A$70=Feuil2!$A32)*(Feuil4!$B$3:$I$3=Feuil2!H$2)*(Feuil4!$B$4:$I$70))} -> 0 | I32: {=SUMPRODUCT((Feuil4!$A$4:$A$70=Feuil2!$A32)*(Feuil4!$B$3:$I$3=Feuil2!I$2)*(Feuil4!$B$4:$I$70))} -> 0 | J32: {=SUMPRODUCT((Feuil4!$A$4:$A$70=Feuil2!$A32)*(Feuil4!$B$3:$I$3=Feuil2!J$2)*(Feuil4!$B$4:$I$70))} -> 36 | K32: {=SUMPRODUCT((Feuil4!$A$4:$A$70=Feuil2!$A32)*(Feuil4!$B$3:$I$3=Feuil2!K$2)*(Feuil4!$B$4:$I$70))} -> 37 | L32: =SUM(B32:K32) -> 268
... A69: AIB67 | B69: =SUMIF(Feuil4!A:A,Feuil2!$A69,Feuil4!B:B) -> 67 | C69: {=SUMPRODUCT((Feuil4!$A$4:$A$70=Feuil2!$A69)*(Feuil4!$B$3:$I$3=Feuil2!C$2)*(Feuil4!$B$4:$I$70))} -> 68 | D69: {=SUMPRODUCT((Feuil4!$A$4:$A$70=Feuil2!$A69)*(Feuil4!$B$3:$I$3=Feuil2!D$2)*(Feuil4!$B$4:$I$70))} -> 69 | E69: {=SUMPRODUCT((Feuil4!$A$4:$A$70=Feuil2!$A69)*(Feuil4!$B$3:$I$3=Feuil2!E$2)*(Feuil4!$B$4:$I$70))} -> 70 | F69: {=SUMPRODUCT((Feuil4!$A$4:$A$70=Feuil2!$A69)*(Feuil4!$B$3:$I$3=Feuil2!F$2)*(Feuil4!$B$4:$I$70))} -> 71 | G69: {=SUMPRODUCT((Feuil4!$A$4:$A$70=Feuil2!$A69)*(Feuil4!$B$3:$I$3=Feuil2!G$2)*(Feuil4!$B$4:$I$70))} -> 72 | H69: {=SUMPRODUCT((Feuil4!$A$4:$A$70=Feuil2!$A69)*(Feuil4!$B$3:$I$3=Feuil2!H$2)*(Feuil4!$B$4:$I$70))} -> 0 | I69: {=SUMPRODUCT((Feuil4!$A$4:$A$70=Feuil2!$A69)*(Feuil4!$B$3:$I$3=Feuil2!I$2)*(Feuil4!$B$4:$I$70))} -> 0 | J69: {=SUMPRODUCT((Feuil4!$A$4:$A$70=Feuil2!$A69)*(Feuil4!$B$3:$I$3=Feuil2!J$2)*(Feuil4!$B$4:$I$70))} -> 73 | K69: {=SUMPRODUCT((Feuil4!$A$4:$A$70=Feuil2!$A69)*(Feuil4!$B$3:$I$3=Feuil2!K$2)*(Feuil4!$B$4:$I$70))} -> 74 | L69: =SUM(B69:K69) -> 564
