Workbook

Sheet Feuil1
B1: Données1 | C1: Données2 | D1: Données3
A2: 5 | B2: {=SUMPRODUCT((Données1!$A$1:$E$1="A")*(Données1!$A$2:$E$13=$A2))} -> 0 | C2: {=SUMPRODUCT((Données2!$A$1:$E$1="A")*(Données2!$A$2:$E$13=$A2))} -> 1 | D2: {=SUMPRODUCT((Données3!$A$1:$E$1="A")*(Données3!$A$2:$E$13=$A2))} -> 0
A3: 2 | B3: {=SUMPRODUCT((Données1!$A$1:$E$1="A")*(Données1!$A$2:$E$13=$A3))} -> 2 | C3: {=SUMPRODUCT((Données2!$A$1:$E$1="A")*(Données2!$A$2:$E$13=$A3))} -> 1 | D3: {=SUMPRODUCT((Données3!$A$1:$E$1="A")*(Données3!$A$2:$E$13=$A3))} -> 0
A4: 4 | B4: {=SUMPRODUCT((Données1!$A$1:$E$1="A")*(Données1!$A$2:$E$13=$A4))} -> 0 | C4: {=SUMPRODUCT((Données2!$A$1:$E$1="A")*(Données2!$A$2:$E$13=$A4))} -> 0 | D4: {=SUMPRODUCT((Données3!$A$1:$E$1="A")*(Données3!$A$2:$E$13=$A4))} -> 0
G5: sommeprod compte le nb de fois
G6: que la valeur A2….. est presente dans
G7: la colonne A de chaque feuille

Sheet Données1
A1: D | B1: B | C1: A | D1: C | E1: E
A2: =ROUND(RAND(),1)*10 -> 7 | B2: =ROUND(RAND(),1)*10 -> 9 | C2: =ROUND(RAND(),1)*10 -> 10 | D2: =ROUND(RAND(),1)*10 -> 5 | E2: =ROUND(RAND(),1)*10 -> 7
A3: =ROUND(RAND(),1)*10 -> 5 | B3: =ROUND(RAND(),1)*10 -> 5 | C3: =ROUND(RAND(),1)*10 -> 1 | D3: =ROUND(RAND(),1)*10 -> 9 | E3: =ROUND(RAND(),1)*10 -> 7
A4: =ROUND(RAND(),1)*10 -> 9 | B4: =ROUND(RAND(),1)*10 -> 6 | C4: =ROUND(RAND(),1)*10 -> 9 | D4: =ROUND(RAND(),1)*10 -> 8 | E4: =ROUND(RAND(),1)*10 -> 7
A5: =ROUND(RAND(),1)*10 -> 9 | B5: =ROUND(RAND(),1)*10 -> 6 | C5: =ROUND(RAND(),1)*10 -> 1 | D5: =ROUND(RAND(),1)*10 -> 0 | E5: =ROUND(RAND(),1)*10 -> 1
A6: =ROUND(RAND(),1)*10 -> 6 | B6: =ROUND(RAND(),1)*10 -> 1 | C6: =ROUND(RAND(),1)*10 -> 7 | D6: =ROUND(RAND(),1)*10 -> 10 | E6: =ROUND(RAND(),1)*10 -> 1
A7: =ROUND(RAND(),1)*10 -> 3 | B7: =ROUND(RAND(),1)*10 -> 8 | C7: =ROUND(RAND(),1)*10 -> 2 | D7: =ROUND(RAND(),1)*10 -> 8 | E7: =ROUND(RAND(),1)*10 -> 7
A8: =ROUND(RAND(),1)*10 -> 7 | B8: =ROUND(RAND(),1)*10 -> 2 | C8: =ROUND(RAND(),1)*10 -> 0 | D8: =ROUND(RAND(),1)*10 -> 2 | E8: =ROUND(RAND(),1)*10 -> 9
A9: =ROUND(RAND(),1)*10 -> 8 | B9: =ROUND(RAND(),1)*10 -> 3 | C9: =ROUND(RAND(),1)*10 -> 9 | D9: =ROUND(RAND(),1)*10 -> 8 | E9: =ROUND(RAND(),1)*10 -> 3
A10: =ROUND(RAND(),1)*10 -> 2 | B10: =ROUND(RAND(),1)*10 -> 1 | C10: =ROUND(RAND(),1)*10 -> 9 | D10: =ROUND(RAND(),1)*10 -> 1 | E10: =ROUND(RAND(),1)*10 -> 9
A11: =ROUND(RAND(),1)*10 -> 2 | B11: =ROUND(RAND(),1)*10 -> 0 | C11: =ROUND(RAND(),1)*10 -> 2 | D11: =ROUND(RAND(),1)*10 -> 10 | E11: =ROUND(RAND(),1)*10 -> 5
A12: =ROUND(RAND(),1)*10 -> 5 | B12: =ROUND(RAND(),1)*10 -> 4 | C12: =ROUND(RAND(),1)*10 -> 1 | D12: =ROUND(RAND(),1)*10 -> 7 | E12: =ROUND(RAND(),1)*10 -> 10
A13: =ROUND(RAND(),1)*10 -> 7 | B13: =ROUND(RAND(),1)*10 -> 9 | C13: =ROUND(RAND(),1)*10 -> 3 | D13: =ROUND(RAND(),1)*10 -> 2 | E13: =ROUND(RAND(),1)*10 -> 3

Sheet Données2
A1: B | B1: A | C1: C | D1: D | E1: E | F1: F
A2: =ROUND(RAND(),1)*10 -> 10 | B2: =ROUND(RAND(),1)*10 -> 8 | C2: =ROUND(RAND(),1)*10 -> 2 | D2: =ROUND(RAND(),1)*10 -> 5 | E2: =ROUND(RAND(),1)*10 -> 4
A3: =ROUND(RAND(),1)*10 -> 1 | B3: =ROUND(RAND(),1)*10 -> 2 | C3: =ROUND(RAND(),1)*10 -> 9 | D3: =ROUND(RAND(),1)*10 -> 2 | E3: =ROUND(RAND(),1)*10 -> 0
A4: =ROUND(RAND(),1)*10 -> 8 | B4: =ROUND(RAND(),1)*10 -> 6 | C4: =ROUND(RAND(),1)*10 -> 8 | D4: =ROUND(RAND(),1)*10 -> 5 | E4: =ROUND(RAND(),1)*10 -> 3
A5: =ROUND(RAND(),1)*10 -> 6 | B5: =ROUND(RAND(),1)*10 -> 6 | C5: =ROUND(RAND(),1)*10 -> 8 | D5: =ROUND(RAND(),1)*10 -> 3 | E5: =ROUND(RAND(),1)*10 -> 1
A6: =ROUND(RAND(),1)*10 -> 1 | B6: =ROUND(RAND(),1)*10 -> 6 | C6: =ROUND(RAND(),1)*10 -> 6 | D6: =ROUND(RAND(),1)*10 -> 7 | E6: =ROUND(RAND(),1)*10 -> 1
A7: =ROUND(RAND(),1)*10 -> 1 | B7: =ROUND(RAND(),1)*10 -> 7 | C7: =ROUND(RAND(),1)*10 -> 7 | D7: =ROUND(RAND(),1)*10 -> 2 | E7: =ROUND(RAND(),1)*10 -> 8
A8: =ROUND(RAND(),1)*10 -> 4 | B8: =ROUND(RAND(),1)*10 -> 0 | C8: =ROUND(RAND(),1)*10 -> 3 | D8: =ROUND(RAND(),1)*10 -> 8 | E8: =ROUND(RAND(),1)*10 -> 4
A9: =ROUND(RAND(),1)*10 -> 6 | B9: =ROUND(RAND(),1)*10 -> 3 | C9: =ROUND(RAND(),1)*10 -> 1 | D9: =ROUND(RAND(),1)*10 -> 1 | E9: =ROUND(RAND(),1)*10 -> 4
A10: =ROUND(RAND(),1)*10 -> 0 | B10: =ROUND(RAND(),1)*10 -> 3 | C10: =ROUND(RAND(),1)*10 -> 8 | D10: =ROUND(RAND(),1)*10 -> 2 | E10: =ROUND(RAND(),1)*10 -> 0
A11: =ROUND(RAND(),1)*10 -> 5 | B11: =ROUND(RAND(),1)*10 -> 5 | C11: =ROUND(RAND(),1)*10 -> 7 | D11: =ROUND(RAND(),1)*10 -> 3 | E11: =ROUND(RAND(),1)*10 -> 10
A12: =ROUND(RAND(),1)*10 -> 1 | B12: =ROUND(RAND(),1)*10 -> 9 | C12: =ROUND(RAND(),1)*10 -> 5 | D12: =ROUND(RAND(),1)*10 -> 3 | E12: =ROUND(RAND(),1)*10 -> 8
A13: =ROUND(RAND(),1)*10 -> 8 | B13: =ROUND(RAND(),1)*10 -> 9 | C13: =ROUND(RAND(),1)*10 -> 5 | D13: =ROUND(RAND(),1)*10 -> 9 | E13: =ROUND(RAND(),1)*10 -> 6

Sheet Données3
A1: F | B1: D | C1: B | D1: C | E1: E | F1: A
A2: =ROUND(RAND(),1)*10 -> 1 | B2: =ROUND(RAND(),1)*10 -> 8 | C2: =ROUND(RAND(),1)*10 -> 0 | D2: =ROUND(RAND(),1)*10 -> 2 | E2: =ROUND(RAND(),1)*10 -> 2 | F2: =ROUND(RAND(),1)*10 -> 9
A3: =ROUND(RAND(),1)*10 -> 10 | B3: =ROUND(RAND(),1)*10 -> 1 | C3: =ROUND(RAND(),1)*10 -> 5 | D3: =ROUND(RAND(),1)*10 -> 6 | E3: =ROUND(RAND(),1)*10 -> 4 | F3: =ROUND(RAND(),1)*10 -> 6
A4: =ROUND(RAND(),1)*10 -> 8 | B4: =ROUND(RAND(),1)*10 -> 7 | C4: =ROUND(RAND(),1)*10 -> 3 | D4: =ROUND(RAND(),1)*10 -> 7 | E4: =ROUND(RAND(),1)*10 -> 1 | F4: =ROUND(RAND(),1)*10 -> 10
A5: =ROUND(RAND(),1)*10 -> 8 | B5: =ROUND(RAND(),1)*10 -> 1 | C5: =ROUND(RAND(),1)*10 -> 3 | D5: =ROUND(RAND(),1)*10 -> 9 | E5: =ROUND(RAND(),1)*10 -> 3 | F5: =ROUND(RAND(),1)*10 -> 6
A6: =ROUND(RAND(),1)*10 -> 5 | B6: =ROUND(RAND(),1)*10 -> 9 | C6: =ROUND(RAND(),1)*10 -> 0 | D6: =ROUND(RAND(),1)*10 -> 2 | E6: =ROUND(RAND(),1)*10 -> 6 | F6: =ROUND(RAND(),1)*10 -> 7
A7: =ROUND(RAND(),1)*10 -> 8 | B7: =ROUND(RAND(),1)*10 -> 4 | C7: =ROUND(RAND(),1)*10 -> 10 | D7: =ROUND(RAND(),1)*10 -> 1 | E7: =ROUND(RAND(),1)*10 -> 2 | F7: =ROUND(RAND(),1)*10 -> 4
A8: =ROUND(RAND(),1)*10 -> 7 | B8: =ROUND(RAND(),1)*10 -> 5 | C8: =ROUND(RAND(),1)*10 -> 5 | D8: =ROUND(RAND(),1)*10 -> 8 | E8: =ROUND(RAND(),1)*10 -> 10 | F8: =ROUND(RAND(),1)*10 -> 3
A9: =ROUND(RAND(),1)*10 -> 4 | B9: =ROUND(RAND(),1)*10 -> 8 | C9: =ROUND(RAND(),1)*10 -> 4 | D9: =ROUND(RAND(),1)*10 -> 4 | E9: =ROUND(RAND(),1)*10 -> 1 | F9: =ROUND(RAND(),1)*10 -> 5
A10: =ROUND(RAND(),1)*10 -> 4 | B10: =ROUND(RAND(),1)*10 -> 10 | C10: =ROUND(RAND(),1)*10 -> 7 | D10: =ROUND(RAND(),1)*10 -> 8 | E10: =ROUND(RAND(),1)*10 -> 6 | F10: =ROUND(RAND(),1)*10 -> 2
A11: =ROUND(RAND(),1)*10 -> 4 | B11: =ROUND(RAND(),1)*10 -> 1 | C11: =ROUND(RAND(),1)*10 -> 2 | D11: =ROUND(RAND(),1)*10 -> 8 | E11: =ROUND(RAND(),1)*10 -> 1 | F11: =ROUND(RAND(),1)*10 -> 2
A12: =ROUND(RAND(),1)*10 -> 9 | B12: =ROUND(RAND(),1)*10 -> 9 | C12: =ROUND(RAND(),1)*10 -> 2 | D12: =ROUND(RAND(),1)*10 -> 3 | E12: =ROUND(RAND(),1)*10 -> 6 | F12: =ROUND(RAND(),1)*10 -> 1
A13: =ROUND(RAND(),1)*10 -> 5 | B13: =ROUND(RAND(),1)*10 -> 0 | C13: =ROUND(RAND(),1)*10 -> 6 | D13: =ROUND(RAND(),1)*10 -> 7 | E13: =ROUND(RAND(),1)*10 -> 3 | F13: =ROUND(RAND(),1)*10 -> 2
