Workbook

Sheet 2022 2023
A4: NOM | B4: PRENOM | C4: DATE DE NAISSANCE | D4: LIEU DE NAISSANCE | E4: ADRESSE | F4: CODE POSTAL | G4: VILLE | H4: MAIL | I4: NOM/PRENOM PARENTS | J4: TELEPHONE | K4: CLUB | L4: TAILLE CHAUSSETTE (MATCH) | M4: TAILLE SHORT (MATCH) | N4: ETAT LICENCE | O4: ENREGISTRE | P4: CHEQUE LICENCE | Q4: TENUES | R4: CHEQUES TENUES
A5: 0 | B5: A | I5: =VLOOKUP($A5,coordonnees!$A$2:$D$12,3,0) -> 0 | J5: =VLOOKUP($A5,coordonnees!$A$2:$D$12,4,0) -> 0 | L5: {=INDEX('chaussettes shorts match'!$A$3:$A$10,SUMPRODUCT(('chaussettes shorts match'!$B$2:$L$2=A5)*('chaussettes shorts match'!$B$3:$L$10<>"")*ROW($B$3:B$10))-2)} -> 39/40 | M5: {=INDEX('chaussettes shorts match'!$A$12:$A$17,SUMPRODUCT(('chaussettes shorts match'!$B$2:$L$2=$A5)*('chaussettes shorts match'!$B$12:$L$17<>"")*ROW($B$12:$B$17))-11)} -> xs
A6: 1 | B6: B | I6: =VLOOKUP($A6,coordonnees!$A$2:$D$12,3,0) -> 11 | J6: =VLOOKUP($A6,coordonnees!$A$2:$D$12,4,0) -> 11111111 | L6: {=INDEX('chaussettes shorts match'!$A$3:$A$10,SUMPRODUCT(('chaussettes shorts match'!$B$2:$L$2=A6)*('chaussettes shorts match'!$B$3:$L$10<>"")*ROW($B$3:B$10))-2)} -> 39/40 | M6: {=INDEX('chaussettes shorts match'!$A$12:$A$17,SUMPRODUCT(('chaussettes shorts match'!$B$2:$L$2=$A6)*('chaussettes shorts match'!$B$12:$L$17<>"")*ROW($B$12:$B$17))-11)} -> s
A7: 2 | B7: C | I7: =VLOOKUP($A7,coordonnees!$A$2:$D$12,3,0) -> 22 | J7: =VLOOKUP($A7,coordonnees!$A$2:$D$12,4,0) -> 222222222 | L7: {=INDEX('chaussettes shorts match'!$A$3:$A$10,SUMPRODUCT(('chaussettes shorts match'!$B$2:$L$2=A7)*('chaussettes shorts match'!$B$3:$L$10<>"")*ROW($B$3:B$10))-2)} -> 39/40 | M7: {=INDEX('chaussettes shorts match'!$A$12:$A$17,SUMPRODUCT(('chaussettes shorts match'!$B$2:$L$2=$A7)*('chaussettes shorts match'!$B$12:$L$17<>"")*ROW($B$12:$B$17))-11)} -> m
A8: 3 | B8: D | I8: =VLOOKUP($A8,coordonnees!$A$2:$D$12,3,0) -> 33 | J8: =VLOOKUP($A8,coordonnees!$A$2:$D$12,4,0) -> 333333333 | L8: {=INDEX('chaussettes shorts match'!$A$3:$A$10,SUMPRODUCT(('chaussettes shorts match'!$B$2:$L$2=A8)*('chaussettes shorts match'!$B$3:$L$10<>"")*ROW($B$3:B$10))-2)} -> 40/41 | M8: {=INDEX('chaussettes shorts match'!$A$12:$A$17,SUMPRODUCT(('chaussettes shorts match'!$B$2:$L$2=$A8)*('chaussettes shorts match'!$B$12:$L$17<>"")*ROW($B$12:$B$17))-11)} -> l
A9: 4 | B9: E | I9: =VLOOKUP($A9,coordonnees!$A$2:$D$12,3,0) -> 44 | J9: =VLOOKUP($A9,coordonnees!$A$2:$D$12,4,0) -> 444444444 | L9: {=INDEX('chaussettes shorts match'!$A$3:$A$10,SUMPRODUCT(('chaussettes shorts match'!$B$2:$L$2=A9)*('chaussettes shorts match'!$B$3:$L$10<>"")*ROW($B$3:B$10))-2)} -> 41/42 | M9: {=INDEX('chaussettes shorts match'!$A$12:$A$17,SUMPRODUCT(('chaussettes shorts match'!$B$2:$L$2=$A9)*('chaussettes shorts match'!$B$12:$L$17<>"")*ROW($B$12:$B$17))-11)} -> xl
A10: 5 | B10: F | I10: =VLOOKUP($A10,coordonnees!$A$2:$D$12,3,0) -> 55 | J10: =VLOOKUP($A10,coordonnees!$A$2:$D$12,4,0) -> 555555555 | L10: {=IF(A10="","",INDEX('chaussettes shorts match'!$A$3:$A$10,SUMPRODUCT(('chaussettes shorts match'!$B$2:$L$2=A10)*('chaussettes shorts match'!$B$3:$L$10<>"")*ROW($B$3:B$10))-2))} -> 42/43 | M10: {=IF(A10="","",INDEX('chaussettes shorts match'!$A$12:$A$17,SUMPRODUCT(('chaussettes shorts match'!$B$2:$L$2=$A10)*('chaussettes shorts match'!$B$12:$L$17<>"")*ROW($B$12:$B$17))-11))} -> xxl
A11: 6 | B11: G | I11: =VLOOKUP($A11,coordonnees!$A$2:$D$12,3,0) -> 66 | J11: =VLOOKUP($A11,coordonnees!$A$2:$D$12,4,0) -> 666666666 | L11: {=IF(A11="","",INDEX('chaussettes shorts match'!$A$3:$A$10,SUMPRODUCT(('chaussettes shorts match'!$B$2:$L$2=A11)*('chaussettes shorts match'!$B$3:$L$10<>"")*ROW($B$3:B$10))-2))} -> 37/38 | M11: {=IF(A11="","",INDEX('chaussettes shorts match'!$A$12:$A$17,SUMPRODUCT(('chaussettes shorts match'!$B$2:$L$2=$A11)*('chaussettes shorts match'!$B$12:$L$17<>"")*ROW($B$12:$B$17))-11))} -> xs
A12: 7 | B12: H | I12: =VLOOKUP($A12,coordonnees!$A$2:$D$12,3,0) -> 77 | J12: =VLOOKUP($A12,coordonnees!$A$2:$D$12,4,0) -> 777777777 | L12: {=IF(A12="","",INDEX('chaussettes shorts match'!$A$3:$A$10,SUMPRODUCT(('chaussettes shorts match'!$B$2:$L$2=A12)*('chaussettes shorts match'!$B$3:$L$10<>"")*ROW($B$3:B$10))-2))} -> 38/39 | M12: {=IF(A12="","",INDEX('chaussettes shorts match'!$A$12:$A$17,SUMPRODUCT(('chaussettes shorts match'!$B$2:$L$2=$A12)*('chaussettes shorts match'!$B$12:$L$17<>"")*ROW($B$12:$B$17))-11))} -> s
A13: 8 | B13: I | I13: =VLOOKUP($A13,coordonnees!$A$2:$D$12,3,0) -> 88 | J13: =VLOOKUP($A13,coordonnees!$A$2:$D$12,4,0) -> 888888888 | L13: {=IF(A13="","",INDEX('chaussettes shorts match'!$A$3:$A$10,SUMPRODUCT(('chaussettes shorts match'!$B$2:$L$2=A13)*('chaussettes shorts match'!$B$3:$L$10<>"")*ROW($B$3:B$10))-2))} -> 39/40 | M13: {=IF(A13="","",INDEX('chaussettes shorts match'!$A$12:$A$17,SUMPRODUCT(('chaussettes shorts match'!$B$2:$L$2=$A13)*('chaussettes shorts match'!$B$12:$L$17<>"")*ROW($B$12:$B$17))-11))} -> m
A14: 9 | B14: J | I14: =VLOOKUP($A14,coordonnees!$A$2:$D$12,3,0) -> 99 | J14: =VLOOKUP($A14,coordonnees!$A$2:$D$12,4,0) -> 99999999 | L14: {=IF(A14="","",INDEX('chaussettes shorts match'!$A$3:$A$10,SUMPRODUCT(('chaussettes shorts match'!$B$2:$L$2=A14)*('chaussettes shorts match'!$B$3:$L$10<>"")*ROW($B$3:B$10))-2))} -> 45/46 | M14: {=IF(A14="","",INDEX('chaussettes shorts match'!$A$12:$A$17,SUMPRODUCT(('chaussettes shorts match'!$B$2:$L$2=$A14)*('chaussettes shorts match'!$B$12:$L$17<>"")*ROW($B$12:$B$17))-11))} -> l
A15: 10 | B15: K | I15: =VLOOKUP($A15,coordonnees!$A$2:$D$12,3,0) -> 1010 | J15: =VLOOKUP($A15,coordonnees!$A$2:$D$12,4,0) -> 10101010101 | L15: {=IF(A15="","",INDEX('chaussettes shorts match'!$A$3:$A$10,SUMPRODUCT(('chaussettes shorts match'!$B$2:$L$2=A15)*('chaussettes shorts match'!$B$3:$L$10<>"")*ROW($B$3:B$10))-2))} -> 45/46 | M15: {=IF(A15="","",INDEX('chaussettes shorts match'!$A$12:$A$17,SUMPRODUCT(('chaussettes shorts match'!$B$2:$L$2=$A15)*('chaussettes shorts match'!$B$12:$L$17<>"")*ROW($B$12:$B$17))-11))} -> xl
I16: =VLOOKUP($A16,coordonnees!$A$2:$D$12,3,0) -> 0 | J16: =VLOOKUP($A16,coordonnees!$A$2:$D$12,4,0) -> 0 | L16: {=IF(A16="","",INDEX('chaussettes shorts match'!$A$3:$A$10,SUMPRODUCT(('chaussettes shorts match'!$B$2:$L$2=A16)*('chaussettes shorts match'!$B$3:$L$10<>"")*ROW($B$3:B$10))-2))} | M16: {=IF(A16="","",INDEX('chaussettes shorts match'!$A$12:$A$17,SUMPRODUCT(('chaussettes shorts match'!$B$2:$L$2=$A16)*('chaussettes shorts match'!$B$12:$L$17<>"")*ROW($B$12:$B$17))-11))}

Sheet chaussettes shorts match
B2: 0 | C2: 1 | D2: 2 | E2: 3 | F2: 4 | G2: 5 | H2: 6 | I2: 7 | J2: 8 | K2: 9 | L2: 10 | M2: total
A3: 39/40 | B3: 1 | C3: 1 | D3: 1 | J3: 1 | M3: =SUM(B3:L3) -> 4
A4: 40/41 | E4: 1 | M4: =SUM(B4:L4) -> 1
A5: 41/42 | F5: 1 | M5: =SUM(B5:L5) -> 1
A6: 42/43 | G6: 1 | M6: =SUM(B6:L6) -> 1
A7: 37/38 | H7: 1 | M7: =SUM(B7:L7) -> 1
A8: 38/39 | I8: 1 | M8: =SUM(B8:L8) -> 1
A9: 45/46 | K9: 1 | L9: 1 | M9: =SUM(B9:L9) -> 2
M10: =SUM(M3:M9) -> 11
A12: xs | B12: 1 | H12: 1 | M12: =SUM(B12:L12) -> 2
A13: s | C13: 1 | I13: 1 | M13: =SUM(B13:L13) -> 2
A14: m | D14: 1 | J14: 1 | M14: =SUM(B14:L14) -> 2
A15: l | E15: 1 | K15: 1 | M15: =SUM(B15:L15) -> 2
A16: xl | F16: 1 | L16: 1 | M16: =SUM(B16:L16) -> 2
A17: xxl | G17: 1 | M17: =SUM(B17:L17) -> 1
M18: =SUM(M12:M17) -> 11

Sheet coordonnees
A1: NOM | B1: PRENOM | C1: NOM/PRENOM PARENTS | D1: TELEPHONE
A2: 0 | B2: A | C2: 0 | D2: 0
A3: 1 | B3: B | C3: 11 | D3: 11111111
A4: 2 | B4: C | C4: 22 | D4: 222222222
A5: 3 | B5: D | C5: 33 | D5: 333333333
A6: 4 | B6: E | C6: 44 | D6: 444444444
A7: 5 | B7: F | C7: 55 | D7: 555555555
A8: 6 | B8: G | C8: 66 | D8: 666666666
A9: 7 | B9: H | C9: 77 | D9: 777777777
A10: 8 | B10: I | C10: 88 | D10: 888888888
A11: 9 | B11: J | C11: 99 | D11: 99999999
A12: 10 | B12: K | C12: 1010 | D12: 10101010101
