Workbook

Sheet Feuil1
A1: Réalisateur | B1: Autre film 1 | C1: Réal Autr film 1 | D1: Autre film 2 | E1: Réal autr film 2 | F1: Autre film 3 | G1: Réal autre film 3 | H1: Autre film 4 | I1: Réal Autre film 4 | J1: Autre Film 5 | K1: Ref autre film 5 | L1: Autre Film 6
A2: Ridley Scott | B2: Alien, le retour | C2: James Cameron
A3: Richard Fleischer | B3: Roi des rois | C3: Nicholas Ray | D3: Les grands espaces | E3: William Wyler
A4: Jean-Jacques Beineix | B4: Rue Barbare | C4: Gilles Béhat | D4: Roselyne et les lions | E4: Jean-Jacques Beineix | F4: L’amour braque | G4: Andrzej Zulawski | H4: Le Bossu | I4: Philippe de Broca | J4: Belphégor | K4: Jean Paul Salomé
A5: Hark Tsui | B5: The blade (Dao) | C5: Hark Tsui
A6: Elia Kazan | B6: La mélodie du bonheur | C6: Robert Wise
A7: James Cameron
A8: Kaige Chen | B8: Le guerrier Lanling (Lanling wang) | C8: Hu Sherwood Xuehua
A9: Werner Herzog | B9: Fitzzcarraldo | C9: Werner Herzog
A10: John Wayne | B10: Bandolero | C10: Andrew V Mclaglen | D10: Rio Lobo | E10: Howard Hawks
A11: Oliver Stone
A12: Ridley Scott
A13: Milos Forman | B13: Valmont | C13: Milos Forman
A14: Frederico Fellini | B14: Roma | C14: Frederico Fellini | D14: Satyricon | E14: Frederico Fellini | F14: Guépard | G14: Luchino Visconti | H14: Casanova | I14: Frederico Fellini | J14: Les av du baron de Munchausen | K14: Terry Gilliam | L14: Wolf
A15: Paul Schrader
A16: George Lucas
A17: Andrei Tarkovsky | B17: Solaris | C17: Andrei Tarkovsky
A18: Alan Parker | B18: Midnight Express | C18: Alan Parker | D18: Bugsy Malone | E18: Alan Parker | F18: Harry Potter et le prisonnier d'Azkaban | G18: Alfonso Cuaron
A19: Agnès Merlet | B19: L’odeur de la papaye verte | D19: Cyclo
A20: Bob Rafelson | B20: Fargo | C20: Joel Cohen | D20: The Village | E20: M. Night Shyamalan | F20: Rob Roy | G20: Michael Caton-Jones | H20: Kundun | I20: Martin Scorcese
A21: Steven Spielberg | B21: Music Lovers | C21: Ken Russell | D21: le bal des vampires | E21: Roman Polanski | F21: The great Gatsby | G21: Jack Clayton
A22: Terry Gilliam | B22: Pink Floyd, the wall | C22: Alan Parker | D22: Bugsy Malone | E22: Alan Parker | F22: 9 semaines et demi | G22: Adrian Lyne | H22: Mississipi Burning | I22: Alan Parker
A23: William Wyler | B23: Les gladiateurs | C23: Mervin Leroy | D23: Mines du roi Salomon | E23: Compton Bennett / Andreww Marton | F23: Les mutinés du Bounty | G23: Lewis Milestone | H23: L’arbre de vie | I23: Edward Dmytryk | J23: Un été 42 | K23: Robert Mulligan
A24: Graham Baker
A25: Ridley Scott | B25: Peggy Sue se marie | C25: Francis Ford Coppola
A26: David Lynch | B26: Night on earth | C26: Jim Jarmusch
A27: Arthur Penn
A28: Mel Gibson | B28: Capitaine Corelli | C28: John Madden
A29: Terry Gilliam | B29: Frankenstein | C29: Keneth Branagh | D29: Harry Potter et la chambre des secrets | E29: Chris Colombus | F29: Batman | G29: Tim Burton | H29: L’armée des 12 singes | I29: Terry Gilliam | J29: Troy | K29: Wolfgang Petersen | L29: Harry Potter et le gobelet de feu
A30: Joshua Logan | B30: Battle of the planet ot the apes | C30: J Lee Thompson
A31: Luigi Comencini | B31: Keoma | C31: Enzo G. Castellari
A32: Roman Polanski | B32: Adieu ma jolie | C32: Dick Richards | D32: Harold & Maude | E32: Hal Ashby | F32: Scarface | G32: Brian de Palma
A33: Michael Apted
A34: Werner Herzog
A35: Ron Howard | B35: Men in black | C35: Barry Sonnenfeld
A36: John Millius | B36: Jeremiah Johnson | C36: Sydney Pollack | D36: Les chasseurs de scalps | E36: Sydney Pollack
A37: Richard Fleischer | B37: Comtesse aux pieds nus | C37: Joseph Manckiewicz | D37: Les vikings | E37: Richard Fleischer | F37: Pandora | G37: Albert Lewin | H37: Guerre et paix | I37: King Vidor | J37: Le narcisse noir | K37: Michael Powell
A38: Jean-Paul Rappeneau | B38: Camille Claudel | C38: Bruno Nuytten | D38: Jefferson à Paris | E38: James Ivory | F38: Maurice | G38: James Ivory
A39: Kevin Cosner | B39: Razorbac | C39: Russell Mulcahy | D39: Apocalypto | F39: Maléfique
A40: Jim Henson | B40: L’homme qui voulut être roi | C40: John Huston | D40: Le limier | E40: Joseph Manckiewicz | F40: Oliver | G40: Carol Reed | H40: Mégère apprivoisée | I40: Franco Zefirelli | J40: Moby Dick | K40: John Huston | L40: Les racines du ciel
...

Sheet Feuil2
A1: {=IFERROR(INDEX(Feuil1!A$1:K$55,(SMALL(IF(MOD(COLUMN(A:K),2)=1,IF(Feuil1!A$2:K$55<>"",COLUMN(A:K)+ROW(A$2:A$55)/1000,""),""),ROW(A1))-INT(SMALL(IF(MOD(COLUMN(A:K),2)=1,IF(Feuil1!A$2:K$55<>"",COLUMN(A:K)+ROW(A$2:A$55)/1000,""),""),ROW(A1))))*1000,INT(SMALL(IF(MOD(COLUMN(A:K),2)=1,IF(Feuil1!A$2:K$55<>"",COLUMN(A:K)+ROW(A$2:A$55)/1000,""),""),ROW(A1)))),"")} -> Ridley Scott | C1: {=_xlfn.UNIQUE(_xlfn._xlws.FILTER(A1:A200,A1:A200<>""))} -> Ridley Scott
A2: {=IFERROR(INDEX(Feuil1!A$1:K$55,(SMALL(IF(MOD(COLUMN(A:K),2)=1,IF(Feuil1!A$2:K$55<>"",COLUMN(A:K)+ROW(A$2:A$55)/1000,""),""),ROW(A2))-INT(SMALL(IF(MOD(COLUMN(A:K),2)=1,IF(Feuil1!A$2:K$55<>"",COLUMN(A:K)+ROW(A$2:A$55)/1000,""),""),ROW(A2))))*1000,INT(SMALL(IF(MOD(COLUMN(A:K),2)=1,IF(Feuil1!A$2:K$55<>"",COLUMN(A:K)+ROW(A$2:A$55)/1000,""),""),ROW(A2)))),"")} -> Richard Fleischer | C2: Richard Fleischer
A3: {=IFERROR(INDEX(Feuil1!A$1:K$55,(SMALL(IF(MOD(COLUMN(A:K),2)=1,IF(Feuil1!A$2:K$55<>"",COLUMN(A:K)+ROW(A$2:A$55)/1000,""),""),ROW(A3))-INT(SMALL(IF(MOD(COLUMN(A:K),2)=1,IF(Feuil1!A$2:K$55<>"",COLUMN(A:K)+ROW(A$2:A$55)/1000,""),""),ROW(A3))))*1000,INT(SMALL(IF(MOD(COLUMN(A:K),2)=1,IF(Feuil1!A$2:K$55<>"",COLUMN(A:K)+ROW(A$2:A$55)/1000,""),""),ROW(A3)))),"")} -> Jean-Jacques Beineix | C3: Jean-Jacques Beineix
A4: {=IFERROR(INDEX(Feuil1!A$1:K$55,(SMALL(IF(MOD(COLUMN(A:K),2)=1,IF(Feuil1!A$2:K$55<>"",COLUMN(A:K)+ROW(A$2:A$55)/1000,""),""),ROW(A4))-INT(SMALL(IF(MOD(COLUMN(A:K),2)=1,IF(Feuil1!A$2:K$55<>"",COLUMN(A:K)+ROW(A$2:A$55)/1000,""),""),ROW(A4))))*1000,INT(SMALL(IF(MOD(COLUMN(A:K),2)=1,IF(Feuil1!A$2:K$55<>"",COLUMN(A:K)+ROW(A$2:A$55)/1000,""),""),ROW(A4)))),"")} -> Hark Tsui | C4: Hark Tsui
A5: {=IFERROR(INDEX(Feuil1!A$1:K$55,(SMALL(IF(MOD(COLUMN(A:K),2)=1,IF(Feuil1!A$2:K$55<>"",COLUMN(A:K)+ROW(A$2:A$55)/1000,""),""),ROW(A5))-INT(SMALL(IF(MOD(COLUMN(A:K),2)=1,IF(Feuil1!A$2:K$55<>"",COLUMN(A:K)+ROW(A$2:A$55)/1000,""),""),ROW(A5))))*1000,INT(SMALL(IF(MOD(COLUMN(A:K),2)=1,IF(Feuil1!A$2:K$55<>"",COLUMN(A:K)+ROW(A$2:A$55)/1000,""),""),ROW(A5)))),"")} -> Elia Kazan | C5: Elia Kazan
A6: {=IFERROR(INDEX(Feuil1!A$1:K$55,(SMALL(IF(MOD(COLUMN(A:K),2)=1,IF(Feuil1!A$2:K$55<>"",COLUMN(A:K)+ROW(A$2:A$55)/1000,""),""),ROW(A6))-INT(SMALL(IF(MOD(COLUMN(A:K),2)=1,IF(Feuil1!A$2:K$55<>"",COLUMN(A:K)+ROW(A$2:A$55)/1000,""),""),ROW(A6))))*1000,INT(SMALL(IF(MOD(COLUMN(A:K),2)=1,IF(Feuil1!A$2:K$55<>"",COLUMN(A:K)+ROW(A$2:A$55)/1000,""),""),ROW(A6)))),"")} -> James Cameron | C6: James Cameron
A7: {=IFERROR(INDEX(Feuil1!A$1:K$55,(SMALL(IF(MOD(COLUMN(A:K),2)=1,IF(Feuil1!A$2:K$55<>"",COLUMN(A:K)+ROW(A$2:A$55)/1000,""),""),ROW(A7))-INT(SMALL(IF(MOD(COLUMN(A:K),2)=1,IF(Feuil1!A$2:K$55<>"",COLUMN(A:K)+ROW(A$2:A$55)/1000,""),""),ROW(A7))))*1000,INT(SMALL(IF(MOD(COLUMN(A:K),2)=1,IF(Feuil1!A$2:K$55<>"",COLUMN(A:K)+ROW(A$2:A$55)/1000,""),""),ROW(A7)))),"")} -> Kaige Chen | C7: Kaige Chen
A8: {=IFERROR(INDEX(Feuil1!A$1:K$55,(SMALL(IF(MOD(COLUMN(A:K),2)=1,IF(Feuil1!A$2:K$55<>"",COLUMN(A:K)+ROW(A$2:A$55)/1000,""),""),ROW(A8))-INT(SMALL(IF(MOD(COLUMN(A:K),2)=1,IF(Feuil1!A$2:K$55<>"",COLUMN(A:K)+ROW(A$2:A$55)/1000,""),""),ROW(A8))))*1000,INT(SMALL(IF(MOD(COLUMN(A:K),2)=1,IF(Feuil1!A$2:K$55<>"",COLUMN(A:K)+ROW(A$2:A$55)/1000,""),""),ROW(A8)))),"")} -> Werner Herzog | C8: Werner Herzog
A9: {=IFERROR(INDEX(Feuil1!A$1:K$55,(SMALL(IF(MOD(COLUMN(A:K),2)=1,IF(Feuil1!A$2:K$55<>"",COLUMN(A:K)+ROW(A$2:A$55)/1000,""),""),ROW(A9))-INT(SMALL(IF(MOD(COLUMN(A:K),2)=1,IF(Feuil1!A$2:K$55<>"",COLUMN(A:K)+ROW(A$2:A$55)/1000,""),""),ROW(A9))))*1000,INT(SMALL(IF(MOD(COLUMN(A:K),2)=1,IF(Feuil1!A$2:K$55<>"",COLUMN(A:K)+ROW(A$2:A$55)/1000,""),""),ROW(A9)))),"")} -> John Wayne | C9: John Wayne
A10: {=IFERROR(INDEX(Feuil1!A$1:K$55,(SMALL(IF(MOD(COLUMN(A:K),2)=1,IF(Feuil1!A$2:K$55<>"",COLUMN(A:K)+ROW(A$2:A$55)/1000,""),""),ROW(A10))-INT(SMALL(IF(MOD(COLUMN(A:K),2)=1,IF(Feuil1!A$2:K$55<>"",COLUMN(A:K)+ROW(A$2:A$55)/1000,""),""),ROW(A10))))*1000,INT(SMALL(IF(MOD(COLUMN(A:K),2)=1,IF(Feuil1!A$2:K$55<>"",COLUMN(A:K)+ROW(A$2:A$55)/1000,""),""),ROW(A10)))),"")} -> Oliver Stone | C10: Oliver Stone
A11: {=IFERROR(INDEX(Feuil1!A$1:K$55,(SMALL(IF(MOD(COLUMN(A:K),2)=1,IF(Feuil1!A$2:K$55<>"",COLUMN(A:K)+ROW(A$2:A$55)/1000,""),""),ROW(A11))-INT(SMALL(IF(MOD(COLUMN(A:K),2)=1,IF(Feuil1!A$2:K$55<>"",COLUMN(A:K)+ROW(A$2:A$55)/1000,""),""),ROW(A11))))*1000,INT(SMALL(IF(MOD(COLUMN(A:K),2)=1,IF(Feuil1!A$2:K$55<>"",COLUMN(A:K)+ROW(A$2:A$55)/1000,""),""),ROW(A11)))),"")} -> Ridley Scott | C11: Milos Forman
A12: {=IFERROR(INDEX(Feuil1!A$1:K$55,(SMALL(IF(MOD(COLUMN(A:K),2)=1,IF(Feuil1!A$2:K$55<>"",COLUMN(A:K)+ROW(A$2:A$55)/1000,""),""),ROW(A12))-INT(SMALL(IF(MOD(COLUMN(A:K),2)=1,IF(Feuil1!A$2:K$55<>"",COLUMN(A:K)+ROW(A$2:A$55)/1000,""),""),ROW(A12))))*1000,INT(SMALL(IF(MOD(COLUMN(A:K),2)=1,IF(Feuil1!A$2:K$55<>"",COLUMN(A:K)+ROW(A$2:A$55)/1000,""),""),ROW(A12)))),"")} -> Milos Forman | C12: Frederico Fellini
A13: {=IFERROR(INDEX(Feuil1!A$1:K$55,(SMALL(IF(MOD(COLUMN(A:K),2)=1,IF(Feuil1!A$2:K$55<>"",COLUMN(A:K)+ROW(A$2:A$55)/1000,""),""),ROW(A13))-INT(SMALL(IF(MOD(COLUMN(A:K),2)=1,IF(Feuil1!A$2:K$55<>"",COLUMN(A:K)+ROW(A$2:A$55)/1000,""),""),ROW(A13))))*1000,INT(SMALL(IF(MOD(COLUMN(A:K),2)=1,IF(Feuil1!A$2:K$55<>"",COLUMN(A:K)+ROW(A$2:A$55)/1000,""),""),ROW(A13)))),"")} -> Frederico Fellini | C13: Paul Schrader
... A106: {=IFERROR(INDEX(Feuil1!A$1:K$55,(SMALL(IF(MOD(COLUMN(A:K),2)=1,IF(Feuil1!A$2:K$55<>"",COLUMN(A:K)+ROW(A$2:A$55)/1000,""),""),ROW(A106))-INT(SMALL(IF(MOD(COLUMN(A:K),2)=1,IF(Feuil1!A$2:K$55<>"",COLUMN(A:K)+ROW(A$2:A$55)/1000,""),""),ROW(A106))))*1000,INT(SMALL(IF(MOD(COLUMN(A:K),2)=1,IF(Feuil1!A$2:K$55<>"",COLUMN(A:K)+ROW(A$2:A$55)/1000,""),""),ROW(A106)))),"")} -> Terence Malik | C106: Sam Mendes
A107: {=IFERROR(INDEX(Feuil1!A$1:K$55,(SMALL(IF(MOD(COLUMN(A:K),2)=1,IF(Feuil1!A$2:K$55<>"",COLUMN(A:K)+ROW(A$2:A$55)/1000,""),""),ROW(A107))-INT(SMALL(IF(MOD(COLUMN(A:K),2)=1,IF(Feuil1!A$2:K$55<>"",COLUMN(A:K)+ROW(A$2:A$55)/1000,""),""),ROW(A107))))*1000,INT(SMALL(IF(MOD(COLUMN(A:K),2)=1,IF(Feuil1!A$2:K$55<>"",COLUMN(A:K)+ROW(A$2:A$55)/1000,""),""),ROW(A107)))),"")} -> Claude Chabrol
A108: {=IFERROR(INDEX(Feuil1!A$1:K$55,(SMALL(IF(MOD(COLUMN(A:K),2)=1,IF(Feuil1!A$2:K$55<>"",COLUMN(A:K)+ROW(A$2:A$55)/1000,""),""),ROW(A108))-INT(SMALL(IF(MOD(COLUMN(A:K),2)=1,IF(Feuil1!A$2:K$55<>"",COLUMN(A:K)+ROW(A$2:A$55)/1000,""),""),ROW(A108))))*1000,INT(SMALL(IF(MOD(COLUMN(A:K),2)=1,IF(Feuil1!A$2:K$55<>"",COLUMN(A:K)+ROW(A$2:A$55)/1000,""),""),ROW(A108)))),"")} -> Arne Glimcher
A109: {=IFERROR(INDEX(Feuil1!A$1:K$55,(SMALL(IF(MOD(COLUMN(A:K),2)=1,IF(Feuil1!A$2:K$55<>"",COLUMN(A:K)+ROW(A$2:A$55)/1000,""),""),ROW(A109))-INT(SMALL(IF(MOD(COLUMN(A:K),2)=1,IF(Feuil1!A$2:K$55<>"",COLUMN(A:K)+ROW(A$2:A$55)/1000,""),""),ROW(A109))))*1000,INT(SMALL(IF(MOD(COLUMN(A:K),2)=1,IF(Feuil1!A$2:K$55<>"",COLUMN(A:K)+ROW(A$2:A$55)/1000,""),""),ROW(A109)))),"")} -> Mario Camerini
A110: {=IFERROR(INDEX(Feuil1!A$1:K$55,(SMALL(IF(MOD(COLUMN(A:K),2)=1,IF(Feuil1!A$2:K$55<>"",COLUMN(A:K)+ROW(A$2:A$55)/1000,""),""),ROW(A110))-INT(SMALL(IF(MOD(COLUMN(A:K),2)=1,IF(Feuil1!A$2:K$55<>"",COLUMN(A:K)+ROW(A$2:A$55)/1000,""),""),ROW(A110))))*1000,INT(SMALL(IF(MOD(COLUMN(A:K),2)=1,IF(Feuil1!A$2:K$55<>"",COLUMN(A:K)+ROW(A$2:A$55)/1000,""),""),ROW(A110)))),"")} -> Richard Brooks
A111: {=IFERROR(INDEX(Feuil1!A$1:K$55,(SMALL(IF(MOD(COLUMN(A:K),2)=1,IF(Feuil1!A$2:K$55<>"",COLUMN(A:K)+ROW(A$2:A$55)/1000,""),""),ROW(A111))-INT(SMALL(IF(MOD(COLUMN(A:K),2)=1,IF(Feuil1!A$2:K$55<>"",COLUMN(A:K)+ROW(A$2:A$55)/1000,""),""),ROW(A111))))*1000,INT(SMALL(IF(MOD(COLUMN(A:K),2)=1,IF(Feuil1!A$2:K$55<>"",COLUMN(A:K)+ROW(A$2:A$55)/1000,""),""),ROW(A111)))),"")} -> Karel Reisz
A112: {=IFERROR(INDEX(Feuil1!A$1:K$55,(SMALL(IF(MOD(COLUMN(A:K),2)=1,IF(Feuil1!A$2:K$55<>"",COLUMN(A:K)+ROW(A$2:A$55)/1000,""),""),ROW(A112))-INT(SMALL(IF(MOD(COLUMN(A:K),2)=1,IF(Feuil1!A$2:K$55<>"",COLUMN(A:K)+ROW(A$2:A$55)/1000,""),""),ROW(A112))))*1000,INT(SMALL(IF(MOD(COLUMN(A:K),2)=1,IF(Feuil1!A$2:K$55<>"",COLUMN(A:K)+ROW(A$2:A$55)/1000,""),""),ROW(A112)))),"")} -> Andrzej Zulawski
A113: {=IFERROR(INDEX(Feuil1!A$1:K$55,(SMALL(IF(MOD(COLUMN(A:K),2)=1,IF(Feuil1!A$2:K$55<>"",COLUMN(A:K)+ROW(A$2:A$55)/1000,""),""),ROW(A113))-INT(SMALL(IF(MOD(COLUMN(A:K),2)=1,IF(Feuil1!A$2:K$55<>"",COLUMN(A:K)+ROW(A$2:A$55)/1000,""),""),ROW(A113))))*1000,INT(SMALL(IF(MOD(COLUMN(A:K),2)=1,IF(Feuil1!A$2:K$55<>"",COLUMN(A:K)+ROW(A$2:A$55)/1000,""),""),ROW(A113)))),"")} -> Luchino Visconti
A114: {=IFERROR(INDEX(Feuil1!A$1:K$55,(SMALL(IF(MOD(COLUMN(A:K),2)=1,IF(Feuil1!A$2:K$55<>"",COLUMN(A:K)+ROW(A$2:A$55)/1000,""),""),ROW(A114))-INT(SMALL(IF(MOD(COLUMN(A:K),2)=1,IF(Feuil1!A$2:K$55<>"",COLUMN(A:K)+ROW(A$2:A$55)/1000,""),""),ROW(A114))))*1000,INT(SMALL(IF(MOD(COLUMN(A:K),2)=1,IF(Feuil1!A$2:K$55<>"",COLUMN(A:K)+ROW(A$2:A$55)/1000,""),""),ROW(A114)))),"")} -> Alfonso Cuaron
A115: {=IFERROR(INDEX(Feuil1!A$1:K$55,(SMALL(IF(MOD(COLUMN(A:K),2)=1,IF(Feuil1!A$2:K$55<>"",COLUMN(A:K)+ROW(A$2:A$55)/1000,""),""),ROW(A115))-INT(SMALL(IF(MOD(COLUMN(A:K),2)=1,IF(Feuil1!A$2:K$55<>"",COLUMN(A:K)+ROW(A$2:A$55)/1000,""),""),ROW(A115))))*1000,INT(SMALL(IF(MOD(COLUMN(A:K),2)=1,IF(Feuil1!A$2:K$55<>"",COLUMN(A:K)+ROW(A$2:A$55)/1000,""),""),ROW(A115)))),"")} -> Michael Caton-Jones
A116: {=IFERROR(INDEX(Feuil1!A$1:K$55,(SMALL(IF(MOD(COLUMN(A:K),2)=1,IF(Feuil1!A$2:K$55<>"",COLUMN(A:K)+ROW(A$2:A$55)/1000,""),""),ROW(A116))-INT(SMALL(IF(MOD(COLUMN(A:K),2)=1,IF(Feuil1!A$2:K$55<>"",COLUMN(A:K)+ROW(A$2:A$55)/1000,""),""),ROW(A116))))*1000,INT(SMALL(IF(MOD(COLUMN(A:K),2)=1,IF(Feuil1!A$2:K$55<>"",COLUMN(A:K)+ROW(A$2:A$55)/1000,""),""),ROW(A116)))),"")} -> Jack Clayton
A117: {=IFERROR(INDEX(Feuil1!A$1:K$55,(SMALL(IF(MOD(COLUMN(A:K),2)=1,IF(Feuil1!A$2:K$55<>"",COLUMN(A:K)+ROW(A$2:A$55)/1000,""),""),ROW(A117))-INT(SMALL(IF(MOD(COLUMN(A:K),2)=1,IF(Feuil1!A$2:K$55<>"",COLUMN(A:K)+ROW(A$2:A$55)/1000,""),""),ROW(A117))))*1000,INT(SMALL(IF(MOD(COLUMN(A:K),2)=1,IF(Feuil1!A$2:K$55<>"",COLUMN(A:K)+ROW(A$2:A$55)/1000,""),""),ROW(A117)))),"")} -> Adrian Lyne
A118: {=IFERROR(INDEX(Feuil1!A$1:K$55,(SMALL(IF(MOD(COLUMN(A:K),2)=1,IF(Feuil1!A$2:K$55<>"",COLUMN(A:K)+ROW(A$2:A$55)/1000,""),""),ROW(A118))-INT(SMALL(IF(MOD(COLUMN(A:K),2)=1,IF(Feuil1!A$2:K$55<>"",COLUMN(A:K)+ROW(A$2:A$55)/1000,""),""),ROW(A118))))*1000,INT(SMALL(IF(MOD(COLUMN(A:K),2)=1,IF(Feuil1!A$2:K$55<>"",COLUMN(A:K)+ROW(A$2:A$55)/1000,""),""),ROW(A118)))),"")} -> Lewis Milestone
... A219: {=IFERROR(INDEX(Feuil1!A$1:K$55,(SMALL(IF(MOD(COLUMN(A:K),2)=1,IF(Feuil1!A$2:K$55<>"",COLUMN(A:K)+ROW(A$2:A$55)/1000,""),""),ROW(A219))-INT(SMALL(IF(MOD(COLUMN(A:K),2)=1,IF(Feuil1!A$2:K$55<>"",COLUMN(A:K)+ROW(A$2:A$55)/1000,""),""),ROW(A219))))*1000,INT(SMALL(IF(MOD(COLUMN(A:K),2)=1,IF(Feuil1!A$2:K$55<>"",COLUMN(A:K)+ROW(A$2:A$55)/1000,""),""),ROW(A219)))),"")}
