Workbook

Sheet TABLEAU
A1: Agence | B1: N° secteur
A2: =IFERROR(VLOOKUP(B2,DONNEES!$A$1:$B$15,2,FALSE),"") -> Lille | B2: 17001
A3: =IFERROR(VLOOKUP(B3,DONNEES!$A$1:$B$15,2,FALSE),"") -> Limoges | B3: 17002
A4: =IFERROR(VLOOKUP(B4,DONNEES!$A$1:$B$15,2,FALSE),"") -> Dijon | B4: 17005 | D4: Problème : Lille a 3 secteurs, Paris 4 secteurs. Je dois être en mesure de pouvoir choisir un des trois secteurs de Lille lorsqu'une cellule de B mentionne 17001 idéalement par liste déroulante (F3 à F5). Idem pour Paris (F6 à F9). L'objectif des formules applicables A2 : B8 est celui d'automatiser le nom de l'agence lorsque l'on indique le secteur (plus de 300 références pour mon projet initial). Pour rappel : formule appliquée sur l'ensemble de la colonne A. =SIERREUR(RECHERCHEV(B2;DONNEES!$A$1:$B15;2;FAUX);"")
A5: =IFERROR(VLOOKUP(B5,DONNEES!$A$1:$B$15,2,FALSE),"") -> Toulouse | B5: 17011
A6: =IFERROR(VLOOKUP(B6,DONNEES!$A$1:$B$15,2,FALSE),"") -> Limoges | B6: 17002
A7: =IFERROR(VLOOKUP(B7,DONNEES!$A$1:$B$15,2,FALSE),"") -> Paris | B7: 17003
A8: =IFERROR(VLOOKUP(B8,DONNEES!$A$1:$B$15,2,FALSE),"") -> Marseille | B8: 17004
A9: =IFERROR(VLOOKUP(B9,DONNEES!$A$1:$B$15,2,FALSE),"")
A10: =IFERROR(VLOOKUP(B10,DONNEES!$A$1:$B$15,2,FALSE),"")
A11: =IFERROR(VLOOKUP(B11,DONNEES!$A$1:$B$15,2,FALSE),"")
A12: =IFERROR(VLOOKUP(B12,DONNEES!A11:B25,2,FALSE),"")
A13: =IFERROR(VLOOKUP(B13,DONNEES!A12:B26,2,FALSE),"")
A14: =IFERROR(VLOOKUP(B14,DONNEES!A13:B27,2,FALSE),"")
A15: =IFERROR(VLOOKUP(B15,DONNEES!A14:B28,2,FALSE),"")
A16: =IFERROR(VLOOKUP(B16,DONNEES!A15:B29,2,FALSE),"")
A17: =IFERROR(VLOOKUP(B17,DONNEES!A16:B30,2,FALSE),"")
A18: =IFERROR(VLOOKUP(B18,DONNEES!A17:B31,2,FALSE),"")

Sheet DONNEES
A1: 17001 | B1: Lille | E1: mettre les villes | F1: 17001 | G1: 17003 | H1: 17011
A2: 17002 | B2: Limoges | E2: a plusieurs antennes | F2: Lille 1 | G2: Paris 1 | H2: Toulouse 1
A3: 17003 | B3: Paris | F3: Lille 2 | G3: Paris 2 | H3: Toulouse 2
A4: 17004 | B4: Marseille | F4: Lille 3 | G4: Paris 3 | H4: Toulouse 3
A5: 17005 | B5: Dijon | G5: Paris 4 | H5: Toulouse 4
A6: 17006 | B6: Lyon
A7: 17007 | B7: Valenciennes
A8: 17008 | B8: Arras
A9: 17009 | B9: Saint-Amand
A10: 17010 | B10: Bordeaux
A11: 17011 | B11: Toulouse
A12: 17012 | B12: Perpignan
A13: 17013 | B13: Reims | E13: code ville | F13: ville /antenne | G13: alerte si multichoix
A14: 17014 | B14: Tours | E14: 17001 | F14: Lille 2 | G14: =IF(COUNTIF(F$1:U$1,E14),"***","") -> ***
A15: 17015 | B15: Niort | E15: 17001 | F15: Lille 3 | G15: =IF(COUNTIF(F$1:U$1,E15),"***","") -> ***
F16: =IFERROR(VLOOKUP(E16,A$1:B$15,2,0),"") | G16: =IF(COUNTIF(F$1:U$1,E16),"***","")
E17: 17001 | F17: =IFERROR(VLOOKUP(E17,A$1:B$15,2,0),"") -> Lille | G17: =IF(COUNTIF(F$1:U$1,E17),"***","") -> ***
F18: =IFERROR(VLOOKUP(E18,A$1:B$15,2,0),"") | G18: =IF(COUNTIF(F$1:U$1,E18),"***","")
E19: 17011 | F19: Toulouse 1 | G19: =IF(COUNTIF(F$1:U$1,E19),"***","") -> ***
E20: 17003 | F20: =IFERROR(VLOOKUP(E20,A$1:B$15,2,0),"") -> Paris | G20: =IF(COUNTIF(F$1:U$1,E20),"***","") -> ***
E21: 17007 | F21: =IFERROR(VLOOKUP(E21,A$1:B$15,2,0),"") -> Valenciennes | G21: =IF(COUNTIF(F$1:U$1,E21),"***","")
E22: 17013 | F22: =IFERROR(VLOOKUP(E22,A$1:B$15,2,0),"") -> Reims | G22: =IF(COUNTIF(F$1:U$1,E22),"***","")
F23: =IFERROR(VLOOKUP(E23,A$1:B$15,2,0),"") | G23: =IF(COUNTIF(F$1:U$1,E23),"***","")
