Workbook
Name Liste: Team!$N$5:$W$5

Sheet Team
D4: 44562 | E4: =D4+1 -> 44563 | F4: =E4+1 -> 44564 | G4: =F4+1 -> 44565 | H4: =G4+1 -> 44566 | I4: =H4+1 -> 44567 | J4: =I4+1 -> 44568 | N4: Afficher dans Team | O4: Afficher dans Team | P4: Afficher dans Team | Q4: Afficher dans Team | R4: Afficher dans Team | S4: ne pas afficher dans Team | T4: ne pas afficher dans Team | U4: ne pas afficher dans Team | V4: ne pas afficher dans Team | W4: ne pas afficher dans Team
A5: Personne 1 | B5: poste 1 | D5: N | J5: 1 | N5: M | O5: A | P5: N | Q5: WM | R5: WN | S5: 6 | T5: 7 | U5: 8 | V5: 9 | W5: 10
A6: Personne 2 | C6: poste 2 | D6: A | E6: A | G6: WM | I6: 2 | J6: 1 | N6: Période de travaille | S6: malade ou autres
A7: Personne 3 | B7: poste 1 | H7: WM | I7: 2 | J7: 1
A8: Personne 4 | C8: poste 2 | E8: N | I8: WN | J8: 1

Sheet Planning
C1: m | D1: m | E1: A | F1: a | G1: n | H1: N | I1: wm | J1: wm | K1: wn | L1: wn
C2: Matin | E2: Après-midi | G2: Nuit | I2: Week Matin | K2: Week Nuit
C3: Poste 1 | D3: Poste 2 | E3: Poste 1 | F3: Poste 2 | G3: Poste 1 | H3: Poste 2 | I3: Poste 1 | J3: Poste 2 | K3: Poste 1 | L3: Poste 2
B4: 44562 | C4: {=IFERROR(INDEX(Team!$A$5:$A$8,SUMPRODUCT((OFFSET(Team!$C$5:$C$8,,MATCH(Planning!$B4,Team!$D$4:$J$4,0),)=Planning!C$1)*(Team!$B$5:$C$8=Planning!C$3)*ROW(Team!$A$5:$A$8))-4),"")} | D4: {=IFERROR(INDEX(Team!$A$5:$A$8,SUMPRODUCT((OFFSET(Team!$C$5:$C$8,,MATCH(Planning!$B4,Team!$D$4:$J$4,0),)=Planning!D$1)*(Team!$B$5:$C$8=Planning!D$3)*ROW(Team!$A$5:$A$8))-4),"")} | E4: {=IFERROR(INDEX(Team!$A$5:$A$8,SUMPRODUCT((OFFSET(Team!$C$5:$C$8,,MATCH(Planning!$B4,Team!$D$4:$J$4,0),)=Planning!E$1)*(Team!$B$5:$C$8=Planning!E$3)*ROW(Team!$A$5:$A$8))-4),"")} | F4: {=IFERROR(INDEX(Team!$A$5:$A$8,SUMPRODUCT((OFFSET(Team!$C$5:$C$8,,MATCH(Planning!$B4,Team!$D$4:$J$4,0),)=Planning!F$1)*(Team!$B$5:$C$8=Planning!F$3)*ROW(Team!$A$5:$A$8))-4),"")} -> Personne 2 | G4: {=IFERROR(INDEX(Team!$A$5:$A$8,SUMPRODUCT((OFFSET(Team!$C$5:$C$8,,MATCH(Planning!$B4,Team!$D$4:$J$4,0),)=Planning!G$1)*(Team!$B$5:$C$8=Planning!G$3)*ROW(Team!$A$5:$A$8))-4),"")} -> Personne 1 | H4: {=IFERROR(INDEX(Team!$A$5:$A$8,SUMPRODUCT((OFFSET(Team!$C$5:$C$8,,MATCH(Planning!$B4,Team!$D$4:$J$4,0),)=Planning!H$1)*(Team!$B$5:$C$8=Planning!H$3)*ROW(Team!$A$5:$A$8))-4),"")} | I4: {=IFERROR(INDEX(Team!$A$5:$A$8,SUMPRODUCT((OFFSET(Team!$C$5:$C$8,,MATCH(Planning!$B4,Team!$D$4:$J$4,0),)=Planning!I$1)*(Team!$B$5:$C$8=Planning!I$3)*ROW(Team!$A$5:$A$8))-4),"")} | J4: {=IFERROR(INDEX(Team!$A$5:$A$8,SUMPRODUCT((OFFSET(Team!$C$5:$C$8,,MATCH(Planning!$B4,Team!$D$4:$J$4,0),)=Planning!J$1)*(Team!$B$5:$C$8=Planning!J$3)*ROW(Team!$A$5:$A$8))-4),"")} | ... L4: {=IFERROR(INDEX(Team!$A$5:$A$8,SUMPRODUCT((OFFSET(Team!$C$5:$C$8,,MATCH(Planning!$B4,Team!$D$4:$J$4,0),)=Planning!L$1)*(Team!$B$5:$C$8=Planning!L$3)*ROW(Team!$A$5:$A$8))-4),"")}
B5: =B4+1 -> 44563 | C5: {=IFERROR(INDEX(Team!$A$5:$A$8,SUMPRODUCT((OFFSET(Team!$C$5:$C$8,,MATCH(Planning!$B5,Team!$D$4:$J$4,0),)=Planning!C$1)*(Team!$B$5:$C$8=Planning!C$3)*ROW(Team!$A$5:$A$8))-4),"")} | D5: {=IFERROR(INDEX(Team!$A$5:$A$8,SUMPRODUCT((OFFSET(Team!$C$5:$C$8,,MATCH(Planning!$B5,Team!$D$4:$J$4,0),)=Planning!D$1)*(Team!$B$5:$C$8=Planning!D$3)*ROW(Team!$A$5:$A$8))-4),"")} | E5: {=IFERROR(INDEX(Team!$A$5:$A$8,SUMPRODUCT((OFFSET(Team!$C$5:$C$8,,MATCH(Planning!$B5,Team!$D$4:$J$4,0),)=Planning!E$1)*(Team!$B$5:$C$8=Planning!E$3)*ROW(Team!$A$5:$A$8))-4),"")} | F5: {=IFERROR(INDEX(Team!$A$5:$A$8,SUMPRODUCT((OFFSET(Team!$C$5:$C$8,,MATCH(Planning!$B5,Team!$D$4:$J$4,0),)=Planning!F$1)*(Team!$B$5:$C$8=Planning!F$3)*ROW(Team!$A$5:$A$8))-4),"")} -> Personne 2 | G5: {=IFERROR(INDEX(Team!$A$5:$A$8,SUMPRODUCT((OFFSET(Team!$C$5:$C$8,,MATCH(Planning!$B5,Team!$D$4:$J$4,0),)=Planning!G$1)*(Team!$B$5:$C$8=Planning!G$3)*ROW(Team!$A$5:$A$8))-4),"")} | H5: {=IFERROR(INDEX(Team!$A$5:$A$8,SUMPRODUCT((OFFSET(Team!$C$5:$C$8,,MATCH(Planning!$B5,Team!$D$4:$J$4,0),)=Planning!H$1)*(Team!$B$5:$C$8=Planning!H$3)*ROW(Team!$A$5:$A$8))-4),"")} -> Personne 4 | I5: {=IFERROR(INDEX(Team!$A$5:$A$8,SUMPRODUCT((OFFSET(Team!$C$5:$C$8,,MATCH(Planning!$B5,Team!$D$4:$J$4,0),)=Planning!I$1)*(Team!$B$5:$C$8=Planning!I$3)*ROW(Team!$A$5:$A$8))-4),"")} | J5: {=IFERROR(INDEX(Team!$A$5:$A$8,SUMPRODUCT((OFFSET(Team!$C$5:$C$8,,MATCH(Planning!$B5,Team!$D$4:$J$4,0),)=Planning!J$1)*(Team!$B$5:$C$8=Planning!J$3)*ROW(Team!$A$5:$A$8))-4),"")} | ... L5: {=IFERROR(INDEX(Team!$A$5:$A$8,SUMPRODUCT((OFFSET(Team!$C$5:$C$8,,MATCH(Planning!$B5,Team!$D$4:$J$4,0),)=Planning!L$1)*(Team!$B$5:$C$8=Planning!L$3)*ROW(Team!$A$5:$A$8))-4),"")}
B6: =B5+1 -> 44564 | C6: {=IFERROR(INDEX(Team!$A$5:$A$8,SUMPRODUCT((OFFSET(Team!$C$5:$C$8,,MATCH(Planning!$B6,Team!$D$4:$J$4,0),)=Planning!C$1)*(Team!$B$5:$C$8=Planning!C$3)*ROW(Team!$A$5:$A$8))-4),"")} | D6: {=IFERROR(INDEX(Team!$A$5:$A$8,SUMPRODUCT((OFFSET(Team!$C$5:$C$8,,MATCH(Planning!$B6,Team!$D$4:$J$4,0),)=Planning!D$1)*(Team!$B$5:$C$8=Planning!D$3)*ROW(Team!$A$5:$A$8))-4),"")} | E6: {=IFERROR(INDEX(Team!$A$5:$A$8,SUMPRODUCT((OFFSET(Team!$C$5:$C$8,,MATCH(Planning!$B6,Team!$D$4:$J$4,0),)=Planning!E$1)*(Team!$B$5:$C$8=Planning!E$3)*ROW(Team!$A$5:$A$8))-4),"")} | F6: {=IFERROR(INDEX(Team!$A$5:$A$8,SUMPRODUCT((OFFSET(Team!$C$5:$C$8,,MATCH(Planning!$B6,Team!$D$4:$J$4,0),)=Planning!F$1)*(Team!$B$5:$C$8=Planning!F$3)*ROW(Team!$A$5:$A$8))-4),"")} | G6: {=IFERROR(INDEX(Team!$A$5:$A$8,SUMPRODUCT((OFFSET(Team!$C$5:$C$8,,MATCH(Planning!$B6,Team!$D$4:$J$4,0),)=Planning!G$1)*(Team!$B$5:$C$8=Planning!G$3)*ROW(Team!$A$5:$A$8))-4),"")} | H6: {=IFERROR(INDEX(Team!$A$5:$A$8,SUMPRODUCT((OFFSET(Team!$C$5:$C$8,,MATCH(Planning!$B6,Team!$D$4:$J$4,0),)=Planning!H$1)*(Team!$B$5:$C$8=Planning!H$3)*ROW(Team!$A$5:$A$8))-4),"")} | I6: {=IFERROR(INDEX(Team!$A$5:$A$8,SUMPRODUCT((OFFSET(Team!$C$5:$C$8,,MATCH(Planning!$B6,Team!$D$4:$J$4,0),)=Planning!I$1)*(Team!$B$5:$C$8=Planning!I$3)*ROW(Team!$A$5:$A$8))-4),"")} | J6: {=IFERROR(INDEX(Team!$A$5:$A$8,SUMPRODUCT((OFFSET(Team!$C$5:$C$8,,MATCH(Planning!$B6,Team!$D$4:$J$4,0),)=Planning!J$1)*(Team!$B$5:$C$8=Planning!J$3)*ROW(Team!$A$5:$A$8))-4),"")} | ... L6: {=IFERROR(INDEX(Team!$A$5:$A$8,SUMPRODUCT((OFFSET(Team!$C$5:$C$8,,MATCH(Planning!$B6,Team!$D$4:$J$4,0),)=Planning!L$1)*(Team!$B$5:$C$8=Planning!L$3)*ROW(Team!$A$5:$A$8))-4),"")}
B7: =B6+1 -> 44565 | C7: {=IFERROR(INDEX(Team!$A$5:$A$8,SUMPRODUCT((OFFSET(Team!$C$5:$C$8,,MATCH(Planning!$B7,Team!$D$4:$J$4,0),)=Planning!C$1)*(Team!$B$5:$C$8=Planning!C$3)*ROW(Team!$A$5:$A$8))-4),"")} | D7: {=IFERROR(INDEX(Team!$A$5:$A$8,SUMPRODUCT((OFFSET(Team!$C$5:$C$8,,MATCH(Planning!$B7,Team!$D$4:$J$4,0),)=Planning!D$1)*(Team!$B$5:$C$8=Planning!D$3)*ROW(Team!$A$5:$A$8))-4),"")} | E7: {=IFERROR(INDEX(Team!$A$5:$A$8,SUMPRODUCT((OFFSET(Team!$C$5:$C$8,,MATCH(Planning!$B7,Team!$D$4:$J$4,0),)=Planning!E$1)*(Team!$B$5:$C$8=Planning!E$3)*ROW(Team!$A$5:$A$8))-4),"")} | F7: {=IFERROR(INDEX(Team!$A$5:$A$8,SUMPRODUCT((OFFSET(Team!$C$5:$C$8,,MATCH(Planning!$B7,Team!$D$4:$J$4,0),)=Planning!F$1)*(Team!$B$5:$C$8=Planning!F$3)*ROW(Team!$A$5:$A$8))-4),"")} | G7: {=IFERROR(INDEX(Team!$A$5:$A$8,SUMPRODUCT((OFFSET(Team!$C$5:$C$8,,MATCH(Planning!$B7,Team!$D$4:$J$4,0),)=Planning!G$1)*(Team!$B$5:$C$8=Planning!G$3)*ROW(Team!$A$5:$A$8))-4),"")} | H7: {=IFERROR(INDEX(Team!$A$5:$A$8,SUMPRODUCT((OFFSET(Team!$C$5:$C$8,,MATCH(Planning!$B7,Team!$D$4:$J$4,0),)=Planning!H$1)*(Team!$B$5:$C$8=Planning!H$3)*ROW(Team!$A$5:$A$8))-4),"")} | I7: {=IFERROR(INDEX(Team!$A$5:$A$8,SUMPRODUCT((OFFSET(Team!$C$5:$C$8,,MATCH(Planning!$B7,Team!$D$4:$J$4,0),)=Planning!I$1)*(Team!$B$5:$C$8=Planning!I$3)*ROW(Team!$A$5:$A$8))-4),"")} | J7: {=IFERROR(INDEX(Team!$A$5:$A$8,SUMPRODUCT((OFFSET(Team!$C$5:$C$8,,MATCH(Planning!$B7,Team!$D$4:$J$4,0),)=Planning!J$1)*(Team!$B$5:$C$8=Planning!J$3)*ROW(Team!$A$5:$A$8))-4),"")} -> Personne 2 | ... L7: {=IFERROR(INDEX(Team!$A$5:$A$8,SUMPRODUCT((OFFSET(Team!$C$5:$C$8,,MATCH(Planning!$B7,Team!$D$4:$J$4,0),)=Planning!L$1)*(Team!$B$5:$C$8=Planning!L$3)*ROW(Team!$A$5:$A$8))-4),"")}
B8: =B7+1 -> 44566 | C8: {=IFERROR(INDEX(Team!$A$5:$A$8,SUMPRODUCT((OFFSET(Team!$C$5:$C$8,,MATCH(Planning!$B8,Team!$D$4:$J$4,0),)=Planning!C$1)*(Team!$B$5:$C$8=Planning!C$3)*ROW(Team!$A$5:$A$8))-4),"")} | D8: {=IFERROR(INDEX(Team!$A$5:$A$8,SUMPRODUCT((OFFSET(Team!$C$5:$C$8,,MATCH(Planning!$B8,Team!$D$4:$J$4,0),)=Planning!D$1)*(Team!$B$5:$C$8=Planning!D$3)*ROW(Team!$A$5:$A$8))-4),"")} | E8: {=IFERROR(INDEX(Team!$A$5:$A$8,SUMPRODUCT((OFFSET(Team!$C$5:$C$8,,MATCH(Planning!$B8,Team!$D$4:$J$4,0),)=Planning!E$1)*(Team!$B$5:$C$8=Planning!E$3)*ROW(Team!$A$5:$A$8))-4),"")} | F8: {=IFERROR(INDEX(Team!$A$5:$A$8,SUMPRODUCT((OFFSET(Team!$C$5:$C$8,,MATCH(Planning!$B8,Team!$D$4:$J$4,0),)=Planning!F$1)*(Team!$B$5:$C$8=Planning!F$3)*ROW(Team!$A$5:$A$8))-4),"")} | G8: {=IFERROR(INDEX(Team!$A$5:$A$8,SUMPRODUCT((OFFSET(Team!$C$5:$C$8,,MATCH(Planning!$B8,Team!$D$4:$J$4,0),)=Planning!G$1)*(Team!$B$5:$C$8=Planning!G$3)*ROW(Team!$A$5:$A$8))-4),"")} | H8: {=IFERROR(INDEX(Team!$A$5:$A$8,SUMPRODUCT((OFFSET(Team!$C$5:$C$8,,MATCH(Planning!$B8,Team!$D$4:$J$4,0),)=Planning!H$1)*(Team!$B$5:$C$8=Planning!H$3)*ROW(Team!$A$5:$A$8))-4),"")} | I8: {=IFERROR(INDEX(Team!$A$5:$A$8,SUMPRODUCT((OFFSET(Team!$C$5:$C$8,,MATCH(Planning!$B8,Team!$D$4:$J$4,0),)=Planning!I$1)*(Team!$B$5:$C$8=Planning!I$3)*ROW(Team!$A$5:$A$8))-4),"")} -> Personne 3 | J8: {=IFERROR(INDEX(Team!$A$5:$A$8,SUMPRODUCT((OFFSET(Team!$C$5:$C$8,,MATCH(Planning!$B8,Team!$D$4:$J$4,0),)=Planning!J$1)*(Team!$B$5:$C$8=Planning!J$3)*ROW(Team!$A$5:$A$8))-4),"")} | ... L8: {=IFERROR(INDEX(Team!$A$5:$A$8,SUMPRODUCT((OFFSET(Team!$C$5:$C$8,,MATCH(Planning!$B8,Team!$D$4:$J$4,0),)=Planning!L$1)*(Team!$B$5:$C$8=Planning!L$3)*ROW(Team!$A$5:$A$8))-4),"")}
B9: =B8+1 -> 44567 | C9: {=IFERROR(INDEX(Team!$A$5:$A$8,SUMPRODUCT((OFFSET(Team!$C$5:$C$8,,MATCH(Planning!$B9,Team!$D$4:$J$4,0),)=Planning!C$1)*(Team!$B$5:$C$8=Planning!C$3)*ROW(Team!$A$5:$A$8))-4),"")} | D9: {=IFERROR(INDEX(Team!$A$5:$A$8,SUMPRODUCT((OFFSET(Team!$C$5:$C$8,,MATCH(Planning!$B9,Team!$D$4:$J$4,0),)=Planning!D$1)*(Team!$B$5:$C$8=Planning!D$3)*ROW(Team!$A$5:$A$8))-4),"")} | E9: {=IFERROR(INDEX(Team!$A$5:$A$8,SUMPRODUCT((OFFSET(Team!$C$5:$C$8,,MATCH(Planning!$B9,Team!$D$4:$J$4,0),)=Planning!E$1)*(Team!$B$5:$C$8=Planning!E$3)*ROW(Team!$A$5:$A$8))-4),"")} | F9: {=IFERROR(INDEX(Team!$A$5:$A$8,SUMPRODUCT((OFFSET(Team!$C$5:$C$8,,MATCH(Planning!$B9,Team!$D$4:$J$4,0),)=Planning!F$1)*(Team!$B$5:$C$8=Planning!F$3)*ROW(Team!$A$5:$A$8))-4),"")} | G9: {=IFERROR(INDEX(Team!$A$5:$A$8,SUMPRODUCT((OFFSET(Team!$C$5:$C$8,,MATCH(Planning!$B9,Team!$D$4:$J$4,0),)=Planning!G$1)*(Team!$B$5:$C$8=Planning!G$3)*ROW(Team!$A$5:$A$8))-4),"")} | H9: {=IFERROR(INDEX(Team!$A$5:$A$8,SUMPRODUCT((OFFSET(Team!$C$5:$C$8,,MATCH(Planning!$B9,Team!$D$4:$J$4,0),)=Planning!H$1)*(Team!$B$5:$C$8=Planning!H$3)*ROW(Team!$A$5:$A$8))-4),"")} | I9: {=IFERROR(INDEX(Team!$A$5:$A$8,SUMPRODUCT((OFFSET(Team!$C$5:$C$8,,MATCH(Planning!$B9,Team!$D$4:$J$4,0),)=Planning!I$1)*(Team!$B$5:$C$8=Planning!I$3)*ROW(Team!$A$5:$A$8))-4),"")} | J9: {=IFERROR(INDEX(Team!$A$5:$A$8,SUMPRODUCT((OFFSET(Team!$C$5:$C$8,,MATCH(Planning!$B9,Team!$D$4:$J$4,0),)=Planning!J$1)*(Team!$B$5:$C$8=Planning!J$3)*ROW(Team!$A$5:$A$8))-4),"")} | ... L9: {=IFERROR(INDEX(Team!$A$5:$A$8,SUMPRODUCT((OFFSET(Team!$C$5:$C$8,,MATCH(Planning!$B9,Team!$D$4:$J$4,0),)=Planning!L$1)*(Team!$B$5:$C$8=Planning!L$3)*ROW(Team!$A$5:$A$8))-4),"")} -> Personne 4
B10: =B9+1 -> 44568 | C10: {=IFERROR(INDEX(Team!$A$5:$A$8,SUMPRODUCT((OFFSET(Team!$C$5:$C$8,,MATCH(Planning!$B10,Team!$D$4:$J$4,0),)=Planning!C$1)*(Team!$B$5:$C$8=Planning!C$3)*ROW(Team!$A$5:$A$8))-4),"")} | D10: {=IFERROR(INDEX(Team!$A$5:$A$8,SUMPRODUCT((OFFSET(Team!$C$5:$C$8,,MATCH(Planning!$B10,Team!$D$4:$J$4,0),)=Planning!D$1)*(Team!$B$5:$C$8=Planning!D$3)*ROW(Team!$A$5:$A$8))-4),"")} | E10: {=IFERROR(INDEX(Team!$A$5:$A$8,SUMPRODUCT((OFFSET(Team!$C$5:$C$8,,MATCH(Planning!$B10,Team!$D$4:$J$4,0),)=Planning!E$1)*(Team!$B$5:$C$8=Planning!E$3)*ROW(Team!$A$5:$A$8))-4),"")} | F10: {=IFERROR(INDEX(Team!$A$5:$A$8,SUMPRODUCT((OFFSET(Team!$C$5:$C$8,,MATCH(Planning!$B10,Team!$D$4:$J$4,0),)=Planning!F$1)*(Team!$B$5:$C$8=Planning!F$3)*ROW(Team!$A$5:$A$8))-4),"")} | G10: {=IFERROR(INDEX(Team!$A$5:$A$8,SUMPRODUCT((OFFSET(Team!$C$5:$C$8,,MATCH(Planning!$B10,Team!$D$4:$J$4,0),)=Planning!G$1)*(Team!$B$5:$C$8=Planning!G$3)*ROW(Team!$A$5:$A$8))-4),"")} | H10: {=IFERROR(INDEX(Team!$A$5:$A$8,SUMPRODUCT((OFFSET(Team!$C$5:$C$8,,MATCH(Planning!$B10,Team!$D$4:$J$4,0),)=Planning!H$1)*(Team!$B$5:$C$8=Planning!H$3)*ROW(Team!$A$5:$A$8))-4),"")} | I10: {=IFERROR(INDEX(Team!$A$5:$A$8,SUMPRODUCT((OFFSET(Team!$C$5:$C$8,,MATCH(Planning!$B10,Team!$D$4:$J$4,0),)=Planning!I$1)*(Team!$B$5:$C$8=Planning!I$3)*ROW(Team!$A$5:$A$8))-4),"")} | J10: {=IFERROR(INDEX(Team!$A$5:$A$8,SUMPRODUCT((OFFSET(Team!$C$5:$C$8,,MATCH(Planning!$B10,Team!$D$4:$J$4,0),)=Planning!J$1)*(Team!$B$5:$C$8=Planning!J$3)*ROW(Team!$A$5:$A$8))-4),"")} | ... L10: {=IFERROR(INDEX(Team!$A$5:$A$8,SUMPRODUCT((OFFSET(Team!$C$5:$C$8,,MATCH(Planning!$B10,Team!$D$4:$J$4,0),)=Planning!L$1)*(Team!$B$5:$C$8=Planning!L$3)*ROW(Team!$A$5:$A$8))-4),"")}
C17: De même pour personne 2
