Workbook
Name colonnel: OFFSET(param!$L$1,,,COUNTIF(param!$L:$L,"><"))

Sheet Fournisseur 1
A1: Référence | B1: Type | C1: Nom F1 | D1: Stock
A2: EFGHI | B2: C | C2: Produit 1 | D2: 100
A3: EDCBA | B3: A | C3: Produit 2 | D3: 50
A4: EDCBA | B4: B | C4: Produit 3 | D4: 20
A5: 54321 | B5: A | C5: Produit 4 | D5: 75
A6: 54321 | B6: B | D6: 200
A7: 12345 | B7: D | C7: Produit 6 | D7: 1000
A8: 12345 | B8: D | C8: Produit 6 | D8: 1000
A9: 12345 | B9: D | C9: Produit 6 | D9: 998
D47: =SUM(D2:D46) -> 3443

Sheet Fournisseur 2
A1: Référence | B1: Type | C1: Nom F2 | D1: Stock
A2: EFGHI | B2: C | C2: Prod 1 | D2: 25
A3: EDCBB | B3: A | C3: Prod 7 | D3: 100
A4: EDCBB | B4: B | C4: Prod 8 | D4: 50
A5: 54321 | B5: A | C5: Prod 4 | D5: 0
A6: 54321 | B6: B | D6: 500
A7: 12345 | B7: E | C7: Prod 9 | D7: 150
A8: 12345 | B8: D | C8: Prod 6 | D8: 300
A9: 12345 | B9: D | C9: Prod 6 | D9: 12
D47: =SUM(D2:D46) -> 1137

Sheet Synthèse
A1: Référence | B1: Type | C1: Nom F1 | D1: Nom F2 | E1: Stock F1 | F1: Stock F2 | G1: Total | J1: RESULTAT | K1: Référence | L1: Type | M1: Nom F1 | N1: Nom F2 | O1: Stock F1 | P1: Stock F2 | Q1: Total
A2: =IFERROR(LEFT(param!M2,SEARCH(" ",param!M2)-1),"") -> 12345 | B2: =IFERROR(MID(param!M2,SEARCH(" ",param!M2)+1,10),"") -> D | C2: {=IFERROR(INDEX('Fournisseur 1'!$C$2:$C$45,MATCH($A2&$B2,'Fournisseur 1'!$A$2:$A$45&'Fournisseur 1'!$B$2:$B$45,0)),"")} -> Produit 6 | D2: {=IFERROR(INDEX('Fournisseur 2'!$C$2:$C$45,MATCH($A2&$B2,'Fournisseur 2'!$A$2:$A$45&'Fournisseur 2'!$B$2:$B$45,0)),"")} -> Prod 6 | E2: {=IFERROR(INDEX('Fournisseur 1'!$D$2:$D$45,MATCH($A2&$B2,'Fournisseur 1'!$A$2:$A$45&'Fournisseur 1'!$B$2:$B$45,0)),"")} -> 1000 | F2: {=IFERROR(INDEX('Fournisseur 2'!$D$2:$D$45,MATCH($A2&$B2,'Fournisseur 2'!$A$2:$A$45&'Fournisseur 2'!$B$2:$B$45,0)),"")} -> 300 | G2: =SUM(E2:F2) -> 1300 | J2: ATTENDU | K2: =IFERROR(LEFT(param!M2,SEARCH(" ",param!M2)),"") -> 12345 | L2: D | M2: Produit 6 | N2: Prod 6 | O2: 2998 | P2: 312 | Q2: =SUM(O2:P2) -> 3310
A3: =IFERROR(LEFT(param!M3,SEARCH(" ",param!M3)-1),"") -> 12345 | B3: =IFERROR(MID(param!M3,SEARCH(" ",param!M3)+1,10),"") -> E | C3: {=IFERROR(INDEX('Fournisseur 1'!$C$2:$C$45,MATCH($A3&$B3,'Fournisseur 1'!$A$2:$A$45&'Fournisseur 1'!$B$2:$B$45,0)),"")} | D3: {=IFERROR(INDEX('Fournisseur 2'!$C$2:$C$45,MATCH($A3&$B3,'Fournisseur 2'!$A$2:$A$45&'Fournisseur 2'!$B$2:$B$45,0)),"")} -> Prod 9 | E3: {=IFERROR(INDEX('Fournisseur 1'!$D$2:$D$45,MATCH($A3&$B3,'Fournisseur 1'!$A$2:$A$45&'Fournisseur 1'!$B$2:$B$45,0)),"")} | F3: {=IFERROR(INDEX('Fournisseur 2'!$D$2:$D$45,MATCH($A3&$B3,'Fournisseur 2'!$A$2:$A$45&'Fournisseur 2'!$B$2:$B$45,0)),"")} -> 150 | G3: =SUM(E3:F3) -> 150 | K3: =IFERROR(LEFT(param!M3,SEARCH(" ",param!M3)),"") -> 12345 | L3: E | N3: Prod 9 | P3: 150 | Q3: =SUM(O3:P3) -> 150
A4: =IFERROR(LEFT(param!M4,SEARCH(" ",param!M4)-1),"") -> 54321 | B4: =IFERROR(MID(param!M4,SEARCH(" ",param!M4)+1,10),"") -> A | C4: {=IFERROR(INDEX('Fournisseur 1'!$C$2:$C$45,MATCH($A4&$B4,'Fournisseur 1'!$A$2:$A$45&'Fournisseur 1'!$B$2:$B$45,0)),"")} -> Produit 4 | D4: {=IFERROR(INDEX('Fournisseur 2'!$C$2:$C$45,MATCH($A4&$B4,'Fournisseur 2'!$A$2:$A$45&'Fournisseur 2'!$B$2:$B$45,0)),"")} -> Prod 4 | E4: {=IFERROR(INDEX('Fournisseur 1'!$D$2:$D$45,MATCH($A4&$B4,'Fournisseur 1'!$A$2:$A$45&'Fournisseur 1'!$B$2:$B$45,0)),"")} -> 75 | F4: {=IFERROR(INDEX('Fournisseur 2'!$D$2:$D$45,MATCH($A4&$B4,'Fournisseur 2'!$A$2:$A$45&'Fournisseur 2'!$B$2:$B$45,0)),"")} -> 0 | G4: =SUM(E4:F4) -> 75 | K4: =IFERROR(LEFT(param!M4,SEARCH(" ",param!M4)),"") -> 54321 | L4: A | M4: Produit 4 | N4: Prod 4 | O4: 75 | P4: 0 | Q4: =SUM(O4:P4) -> 75
A5: =IFERROR(LEFT(param!M5,SEARCH(" ",param!M5)-1),"") -> 54321 | B5: =IFERROR(MID(param!M5,SEARCH(" ",param!M5)+1,10),"") -> B | C5: {=IFERROR(INDEX('Fournisseur 1'!$C$2:$C$45,MATCH($A5&$B5,'Fournisseur 1'!$A$2:$A$45&'Fournisseur 1'!$B$2:$B$45,0)),"")} -> 0 | D5: {=IFERROR(INDEX('Fournisseur 2'!$C$2:$C$45,MATCH($A5&$B5,'Fournisseur 2'!$A$2:$A$45&'Fournisseur 2'!$B$2:$B$45,0)),"")} -> 0 | E5: {=IFERROR(INDEX('Fournisseur 1'!$D$2:$D$45,MATCH($A5&$B5,'Fournisseur 1'!$A$2:$A$45&'Fournisseur 1'!$B$2:$B$45,0)),"")} -> 200 | F5: {=IFERROR(INDEX('Fournisseur 2'!$D$2:$D$45,MATCH($A5&$B5,'Fournisseur 2'!$A$2:$A$45&'Fournisseur 2'!$B$2:$B$45,0)),"")} -> 500 | G5: =SUM(E5:F5) -> 700 | K5: =IFERROR(LEFT(param!M5,SEARCH(" ",param!M5)),"") -> 54321 | L5: B | O5: 200 | P5: 500 | Q5: =SUM(O5:P5) -> 700
A6: =IFERROR(LEFT(param!M6,SEARCH(" ",param!M6)-1),"") -> EDCBA | B6: =IFERROR(MID(param!M6,SEARCH(" ",param!M6)+1,10),"") -> A | C6: {=IFERROR(INDEX('Fournisseur 1'!$C$2:$C$45,MATCH($A6&$B6,'Fournisseur 1'!$A$2:$A$45&'Fournisseur 1'!$B$2:$B$45,0)),"")} -> Produit 2 | D6: {=IFERROR(INDEX('Fournisseur 2'!$C$2:$C$45,MATCH($A6&$B6,'Fournisseur 2'!$A$2:$A$45&'Fournisseur 2'!$B$2:$B$45,0)),"")} | E6: {=IFERROR(INDEX('Fournisseur 1'!$D$2:$D$45,MATCH($A6&$B6,'Fournisseur 1'!$A$2:$A$45&'Fournisseur 1'!$B$2:$B$45,0)),"")} -> 50 | F6: {=IFERROR(INDEX('Fournisseur 2'!$D$2:$D$45,MATCH($A6&$B6,'Fournisseur 2'!$A$2:$A$45&'Fournisseur 2'!$B$2:$B$45,0)),"")} | G6: =SUM(E6:F6) -> 50 | K6: =IFERROR(LEFT(param!M6,SEARCH(" ",param!M6)),"") -> EDCBA | L6: A | M6: Produit 2 | N6: Prod 2 | O6: 50 | Q6: =SUM(O6:P6) -> 50
A7: =IFERROR(LEFT(param!M7,SEARCH(" ",param!M7)-1),"") -> EDCBA | B7: =IFERROR(MID(param!M7,SEARCH(" ",param!M7)+1,10),"") -> B | C7: {=IFERROR(INDEX('Fournisseur 1'!$C$2:$C$45,MATCH($A7&$B7,'Fournisseur 1'!$A$2:$A$45&'Fournisseur 1'!$B$2:$B$45,0)),"")} -> Produit 3 | D7: {=IFERROR(INDEX('Fournisseur 2'!$C$2:$C$45,MATCH($A7&$B7,'Fournisseur 2'!$A$2:$A$45&'Fournisseur 2'!$B$2:$B$45,0)),"")} | E7: {=IFERROR(INDEX('Fournisseur 1'!$D$2:$D$45,MATCH($A7&$B7,'Fournisseur 1'!$A$2:$A$45&'Fournisseur 1'!$B$2:$B$45,0)),"")} -> 20 | F7: {=IFERROR(INDEX('Fournisseur 2'!$D$2:$D$45,MATCH($A7&$B7,'Fournisseur 2'!$A$2:$A$45&'Fournisseur 2'!$B$2:$B$45,0)),"")} | G7: =SUM(E7:F7) -> 20 | K7: =IFERROR(LEFT(param!M7,SEARCH(" ",param!M7)),"") -> EDCBA | L7: B | M7: Produit 3 | N7: Prod 3 | O7: 20 | Q7: =SUM(O7:P7) -> 20
A8: =IFERROR(LEFT(param!M8,SEARCH(" ",param!M8)-1),"") -> EDCBB | B8: =IFERROR(MID(param!M8,SEARCH(" ",param!M8)+1,10),"") -> A | C8: {=IFERROR(INDEX('Fournisseur 1'!$C$2:$C$45,MATCH($A8&$B8,'Fournisseur 1'!$A$2:$A$45&'Fournisseur 1'!$B$2:$B$45,0)),"")} | D8: {=IFERROR(INDEX('Fournisseur 2'!$C$2:$C$45,MATCH($A8&$B8,'Fournisseur 2'!$A$2:$A$45&'Fournisseur 2'!$B$2:$B$45,0)),"")} -> Prod 7 | E8: {=IFERROR(INDEX('Fournisseur 1'!$D$2:$D$45,MATCH($A8&$B8,'Fournisseur 1'!$A$2:$A$45&'Fournisseur 1'!$B$2:$B$45,0)),"")} | F8: {=IFERROR(INDEX('Fournisseur 2'!$D$2:$D$45,MATCH($A8&$B8,'Fournisseur 2'!$A$2:$A$45&'Fournisseur 2'!$B$2:$B$45,0)),"")} -> 100 | G8: =SUM(E8:F8) -> 100 | K8: =IFERROR(LEFT(param!M8,SEARCH(" ",param!M8)),"") -> EDCBB | L8: A | N8: Prod 7 | P8: 100 | Q8: =SUM(O8:P8) -> 100
A9: =IFERROR(LEFT(param!M9,SEARCH(" ",param!M9)-1),"") -> EDCBB | B9: =IFERROR(MID(param!M9,SEARCH(" ",param!M9)+1,10),"") -> B | C9: {=IFERROR(INDEX('Fournisseur 1'!$C$2:$C$45,MATCH($A9&$B9,'Fournisseur 1'!$A$2:$A$45&'Fournisseur 1'!$B$2:$B$45,0)),"")} | D9: {=IFERROR(INDEX('Fournisseur 2'!$C$2:$C$45,MATCH($A9&$B9,'Fournisseur 2'!$A$2:$A$45&'Fournisseur 2'!$B$2:$B$45,0)),"")} -> Prod 8 | E9: {=IFERROR(INDEX('Fournisseur 1'!$D$2:$D$45,MATCH($A9&$B9,'Fournisseur 1'!$A$2:$A$45&'Fournisseur 1'!$B$2:$B$45,0)),"")} | F9: {=IFERROR(INDEX('Fournisseur 2'!$D$2:$D$45,MATCH($A9&$B9,'Fournisseur 2'!$A$2:$A$45&'Fournisseur 2'!$B$2:$B$45,0)),"")} -> 50 | G9: =SUM(E9:F9) -> 50 | K9: =IFERROR(LEFT(param!M9,SEARCH(" ",param!M9)),"") -> EDCBB | L9: B | N9: Prod 8 | P9: 50 | Q9: =SUM(O9:P9) -> 50
A10: =IFERROR(LEFT(param!M10,SEARCH(" ",param!M10)-1),"") -> EFGHI | B10: =IFERROR(MID(param!M10,SEARCH(" ",param!M10)+1,10),"") -> C | C10: {=IFERROR(INDEX('Fournisseur 1'!$C$2:$C$45,MATCH($A10&$B10,'Fournisseur 1'!$A$2:$A$45&'Fournisseur 1'!$B$2:$B$45,0)),"")} -> Produit 1 | D10: {=IFERROR(INDEX('Fournisseur 2'!$C$2:$C$45,MATCH($A10&$B10,'Fournisseur 2'!$A$2:$A$45&'Fournisseur 2'!$B$2:$B$45,0)),"")} -> Prod 1 | E10: {=IFERROR(INDEX('Fournisseur 1'!$D$2:$D$45,MATCH($A10&$B10,'Fournisseur 1'!$A$2:$A$45&'Fournisseur 1'!$B$2:$B$45,0)),"")} -> 100 | F10: {=IFERROR(INDEX('Fournisseur 2'!$D$2:$D$45,MATCH($A10&$B10,'Fournisseur 2'!$A$2:$A$45&'Fournisseur 2'!$B$2:$B$45,0)),"")} -> 25 | G10: =SUM(E10:F10) -> 125 | K10: =IFERROR(LEFT(param!M10,SEARCH(" ",param!M10)),"") -> EFGHI | L10: C | M10: Produit 1 | N10: Prod 1 | O10: 100 | P10: 25 | Q10: =SUM(O10:P10) -> 125
A11: =IFERROR(LEFT(param!M11,SEARCH(" ",param!M11)-1),"") | B11: =IFERROR(MID(param!M11,SEARCH(" ",param!M11)+1,10),"") | C11: {=IFERROR(INDEX('Fournisseur 1'!$C$2:$C$45,MATCH($A11&$B11,'Fournisseur 1'!$A$2:$A$45&'Fournisseur 1'!$B$2:$B$45,0)),"")} -> 0 | D11: {=IFERROR(INDEX('Fournisseur 2'!$C$2:$C$45,MATCH($A11&$B11,'Fournisseur 2'!$A$2:$A$45&'Fournisseur 2'!$B$2:$B$45,0)),"")} -> 0 | E11: {=IFERROR(INDEX('Fournisseur 1'!$D$2:$D$45,MATCH($A11&$B11,'Fournisseur 1'!$A$2:$A$45&'Fournisseur 1'!$B$2:$B$45,0)),"")} -> 0 | F11: {=IFERROR(INDEX('Fournisseur 2'!$D$2:$D$45,MATCH($A11&$B11,'Fournisseur 2'!$A$2:$A$45&'Fournisseur 2'!$B$2:$B$45,0)),"")} -> 0 | G11: =SUM(E11:F11) -> 0 | K11: =IFERROR(LEFT(param!M11,SEARCH(" ",param!M11)),"") | Q11: =SUM(O11:P11) -> 0
A12: =IFERROR(LEFT(param!M12,SEARCH(" ",param!M12)-1),"") | B12: =IFERROR(MID(param!M12,SEARCH(" ",param!M12)+1,10),"") | C12: {=IFERROR(INDEX('Fournisseur 1'!$C$2:$C$45,MATCH($A12&$B12,'Fournisseur 1'!$A$2:$A$45&'Fournisseur 1'!$B$2:$B$45,0)),"")} -> 0 | D12: {=IFERROR(INDEX('Fournisseur 2'!$C$2:$C$45,MATCH($A12&$B12,'Fournisseur 2'!$A$2:$A$45&'Fournisseur 2'!$B$2:$B$45,0)),"")} -> 0 | E12: {=IFERROR(INDEX('Fournisseur 1'!$D$2:$D$45,MATCH($A12&$B12,'Fournisseur 1'!$A$2:$A$45&'Fournisseur 1'!$B$2:$B$45,0)),"")} -> 0 | F12: {=IFERROR(INDEX('Fournisseur 2'!$D$2:$D$45,MATCH($A12&$B12,'Fournisseur 2'!$A$2:$A$45&'Fournisseur 2'!$B$2:$B$45,0)),"")} -> 0 | G12: =SUM(E12:F12) -> 0 | K12: =IFERROR(LEFT(param!M12,SEARCH(" ",param!M12)),"") | Q12: =SUM(O12:P12) -> 0
A13: =IFERROR(LEFT(param!M13,SEARCH(" ",param!M13)-1),"") | B13: =IFERROR(MID(param!M13,SEARCH(" ",param!M13)+1,10),"") | C13: {=IFERROR(INDEX('Fournisseur 1'!$C$2:$C$45,MATCH($A13&$B13,'Fournisseur 1'!$A$2:$A$45&'Fournisseur 1'!$B$2:$B$45,0)),"")} -> 0 | D13: {=IFERROR(INDEX('Fournisseur 2'!$C$2:$C$45,MATCH($A13&$B13,'Fournisseur 2'!$A$2:$A$45&'Fournisseur 2'!$B$2:$B$45,0)),"")} -> 0 | E13: {=IFERROR(INDEX('Fournisseur 1'!$D$2:$D$45,MATCH($A13&$B13,'Fournisseur 1'!$A$2:$A$45&'Fournisseur 1'!$B$2:$B$45,0)),"")} -> 0 | F13: {=IFERROR(INDEX('Fournisseur 2'!$D$2:$D$45,MATCH($A13&$B13,'Fournisseur 2'!$A$2:$A$45&'Fournisseur 2'!$B$2:$B$45,0)),"")} -> 0 | G13: =SUM(E13:F13) -> 0 | K13: =IFERROR(LEFT(param!M13,SEARCH(" ",param!M13)),"") | Q13: =SUM(O13:P13) -> 0
A14: =IFERROR(LEFT(param!M14,SEARCH(" ",param!M14)-1),"") | B14: =IFERROR(MID(param!M14,SEARCH(" ",param!M14)+1,10),"") | C14: {=IFERROR(INDEX('Fournisseur 1'!$C$2:$C$45,MATCH($A14&$B14,'Fournisseur 1'!$A$2:$A$45&'Fournisseur 1'!$B$2:$B$45,0)),"")} -> 0 | D14: {=IFERROR(INDEX('Fournisseur 2'!$C$2:$C$45,MATCH($A14&$B14,'Fournisseur 2'!$A$2:$A$45&'Fournisseur 2'!$B$2:$B$45,0)),"")} -> 0 | E14: {=IFERROR(INDEX('Fournisseur 1'!$D$2:$D$45,MATCH($A14&$B14,'Fournisseur 1'!$A$2:$A$45&'Fournisseur 1'!$B$2:$B$45,0)),"")} -> 0 | F14: {=IFERROR(INDEX('Fournisseur 2'!$D$2:$D$45,MATCH($A14&$B14,'Fournisseur 2'!$A$2:$A$45&'Fournisseur 2'!$B$2:$B$45,0)),"")} -> 0 | G14: =SUM(E14:F14) -> 0 | K14: =IFERROR(LEFT(param!M14,SEARCH(" ",param!M14)),"") | Q14: =SUM(O14:P14) -> 0
A15: =IFERROR(LEFT(param!M15,SEARCH(" ",param!M15)-1),"") | B15: =IFERROR(MID(param!M15,SEARCH(" ",param!M15)+1,10),"") | C15: {=IFERROR(INDEX('Fournisseur 1'!$C$2:$C$45,MATCH($A15&$B15,'Fournisseur 1'!$A$2:$A$45&'Fournisseur 1'!$B$2:$B$45,0)),"")} -> 0 | D15: {=IFERROR(INDEX('Fournisseur 2'!$C$2:$C$45,MATCH($A15&$B15,'Fournisseur 2'!$A$2:$A$45&'Fournisseur 2'!$B$2:$B$45,0)),"")} -> 0 | E15: {=IFERROR(INDEX('Fournisseur 1'!$D$2:$D$45,MATCH($A15&$B15,'Fournisseur 1'!$A$2:$A$45&'Fournisseur 1'!$B$2:$B$45,0)),"")} -> 0 | F15: {=IFERROR(INDEX('Fournisseur 2'!$D$2:$D$45,MATCH($A15&$B15,'Fournisseur 2'!$A$2:$A$45&'Fournisseur 2'!$B$2:$B$45,0)),"")} -> 0 | G15: =SUM(E15:F15) -> 0 | K15: =IFERROR(LEFT(param!M15,SEARCH(" ",param!M15)),"") | Q15: =SUM(O15:P15) -> 0
A16: =IFERROR(LEFT(param!M16,SEARCH(" ",param!M16)-1),"") | B16: =IFERROR(MID(param!M16,SEARCH(" ",param!M16)+1,10),"") | C16: {=IFERROR(INDEX('Fournisseur 1'!$C$2:$C$45,MATCH($A16&$B16,'Fournisseur 1'!$A$2:$A$45&'Fournisseur 1'!$B$2:$B$45,0)),"")} -> 0 | D16: {=IFERROR(INDEX('Fournisseur 2'!$C$2:$C$45,MATCH($A16&$B16,'Fournisseur 2'!$A$2:$A$45&'Fournisseur 2'!$B$2:$B$45,0)),"")} -> 0 | E16: {=IFERROR(INDEX('Fournisseur 1'!$D$2:$D$45,MATCH($A16&$B16,'Fournisseur 1'!$A$2:$A$45&'Fournisseur 1'!$B$2:$B$45,0)),"")} -> 0 | F16: {=IFERROR(INDEX('Fournisseur 2'!$D$2:$D$45,MATCH($A16&$B16,'Fournisseur 2'!$A$2:$A$45&'Fournisseur 2'!$B$2:$B$45,0)),"")} -> 0 | G16: =SUM(E16:F16) -> 0 | K16: =IFERROR(LEFT(param!M16,SEARCH(" ",param!M16)),"") | Q16: =SUM(O16:P16) -> 0
A17: =IFERROR(LEFT(param!M17,SEARCH(" ",param!M17)-1),"") | B17: =IFERROR(MID(param!M17,SEARCH(" ",param!M17)+1,10),"") | C17: {=IFERROR(INDEX('Fournisseur 1'!$C$2:$C$45,MATCH($A17&$B17,'Fournisseur 1'!$A$2:$A$45&'Fournisseur 1'!$B$2:$B$45,0)),"")} -> 0 | D17: {=IFERROR(INDEX('Fournisseur 2'!$C$2:$C$45,MATCH($A17&$B17,'Fournisseur 2'!$A$2:$A$45&'Fournisseur 2'!$B$2:$B$45,0)),"")} -> 0 | E17: {=IFERROR(INDEX('Fournisseur 1'!$D$2:$D$45,MATCH($A17&$B17,'Fournisseur 1'!$A$2:$A$45&'Fournisseur 1'!$B$2:$B$45,0)),"")} -> 0 | F17: {=IFERROR(INDEX('Fournisseur 2'!$D$2:$D$45,MATCH($A17&$B17,'Fournisseur 2'!$A$2:$A$45&'Fournisseur 2'!$B$2:$B$45,0)),"")} -> 0 | G17: =SUM(E17:F17) -> 0 | K17: =IFERROR(LEFT(param!M17,SEARCH(" ",param!M17)),"") | Q17: =SUM(O17:P17) -> 0
A18: =IFERROR(LEFT(param!M18,SEARCH(" ",param!M18)-1),"") | B18: =IFERROR(MID(param!M18,SEARCH(" ",param!M18)+1,10),"") | C18: {=IFERROR(INDEX('Fournisseur 1'!$C$2:$C$45,MATCH($A18&$B18,'Fournisseur 1'!$A$2:$A$45&'Fournisseur 1'!$B$2:$B$45,0)),"")} -> 0 | D18: {=IFERROR(INDEX('Fournisseur 2'!$C$2:$C$45,MATCH($A18&$B18,'Fournisseur 2'!$A$2:$A$45&'Fournisseur 2'!$B$2:$B$45,0)),"")} -> 0 | E18: {=IFERROR(INDEX('Fournisseur 1'!$D$2:$D$45,MATCH($A18&$B18,'Fournisseur 1'!$A$2:$A$45&'Fournisseur 1'!$B$2:$B$45,0)),"")} -> 0 | F18: {=IFERROR(INDEX('Fournisseur 2'!$D$2:$D$45,MATCH($A18&$B18,'Fournisseur 2'!$A$2:$A$45&'Fournisseur 2'!$B$2:$B$45,0)),"")} -> 0 | G18: =SUM(E18:F18) -> 0 | K18: =IFERROR(LEFT(param!M18,SEARCH(" ",param!M18)),"") | Q18: =SUM(O18:P18) -> 0
A19: =IFERROR(LEFT(param!M19,SEARCH(" ",param!M19)-1),"") | B19: =IFERROR(MID(param!M19,SEARCH(" ",param!M19)+1,10),"") | C19: {=IFERROR(INDEX('Fournisseur 1'!$C$2:$C$45,MATCH($A19&$B19,'Fournisseur 1'!$A$2:$A$45&'Fournisseur 1'!$B$2:$B$45,0)),"")} -> 0 | D19: {=IFERROR(INDEX('Fournisseur 2'!$C$2:$C$45,MATCH($A19&$B19,'Fournisseur 2'!$A$2:$A$45&'Fournisseur 2'!$B$2:$B$45,0)),"")} -> 0 | E19: {=IFERROR(INDEX('Fournisseur 1'!$D$2:$D$45,MATCH($A19&$B19,'Fournisseur 1'!$A$2:$A$45&'Fournisseur 1'!$B$2:$B$45,0)),"")} -> 0 | F19: {=IFERROR(INDEX('Fournisseur 2'!$D$2:$D$45,MATCH($A19&$B19,'Fournisseur 2'!$A$2:$A$45&'Fournisseur 2'!$B$2:$B$45,0)),"")} -> 0 | G19: =SUM(E19:F19) -> 0 | K19: =IFERROR(LEFT(param!M19,SEARCH(" ",param!M19)),"") | Q19: =SUM(O19:P19) -> 0
A20: =IFERROR(LEFT(param!M20,SEARCH(" ",param!M20)-1),"") | B20: =IFERROR(MID(param!M20,SEARCH(" ",param!M20)+1,10),"") | C20: {=IFERROR(INDEX('Fournisseur 1'!$C$2:$C$45,MATCH($A20&$B20,'Fournisseur 1'!$A$2:$A$45&'Fournisseur 1'!$B$2:$B$45,0)),"")} -> 0 | D20: {=IFERROR(INDEX('Fournisseur 2'!$C$2:$C$45,MATCH($A20&$B20,'Fournisseur 2'!$A$2:$A$45&'Fournisseur 2'!$B$2:$B$45,0)),"")} -> 0 | E20: {=IFERROR(INDEX('Fournisseur 1'!$D$2:$D$45,MATCH($A20&$B20,'Fournisseur 1'!$A$2:$A$45&'Fournisseur 1'!$B$2:$B$45,0)),"")} -> 0 | F20: {=IFERROR(INDEX('Fournisseur 2'!$D$2:$D$45,MATCH($A20&$B20,'Fournisseur 2'!$A$2:$A$45&'Fournisseur 2'!$B$2:$B$45,0)),"")} -> 0 | G20: =SUM(E20:F20) -> 0 | K20: =IFERROR(LEFT(param!M20,SEARCH(" ",param!M20)),"") | Q20: =SUM(O20:P20) -> 0
A21: =IFERROR(LEFT(param!M21,SEARCH(" ",param!M21)-1),"") | B21: =IFERROR(MID(param!M21,SEARCH(" ",param!M21)+1,10),"") | C21: {=IFERROR(INDEX('Fournisseur 1'!$C$2:$C$45,MATCH($A21&$B21,'Fournisseur 1'!$A$2:$A$45&'Fournisseur 1'!$B$2:$B$45,0)),"")} -> 0 | D21: {=IFERROR(INDEX('Fournisseur 2'!$C$2:$C$45,MATCH($A21&$B21,'Fournisseur 2'!$A$2:$A$45&'Fournisseur 2'!$B$2:$B$45,0)),"")} -> 0 | E21: {=IFERROR(INDEX('Fournisseur 1'!$D$2:$D$45,MATCH($A21&$B21,'Fournisseur 1'!$A$2:$A$45&'Fournisseur 1'!$B$2:$B$45,0)),"")} -> 0 | F21: {=IFERROR(INDEX('Fournisseur 2'!$D$2:$D$45,MATCH($A21&$B21,'Fournisseur 2'!$A$2:$A$45&'Fournisseur 2'!$B$2:$B$45,0)),"")} -> 0 | G21: =SUM(E21:F21) -> 0 | K21: =IFERROR(LEFT(param!M21,SEARCH(" ",param!M21)),"") | Q21: =SUM(O21:P21) -> 0
A22: =IFERROR(LEFT(param!M22,SEARCH(" ",param!M22)-1),"") | B22: =IFERROR(MID(param!M22,SEARCH(" ",param!M22)+1,10),"") | C22: {=IFERROR(INDEX('Fournisseur 1'!$C$2:$C$45,MATCH($A22&$B22,'Fournisseur 1'!$A$2:$A$45&'Fournisseur 1'!$B$2:$B$45,0)),"")} -> 0 | D22: {=IFERROR(INDEX('Fournisseur 2'!$C$2:$C$45,MATCH($A22&$B22,'Fournisseur 2'!$A$2:$A$45&'Fournisseur 2'!$B$2:$B$45,0)),"")} -> 0 | E22: {=IFERROR(INDEX('Fournisseur 1'!$D$2:$D$45,MATCH($A22&$B22,'Fournisseur 1'!$A$2:$A$45&'Fournisseur 1'!$B$2:$B$45,0)),"")} -> 0 | F22: {=IFERROR(INDEX('Fournisseur 2'!$D$2:$D$45,MATCH($A22&$B22,'Fournisseur 2'!$A$2:$A$45&'Fournisseur 2'!$B$2:$B$45,0)),"")} -> 0 | G22: =SUM(E22:F22) -> 0 | K22: =IFERROR(LEFT(param!M22,SEARCH(" ",param!M22)),"") | Q22: =SUM(O22:P22) -> 0
... A43: =IFERROR(LEFT(param!M43,SEARCH(" ",param!M43)-1),"") | B43: =IFERROR(MID(param!M43,SEARCH(" ",param!M43)+1,10),"") | C43: {=IFERROR(INDEX('Fournisseur 1'!$C$2:$C$45,MATCH($A43&$B43,'Fournisseur 1'!$A$2:$A$45&'Fournisseur 1'!$B$2:$B$45,0)),"")} -> 0 | D43: {=IFERROR(INDEX('Fournisseur 2'!$C$2:$C$45,MATCH($A43&$B43,'Fournisseur 2'!$A$2:$A$45&'Fournisseur 2'!$B$2:$B$45,0)),"")} -> 0 | E43: {=IFERROR(INDEX('Fournisseur 1'!$D$2:$D$45,MATCH($A43&$B43,'Fournisseur 1'!$A$2:$A$45&'Fournisseur 1'!$B$2:$B$45,0)),"")} -> 0 | F43: {=IFERROR(INDEX('Fournisseur 2'!$D$2:$D$45,MATCH($A43&$B43,'Fournisseur 2'!$A$2:$A$45&'Fournisseur 2'!$B$2:$B$45,0)),"")} -> 0 | G43: =SUM(E43:F43) -> 0 | K43: =IFERROR(LEFT(param!M43,SEARCH(" ",param!M43)),"") | Q43: =SUM(O43:P43) -> 0
A44: =IFERROR(LEFT(param!M44,SEARCH(" ",param!M44)-1),"") | B44: =IFERROR(MID(param!M44,SEARCH(" ",param!M44)+1,10),"") | C44: {=IFERROR(INDEX('Fournisseur 1'!$C$2:$C$45,MATCH($A44&$B44,'Fournisseur 1'!$A$2:$A$45&'Fournisseur 1'!$B$2:$B$45,0)),"")} -> 0 | D44: {=IFERROR(INDEX('Fournisseur 2'!$C$2:$C$45,MATCH($A44&$B44,'Fournisseur 2'!$A$2:$A$45&'Fournisseur 2'!$B$2:$B$45,0)),"")} -> 0 | E44: {=IFERROR(INDEX('Fournisseur 1'!$D$2:$D$45,MATCH($A44&$B44,'Fournisseur 1'!$A$2:$A$45&'Fournisseur 1'!$B$2:$B$45,0)),"")} -> 0 | F44: {=IFERROR(INDEX('Fournisseur 2'!$D$2:$D$45,MATCH($A44&$B44,'Fournisseur 2'!$A$2:$A$45&'Fournisseur 2'!$B$2:$B$45,0)),"")} -> 0 | G44: =SUM(E44:F44) -> 0 | Q44: =SUM(O44:P44) -> 0
A45: =IFERROR(LEFT(param!M45,SEARCH(" ",param!M45)-1),"") | B45: =IFERROR(MID(param!M45,SEARCH(" ",param!M45)+1,10),"") | C45: {=IFERROR(INDEX('Fournisseur 1'!$C$2:$C$45,MATCH($A45&$B45,'Fournisseur 1'!$A$2:$A$45&'Fournisseur 1'!$B$2:$B$45,0)),"")} -> 0 | D45: {=IFERROR(INDEX('Fournisseur 2'!$C$2:$C$45,MATCH($A45&$B45,'Fournisseur 2'!$A$2:$A$45&'Fournisseur 2'!$B$2:$B$45,0)),"")} -> 0 | E45: {=IFERROR(INDEX('Fournisseur 1'!$D$2:$D$45,MATCH($A45&$B45,'Fournisseur 1'!$A$2:$A$45&'Fournisseur 1'!$B$2:$B$45,0)),"")} -> 0 | F45: {=IFERROR(INDEX('Fournisseur 2'!$D$2:$D$45,MATCH($A45&$B45,'Fournisseur 2'!$A$2:$A$45&'Fournisseur 2'!$B$2:$B$45,0)),"")} -> 0 | G45: =SUM(E45:F45) -> 0 | Q45: =SUM(O45:P45) -> 0
G47: =SUM(G2:G46) -> 2570 | I47: ='Fournisseur 1'!D47+'Fournisseur 2'!D47 -> 4580 | L47: =IF(I47=Q47,"TOTAL OK","ERREUR") -> TOTAL OK | O47: =SUM(O2:O46) -> 3443 | P47: =SUM(P2:P46) -> 1137 | Q47: =SUM(Q2:Q46) -> 4580

Sheet param
A1: {=CHOOSE({1,2},'Fournisseur 1'!A2:A200&" "&'Fournisseur 1'!B2:B200,'Fournisseur 2'!A2:A200&" "&'Fournisseur 2'!B2:B200)} -> EFGHI C | B1: EFGHI C | G1: {=IF(_xlfn.ANCHORARRAY(A$1)<>0,ROW(_xlfn.ANCHORARRAY(A1))+(COLUMN(_xlfn.ANCHORARRAY(A1))/1000),"")} -> 1.001 | H1: 1.002 | L1: {=INDEX(_xlfn.ANCHORARRAY(A$1),INT(SMALL(_xlfn.ANCHORARRAY(G$1),ROW(1:1))),(SMALL(_xlfn.ANCHORARRAY(G$1),ROW(1:1))-INT(SMALL(_xlfn.ANCHORARRAY(G$1),ROW(1:1))))*1000)} -> EFGHI C
A2: EDCBA A | B2: EDCBB A | G2: 2.001 | H2: 2.002 | L2: {=INDEX(_xlfn.ANCHORARRAY(A$1),INT(SMALL(_xlfn.ANCHORARRAY(G$1),ROW(2:2))),(SMALL(_xlfn.ANCHORARRAY(G$1),ROW(2:2))-INT(SMALL(_xlfn.ANCHORARRAY(G$1),ROW(2:2))))*1000)} -> EFGHI C | M2: {=INDEX(colonnel,MATCH(0,COUNTIF(colonnel,"<"&colonnel)-SUM(COUNTIF(M$1:M1,colonnel)),0))} -> 12345 D
A3: EDCBA B | B3: EDCBB B | G3: 3.001 | H3: 3.002 | L3: {=INDEX(_xlfn.ANCHORARRAY(A$1),INT(SMALL(_xlfn.ANCHORARRAY(G$1),ROW(3:3))),(SMALL(_xlfn.ANCHORARRAY(G$1),ROW(3:3))-INT(SMALL(_xlfn.ANCHORARRAY(G$1),ROW(3:3))))*1000)} -> EDCBA A | M3: {=INDEX(colonnel,MATCH(0,COUNTIF(colonnel,"<"&colonnel)-SUM(COUNTIF(M$1:M2,colonnel)),0))} -> 12345 E
A4: 54321 A | B4: 54321 A | G4: 4.001 | H4: 4.002 | L4: {=INDEX(_xlfn.ANCHORARRAY(A$1),INT(SMALL(_xlfn.ANCHORARRAY(G$1),ROW(4:4))),(SMALL(_xlfn.ANCHORARRAY(G$1),ROW(4:4))-INT(SMALL(_xlfn.ANCHORARRAY(G$1),ROW(4:4))))*1000)} -> EDCBB A | M4: {=INDEX(colonnel,MATCH(0,COUNTIF(colonnel,"<"&colonnel)-SUM(COUNTIF(M$1:M3,colonnel)),0))} -> 54321 A
A5: 54321 B | B5: 54321 B | G5: 5.001 | H5: 5.002 | L5: {=INDEX(_xlfn.ANCHORARRAY(A$1),INT(SMALL(_xlfn.ANCHORARRAY(G$1),ROW(5:5))),(SMALL(_xlfn.ANCHORARRAY(G$1),ROW(5:5))-INT(SMALL(_xlfn.ANCHORARRAY(G$1),ROW(5:5))))*1000)} -> EDCBA B | M5: {=INDEX(colonnel,MATCH(0,COUNTIF(colonnel,"<"&colonnel)-SUM(COUNTIF(M$1:M4,colonnel)),0))} -> 54321 B
A6: 12345 D | B6: 12345 E | G6: 6.001 | H6: 6.002 | L6: {=INDEX(_xlfn.ANCHORARRAY(A$1),INT(SMALL(_xlfn.ANCHORARRAY(G$1),ROW(6:6))),(SMALL(_xlfn.ANCHORARRAY(G$1),ROW(6:6))-INT(SMALL(_xlfn.ANCHORARRAY(G$1),ROW(6:6))))*1000)} -> EDCBB B | M6: {=INDEX(colonnel,MATCH(0,COUNTIF(colonnel,"<"&colonnel)-SUM(COUNTIF(M$1:M5,colonnel)),0))} -> EDCBA A
A7: 12345 D | B7: 12345 D | G7: 7.001 | H7: 7.002 | L7: {=INDEX(_xlfn.ANCHORARRAY(A$1),INT(SMALL(_xlfn.ANCHORARRAY(G$1),ROW(7:7))),(SMALL(_xlfn.ANCHORARRAY(G$1),ROW(7:7))-INT(SMALL(_xlfn.ANCHORARRAY(G$1),ROW(7:7))))*1000)} -> 54321 A | M7: {=INDEX(colonnel,MATCH(0,COUNTIF(colonnel,"<"&colonnel)-SUM(COUNTIF(M$1:M6,colonnel)),0))} -> EDCBA B
A8: 12345 D | B8: 12345 D | G8: 8.001 | H8: 8.002 | L8: {=INDEX(_xlfn.ANCHORARRAY(A$1),INT(SMALL(_xlfn.ANCHORARRAY(G$1),ROW(8:8))),(SMALL(_xlfn.ANCHORARRAY(G$1),ROW(8:8))-INT(SMALL(_xlfn.ANCHORARRAY(G$1),ROW(8:8))))*1000)} -> 54321 A | M8: {=INDEX(colonnel,MATCH(0,COUNTIF(colonnel,"<"&colonnel)-SUM(COUNTIF(M$1:M7,colonnel)),0))} -> EDCBB A
G9: 9.001 | H9: 9.002 | L9: {=INDEX(_xlfn.ANCHORARRAY(A$1),INT(SMALL(_xlfn.ANCHORARRAY(G$1),ROW(9:9))),(SMALL(_xlfn.ANCHORARRAY(G$1),ROW(9:9))-INT(SMALL(_xlfn.ANCHORARRAY(G$1),ROW(9:9))))*1000)} -> 54321 B | M9: {=INDEX(colonnel,MATCH(0,COUNTIF(colonnel,"<"&colonnel)-SUM(COUNTIF(M$1:M8,colonnel)),0))} -> EDCBB B
G10: 10.001 | H10: 10.002 | L10: {=INDEX(_xlfn.ANCHORARRAY(A$1),INT(SMALL(_xlfn.ANCHORARRAY(G$1),ROW(10:10))),(SMALL(_xlfn.ANCHORARRAY(G$1),ROW(10:10))-INT(SMALL(_xlfn.ANCHORARRAY(G$1),ROW(10:10))))*1000)} -> 54321 B | M10: {=INDEX(colonnel,MATCH(0,COUNTIF(colonnel,"<"&colonnel)-SUM(COUNTIF(M$1:M9,colonnel)),0))} -> EFGHI C
G11: 11.001 | H11: 11.002 | L11: {=INDEX(_xlfn.ANCHORARRAY(A$1),INT(SMALL(_xlfn.ANCHORARRAY(G$1),ROW(11:11))),(SMALL(_xlfn.ANCHORARRAY(G$1),ROW(11:11))-INT(SMALL(_xlfn.ANCHORARRAY(G$1),ROW(11:11))))*1000)} -> 12345 D | M11: {=INDEX(colonnel,MATCH(0,COUNTIF(colonnel,"<"&colonnel)-SUM(COUNTIF(M$1:M10,colonnel)),0))} -> #N/A
G12: 12.001 | H12: 12.002 | L12: {=INDEX(_xlfn.ANCHORARRAY(A$1),INT(SMALL(_xlfn.ANCHORARRAY(G$1),ROW(12:12))),(SMALL(_xlfn.ANCHORARRAY(G$1),ROW(12:12))-INT(SMALL(_xlfn.ANCHORARRAY(G$1),ROW(12:12))))*1000)} -> 12345 E | M12: {=INDEX(colonnel,MATCH(0,COUNTIF(colonnel,"<"&colonnel)-SUM(COUNTIF(M$1:M11,colonnel)),0))} -> #N/A
G13: 13.001 | H13: 13.002 | L13: {=INDEX(_xlfn.ANCHORARRAY(A$1),INT(SMALL(_xlfn.ANCHORARRAY(G$1),ROW(13:13))),(SMALL(_xlfn.ANCHORARRAY(G$1),ROW(13:13))-INT(SMALL(_xlfn.ANCHORARRAY(G$1),ROW(13:13))))*1000)} -> 12345 D | M13: {=INDEX(colonnel,MATCH(0,COUNTIF(colonnel,"<"&colonnel)-SUM(COUNTIF(M$1:M12,colonnel)),0))} -> #N/A
G14: 14.001 | H14: 14.002 | L14: {=INDEX(_xlfn.ANCHORARRAY(A$1),INT(SMALL(_xlfn.ANCHORARRAY(G$1),ROW(14:14))),(SMALL(_xlfn.ANCHORARRAY(G$1),ROW(14:14))-INT(SMALL(_xlfn.ANCHORARRAY(G$1),ROW(14:14))))*1000)} -> 12345 D | M14: {=INDEX(colonnel,MATCH(0,COUNTIF(colonnel,"<"&colonnel)-SUM(COUNTIF(M$1:M13,colonnel)),0))} -> #N/A
G15: 15.001 | H15: 15.002 | L15: {=INDEX(_xlfn.ANCHORARRAY(A$1),INT(SMALL(_xlfn.ANCHORARRAY(G$1),ROW(15:15))),(SMALL(_xlfn.ANCHORARRAY(G$1),ROW(15:15))-INT(SMALL(_xlfn.ANCHORARRAY(G$1),ROW(15:15))))*1000)} -> 12345 D | M15: {=INDEX(colonnel,MATCH(0,COUNTIF(colonnel,"<"&colonnel)-SUM(COUNTIF(M$1:M14,colonnel)),0))} -> #N/A
G16: 16.001 | H16: 16.002 | L16: {=INDEX(_xlfn.ANCHORARRAY(A$1),INT(SMALL(_xlfn.ANCHORARRAY(G$1),ROW(16:16))),(SMALL(_xlfn.ANCHORARRAY(G$1),ROW(16:16))-INT(SMALL(_xlfn.ANCHORARRAY(G$1),ROW(16:16))))*1000)} -> 12345 D | M16: {=INDEX(colonnel,MATCH(0,COUNTIF(colonnel,"<"&colonnel)-SUM(COUNTIF(M$1:M15,colonnel)),0))} -> #N/A
G17: 17.001 | H17: 17.002 | L17: {=INDEX(_xlfn.ANCHORARRAY(A$1),INT(SMALL(_xlfn.ANCHORARRAY(G$1),ROW(17:17))),(SMALL(_xlfn.ANCHORARRAY(G$1),ROW(17:17))-INT(SMALL(_xlfn.ANCHORARRAY(G$1),ROW(17:17))))*1000)}
G18: 18.001 | H18: 18.002 | L18: {=INDEX(_xlfn.ANCHORARRAY(A$1),INT(SMALL(_xlfn.ANCHORARRAY(G$1),ROW(18:18))),(SMALL(_xlfn.ANCHORARRAY(G$1),ROW(18:18))-INT(SMALL(_xlfn.ANCHORARRAY(G$1),ROW(18:18))))*1000)}
G19: 19.001 | H19: 19.002 | L19: {=INDEX(_xlfn.ANCHORARRAY(A$1),INT(SMALL(_xlfn.ANCHORARRAY(G$1),ROW(19:19))),(SMALL(_xlfn.ANCHORARRAY(G$1),ROW(19:19))-INT(SMALL(_xlfn.ANCHORARRAY(G$1),ROW(19:19))))*1000)}
G20: 20.001 | H20: 20.002 | L20: {=INDEX(_xlfn.ANCHORARRAY(A$1),INT(SMALL(_xlfn.ANCHORARRAY(G$1),ROW(20:20))),(SMALL(_xlfn.ANCHORARRAY(G$1),ROW(20:20))-INT(SMALL(_xlfn.ANCHORARRAY(G$1),ROW(20:20))))*1000)}
G21: 21.001 | H21: 21.002
G22: 22.001 | H22: 22.002
G23: 23.001 | H23: 23.002
G24: 24.001 | H24: 24.002
G25: 25.001 | H25: 25.002
G26: 26.001 | H26: 26.002
G27: 27.001 | H27: 27.002
G28: 28.001 | H28: 28.002
G29: 29.001 | H29: 29.002
G30: 30.001 | H30: 30.002
G31: 31.001 | H31: 31.002
G32: 32.001 | H32: 32.002
... G199: 199.001 | H199: 199.002
