Workbook
Name b_adresse_patients: [1]!coordonnees_1[Adresse]
Name c_adresses: Coordonnees!$C:$C
Name c_cp: Coordonnees!$D:$D
Name c_nom_parents: Coordonnees!$B:$B
Name c_nom_patients: Coordonnees!$A:$A
Name c_villes: Coordonnees!$E:$E
Name factu: Novembre!$F$32
Name onglet: Données!$J$3:$J$14
Name T_Novembre: Novembre!$A$2:$H$153

Sheet 11Fact
A1: =I3 -> A7 | E1: ="Patient : "&I13 -> Patient : A3
A2: =I4 -> 7 rue des Plants pourpre | I2: Cabinet
A3: =I5 -> 1 | E3: =I15 -> Parent ou ESMS payeur : M3 | I3: A7
A4: =I6 -> 0 | E4: =I16 -> 0 | I4: =INDEX(coordonnees_1[ADRESSE],MATCH('11Fact'!I3,coordonnees_1[PATIENTS]),0) -> 7 rue des Plants pourpre
A5: =I7 -> 0 | E5: =I17 -> 1 | I5: =INDEX(coordonnees_1[CP],MATCH('11Fact'!$I$3,coordonnees_1[PATIENTS]),0) -> 1
A6: ="Siret : "&I8 -> Siret : 0 | E6: =I18 -> 0 | I6: =INDEX(coordonnees_1[VILLE],MATCH('11Fact'!$I$3,coordonnees_1[PATIENTS]),0) -> 0
A7: ="Adeli : "&I9 -> Adeli : 0 | I7: =INDEX(coordonnees_1[MAIL],MATCH('11Fact'!$I$3,coordonnees_1[PATIENTS]),0) -> 0
I8: =INDEX(coordonnees_1[SIRET],MATCH('11Fact'!$I$3,coordonnees_1[PATIENTS]),0) -> 0
F9: choix du Mois | I9: =INDEX(coordonnees_1[ADELI],MATCH('11Fact'!$I$3,coordonnees_1[PATIENTS]),0) -> 0
A10: Date de facture : | C10: =TODAY() -> 44909 | F10: Février
I12: PATIENT
A13: NOTE D'HONORAIRES ACQUITTÉE EN PSYCHOMOTRICITÉ | F13: N° : | G13: =INDEX(Novembre!A2:A124,MATCH(I13,Novembre!C2:C124,0)) -> F1051 | I13: A3
I15: ="Parent ou ESMS payeur : "&INDEX(coordonnees_1[PARENTS],MATCH('11Fact'!I13,coordonnees_1[PATIENTS],0)) -> Parent ou ESMS payeur : M3
A16: Dates | C16: Actes | F16: Prix unitaire | H16: =COUNTIF((Novembre!A2:A124),'11Fact'!G13) -> 4 | I16: =INDEX(coordonnees_1[ADRESSE],MATCH('11Fact'!I13,coordonnees_1[PATIENTS],0)) -> 0
A17: {=IFERROR(INDEX(INDIRECT($F$10&"!B$2:B$250"),SMALL(IF((INDIRECT($F$10&"!$A$2:$A$250")=$G$13)*(INDIRECT($F$10&"!$F$2:$F$250")="Payée"),ROW($A2:$A250)-1,""),ROW($A1))),"")} -> 44958 | C17: {=IFERROR(INDEX(INDIRECT($F$10&"!D$2:D$250"),SMALL(IF((INDIRECT($F$10&"!$A$2:$A$250")=$G$13)*(INDIRECT($F$10&"!$F$2:$F$250")="Payée"),ROW($A2:$A250)-1,""),ROW($A1))),"")} -> Séance de 30 minutes | F17: {=IFERROR(INDEX(INDIRECT($F$10&"!E$2:E$250"),SMALL(IF((INDIRECT($F$10&"!$A$2:$A$250")=$G$13)*(INDIRECT($F$10&"!$F$2:$F$250")="Payée"),ROW($A2:$A250)-1,""),ROW($A1))),"")} -> 35 | H17: 0 | I17: =INDEX(coordonnees_1[CP],MATCH('11Fact'!I13,coordonnees_1[PATIENTS],0)) -> 1
A18: {=IFERROR(INDEX(INDIRECT($F$10&"!B$2:B$250"),SMALL(IF((INDIRECT($F$10&"!$A$2:$A$250")=$G$13)*(INDIRECT($F$10&"!$F$2:$F$250")="Payée"),ROW($A3:$A251)-1,""),ROW($A2))),"")} -> 44961 | C18: {=IFERROR(INDEX(INDIRECT($F$10&"!D$2:D$250"),SMALL(IF((INDIRECT($F$10&"!$A$2:$A$250")=$G$13)*(INDIRECT($F$10&"!$F$2:$F$250")="Payée"),ROW($A3:$A251)-1,""),ROW($A2))),"")} -> Séance de 45 minutes | F18: {=IFERROR(INDEX(INDIRECT($F$10&"!E$2:E$250"),SMALL(IF((INDIRECT($F$10&"!$A$2:$A$250")=$G$13)*(INDIRECT($F$10&"!$F$2:$F$250")="Payée"),ROW($A3:$A251)-1,""),ROW($A2))),"")} -> 45 | H18: =IF(H17="","",IF(H17+1>=$H$16,"",H17+1)) -> 1 | I18: =INDEX(coordonnees_1[VILLE],MATCH('11Fact'!I13,coordonnees_1[PATIENTS],0)) -> 0
A19: {=IFERROR(INDEX(INDIRECT($F$10&"!B$2:B$250"),SMALL(IF((INDIRECT($F$10&"!$A$2:$A$250")=$G$13)*(INDIRECT($F$10&"!$F$2:$F$250")="Payée"),ROW($A4:$A252)-1,""),ROW($A3))),"")} -> 44963 | C19: {=IFERROR(INDEX(INDIRECT($F$10&"!D$2:D$250"),SMALL(IF((INDIRECT($F$10&"!$A$2:$A$250")=$G$13)*(INDIRECT($F$10&"!$F$2:$F$250")="Payée"),ROW($A4:$A252)-1,""),ROW($A3))),"")} -> Séance de 45 minutes | F19: {=IFERROR(INDEX(INDIRECT($F$10&"!E$2:E$250"),SMALL(IF((INDIRECT($F$10&"!$A$2:$A$250")=$G$13)*(INDIRECT($F$10&"!$F$2:$F$250")="Payée"),ROW($A4:$A252)-1,""),ROW($A3))),"")} -> 45 | H19: =IF(H18="","",IF(H18+1>=$H$16,"",H18+1)) -> 2
A20: {=IFERROR(INDEX(INDIRECT($F$10&"!B$2:B$250"),SMALL(IF((INDIRECT($F$10&"!$A$2:$A$250")=$G$13)*(INDIRECT($F$10&"!$F$2:$F$250")="Payée"),ROW($A5:$A253)-1,""),ROW($A4))),"")} -> 44965 | C20: {=IFERROR(INDEX(INDIRECT($F$10&"!D$2:D$250"),SMALL(IF((INDIRECT($F$10&"!$A$2:$A$250")=$G$13)*(INDIRECT($F$10&"!$F$2:$F$250")="Payée"),ROW($A5:$A253)-1,""),ROW($A4))),"")} -> Séance de 30 minutes | F20: {=IFERROR(INDEX(INDIRECT($F$10&"!E$2:E$250"),SMALL(IF((INDIRECT($F$10&"!$A$2:$A$250")=$G$13)*(INDIRECT($F$10&"!$F$2:$F$250")="Payée"),ROW($A5:$A253)-1,""),ROW($A4))),"")} -> 35 | H20: =IF(H19="","",IF(H19+1>=$H$16,"",H19+1)) -> 3
A21: {=IFERROR(INDEX(INDIRECT($F$10&"!B$2:B$250"),SMALL(IF((INDIRECT($F$10&"!$A$2:$A$250")=$G$13)*(INDIRECT($F$10&"!$F$2:$F$250")="Payée"),ROW($A6:$A254)-1,""),ROW($A5))),"")} | C21: {=IFERROR(INDEX(INDIRECT($F$10&"!D$2:D$250"),SMALL(IF((INDIRECT($F$10&"!$A$2:$A$250")=$G$13)*(INDIRECT($F$10&"!$F$2:$F$250")="Payée"),ROW($A6:$A254)-1,""),ROW($A5))),"")} | F21: {=IFERROR(INDEX(INDIRECT($F$10&"!E$2:E$250"),SMALL(IF((INDIRECT($F$10&"!$A$2:$A$250")=$G$13)*(INDIRECT($F$10&"!$F$2:$F$250")="Payée"),ROW($A6:$A254)-1,""),ROW($A5))),"")} | H21: =IF(H20="","",IF(H20+1>=$H$16,"",H20+1))
A22: {=IFERROR(INDEX(INDIRECT($F$10&"!B$2:B$250"),SMALL(IF((INDIRECT($F$10&"!$A$2:$A$250")=$G$13)*(INDIRECT($F$10&"!$F$2:$F$250")="Payée"),ROW($A7:$A255)-1,""),ROW($A6))),"")} | C22: {=IFERROR(INDEX(INDIRECT($F$10&"!D$2:D$250"),SMALL(IF((INDIRECT($F$10&"!$A$2:$A$250")=$G$13)*(INDIRECT($F$10&"!$F$2:$F$250")="Payée"),ROW($A7:$A255)-1,""),ROW($A6))),"")} | F22: {=IFERROR(INDEX(INDIRECT($F$10&"!E$2:E$250"),SMALL(IF((INDIRECT($F$10&"!$A$2:$A$250")=$G$13)*(INDIRECT($F$10&"!$F$2:$F$250")="Payée"),ROW($A7:$A255)-1,""),ROW($A6))),"")} | H22: =IF(H21="","",IF(H21+1>=$H$16,"",H21+1)) | I22: ="Nom de l'enfant : "&I13&CHAR(13)&"Nom du/des parents : "&I15&CHAR(13)&I16&CHAR(13)&I17&I18 -> Nom de l'enfant : A3_x000D_Nom du/des parents : Parent ou ESMS payeur : M3_x000D_0_x000D_10
A23: {=IFERROR(INDEX(INDIRECT($F$10&"!B$2:B$250"),SMALL(IF((INDIRECT($F$10&"!$A$2:$A$250")=$G$13)*(INDIRECT($F$10&"!$F$2:$F$250")="Payée"),ROW($A8:$A256)-1,""),ROW($A7))),"")} | C23: {=IFERROR(INDEX(INDIRECT($F$10&"!D$2:D$250"),SMALL(IF((INDIRECT($F$10&"!$A$2:$A$250")=$G$13)*(INDIRECT($F$10&"!$F$2:$F$250")="Payée"),ROW($A8:$A256)-1,""),ROW($A7))),"")} | F23: {=IFERROR(INDEX(INDIRECT($F$10&"!E$2:E$250"),SMALL(IF((INDIRECT($F$10&"!$A$2:$A$250")=$G$13)*(INDIRECT($F$10&"!$F$2:$F$250")="Payée"),ROW($A8:$A256)-1,""),ROW($A7))),"")} | H23: =IF(H22="","",IF(H22+1>=$H$16,"",H22+1))
A24: {=IFERROR(INDEX(INDIRECT($F$10&"!B$2:B$250"),SMALL(IF((INDIRECT($F$10&"!$A$2:$A$250")=$G$13)*(INDIRECT($F$10&"!$F$2:$F$250")="Payée"),ROW($A9:$A257)-1,""),ROW($A8))),"")} | C24: {=IFERROR(INDEX(INDIRECT($F$10&"!D$2:D$250"),SMALL(IF((INDIRECT($F$10&"!$A$2:$A$250")=$G$13)*(INDIRECT($F$10&"!$F$2:$F$250")="Payée"),ROW($A9:$A257)-1,""),ROW($A8))),"")} | F24: {=IFERROR(INDEX(INDIRECT($F$10&"!E$2:E$250"),SMALL(IF((INDIRECT($F$10&"!$A$2:$A$250")=$G$13)*(INDIRECT($F$10&"!$F$2:$F$250")="Payée"),ROW($A9:$A257)-1,""),ROW($A8))),"")} | H24: =IF(H23="","",IF(H23+1>=$H$16,"",H23+1))
A25: {=IFERROR(INDEX(INDIRECT($F$10&"!B$2:B$250"),SMALL(IF((INDIRECT($F$10&"!$A$2:$A$250")=$G$13)*(INDIRECT($F$10&"!$F$2:$F$250")="Payée"),ROW($A10:$A258)-1,""),ROW($A9))),"")} | C25: {=IFERROR(INDEX(INDIRECT($F$10&"!D$2:D$250"),SMALL(IF((INDIRECT($F$10&"!$A$2:$A$250")=$G$13)*(INDIRECT($F$10&"!$F$2:$F$250")="Payée"),ROW($A10:$A258)-1,""),ROW($A9))),"")} | F25: {=IFERROR(INDEX(INDIRECT($F$10&"!E$2:E$250"),SMALL(IF((INDIRECT($F$10&"!$A$2:$A$250")=$G$13)*(INDIRECT($F$10&"!$F$2:$F$250")="Payée"),ROW($A10:$A258)-1,""),ROW($A9))),"")} | H25: =IF(H24="","",IF(H24+1>=$H$16,"",H24+1))
A26: {=IFERROR(INDEX(INDIRECT($F$10&"!B$2:B$250"),SMALL(IF((INDIRECT($F$10&"!$A$2:$A$250")=$G$13)*(INDIRECT($F$10&"!$F$2:$F$250")="Payée"),ROW($A11:$A259)-1,""),ROW($A10))),"")} | C26: {=IFERROR(INDEX(INDIRECT($F$10&"!D$2:D$250"),SMALL(IF((INDIRECT($F$10&"!$A$2:$A$250")=$G$13)*(INDIRECT($F$10&"!$F$2:$F$250")="Payée"),ROW($A11:$A259)-1,""),ROW($A10))),"")} | F26: {=IFERROR(INDEX(INDIRECT($F$10&"!E$2:E$250"),SMALL(IF((INDIRECT($F$10&"!$A$2:$A$250")=$G$13)*(INDIRECT($F$10&"!$F$2:$F$250")="Payée"),ROW($A11:$A259)-1,""),ROW($A10))),"")} | H26: =IF(H25="","",IF(H25+1>=$H$16,"",H25+1))
A27: {=IFERROR(INDEX(INDIRECT($F$10&"!B$2:B$250"),SMALL(IF((INDIRECT($F$10&"!$A$2:$A$250")=$G$13)*(INDIRECT($F$10&"!$F$2:$F$250")="Payée"),ROW($A12:$A260)-1,""),ROW($A11))),"")} | C27: {=IFERROR(INDEX(INDIRECT($F$10&"!D$2:D$250"),SMALL(IF((INDIRECT($F$10&"!$A$2:$A$250")=$G$13)*(INDIRECT($F$10&"!$F$2:$F$250")="Payée"),ROW($A12:$A260)-1,""),ROW($A11))),"")} | F27: {=IFERROR(INDEX(INDIRECT($F$10&"!E$2:E$250"),SMALL(IF((INDIRECT($F$10&"!$A$2:$A$250")=$G$13)*(INDIRECT($F$10&"!$F$2:$F$250")="Payée"),ROW($A12:$A260)-1,""),ROW($A11))),"")} | H27: =IF(H26="","",IF(H26+1>=$H$16,"",H26+1))
C30: Montant total : | F30: =SUM(F17:F27) -> 160
C31: TVA non applicable, art. 293 B du CGI
A33: Je soussigné xx certifie que la/les séance(s) ci-dessus est/sont entièrement réglée(s) par la famille.

Sheet Coordonnees
A1: PATIENTS | B1: PARENTS | C1: ADRESSE | D1: CP | E1: VILLE | F1: NUM1 | G1: NUM2 | H1: MAIL | I1: SIRET | J1: ADELI
A2: A1 | B2: M1 | D2: 1
A3: A2 | B3: M2 | C3: 32 Avenue de la constellation | D3: 1
A4: A3 | B4: M3 | D4: 1
A5: A4 | B5: M4 | C5: 19, rue de Vincourt, | D5: 1
A6: A5 | B6: M5 | D6: 1
A7: A6 | B7: M6 | D7: 1
A8: A7 | B8: M7 | C8: 24 boulevard de l'Évasion | D8: 1
A9: A8 | B9: M8 | C9: 1 Clos de la Saussaye | D9: 1
A10: A9 | B10: M9 | D10: 1
A11: A10 | B11: M10 | D11: 1
A12: A11 | B12: M11 | D12: 1
A13: A12 | B13: M12 | C13: 37 rue de Gisors | D13: 1
A14: A13 | B14: M13 | D14: 1
A15: A14 | B15: M14 | D15: 1
A16: A15 | B16: M15 | C16: 1 rue résidence du Vaux varois | D16: 1
A17: A16 | B17: M16 | D17: 1
A18: A17 | B18: M17 | D18: 1
A19: A18 | B19: M18 | C19: 4 rue de la boissellerie | D19: 1
A20: A19 | B20: M19 | C20: 1 rue des châtaigniers | D20: 1
A21: A20 | B21: M20 | C21: 58 allée des Gros Saule | D21: 1
A22: A21 | B22: M21 | C22: 2, clos du matin | D22: 1
A23: A22 | B23: M22 | D23: 1
A24: A23 | B24: M23 | D24: 1
A25: A24 | B25: M24 | D25: 1
A26: A25 | B26: M25 | D26: 1
A27: A26 | B27: M26 | D27: 1
A28: A27 | B28: M27 | D28: 1
A29: A28 | B29: M28 | D29: 1
A30: A29 | B30: M29 | C30: 12 Place Des Colonnes Hubert Renault | D30: 1
A31: A30 | B31: M30 | C31: 8 Les larris | D31: 1
A32: A31 | B32: M31 | D32: 1
A33: A32 | B33: M32 | D33: 1
A34: A33 | B34: M33 | D34: 1
A35: A34 | B35: M34 | D35: 1
A36: A35 | B36: M35 | D36: 1
A37: A36 | B37: M36 | C37: 19, rue de Vincourt | D37: 1
A38: A37 | B38: M37 | C38: 16 boulevard des Merveilles | D38: 1
A39: A38 | B39: M38 | C39: 43, avenue de la belle heaumiere | D39: 1
A40: A39 | B40: M39 | C40: 24, rue Jean Jaurès | D40: 1
...

Sheet Novembre
A1: N_FACT | B1: DATE | C1: NOM_PATIENT | D1: LIBELLE | E1: MONTANT | F1: STATUT | G1: MODE_ENCAISSEMENT | H1: DATE_REGLEMENT | I1: Colonne1
A2: F1064 | B2: 44866 | C2: A32 | D2: Séance de 30 minutes | E2: =INDEX(Données!$C$5:$C$13,MATCH(Novembre!D2,Données!$B$5:$B$13,0)) -> 35 | F2: Payée | G2: Virement | H2: 44895
A3: F1044 | B3: 44866 | C3: A17 | D3: Séance de 45 minutes | E3: =INDEX(Données!$C$5:$C$13,MATCH(Novembre!D3,Données!$B$5:$B$13,0)) -> 45 | F3: Payée
A4: F1045 | B4: 44866 | C4: A2 | D4: Séance de 30 minutes | E4: =INDEX(Données!$C$5:$C$13,MATCH(Novembre!D4,Données!$B$5:$B$13,0)) -> 35 | F4: Payée
A5: F1046 | B5: 44866 | C5: A12 | D5: Séance de 45 minutes | E5: =INDEX(Données!$C$5:$C$13,MATCH(Novembre!D5,Données!$B$5:$B$13,0)) -> 45 | F5: Payée
A6: F1047 | B6: 44866 | C6: A33 | D6: Séance de 30 minutes | E6: =INDEX(Données!$C$5:$C$13,MATCH(Novembre!D6,Données!$B$5:$B$13,0)) -> 35 | F6: Payée
A7: F1048 | B7: 44867 | C7: A19 | D7: Séance de 45 minutes | E7: =INDEX(Données!$C$5:$C$13,MATCH(Novembre!D7,Données!$B$5:$B$13,0)) -> 45 | F7: Dûe
A8: F1049 | B8: 44867 | C8: A25 | D8: Séance de 45 minutes | E8: =INDEX(Données!$C$5:$C$13,MATCH(Novembre!D8,Données!$B$5:$B$13,0)) -> 45 | F8: Payée | G8: Chèque | H8: 44896
A9: F1050 | B9: 44867 | C9: A31 | D9: Séance de 30 minutes | E9: =INDEX(Données!$C$5:$C$13,MATCH(Novembre!D9,Données!$B$5:$B$13,0)) -> 35 | F9: Dûe
A10: F1068 | B10: 44867 | C10: A27 | D10: Séance de 45 minutes | E10: =INDEX(Données!$C$5:$C$13,MATCH(Novembre!D10,Données!$B$5:$B$13,0)) -> 45 | F10: Payée | G10: Virement | H10: 44900
A11: F1052 | B11: 44867 | C11: A11 | D11: Séance de 45 minutes | E11: =INDEX(Données!$C$5:$C$13,MATCH(Novembre!D11,Données!$B$5:$B$13,0)) -> 45 | F11: Payée
A12: F1053 | B12: 44869 | C12: A37 | D12: Séance de 45 minutes | E12: =INDEX(Données!$C$5:$C$13,MATCH(Novembre!D12,Données!$B$5:$B$13,0)) -> 45 | F12: Payée | G12: Virement | H12: 44900
A13: F1054 | B13: 44869 | C13: A5 | D13: Séance de 45 minutes | E13: =INDEX(Données!$C$5:$C$13,MATCH(Novembre!D13,Données!$B$5:$B$13,0)) -> 45 | F13: Dûe
A14: F1077 | B14: 44869 | C14: A7 | D14: Séance de 30 minutes | E14: =INDEX(Données!$C$5:$C$13,MATCH(Novembre!D14,Données!$B$5:$B$13,0)) -> 35 | F14: Payée | G14: Chèque | H14: 44897
A15: F1057 | B15: 44872 | C15: A23 | D15: Séance de 30 minutes | E15: =INDEX(Données!$C$5:$C$13,MATCH(Novembre!D15,Données!$B$5:$B$13,0)) -> 35 | F15: Payée
A16: F1058 | B16: 44872 | C16: A8 | D16: Séance de 45 minutes | E16: =INDEX(Données!$C$5:$C$13,MATCH(Novembre!D16,Données!$B$5:$B$13,0)) -> 45 | F16: Dûe
A17: F1059 | B17: 44872 | C17: A24 | D17: Séance de 45 minutes | E17: =INDEX(Données!$C$5:$C$13,MATCH(Novembre!D17,Données!$B$5:$B$13,0)) -> 45 | F17: Payée | G17: Virement | H17: 44900
A18: F1060 | B18: 44872 | C18: A13 | D18: Séance de 30 minutes | E18: =INDEX(Données!$C$5:$C$13,MATCH(Novembre!D18,Données!$B$5:$B$13,0)) -> 35 | F18: Dûe
A19: F1061 | B19: 44872 | C19: A28 | D19: Séance de 45 minutes | E19: =INDEX(Données!$C$5:$C$13,MATCH(Novembre!D19,Données!$B$5:$B$13,0)) -> 45 | F19: Payée | G19: Virement | H19: 44900
A20: F1062 | B20: 44872 | C20: A38 | D20: Séance de 45 minutes | E20: =INDEX(Données!$C$5:$C$13,MATCH(Novembre!D20,Données!$B$5:$B$13,0)) -> 45 | F20: Dûe
A21: F1063 | B21: 44873 | C21: A30 | D21: Séance de 45 minutes | E21: =INDEX(Données!$C$5:$C$13,MATCH(Novembre!D21,Données!$B$5:$B$13,0)) -> 45 | F21: Dûe
A22: F1064 | B22: 44873 | C22: A32 | D22: Séance de 30 minutes | E22: =INDEX(Données!$C$5:$C$13,MATCH(Novembre!D22,Données!$B$5:$B$13,0)) -> 35 | F22: Payée | G22: Virement | H22: 44895
A23: F1065 | B23: 44873 | C23: A37 | D23: Séance de 30 minutes | E23: =INDEX(Données!$C$5:$C$13,MATCH(Novembre!D23,Données!$B$5:$B$13,0)) -> 35 | F23: Payée | G23: Virement | H23: 44900
A24: F1086 | B24: 44873 | C24: A10 | D24: Séance de 30 minutes | E24: =INDEX(Données!$C$5:$C$13,MATCH(Novembre!D24,Données!$B$5:$B$13,0)) -> 35 | F24: Payée | G24: Virement | H24: 44894
A25: F1047 | B25: 44873 | C25: A33 | D25: Séance de 30 minutes | E25: =INDEX(Données!$C$5:$C$13,MATCH(Novembre!D25,Données!$B$5:$B$13,0)) -> 35 | F25: Payée
A26: F1067 | B26: 44873 | C26: A4 | D26: Séance de 45 minutes | E26: =INDEX(Données!$C$5:$C$13,MATCH(Novembre!D26,Données!$B$5:$B$13,0)) -> 45 | F26: Dûe
A27: F1045 | B27: 44873 | C27: A2 | D27: Séance de 30 minutes | E27: =INDEX(Données!$C$5:$C$13,MATCH(Novembre!D27,Données!$B$5:$B$13,0)) -> 35 | F27: Payée
A28: F1044 | B28: 44873 | C28: A17 | D28: Séance de 45 minutes | E28: =INDEX(Données!$C$5:$C$13,MATCH(Novembre!D28,Données!$B$5:$B$13,0)) -> 45 | F28: Payée
A29: F1048 | B29: 44874 | C29: A19 | D29: Séance de 45 minutes | E29: =INDEX(Données!$C$5:$C$13,MATCH(Novembre!D29,Données!$B$5:$B$13,0)) -> 45 | F29: Dûe
A30: F1066 | B30: 44874 | C30: A18 | D30: Séance de 45 minutes | E30: =INDEX(Données!$C$5:$C$13,MATCH(Novembre!D30,Données!$B$5:$B$13,0)) -> 45 | F30: Dûe
A31: F1050 | B31: 44874 | C31: A31 | D31: Séance de 30 minutes | E31: =INDEX(Données!$C$5:$C$13,MATCH(Novembre!D31,Données!$B$5:$B$13,0)) -> 35 | F31: Dûe
A32: F1051 | B32: 44874 | C32: A3 | D32: Séance de 30 minutes | E32: =INDEX(Données!$C$5:$C$13,MATCH(Novembre!D32,Données!$B$5:$B$13,0)) -> 35 | F32: Payée | G32: Virement | H32: 44900
A33: F1068 | B33: 44874 | C33: A27 | D33: Séance de 45 minutes | E33: =INDEX(Données!$C$5:$C$13,MATCH(Novembre!D33,Données!$B$5:$B$13,0)) -> 45 | F33: Payée | G33: Virement | H33: 44900
A34: F1070 | B34: 44874 | C34: A26 | D34: Séance de 45 minutes | E34: =INDEX(Données!$C$5:$C$13,MATCH(Novembre!D34,Données!$B$5:$B$13,0)) -> 45 | F34: Dûe
A35: F1052 | B35: 44874 | C35: A11 | D35: Séance de 45 minutes | E35: =INDEX(Données!$C$5:$C$13,MATCH(Novembre!D35,Données!$B$5:$B$13,0)) -> 45 | F35: Payée
A36: F1071 | B36: 44874 | C36: A21 | D36: Séance de 45 minutes | E36: =INDEX(Données!$C$5:$C$13,MATCH(Novembre!D36,Données!$B$5:$B$13,0)) -> 45 | F36: Dûe
A37: F1072 | B37: 44874 | C37: A9 | D37: Séance de 45 minutes | E37: =INDEX(Données!$C$5:$C$13,MATCH(Novembre!D37,Données!$B$5:$B$13,0)) -> 45 | F37: Dûe
A38: F1073 | B38: 44874 | C38: A14 | D38: Séance de 30 minutes | E38: =INDEX(Données!$C$5:$C$13,MATCH(Novembre!D38,Données!$B$5:$B$13,0)) -> 35 | F38: Payée | G38: Chèque | H38: 44890
A39: F1075 | B39: 44875 | C39: A15 | D39: Séance de 45 minutes | E39: =INDEX(Données!$C$5:$C$13,MATCH(Novembre!D39,Données!$B$5:$B$13,0)) -> 45 | F39: Payée | G39: Virement | H39: 44893
A40: F1078 | B40: 44876 | C40: A29 | D40: Séance de 30 minutes | E40: =INDEX(Données!$C$5:$C$13,MATCH(Novembre!D40,Données!$B$5:$B$13,0)) -> 35 | F40: Dûe
...

Sheet Décembre
A1: N_FACT | B1: DATE | C1: NOM_PATIENT | D1: LIBELLE | E1: MONTANT | F1: STATUT | G1: MODE_ENCAISSEMENT | H1: DATE_REGLEMENT | I1: Colonne1
A2: F1051 | B2: 44896 | C2: A3 | D2: Séance de 30 minutes | E2: =IF(D2="","",INDEX(Données!$C$5:$C$13,MATCH(Novembre!D2,Données!$B$5:$B$13,0))) -> 35 | F2: Payée | G2: Virement | H2: 44895
A3: F1052 | B3: 44897 | C3: A17 | D3: Séance de 45 minutes | E3: =IF(D3="","",INDEX(Données!$C$5:$C$13,MATCH(Novembre!D3,Données!$B$5:$B$13,0))) -> 45 | F3: Payée
A4: F1053 | B4: 44898 | C4: A3 | D4: Séance de 30 minutes | E4: =IF(D4="","",INDEX(Données!$C$5:$C$13,MATCH(Novembre!D4,Données!$B$5:$B$13,0))) -> 35 | F4: Payée
A5: F1051 | B5: 44899 | C5: A12 | D5: Séance de 45 minutes | E5: =IF(D5="","",INDEX(Données!$C$5:$C$13,MATCH(Novembre!D5,Données!$B$5:$B$13,0))) -> 45 | F5: Payée
A6: F1047 | B6: 44900 | C6: A3 | D6: Séance de 30 minutes | E6: =IF(D6="","",INDEX(Données!$C$5:$C$13,MATCH(Novembre!D6,Données!$B$5:$B$13,0))) -> 35 | F6: Payée
E7: =IF(D7="","",INDEX(Données!$C$5:$C$13,MATCH(Novembre!D7,Données!$B$5:$B$13,0)))
E8: =IF(D8="","",INDEX(Données!$C$5:$C$13,MATCH(Novembre!D8,Données!$B$5:$B$13,0)))
E9: =IF(D9="","",INDEX(Données!$C$5:$C$13,MATCH(Novembre!D9,Données!$B$5:$B$13,0)))
E10: =IF(D10="","",INDEX(Données!$C$5:$C$13,MATCH(Novembre!D10,Données!$B$5:$B$13,0)))
E11: =IF(D11="","",INDEX(Données!$C$5:$C$13,MATCH(Novembre!D11,Données!$B$5:$B$13,0)))
E12: =IF(D12="","",INDEX(Données!$C$5:$C$13,MATCH(Novembre!D12,Données!$B$5:$B$13,0)))
E13: =IF(D13="","",INDEX(Données!$C$5:$C$13,MATCH(Novembre!D13,Données!$B$5:$B$13,0)))
E14: =IF(D14="","",INDEX(Données!$C$5:$C$13,MATCH(Novembre!D14,Données!$B$5:$B$13,0)))
E15: =IF(D15="","",INDEX(Données!$C$5:$C$13,MATCH(Novembre!D15,Données!$B$5:$B$13,0)))
E16: =IF(D16="","",INDEX(Données!$C$5:$C$13,MATCH(Novembre!D16,Données!$B$5:$B$13,0)))
E17: =IF(D17="","",INDEX(Données!$C$5:$C$13,MATCH(Novembre!D17,Données!$B$5:$B$13,0)))
E18: =IF(D18="","",INDEX(Données!$C$5:$C$13,MATCH(Novembre!D18,Données!$B$5:$B$13,0)))
... E82: =IF(D82="","",INDEX(Données!$C$5:$C$13,MATCH(Novembre!D82,Données!$B$5:$B$13,0)))
E83: =IF(D83="","",INDEX(Données!$C$5:$C$13,MATCH(Novembre!D83,Données!$B$5:$B$13,0))) | J83: 11 séances
E84: =IF(D84="","",INDEX(Données!$C$5:$C$13,MATCH(Novembre!D84,Données!$B$5:$B$13,0))) | J84: 7 séances
E85: =IF(D85="","",INDEX(Données!$C$5:$C$13,MATCH(Novembre!D85,Données!$B$5:$B$13,0)))
E86: =IF(D86="","",INDEX(Données!$C$5:$C$13,MATCH(Novembre!D86,Données!$B$5:$B$13,0)))
E87: =IF(D87="","",INDEX(Données!$C$5:$C$13,MATCH(Novembre!D87,Données!$B$5:$B$13,0)))
E88: =IF(D88="","",INDEX(Données!$C$5:$C$13,MATCH(Novembre!D88,Données!$B$5:$B$13,0)))
E89: =IF(D89="","",INDEX(Données!$C$5:$C$13,MATCH(Novembre!D89,Données!$B$5:$B$13,0)))
E90: =IF(D90="","",INDEX(Données!$C$5:$C$13,MATCH(Novembre!D90,Données!$B$5:$B$13,0)))
E91: =IF(D91="","",INDEX(Données!$C$5:$C$13,MATCH(Novembre!D91,Données!$B$5:$B$13,0)))
E92: =IF(D92="","",INDEX(Données!$C$5:$C$13,MATCH(Novembre!D92,Données!$B$5:$B$13,0)))
E93: =IF(D93="","",INDEX(Données!$C$5:$C$13,MATCH(Novembre!D93,Données!$B$5:$B$13,0)))
E94: =IF(D94="","",INDEX(Données!$C$5:$C$13,MATCH(Novembre!D94,Données!$B$5:$B$13,0)))
E95: =IF(D95="","",INDEX(Données!$C$5:$C$13,MATCH(Novembre!D95,Données!$B$5:$B$13,0)))
E96: =IF(D96="","",INDEX(Données!$C$5:$C$13,MATCH(Novembre!D96,Données!$B$5:$B$13,0)))
... E579: =IF(D579="","",INDEX(Données!$C$5:$C$13,MATCH(Novembre!D579,Données!$B$5:$B$13,0)))

Sheet Janvier
A1: N_FACT | B1: DATE | C1: NOM_PATIENT | D1: LIBELLE | E1: MONTANT | F1: STATUT | G1: MODE_ENCAISSEMENT | H1: DATE_REGLEMENT | I1: Colonne1
A2: F1051 | B2: 44927 | C2: A3 | D2: Séance de 30 minutes | E2: =IF(D2="","",INDEX(Données!$C$5:$C$13,MATCH(Novembre!D2,Données!$B$5:$B$13,0))) -> 35 | F2: Payée | G2: Virement | H2: 44895
A3: F1044 | B3: 44928 | C3: A17 | D3: Séance de 45 minutes | E3: =IF(D3="","",INDEX(Données!$C$5:$C$13,MATCH(Novembre!D3,Données!$B$5:$B$13,0))) -> 45 | F3: Payée
A4: F1051 | B4: 44929 | C4: A3 | D4: Séance de 30 minutes | E4: =IF(D4="","",INDEX(Données!$C$5:$C$13,MATCH(Novembre!D4,Données!$B$5:$B$13,0))) -> 35 | F4: Payée
A5: F1046 | B5: 44930 | C5: A12 | D5: Séance de 45 minutes | E5: =IF(D5="","",INDEX(Données!$C$5:$C$13,MATCH(Novembre!D5,Données!$B$5:$B$13,0))) -> 45 | F5: Payée
A6: F1047 | B6: 44931 | C6: A33 | D6: Séance de 30 minutes | E6: =IF(D6="","",INDEX(Données!$C$5:$C$13,MATCH(Novembre!D6,Données!$B$5:$B$13,0))) -> 35 | F6: Payée
A7: F1048 | B7: 44932 | C7: A19 | D7: Séance de 45 minutes | E7: =IF(D7="","",INDEX(Données!$C$5:$C$13,MATCH(Novembre!D7,Données!$B$5:$B$13,0))) -> 45 | F7: Dûe
A8: F1049 | B8: 44933 | C8: A25 | D8: Séance de 45 minutes | E8: =IF(D8="","",INDEX(Données!$C$5:$C$13,MATCH(Novembre!D8,Données!$B$5:$B$13,0))) -> 45 | F8: Payée | G8: Chèque | H8: 44896
A9: F1050 | B9: 44934 | C9: A31 | D9: Séance de 30 minutes | E9: =IF(D9="","",INDEX(Données!$C$5:$C$13,MATCH(Novembre!D9,Données!$B$5:$B$13,0))) -> 35 | F9: Dûe
A10: F1068 | B10: 44935 | C10: A27 | D10: Séance de 45 minutes | E10: =IF(D10="","",INDEX(Données!$C$5:$C$13,MATCH(Novembre!D10,Données!$B$5:$B$13,0))) -> 45 | F10: Payée | G10: Virement | H10: 44900
E11: =IF(D11="","",INDEX(Données!$C$5:$C$13,MATCH(Novembre!D11,Données!$B$5:$B$13,0)))
E12: =IF(D12="","",INDEX(Données!$C$5:$C$13,MATCH(Novembre!D12,Données!$B$5:$B$13,0)))
E13: =IF(D13="","",INDEX(Données!$C$5:$C$13,MATCH(Novembre!D13,Données!$B$5:$B$13,0)))
E14: =IF(D14="","",INDEX(Données!$C$5:$C$13,MATCH(Novembre!D14,Données!$B$5:$B$13,0)))
E15: =IF(D15="","",INDEX(Données!$C$5:$C$13,MATCH(Novembre!D15,Données!$B$5:$B$13,0)))
E16: =IF(D16="","",INDEX(Données!$C$5:$C$13,MATCH(Novembre!D16,Données!$B$5:$B$13,0)))
E17: =IF(D17="","",INDEX(Données!$C$5:$C$13,MATCH(Novembre!D17,Données!$B$5:$B$13,0)))
E18: =IF(D18="","",INDEX(Données!$C$5:$C$13,MATCH(Novembre!D18,Données!$B$5:$B$13,0)))
E19: =IF(D19="","",INDEX(Données!$C$5:$C$13,MATCH(Novembre!D19,Données!$B$5:$B$13,0)))
E20: =IF(D20="","",INDEX(Données!$C$5:$C$13,MATCH(Novembre!D20,Données!$B$5:$B$13,0)))
E21: =IF(D21="","",INDEX(Données!$C$5:$C$13,MATCH(Novembre!D21,Données!$B$5:$B$13,0)))
E22: =IF(D22="","",INDEX(Données!$C$5:$C$13,MATCH(Novembre!D22,Données!$B$5:$B$13,0)))
... E82: =IF(D82="","",INDEX(Données!$C$5:$C$13,MATCH(Novembre!D82,Données!$B$5:$B$13,0)))
E83: =IF(D83="","",INDEX(Données!$C$5:$C$13,MATCH(Novembre!D83,Données!$B$5:$B$13,0))) | J83: 11 séances
E84: =IF(D84="","",INDEX(Données!$C$5:$C$13,MATCH(Novembre!D84,Données!$B$5:$B$13,0))) | J84: 7 séances
E85: =IF(D85="","",INDEX(Données!$C$5:$C$13,MATCH(Novembre!D85,Données!$B$5:$B$13,0)))
E86: =IF(D86="","",INDEX(Données!$C$5:$C$13,MATCH(Novembre!D86,Données!$B$5:$B$13,0)))
E87: =IF(D87="","",INDEX(Données!$C$5:$C$13,MATCH(Novembre!D87,Données!$B$5:$B$13,0)))
E88: =IF(D88="","",INDEX(Données!$C$5:$C$13,MATCH(Novembre!D88,Données!$B$5:$B$13,0)))
E89: =IF(D89="","",INDEX(Données!$C$5:$C$13,MATCH(Novembre!D89,Données!$B$5:$B$13,0)))
E90: =IF(D90="","",INDEX(Données!$C$5:$C$13,MATCH(Novembre!D90,Données!$B$5:$B$13,0)))
E91: =IF(D91="","",INDEX(Données!$C$5:$C$13,MATCH(Novembre!D91,Données!$B$5:$B$13,0)))
E92: =IF(D92="","",INDEX(Données!$C$5:$C$13,MATCH(Novembre!D92,Données!$B$5:$B$13,0)))
E93: =IF(D93="","",INDEX(Données!$C$5:$C$13,MATCH(Novembre!D93,Données!$B$5:$B$13,0)))
E94: =IF(D94="","",INDEX(Données!$C$5:$C$13,MATCH(Novembre!D94,Données!$B$5:$B$13,0)))
E95: =IF(D95="","",INDEX(Données!$C$5:$C$13,MATCH(Novembre!D95,Données!$B$5:$B$13,0)))
E96: =IF(D96="","",INDEX(Données!$C$5:$C$13,MATCH(Novembre!D96,Données!$B$5:$B$13,0)))
... E292: =IF(D292="","",INDEX(Données!$C$5:$C$13,MATCH(Novembre!D292,Données!$B$5:$B$13,0)))

Sheet Février
A1: N_FACT | B1: DATE | C1: NOM_PATIENT | D1: LIBELLE | E1: MONTANT | F1: STATUT | G1: MODE_ENCAISSEMENT | H1: DATE_REGLEMENT | I1: Colonne1
A2: F1051 | B2: 44958 | C2: A32 | D2: Séance de 30 minutes | E2: =IF(D2="","",INDEX(Données!$C$5:$C$13,MATCH(Février!$D2,Données!$B$5:$B$13,0))) -> 35 | F2: Payée | G2: Virement | H2: 44895
A3: F1044 | B3: 44959 | C3: A17 | D3: Séance de 45 minutes | E3: =IF(D3="","",INDEX(Données!$C$5:$C$13,MATCH(Février!$D3,Données!$B$5:$B$13,0))) -> 45 | F3: Payée
A4: F1051 | B4: 44960 | C4: A2 | D4: Séance de 30 minutes | E4: =IF(D4="","",INDEX(Données!$C$5:$C$13,MATCH(Février!$D4,Données!$B$5:$B$13,0))) -> 35 | F4: Payée
A5: F1051 | B5: 44961 | C5: A12 | D5: Séance de 45 minutes | E5: =IF(D5="","",INDEX(Données!$C$5:$C$13,MATCH(Février!$D5,Données!$B$5:$B$13,0))) -> 45 | F5: Payée
A6: F1051 | B6: 44962 | C6: A33 | D6: Séance de 30 minutes | E6: =IF(D6="","",INDEX(Données!$C$5:$C$13,MATCH(Février!$D6,Données!$B$5:$B$13,0))) -> 35 | F6: Payée
A7: F1048 | B7: 44963 | C7: A19 | D7: Séance de 45 minutes | E7: =IF(D7="","",INDEX(Données!$C$5:$C$13,MATCH(Février!$D7,Données!$B$5:$B$13,0))) -> 45 | F7: Dûe
A8: F1049 | B8: 44964 | C8: A25 | D8: Séance de 45 minutes | E8: =IF(D8="","",INDEX(Données!$C$5:$C$13,MATCH(Février!$D8,Données!$B$5:$B$13,0))) -> 45 | F8: Payée | G8: Chèque | H8: 44896
A9: F1050 | B9: 44965 | C9: A31 | D9: Séance de 30 minutes | E9: =IF(D9="","",INDEX(Données!$C$5:$C$13,MATCH(Février!$D9,Données!$B$5:$B$13,0))) -> 35 | F9: Dûe
A10: F1068 | B10: 44966 | C10: A27 | D10: Séance de 45 minutes | E10: =IF(D10="","",INDEX(Données!$C$5:$C$13,MATCH(Février!$D10,Données!$B$5:$B$13,0))) -> 45 | F10: Payée | G10: Virement | H10: 44900
D11: Séance de 45 minutes | E11: =IF(D11="","",INDEX(Données!$C$5:$C$13,MATCH(Février!$D11,Données!$B$5:$B$13,0))) -> 45
E12: =IF(D12="","",INDEX(Données!$C$5:$C$13,MATCH(Février!$D12,Données!$B$5:$B$13,0)))
E13: =IF(D13="","",INDEX(Données!$C$5:$C$13,MATCH(Février!$D13,Données!$B$5:$B$13,0)))
E14: =IF(D14="","",INDEX(Données!$C$5:$C$13,MATCH(Février!$D14,Données!$B$5:$B$13,0)))
E15: =IF(D15="","",INDEX(Données!$C$5:$C$13,MATCH(Février!$D15,Données!$B$5:$B$13,0)))
E16: =IF(D16="","",INDEX(Données!$C$5:$C$13,MATCH(Février!$D16,Données!$B$5:$B$13,0)))
E17: =IF(D17="","",INDEX(Données!$C$5:$C$13,MATCH(Février!$D17,Données!$B$5:$B$13,0)))
E18: =IF(D18="","",INDEX(Données!$C$5:$C$13,MATCH(Février!$D18,Données!$B$5:$B$13,0)))
E19: =IF(D19="","",INDEX(Données!$C$5:$C$13,MATCH(Février!$D19,Données!$B$5:$B$13,0)))
E20: =IF(D20="","",INDEX(Données!$C$5:$C$13,MATCH(Février!$D20,Données!$B$5:$B$13,0)))
E21: =IF(D21="","",INDEX(Données!$C$5:$C$13,MATCH(Février!$D21,Données!$B$5:$B$13,0)))
E22: =IF(D22="","",INDEX(Données!$C$5:$C$13,MATCH(Février!$D22,Données!$B$5:$B$13,0)))
E23: =IF(D23="","",INDEX(Données!$C$5:$C$13,MATCH(Février!$D23,Données!$B$5:$B$13,0)))
... E82: =IF(D82="","",INDEX(Données!$C$5:$C$13,MATCH(Février!$D82,Données!$B$5:$B$13,0)))
E83: =IF(D83="","",INDEX(Données!$C$5:$C$13,MATCH(Février!$D83,Données!$B$5:$B$13,0))) | J83: 11 séances
E84: =IF(D84="","",INDEX(Données!$C$5:$C$13,MATCH(Février!$D84,Données!$B$5:$B$13,0))) | J84: 7 séances
E85: =IF(D85="","",INDEX(Données!$C$5:$C$13,MATCH(Février!$D85,Données!$B$5:$B$13,0)))
E86: =IF(D86="","",INDEX(Données!$C$5:$C$13,MATCH(Février!$D86,Données!$B$5:$B$13,0)))
E87: =IF(D87="","",INDEX(Données!$C$5:$C$13,MATCH(Février!$D87,Données!$B$5:$B$13,0)))
E88: =IF(D88="","",INDEX(Données!$C$5:$C$13,MATCH(Février!$D88,Données!$B$5:$B$13,0)))
E89: =IF(D89="","",INDEX(Données!$C$5:$C$13,MATCH(Février!$D89,Données!$B$5:$B$13,0)))
E90: =IF(D90="","",INDEX(Données!$C$5:$C$13,MATCH(Février!$D90,Données!$B$5:$B$13,0)))
E91: =IF(D91="","",INDEX(Données!$C$5:$C$13,MATCH(Février!$D91,Données!$B$5:$B$13,0)))
E92: =IF(D92="","",INDEX(Données!$C$5:$C$13,MATCH(Février!$D92,Données!$B$5:$B$13,0)))
E93: =IF(D93="","",INDEX(Données!$C$5:$C$13,MATCH(Février!$D93,Données!$B$5:$B$13,0)))
E94: =IF(D94="","",INDEX(Données!$C$5:$C$13,MATCH(Février!$D94,Données!$B$5:$B$13,0)))
E95: =IF(D95="","",INDEX(Données!$C$5:$C$13,MATCH(Février!$D95,Données!$B$5:$B$13,0)))
E96: =IF(D96="","",INDEX(Données!$C$5:$C$13,MATCH(Février!$D96,Données!$B$5:$B$13,0)))
... E167: =IF(D167="","",INDEX(Données!$C$5:$C$13,MATCH(Février!$D167,Données!$B$5:$B$13,0)))

Sheet Données
J3: Janvier
B4: Libéllé | C4: Prix | E4: Statut | G4: Mode d’encaissement | J4: Février
B5: Séance de 30 minutes | C5: 35 | E5: Payée | G5: Espèces | J5: Mars
B6: Séance de 45 minutes | C6: 45 | E6: Dûe | G6: Chèque | J6: Avril
B7: Entretien préalable au bilan | C7: =190/4 -> 47.5 | G7: Virement | J7: Mai
B8: Deuxième séance d'observation/bilan | C8: =190/4 -> 47.5 | J8: Juin
B9: Troisième séance d'observation/bilan | C9: =190/4 -> 47.5 | J9: Juillet
B10: Restitution du compte-rendu de bilan | C10: =190/4 -> 47.5 | J10: Août
B11: Préparation, rédaction et transmission d'un compte-rendu (30m) | C11: 35 | J11: Septembre
B12: Préparation, rédaction et transmission d'un compte-rendu (45m) | C12: 45 | J12: Octobre
B13: Participation à une réunion | C13: 45 | J13: Novembre
J14: Décembre
