Workbook
Name tablo: OFFSET(Feuil1!$B$4,,,SUMPRODUCT(MAX((Feuil1!$B$4:$T$40<>"")*ROW(Feuil1!$4:$40)))-3,COUNTA(Feuil1!$1:$1))

Sheet Feuil1
B1: EIA 1 | C1: EIA 2 | D1: EIA 3 | E1: EIA 4 | F1: EIA 5 | G1: EIA 6 | H1: EIA 7 | I1: EIA 8 | J1: EIA 9 | K1: EIA 10 | L1: EIA 11 | M1: EIA 12 | N1: EIA 13 | O1: EIA 14 | P1: EIA 15 | Q1: EIA 16 | R1: EIA 17 | S1: EIA 18 | T1: EIA 19
A2: CT évaluée O/N | B2: O | C2: O | D2: N | E2: O | F2: N | G2: O | H2: O | I2: O | J2: O | K2: O | L2: O | M2: N | N2: O | O2: N | P2: O | Q2: O | R2: O | S2: O
A3: CNT évaluée O/N | B3: O | C3: O | D3: O | E3: O | F3: O | H3: O | I3: O | J3: O | K3: O | L3: O | M3: O | N3: O | O3: O | P3: O | Q3: O | R3: O | S3: O
B4: Capacité d'analyse | C4: Curieux | D4: Sérieux | E4: Autonomie | F4: Adapation | G4: Autonomie | H4: Autonomie | I4: Autonomie | J4: Posture professionnelle | K4: Autonomie | L4: Discrétion | M4: Sérieux | N4: Communication | O4: Adaptation | P4: Autonomie | Q4: Intégration | R4: Curiosité | S4: Autonomie | T4: A l'écoute
B5: Autonomie | C5: Volontaire | D5: Autonomie | E5: Calme | F5: Sérieux | G5: Anticipation | H5: Sens de l'écoute | I5: Intégration | J5: Intégration | K5: Dynamique | L5: Calme | M5: Autonome | N5: Curiosité | O5: A l'écoute | P5: Professionnalisme | Q5: Autonomie | R5: A l'écoute | S5: Anticipation | T5: Contact
B6: Emapthie | C6: Motivée | D6: Adaptation | E6: Organisé | F6: Application | G6: Adpatation | H6: Anticipation | I6: Rigueur | J6: Rigueur | K6: Organisée | L6: Méticuleux | M6: Organisée | N6: Sens de l'écoute | O6: Dynamique | P6: Intégration | Q6: Volontaire | S6: Analyse
B7: Sens de l'écoute | E7: Qualités relationnelles | F7: Autonomie | G7: Intégration | H7: Communication | I7: Implication | J7: Adaptabilité | K7: Intégration | L7: Relationnel | O7: Relationnel | P7: Relationnel | Q7: Curiosité
B8: Adaptation | F8: Anticipation | I8: Motivations | J8: Discrétion | L8: Contact
F9: Analyse | I9: Travail en équipe | J9: Relationnel | L9: A l'écoute
I10: Curiosité intellectuelle | J10: Communication

Sheet param-stats
E1: classement | F1: nb | G1: %
A2: =OFFSET(Feuil1!$B$4,MOD(ROWS($1:1)-1,ROWS(tablo)),INT((ROWS($1:1)-1)/(ROWS(tablo)))) -> Capacité d'analyse | B2: {=_xlfn.UNIQUE(A2:A200)} -> Capacité d'analyse | C2: {=COUNTIF(tablo,B2)} -> 1 | E2: {=IFERROR(INDEX($B$2:B$200,MATCH(LARGE(C$2:C$200+(ROW(C$2:C$200)/1000),ROW(A1)),C$2:C$200+(ROW(C$2:C$200)/1000),0)),"")} -> Autonomie | F2: =IFERROR(VLOOKUP(E2,B$2:C$200,2,0),"") -> 11 | G2: =F2/COLUMNS(tablo) -> 0.57894737
A3: =OFFSET(Feuil1!$B$4,MOD(ROWS($1:2)-1,ROWS(tablo)),INT((ROWS($1:2)-1)/(ROWS(tablo)))) -> Autonomie | B3: Autonomie | C3: {=COUNTIF(tablo,B3)} -> 11 | E3: {=IFERROR(INDEX($B$2:B$200,MATCH(LARGE(C$2:C$200+(ROW(C$2:C$200)/1000),ROW(A2)),C$2:C$200+(ROW(C$2:C$200)/1000),0)),"")} -> Intégration | F3: =IFERROR(VLOOKUP(E3,B$2:C$200,2,0),"") -> 6 | G3: =F3/COLUMNS(tablo) -> 0.31578947
A4: =OFFSET(Feuil1!$B$4,MOD(ROWS($1:3)-1,ROWS(tablo)),INT((ROWS($1:3)-1)/(ROWS(tablo)))) -> Emapthie | B4: Emapthie | C4: {=COUNTIF(tablo,B4)} -> 1 | E4: {=IFERROR(INDEX($B$2:B$200,MATCH(LARGE(C$2:C$200+(ROW(C$2:C$200)/1000),ROW(A3)),C$2:C$200+(ROW(C$2:C$200)/1000),0)),"")} -> A l'écoute | F4: =IFERROR(VLOOKUP(E4,B$2:C$200,2,0),"") -> 4 | G4: =F4/COLUMNS(tablo) -> 0.21052632
A5: =OFFSET(Feuil1!$B$4,MOD(ROWS($1:4)-1,ROWS(tablo)),INT((ROWS($1:4)-1)/(ROWS(tablo)))) -> Sens de l'écoute | B5: Sens de l'écoute | C5: {=COUNTIF(tablo,B5)} -> 2 | E5: {=IFERROR(INDEX($B$2:B$200,MATCH(LARGE(C$2:C$200+(ROW(C$2:C$200)/1000),ROW(A4)),C$2:C$200+(ROW(C$2:C$200)/1000),0)),"")} -> Relationnel | F5: =IFERROR(VLOOKUP(E5,B$2:C$200,2,0),"") -> 4 | G5: =F5/COLUMNS(tablo) -> 0.21052632
A6: =OFFSET(Feuil1!$B$4,MOD(ROWS($1:5)-1,ROWS(tablo)),INT((ROWS($1:5)-1)/(ROWS(tablo)))) -> Adaptation | B6: Adaptation | C6: {=COUNTIF(tablo,B6)} -> 3 | E6: {=IFERROR(INDEX($B$2:B$200,MATCH(LARGE(C$2:C$200+(ROW(C$2:C$200)/1000),ROW(A5)),C$2:C$200+(ROW(C$2:C$200)/1000),0)),"")} -> Anticipation | F6: =IFERROR(VLOOKUP(E6,B$2:C$200,2,0),"") -> 4 | G6: =F6/COLUMNS(tablo) -> 0.21052632
A7: =OFFSET(Feuil1!$B$4,MOD(ROWS($1:6)-1,ROWS(tablo)),INT((ROWS($1:6)-1)/(ROWS(tablo)))) -> 0 | B7: 0 | C7: {=COUNTIF(tablo,B7)} -> 0 | E7: {=IFERROR(INDEX($B$2:B$200,MATCH(LARGE(C$2:C$200+(ROW(C$2:C$200)/1000),ROW(A6)),C$2:C$200+(ROW(C$2:C$200)/1000),0)),"")} -> Curiosité | F7: =IFERROR(VLOOKUP(E7,B$2:C$200,2,0),"") -> 3 | G7: =F7/COLUMNS(tablo) -> 0.15789474
A8: =OFFSET(Feuil1!$B$4,MOD(ROWS($1:7)-1,ROWS(tablo)),INT((ROWS($1:7)-1)/(ROWS(tablo)))) -> 0 | B8: Curieux | C8: {=COUNTIF(tablo,B8)} -> 1 | E8: {=IFERROR(INDEX($B$2:B$200,MATCH(LARGE(C$2:C$200+(ROW(C$2:C$200)/1000),ROW(A7)),C$2:C$200+(ROW(C$2:C$200)/1000),0)),"")} -> Communication | F8: =IFERROR(VLOOKUP(E8,B$2:C$200,2,0),"") -> 3 | G8: =F8/COLUMNS(tablo) -> 0.15789474
A9: =OFFSET(Feuil1!$B$4,MOD(ROWS($1:8)-1,ROWS(tablo)),INT((ROWS($1:8)-1)/(ROWS(tablo)))) -> Curieux | B9: Volontaire | C9: {=COUNTIF(tablo,B9)} -> 2 | E9: {=IFERROR(INDEX($B$2:B$200,MATCH(LARGE(C$2:C$200+(ROW(C$2:C$200)/1000),ROW(A8)),C$2:C$200+(ROW(C$2:C$200)/1000),0)),"")} -> Sérieux | F9: =IFERROR(VLOOKUP(E9,B$2:C$200,2,0),"") -> 3 | G9: =F9/COLUMNS(tablo) -> 0.15789474
A10: =OFFSET(Feuil1!$B$4,MOD(ROWS($1:9)-1,ROWS(tablo)),INT((ROWS($1:9)-1)/(ROWS(tablo)))) -> Volontaire | B10: Motivée | C10: {=COUNTIF(tablo,B10)} -> 1 | E10: {=IFERROR(INDEX($B$2:B$200,MATCH(LARGE(C$2:C$200+(ROW(C$2:C$200)/1000),ROW(A9)),C$2:C$200+(ROW(C$2:C$200)/1000),0)),"")} -> Adaptation | F10: =IFERROR(VLOOKUP(E10,B$2:C$200,2,0),"") -> 3 | G10: =F10/COLUMNS(tablo) -> 0.15789474
A11: =OFFSET(Feuil1!$B$4,MOD(ROWS($1:10)-1,ROWS(tablo)),INT((ROWS($1:10)-1)/(ROWS(tablo)))) -> Motivée | B11: Sérieux | C11: {=COUNTIF(tablo,B11)} -> 3 | E11: {=IFERROR(INDEX($B$2:B$200,MATCH(LARGE(C$2:C$200+(ROW(C$2:C$200)/1000),ROW(A10)),C$2:C$200+(ROW(C$2:C$200)/1000),0)),"")} -> Organisée | F11: =IFERROR(VLOOKUP(E11,B$2:C$200,2,0),"") -> 2 | G11: =F11/COLUMNS(tablo) -> 0.10526316
A12: =OFFSET(Feuil1!$B$4,MOD(ROWS($1:11)-1,ROWS(tablo)),INT((ROWS($1:11)-1)/(ROWS(tablo)))) -> 0 | B12: Calme | C12: {=COUNTIF(tablo,B12)} -> 2 | E12: {=IFERROR(INDEX($B$2:B$200,MATCH(LARGE(C$2:C$200+(ROW(C$2:C$200)/1000),ROW(A11)),C$2:C$200+(ROW(C$2:C$200)/1000),0)),"")} -> Dynamique | F12: =IFERROR(VLOOKUP(E12,B$2:C$200,2,0),"") -> 2 | G12: =F12/COLUMNS(tablo) -> 0.10526316
A13: =OFFSET(Feuil1!$B$4,MOD(ROWS($1:12)-1,ROWS(tablo)),INT((ROWS($1:12)-1)/(ROWS(tablo)))) -> 0 | B13: Organisé | C13: {=COUNTIF(tablo,B13)} -> 1 | E13: {=IFERROR(INDEX($B$2:B$200,MATCH(LARGE(C$2:C$200+(ROW(C$2:C$200)/1000),ROW(A12)),C$2:C$200+(ROW(C$2:C$200)/1000),0)),"")} -> Discrétion | F13: =IFERROR(VLOOKUP(E13,B$2:C$200,2,0),"") -> 2 | G13: =F13/COLUMNS(tablo) -> 0.10526316
A14: =OFFSET(Feuil1!$B$4,MOD(ROWS($1:13)-1,ROWS(tablo)),INT((ROWS($1:13)-1)/(ROWS(tablo)))) -> 0 | B14: Qualités relationnelles | C14: {=COUNTIF(tablo,B14)} -> 1 | E14: {=IFERROR(INDEX($B$2:B$200,MATCH(LARGE(C$2:C$200+(ROW(C$2:C$200)/1000),ROW(A13)),C$2:C$200+(ROW(C$2:C$200)/1000),0)),"")} -> Rigueur | F14: =IFERROR(VLOOKUP(E14,B$2:C$200,2,0),"") -> 2 | G14: =F14/COLUMNS(tablo) -> 0.10526316
A15: =OFFSET(Feuil1!$B$4,MOD(ROWS($1:14)-1,ROWS(tablo)),INT((ROWS($1:14)-1)/(ROWS(tablo)))) -> 0 | B15: Adapation | C15: {=COUNTIF(tablo,B15)} -> 1 | E15: {=IFERROR(INDEX($B$2:B$200,MATCH(LARGE(C$2:C$200+(ROW(C$2:C$200)/1000),ROW(A14)),C$2:C$200+(ROW(C$2:C$200)/1000),0)),"")} -> Analyse | F15: =IFERROR(VLOOKUP(E15,B$2:C$200,2,0),"") -> 2 | G15: =F15/COLUMNS(tablo) -> 0.10526316
A16: =OFFSET(Feuil1!$B$4,MOD(ROWS($1:15)-1,ROWS(tablo)),INT((ROWS($1:15)-1)/(ROWS(tablo)))) -> Sérieux | B16: Application | C16: {=COUNTIF(tablo,B16)} -> 1 | E16: {=IFERROR(INDEX($B$2:B$200,MATCH(LARGE(C$2:C$200+(ROW(C$2:C$200)/1000),ROW(A15)),C$2:C$200+(ROW(C$2:C$200)/1000),0)),"")} -> Calme | F16: =IFERROR(VLOOKUP(E16,B$2:C$200,2,0),"") -> 2 | G16: =F16/COLUMNS(tablo) -> 0.10526316
A17: =OFFSET(Feuil1!$B$4,MOD(ROWS($1:16)-1,ROWS(tablo)),INT((ROWS($1:16)-1)/(ROWS(tablo)))) -> Autonomie | B17: Anticipation | C17: {=COUNTIF(tablo,B17)} -> 4 | E17: {=IFERROR(INDEX($B$2:B$200,MATCH(LARGE(C$2:C$200+(ROW(C$2:C$200)/1000),ROW(A16)),C$2:C$200+(ROW(C$2:C$200)/1000),0)),"")} -> Volontaire | F17: =IFERROR(VLOOKUP(E17,B$2:C$200,2,0),"") -> 2 | G17: =F17/COLUMNS(tablo) -> 0.10526316
A18: =OFFSET(Feuil1!$B$4,MOD(ROWS($1:17)-1,ROWS(tablo)),INT((ROWS($1:17)-1)/(ROWS(tablo)))) -> Adaptation | B18: Analyse | C18: {=COUNTIF(tablo,B18)} -> 2 | E18: {=IFERROR(INDEX($B$2:B$200,MATCH(LARGE(C$2:C$200+(ROW(C$2:C$200)/1000),ROW(A17)),C$2:C$200+(ROW(C$2:C$200)/1000),0)),"")} -> Sens de l'écoute | F18: =IFERROR(VLOOKUP(E18,B$2:C$200,2,0),"") -> 2 | G18: =F18/COLUMNS(tablo) -> 0.10526316
A19: =OFFSET(Feuil1!$B$4,MOD(ROWS($1:18)-1,ROWS(tablo)),INT((ROWS($1:18)-1)/(ROWS(tablo)))) -> 0 | B19: Adpatation | C19: {=COUNTIF(tablo,B19)} -> 1 | E19: {=IFERROR(INDEX($B$2:B$200,MATCH(LARGE(C$2:C$200+(ROW(C$2:C$200)/1000),ROW(A18)),C$2:C$200+(ROW(C$2:C$200)/1000),0)),"")} -> Contact | F19: =IFERROR(VLOOKUP(E19,B$2:C$200,2,0),"") -> 1 | G19: =F19/COLUMNS(tablo) -> 0.052631579
A20: =OFFSET(Feuil1!$B$4,MOD(ROWS($1:19)-1,ROWS(tablo)),INT((ROWS($1:19)-1)/(ROWS(tablo)))) -> 0 | B20: Intégration | C20: {=COUNTIF(tablo,B20)} -> 6 | E20: {=IFERROR(INDEX($B$2:B$200,MATCH(LARGE(C$2:C$200+(ROW(C$2:C$200)/1000),ROW(A19)),C$2:C$200+(ROW(C$2:C$200)/1000),0)),"")} -> Professionnalisme | F20: =IFERROR(VLOOKUP(E20,B$2:C$200,2,0),"") -> 1 | G20: =F20/COLUMNS(tablo) -> 0.052631579
A21: =OFFSET(Feuil1!$B$4,MOD(ROWS($1:20)-1,ROWS(tablo)),INT((ROWS($1:20)-1)/(ROWS(tablo)))) -> 0 | B21: Communication | C21: {=COUNTIF(tablo,B21)} -> 3 | E21: {=IFERROR(INDEX($B$2:B$200,MATCH(LARGE(C$2:C$200+(ROW(C$2:C$200)/1000),ROW(A20)),C$2:C$200+(ROW(C$2:C$200)/1000),0)),"")} -> Sens de l'écoute | F21: =IFERROR(VLOOKUP(E21,B$2:C$200,2,0),"") -> 1 | G21: =F21/COLUMNS(tablo) -> 0.052631579
A22: =OFFSET(Feuil1!$B$4,MOD(ROWS($1:21)-1,ROWS(tablo)),INT((ROWS($1:21)-1)/(ROWS(tablo)))) -> 0 | B22: Rigueur | C22: {=COUNTIF(tablo,B22)} -> 2 | E22: {=IFERROR(INDEX($B$2:B$200,MATCH(LARGE(C$2:C$200+(ROW(C$2:C$200)/1000),ROW(A21)),C$2:C$200+(ROW(C$2:C$200)/1000),0)),"")} -> Autonome | F22: =IFERROR(VLOOKUP(E22,B$2:C$200,2,0),"") -> 1 | G22: =F22/COLUMNS(tablo) -> 0.052631579
A23: =OFFSET(Feuil1!$B$4,MOD(ROWS($1:22)-1,ROWS(tablo)),INT((ROWS($1:22)-1)/(ROWS(tablo)))) -> Autonomie | B23: Implication | C23: {=COUNTIF(tablo,B23)} -> 1 | E23: {=IFERROR(INDEX($B$2:B$200,MATCH(LARGE(C$2:C$200+(ROW(C$2:C$200)/1000),ROW(A22)),C$2:C$200+(ROW(C$2:C$200)/1000),0)),"")} -> Contact | F23: =IFERROR(VLOOKUP(E23,B$2:C$200,2,0),"") -> 1 | G23: =F23/COLUMNS(tablo) -> 0.052631579
A24: =OFFSET(Feuil1!$B$4,MOD(ROWS($1:23)-1,ROWS(tablo)),INT((ROWS($1:23)-1)/(ROWS(tablo)))) -> Calme | B24: Motivations | C24: {=COUNTIF(tablo,B24)} -> 1 | E24: {=IFERROR(INDEX($B$2:B$200,MATCH(LARGE(C$2:C$200+(ROW(C$2:C$200)/1000),ROW(A23)),C$2:C$200+(ROW(C$2:C$200)/1000),0)),"")} -> Méticuleux | F24: =IFERROR(VLOOKUP(E24,B$2:C$200,2,0),"") -> 1 | G24: =F24/COLUMNS(tablo) -> 0.052631579
A25: =OFFSET(Feuil1!$B$4,MOD(ROWS($1:24)-1,ROWS(tablo)),INT((ROWS($1:24)-1)/(ROWS(tablo)))) -> Organisé | B25: Travail en équipe | C25: {=COUNTIF(tablo,B25)} -> 1 | E25: {=IFERROR(INDEX($B$2:B$200,MATCH(LARGE(C$2:C$200+(ROW(C$2:C$200)/1000),ROW(A24)),C$2:C$200+(ROW(C$2:C$200)/1000),0)),"")} -> Adaptabilité | F25: =IFERROR(VLOOKUP(E25,B$2:C$200,2,0),"") -> 1 | G25: =F25/COLUMNS(tablo) -> 0.052631579
A26: =OFFSET(Feuil1!$B$4,MOD(ROWS($1:25)-1,ROWS(tablo)),INT((ROWS($1:25)-1)/(ROWS(tablo)))) -> Qualités relationnelles | B26: Curiosité intellectuelle | C26: {=COUNTIF(tablo,B26)} -> 1 | E26: {=IFERROR(INDEX($B$2:B$200,MATCH(LARGE(C$2:C$200+(ROW(C$2:C$200)/1000),ROW(A25)),C$2:C$200+(ROW(C$2:C$200)/1000),0)),"")} -> Posture professionnelle | F26: =IFERROR(VLOOKUP(E26,B$2:C$200,2,0),"") -> 1 | G26: =F26/COLUMNS(tablo) -> 0.052631579
A27: =OFFSET(Feuil1!$B$4,MOD(ROWS($1:26)-1,ROWS(tablo)),INT((ROWS($1:26)-1)/(ROWS(tablo)))) -> 0 | B27: Posture professionnelle | C27: {=COUNTIF(tablo,B27)} -> 1 | E27: {=IFERROR(INDEX($B$2:B$200,MATCH(LARGE(C$2:C$200+(ROW(C$2:C$200)/1000),ROW(A26)),C$2:C$200+(ROW(C$2:C$200)/1000),0)),"")} -> Curiosité intellectuelle | F27: =IFERROR(VLOOKUP(E27,B$2:C$200,2,0),"") -> 1 | G27: =F27/COLUMNS(tablo) -> 0.052631579
A28: =OFFSET(Feuil1!$B$4,MOD(ROWS($1:27)-1,ROWS(tablo)),INT((ROWS($1:27)-1)/(ROWS(tablo)))) -> 0 | B28: Adaptabilité | C28: {=COUNTIF(tablo,B28)} -> 1 | E28: {=IFERROR(INDEX($B$2:B$200,MATCH(LARGE(C$2:C$200+(ROW(C$2:C$200)/1000),ROW(A27)),C$2:C$200+(ROW(C$2:C$200)/1000),0)),"")} -> Travail en équipe | F28: =IFERROR(VLOOKUP(E28,B$2:C$200,2,0),"") -> 1 | G28: =F28/COLUMNS(tablo) -> 0.052631579
A29: =OFFSET(Feuil1!$B$4,MOD(ROWS($1:28)-1,ROWS(tablo)),INT((ROWS($1:28)-1)/(ROWS(tablo)))) -> 0 | B29: Discrétion | C29: {=COUNTIF(tablo,B29)} -> 2 | E29: {=IFERROR(INDEX($B$2:B$200,MATCH(LARGE(C$2:C$200+(ROW(C$2:C$200)/1000),ROW(A28)),C$2:C$200+(ROW(C$2:C$200)/1000),0)),"")} -> Motivations | F29: =IFERROR(VLOOKUP(E29,B$2:C$200,2,0),"") -> 1 | G29: =F29/COLUMNS(tablo) -> 0.052631579
A30: =OFFSET(Feuil1!$B$4,MOD(ROWS($1:29)-1,ROWS(tablo)),INT((ROWS($1:29)-1)/(ROWS(tablo)))) -> Adapation | B30: Relationnel | C30: {=COUNTIF(tablo,B30)} -> 4 | E30: {=IFERROR(INDEX($B$2:B$200,MATCH(LARGE(C$2:C$200+(ROW(C$2:C$200)/1000),ROW(A29)),C$2:C$200+(ROW(C$2:C$200)/1000),0)),"")} -> Implication | F30: =IFERROR(VLOOKUP(E30,B$2:C$200,2,0),"") -> 1 | G30: =F30/COLUMNS(tablo) -> 0.052631579
A31: =OFFSET(Feuil1!$B$4,MOD(ROWS($1:30)-1,ROWS(tablo)),INT((ROWS($1:30)-1)/(ROWS(tablo)))) -> Sérieux | B31: Dynamique | C31: {=COUNTIF(tablo,B31)} -> 2 | E31: {=IFERROR(INDEX($B$2:B$200,MATCH(LARGE(C$2:C$200+(ROW(C$2:C$200)/1000),ROW(A30)),C$2:C$200+(ROW(C$2:C$200)/1000),0)),"")} -> Adpatation | F31: =IFERROR(VLOOKUP(E31,B$2:C$200,2,0),"") -> 1 | G31: =F31/COLUMNS(tablo) -> 0.052631579
A32: =OFFSET(Feuil1!$B$4,MOD(ROWS($1:31)-1,ROWS(tablo)),INT((ROWS($1:31)-1)/(ROWS(tablo)))) -> Application | B32: Organisée | C32: {=COUNTIF(tablo,B32)} -> 2 | E32: {=IFERROR(INDEX($B$2:B$200,MATCH(LARGE(C$2:C$200+(ROW(C$2:C$200)/1000),ROW(A31)),C$2:C$200+(ROW(C$2:C$200)/1000),0)),"")} -> Application | F32: =IFERROR(VLOOKUP(E32,B$2:C$200,2,0),"") -> 1 | G32: =F32/COLUMNS(tablo) -> 0.052631579
A33: =OFFSET(Feuil1!$B$4,MOD(ROWS($1:32)-1,ROWS(tablo)),INT((ROWS($1:32)-1)/(ROWS(tablo)))) -> Autonomie | B33: Méticuleux | C33: {=COUNTIF(tablo,B33)} -> 1 | E33: {=IFERROR(INDEX($B$2:B$200,MATCH(LARGE(C$2:C$200+(ROW(C$2:C$200)/1000),ROW(A32)),C$2:C$200+(ROW(C$2:C$200)/1000),0)),"")} -> Adapation | F33: =IFERROR(VLOOKUP(E33,B$2:C$200,2,0),"") -> 1 | G33: =F33/COLUMNS(tablo) -> 0.052631579
A34: =OFFSET(Feuil1!$B$4,MOD(ROWS($1:33)-1,ROWS(tablo)),INT((ROWS($1:33)-1)/(ROWS(tablo)))) -> Anticipation | B34: Contact | C34: {=COUNTIF(tablo,B34)} -> 1 | E34: {=IFERROR(INDEX($B$2:B$200,MATCH(LARGE(C$2:C$200+(ROW(C$2:C$200)/1000),ROW(A33)),C$2:C$200+(ROW(C$2:C$200)/1000),0)),"")} -> Qualités relationnelles | F34: =IFERROR(VLOOKUP(E34,B$2:C$200,2,0),"") -> 1 | G34: =F34/COLUMNS(tablo) -> 0.052631579
A35: =OFFSET(Feuil1!$B$4,MOD(ROWS($1:34)-1,ROWS(tablo)),INT((ROWS($1:34)-1)/(ROWS(tablo)))) -> Analyse | B35: A l'écoute | C35: {=COUNTIF(tablo,B35)} -> 4 | E35: {=IFERROR(INDEX($B$2:B$200,MATCH(LARGE(C$2:C$200+(ROW(C$2:C$200)/1000),ROW(A34)),C$2:C$200+(ROW(C$2:C$200)/1000),0)),"")} -> Organisé | F35: =IFERROR(VLOOKUP(E35,B$2:C$200,2,0),"") -> 1 | G35: =F35/COLUMNS(tablo) -> 0.052631579
A36: =OFFSET(Feuil1!$B$4,MOD(ROWS($1:35)-1,ROWS(tablo)),INT((ROWS($1:35)-1)/(ROWS(tablo)))) -> 0 | B36: Autonome | C36: {=COUNTIF(tablo,B36)} -> 1 | E36: {=IFERROR(INDEX($B$2:B$200,MATCH(LARGE(C$2:C$200+(ROW(C$2:C$200)/1000),ROW(A35)),C$2:C$200+(ROW(C$2:C$200)/1000),0)),"")} -> Motivée | F36: =IFERROR(VLOOKUP(E36,B$2:C$200,2,0),"") -> 1 | G36: =F36/COLUMNS(tablo) -> 0.052631579
A37: =OFFSET(Feuil1!$B$4,MOD(ROWS($1:36)-1,ROWS(tablo)),INT((ROWS($1:36)-1)/(ROWS(tablo)))) -> Autonomie | B37: Curiosité | C37: {=COUNTIF(tablo,B37)} -> 3 | E37: {=IFERROR(INDEX($B$2:B$200,MATCH(LARGE(C$2:C$200+(ROW(C$2:C$200)/1000),ROW(A36)),C$2:C$200+(ROW(C$2:C$200)/1000),0)),"")} -> Curieux | F37: =IFERROR(VLOOKUP(E37,B$2:C$200,2,0),"") -> 1 | G37: =F37/COLUMNS(tablo) -> 0.052631579
A38: =OFFSET(Feuil1!$B$4,MOD(ROWS($1:37)-1,ROWS(tablo)),INT((ROWS($1:37)-1)/(ROWS(tablo)))) -> Anticipation | B38: Sens de l'écoute | C38: {=COUNTIF(tablo,B38)} -> 1 | E38: {=IFERROR(INDEX($B$2:B$200,MATCH(LARGE(C$2:C$200+(ROW(C$2:C$200)/1000),ROW(A37)),C$2:C$200+(ROW(C$2:C$200)/1000),0)),"")} -> Emapthie | F38: =IFERROR(VLOOKUP(E38,B$2:C$200,2,0),"") -> 1 | G38: =F38/COLUMNS(tablo) -> 0.052631579
A39: =OFFSET(Feuil1!$B$4,MOD(ROWS($1:38)-1,ROWS(tablo)),INT((ROWS($1:38)-1)/(ROWS(tablo)))) -> Adpatation | B39: Professionnalisme | C39: {=COUNTIF(tablo,B39)} -> 1 | E39: {=IFERROR(INDEX($B$2:B$200,MATCH(LARGE(C$2:C$200+(ROW(C$2:C$200)/1000),ROW(A38)),C$2:C$200+(ROW(C$2:C$200)/1000),0)),"")} -> Capacité d'analyse | F39: =IFERROR(VLOOKUP(E39,B$2:C$200,2,0),"") -> 1 | G39: =F39/COLUMNS(tablo) -> 0.052631579
A40: =OFFSET(Feuil1!$B$4,MOD(ROWS($1:39)-1,ROWS(tablo)),INT((ROWS($1:39)-1)/(ROWS(tablo)))) -> Intégration | B40: Contact | C40: {=COUNTIF(tablo,B40)} -> 1 | E40: {=IFERROR(INDEX($B$2:B$200,MATCH(LARGE(C$2:C$200+(ROW(C$2:C$200)/1000),ROW(A39)),C$2:C$200+(ROW(C$2:C$200)/1000),0)),"")} -> 0 | F40: =IFERROR(VLOOKUP(E40,B$2:C$200,2,0),"") -> 0 | G40: =F40/COLUMNS(tablo) -> 0
...
