Workbook
Name global: OFFSET(Global!$B$3:$C$3,,,ROWS(table))
Name matrice: OFFSET(param!$A$2,,,COUNTIF(param!$A:$A,"><"))
Name table: OFFSET(Global!$A$3,,,COUNTIF(Global!$B$3:$B$200,"><"))

Sheet Global
A1: TABLE
B2: Questions | C2: Answers
A3: Subject 1 | B3: Question 1 | C3: Answer 1
B4: Question 2 | C4: Answer 2
B5: Question 3 | C5: 123
B6: toto1 | C6: 456
B7: Question 3 | C7: Answer 3
A8: Subject 2 | B8: Question 1 | C8: Answer 1
B9: toto
B10: Question 2 | C10: Answer 2
B11: resto
A12: Subject 3 | B12: Question 1 | C12: Answer 1
B13: Question 2 | C13: Answer 2
B14: Question 3 | C14: Answer 3
B15: Question 4 | C15: Answer 4
B16: Question 5 | C16: Answer 5
A17: Subject 4 | B17: Question 1 | C17: Answer 1
B18: Question 2 | C18: Answer 2
B19: Question 3 | C19: Answer 3
B20: Question 4 | C20: Answer 4
B21: Question 5 | C21: Answer 5
B22: Question 6 | C22: Answer 6
B23: Question 7 | C23: Answer 7

Sheet subject 1
A3: Subject 1 | B3: {=IFERROR(INDEX(global,SMALL(IF(matrice=$A$3,ROW(matrice)-1,""),ROW(A1)),1),"")} -> Question 1 | C3: {=IFERROR(INDEX(global,SMALL(IF(matrice=$A$3,ROW(matrice)-1,""),ROW(B1)),2),"")} -> Answer 1
B4: {=IFERROR(INDEX(global,SMALL(IF(matrice=$A$3,ROW(matrice)-1,""),ROW(A2)),1),"")} -> Question 2 | C4: {=IFERROR(INDEX(global,SMALL(IF(matrice=$A$3,ROW(matrice)-1,""),ROW(B2)),2),"")} -> Answer 2
B5: {=IFERROR(INDEX(global,SMALL(IF(matrice=$A$3,ROW(matrice)-1,""),ROW(A3)),1),"")} -> Question 3 | C5: {=IFERROR(INDEX(global,SMALL(IF(matrice=$A$3,ROW(matrice)-1,""),ROW(B3)),2),"")} -> 123
B6: {=IFERROR(INDEX(global,SMALL(IF(matrice=$A$3,ROW(matrice)-1,""),ROW(A4)),1),"")} -> toto1 | C6: {=IFERROR(INDEX(global,SMALL(IF(matrice=$A$3,ROW(matrice)-1,""),ROW(B4)),2),"")} -> 456
B7: {=IFERROR(INDEX(global,SMALL(IF(matrice=$A$3,ROW(matrice)-1,""),ROW(A5)),1),"")} -> Question 3 | C7: {=IFERROR(INDEX(global,SMALL(IF(matrice=$A$3,ROW(matrice)-1,""),ROW(B5)),2),"")} -> Answer 3
B8: {=IFERROR(INDEX(global,SMALL(IF(matrice=$A$3,ROW(matrice)-1,""),ROW(A6)),1),"")} | C8: {=IFERROR(INDEX(global,SMALL(IF(matrice=$A$3,ROW(matrice)-1,""),ROW(B6)),2),"")}
B9: {=IFERROR(INDEX(global,SMALL(IF(matrice=$A$3,ROW(matrice)-1,""),ROW(A7)),1),"")} | C9: {=IFERROR(INDEX(global,SMALL(IF(matrice=$A$3,ROW(matrice)-1,""),ROW(B7)),2),"")}
B10: {=IFERROR(INDEX(global,SMALL(IF(matrice=$A$3,ROW(matrice)-1,""),ROW(A8)),1),"")} | C10: {=IFERROR(INDEX(global,SMALL(IF(matrice=$A$3,ROW(matrice)-1,""),ROW(B8)),2),"")}
B11: {=IFERROR(INDEX(global,SMALL(IF(matrice=$A$3,ROW(matrice)-1,""),ROW(A9)),1),"")} | C11: {=IFERROR(INDEX(global,SMALL(IF(matrice=$A$3,ROW(matrice)-1,""),ROW(B9)),2),"")}
B12: {=IFERROR(INDEX(global,SMALL(IF(matrice=$A$3,ROW(matrice)-1,""),ROW(A10)),1),"")} | C12: {=IFERROR(INDEX(global,SMALL(IF(matrice=$A$3,ROW(matrice)-1,""),ROW(B10)),2),"")}
B13: {=IFERROR(INDEX(global,SMALL(IF(matrice=$A$3,ROW(matrice)-1,""),ROW(A11)),1),"")} | C13: {=IFERROR(INDEX(global,SMALL(IF(matrice=$A$3,ROW(matrice)-1,""),ROW(B11)),2),"")}
B14: {=IFERROR(INDEX(global,SMALL(IF(matrice=$A$3,ROW(matrice)-1,""),ROW(A12)),1),"")} | C14: {=IFERROR(INDEX(global,SMALL(IF(matrice=$A$3,ROW(matrice)-1,""),ROW(B12)),2),"")}
B15: {=IFERROR(INDEX(global,SMALL(IF(matrice=$A$3,ROW(matrice)-1,""),ROW(A13)),1),"")} | C15: {=IFERROR(INDEX(global,SMALL(IF(matrice=$A$3,ROW(matrice)-1,""),ROW(B13)),2),"")}
B16: {=IFERROR(INDEX(global,SMALL(IF(matrice=$A$3,ROW(matrice)-1,""),ROW(A14)),1),"")} | C16: {=IFERROR(INDEX(global,SMALL(IF(matrice=$A$3,ROW(matrice)-1,""),ROW(B14)),2),"")}

Sheet Subject 2
A3: Subject 2 | B3: {=IFERROR(INDEX(global,SMALL(IF(matrice=$A$3,ROW(matrice)-1,""),ROW($A1)),1),"")} -> Question 1 | C3: {=IFERROR(INDEX(global,SMALL(IF(matrice=$A$3,ROW(matrice)-1,""),ROW($A1)),2),"")} -> Answer 1
B4: {=IFERROR(INDEX(global,SMALL(IF(matrice=$A$3,ROW(matrice)-1,""),ROW($A2)),1),"")} -> toto | C4: {=IFERROR(INDEX(global,SMALL(IF(matrice=$A$3,ROW(matrice)-1,""),ROW($A2)),2),"")} -> 0
B5: {=IFERROR(INDEX(global,SMALL(IF(matrice=$A$3,ROW(matrice)-1,""),ROW($A3)),1),"")} -> Question 2 | C5: {=IFERROR(INDEX(global,SMALL(IF(matrice=$A$3,ROW(matrice)-1,""),ROW($A3)),2),"")} -> Answer 2
B6: {=IFERROR(INDEX(global,SMALL(IF(matrice=$A$3,ROW(matrice)-1,""),ROW($A4)),1),"")} -> resto | C6: {=IFERROR(INDEX(global,SMALL(IF(matrice=$A$3,ROW(matrice)-1,""),ROW($A4)),2),"")} -> 0
B7: {=IFERROR(INDEX(global,SMALL(IF(matrice=$A$3,ROW(matrice)-1,""),ROW($A5)),1),"")} | C7: {=IFERROR(INDEX(global,SMALL(IF(matrice=$A$3,ROW(matrice)-1,""),ROW($A5)),2),"")}
B8: {=IFERROR(INDEX(global,SMALL(IF(matrice=$A$3,ROW(matrice)-1,""),ROW($A6)),1),"")} | C8: {=IFERROR(INDEX(global,SMALL(IF(matrice=$A$3,ROW(matrice)-1,""),ROW($A6)),2),"")}
B9: {=IFERROR(INDEX(global,SMALL(IF(matrice=$A$3,ROW(matrice)-1,""),ROW($A7)),1),"")} | C9: {=IFERROR(INDEX(global,SMALL(IF(matrice=$A$3,ROW(matrice)-1,""),ROW($A7)),2),"")}
B10: {=IFERROR(INDEX(global,SMALL(IF(matrice=$A$3,ROW(matrice)-1,""),ROW($A8)),1),"")} | C10: {=IFERROR(INDEX(global,SMALL(IF(matrice=$A$3,ROW(matrice)-1,""),ROW($A8)),2),"")}
B11: {=IFERROR(INDEX(global,SMALL(IF(matrice=$A$3,ROW(matrice)-1,""),ROW($A9)),1),"")} | C11: {=IFERROR(INDEX(global,SMALL(IF(matrice=$A$3,ROW(matrice)-1,""),ROW($A9)),2),"")}
B12: {=IFERROR(INDEX(global,SMALL(IF(matrice=$A$3,ROW(matrice)-1,""),ROW($A10)),1),"")} | C12: {=IFERROR(INDEX(global,SMALL(IF(matrice=$A$3,ROW(matrice)-1,""),ROW($A10)),2),"")}
B13: {=IFERROR(INDEX(global,SMALL(IF(matrice=$A$3,ROW(matrice)-1,""),ROW($A11)),1),"")} | C13: {=IFERROR(INDEX(global,SMALL(IF(matrice=$A$3,ROW(matrice)-1,""),ROW($A11)),2),"")}
B14: {=IFERROR(INDEX(global,SMALL(IF(matrice=$A$3,ROW(matrice)-1,""),ROW($A12)),1),"")} | C14: {=IFERROR(INDEX(global,SMALL(IF(matrice=$A$3,ROW(matrice)-1,""),ROW($A12)),2),"")}
B15: {=IFERROR(INDEX(global,SMALL(IF(matrice=$A$3,ROW(matrice)-1,""),ROW($A13)),1),"")} | C15: {=IFERROR(INDEX(global,SMALL(IF(matrice=$A$3,ROW(matrice)-1,""),ROW($A13)),2),"")}
... B21: {=IFERROR(INDEX(global,SMALL(IF(matrice=$A$3,ROW(matrice)-1,""),ROW($A19)),1),"")} | C21: {=IFERROR(INDEX(global,SMALL(IF(matrice=$A$3,ROW(matrice)-1,""),ROW($A19)),2),"")}

Sheet subject 3
A4: Subject 3 | B4: {=IFERROR(INDEX(global,SMALL(IF(matrice=$A$4,ROW(matrice)-1,""),ROW($A1)),1),"")} -> Question 1 | C4: {=IFERROR(INDEX(global,SMALL(IF(matrice=$A$4,ROW(matrice)-1,""),ROW($A1)),2),"")} -> Answer 1
B5: {=IFERROR(INDEX(global,SMALL(IF(matrice=$A$4,ROW(matrice)-1,""),ROW($A2)),1),"")} -> Question 2 | C5: {=IFERROR(INDEX(global,SMALL(IF(matrice=$A$4,ROW(matrice)-1,""),ROW($A2)),2),"")} -> Answer 2
B6: {=IFERROR(INDEX(global,SMALL(IF(matrice=$A$4,ROW(matrice)-1,""),ROW($A3)),1),"")} -> Question 3 | C6: {=IFERROR(INDEX(global,SMALL(IF(matrice=$A$4,ROW(matrice)-1,""),ROW($A3)),2),"")} -> Answer 3
B7: {=IFERROR(INDEX(global,SMALL(IF(matrice=$A$4,ROW(matrice)-1,""),ROW($A4)),1),"")} -> Question 4 | C7: {=IFERROR(INDEX(global,SMALL(IF(matrice=$A$4,ROW(matrice)-1,""),ROW($A4)),2),"")} -> Answer 4
B8: {=IFERROR(INDEX(global,SMALL(IF(matrice=$A$4,ROW(matrice)-1,""),ROW($A5)),1),"")} -> Question 5 | C8: {=IFERROR(INDEX(global,SMALL(IF(matrice=$A$4,ROW(matrice)-1,""),ROW($A5)),2),"")} -> Answer 5
B9: {=IFERROR(INDEX(global,SMALL(IF(matrice=$A$4,ROW(matrice)-1,""),ROW($A6)),1),"")} | C9: {=IFERROR(INDEX(global,SMALL(IF(matrice=$A$4,ROW(matrice)-1,""),ROW($A6)),2),"")}
B10: {=IFERROR(INDEX(global,SMALL(IF(matrice=$A$4,ROW(matrice)-1,""),ROW($A7)),1),"")} | C10: {=IFERROR(INDEX(global,SMALL(IF(matrice=$A$4,ROW(matrice)-1,""),ROW($A7)),2),"")}
B11: {=IFERROR(INDEX(global,SMALL(IF(matrice=$A$4,ROW(matrice)-1,""),ROW($A8)),1),"")} | C11: {=IFERROR(INDEX(global,SMALL(IF(matrice=$A$4,ROW(matrice)-1,""),ROW($A8)),2),"")}
B12: {=IFERROR(INDEX(global,SMALL(IF(matrice=$A$4,ROW(matrice)-1,""),ROW($A9)),1),"")} | C12: {=IFERROR(INDEX(global,SMALL(IF(matrice=$A$4,ROW(matrice)-1,""),ROW($A9)),2),"")}
B13: {=IFERROR(INDEX(global,SMALL(IF(matrice=$A$4,ROW(matrice)-1,""),ROW($A10)),1),"")} | C13: {=IFERROR(INDEX(global,SMALL(IF(matrice=$A$4,ROW(matrice)-1,""),ROW($A10)),2),"")}
B14: {=IFERROR(INDEX(global,SMALL(IF(matrice=$A$4,ROW(matrice)-1,""),ROW($A11)),1),"")} | C14: {=IFERROR(INDEX(global,SMALL(IF(matrice=$A$4,ROW(matrice)-1,""),ROW($A11)),2),"")}
B15: {=IFERROR(INDEX(global,SMALL(IF(matrice=$A$4,ROW(matrice)-1,""),ROW($A12)),1),"")} | C15: {=IFERROR(INDEX(global,SMALL(IF(matrice=$A$4,ROW(matrice)-1,""),ROW($A12)),2),"")}
B16: {=IFERROR(INDEX(global,SMALL(IF(matrice=$A$4,ROW(matrice)-1,""),ROW($A13)),1),"")} | C16: {=IFERROR(INDEX(global,SMALL(IF(matrice=$A$4,ROW(matrice)-1,""),ROW($A13)),2),"")}
... B26: {=IFERROR(INDEX(global,SMALL(IF(matrice=$A$4,ROW(matrice)-1,""),ROW($A23)),1),"")} | C26: {=IFERROR(INDEX(global,SMALL(IF(matrice=$A$4,ROW(matrice)-1,""),ROW($A23)),2),"")}

Sheet Subject 4
A3: Subject 4 | B3: {=IFERROR(INDEX(global,SMALL(IF(matrice=$A$3,ROW(matrice)-1,""),ROW($A1)),1),"")} -> Question 1 | C3: {=IFERROR(INDEX(global,SMALL(IF(matrice=$A$3,ROW(matrice)-1,""),ROW($A1)),2),"")} -> Answer 1
B4: {=IFERROR(INDEX(global,SMALL(IF(matrice=$A$3,ROW(matrice)-1,""),ROW($A2)),1),"")} -> Question 2 | C4: {=IFERROR(INDEX(global,SMALL(IF(matrice=$A$3,ROW(matrice)-1,""),ROW($A2)),2),"")} -> Answer 2
B5: {=IFERROR(INDEX(global,SMALL(IF(matrice=$A$3,ROW(matrice)-1,""),ROW($A3)),1),"")} -> Question 3 | C5: {=IFERROR(INDEX(global,SMALL(IF(matrice=$A$3,ROW(matrice)-1,""),ROW($A3)),2),"")} -> Answer 3
B6: {=IFERROR(INDEX(global,SMALL(IF(matrice=$A$3,ROW(matrice)-1,""),ROW($A4)),1),"")} -> Question 4 | C6: {=IFERROR(INDEX(global,SMALL(IF(matrice=$A$3,ROW(matrice)-1,""),ROW($A4)),2),"")} -> Answer 4
B7: {=IFERROR(INDEX(global,SMALL(IF(matrice=$A$3,ROW(matrice)-1,""),ROW($A5)),1),"")} -> Question 5 | C7: {=IFERROR(INDEX(global,SMALL(IF(matrice=$A$3,ROW(matrice)-1,""),ROW($A5)),2),"")} -> Answer 5
B8: {=IFERROR(INDEX(global,SMALL(IF(matrice=$A$3,ROW(matrice)-1,""),ROW($A6)),1),"")} -> Question 6 | C8: {=IFERROR(INDEX(global,SMALL(IF(matrice=$A$3,ROW(matrice)-1,""),ROW($A6)),2),"")} -> Answer 6
B9: {=IFERROR(INDEX(global,SMALL(IF(matrice=$A$3,ROW(matrice)-1,""),ROW($A7)),1),"")} -> Question 7 | C9: {=IFERROR(INDEX(global,SMALL(IF(matrice=$A$3,ROW(matrice)-1,""),ROW($A7)),2),"")} -> Answer 7
B10: {=IFERROR(INDEX(global,SMALL(IF(matrice=$A$3,ROW(matrice)-1,""),ROW($A8)),1),"")} | C10: {=IFERROR(INDEX(global,SMALL(IF(matrice=$A$3,ROW(matrice)-1,""),ROW($A8)),2),"")}
B11: {=IFERROR(INDEX(global,SMALL(IF(matrice=$A$3,ROW(matrice)-1,""),ROW($A9)),1),"")} | C11: {=IFERROR(INDEX(global,SMALL(IF(matrice=$A$3,ROW(matrice)-1,""),ROW($A9)),2),"")}
B12: {=IFERROR(INDEX(global,SMALL(IF(matrice=$A$3,ROW(matrice)-1,""),ROW($A10)),1),"")} | C12: {=IFERROR(INDEX(global,SMALL(IF(matrice=$A$3,ROW(matrice)-1,""),ROW($A10)),2),"")}
B13: {=IFERROR(INDEX(global,SMALL(IF(matrice=$A$3,ROW(matrice)-1,""),ROW($A11)),1),"")} | C13: {=IFERROR(INDEX(global,SMALL(IF(matrice=$A$3,ROW(matrice)-1,""),ROW($A11)),2),"")}
B14: {=IFERROR(INDEX(global,SMALL(IF(matrice=$A$3,ROW(matrice)-1,""),ROW($A12)),1),"")} | C14: {=IFERROR(INDEX(global,SMALL(IF(matrice=$A$3,ROW(matrice)-1,""),ROW($A12)),2),"")}
B15: {=IFERROR(INDEX(global,SMALL(IF(matrice=$A$3,ROW(matrice)-1,""),ROW($A13)),1),"")} | C15: {=IFERROR(INDEX(global,SMALL(IF(matrice=$A$3,ROW(matrice)-1,""),ROW($A13)),2),"")}
... B38: {=IFERROR(INDEX(global,SMALL(IF(matrice=$A$3,ROW(matrice)-1,""),ROW($A36)),1),"")} | C38: {=IFERROR(INDEX(global,SMALL(IF(matrice=$A$3,ROW(matrice)-1,""),ROW($A36)),2),"")}

Sheet param
A2: {=IF(ROW(1:1)>ROWS(table),"",INDEX(table,SMALL(IFERROR(MATCH(table,table,0),""),COUNTA(Global!A$3:A3))))} -> Subject 1 | D2: =IFERROR(IF(ISERROR(MATCH(C3,table,0)-MATCH(C2,table,0)),ROWS(table)-MATCH(C2,table,0)+1,MATCH(C3,table,0)-MATCH(C2,table,0)),"")
A3: {=IF(ROW(2:2)>ROWS(table),"",INDEX(table,SMALL(IFERROR(MATCH(table,table,0),""),COUNTA(Global!A$3:A4))))} -> Subject 1 | D3: =IFERROR(IF(ISERROR(MATCH(C4,table,0)-MATCH(C3,table,0)),ROWS(table)-MATCH(C3,table,0)+1,MATCH(C4,table,0)-MATCH(C3,table,0)),"")
A4: {=IF(ROW(3:3)>ROWS(table),"",INDEX(table,SMALL(IFERROR(MATCH(table,table,0),""),COUNTA(Global!A$3:A5))))} -> Subject 1 | D4: =IFERROR(IF(ISERROR(MATCH(C5,table,0)-MATCH(C4,table,0)),ROWS(table)-MATCH(C4,table,0)+1,MATCH(C5,table,0)-MATCH(C4,table,0)),"")
A5: {=IF(ROW(4:4)>ROWS(table),"",INDEX(table,SMALL(IFERROR(MATCH(table,table,0),""),COUNTA(Global!A$3:A6))))} -> Subject 1 | D5: =IFERROR(IF(ISERROR(MATCH(C6,table,0)-MATCH(C5,table,0)),ROWS(table)-MATCH(C5,table,0)+1,MATCH(C6,table,0)-MATCH(C5,table,0)),"")
A6: {=IF(ROW(5:5)>ROWS(table),"",INDEX(table,SMALL(IFERROR(MATCH(table,table,0),""),COUNTA(Global!A$3:A7))))} -> Subject 1 | D6: =IFERROR(IF(ISERROR(MATCH(C7,table,0)-MATCH(C6,table,0)),ROWS(table)-MATCH(C6,table,0)+1,MATCH(C7,table,0)-MATCH(C6,table,0)),"")
A7: {=IF(ROW(6:6)>ROWS(table),"",INDEX(table,SMALL(IFERROR(MATCH(table,table,0),""),COUNTA(Global!A$3:A8))))} -> Subject 2 | D7: =IFERROR(IF(ISERROR(MATCH(C8,table,0)-MATCH(C7,table,0)),ROWS(table)-MATCH(C7,table,0)+1,MATCH(C8,table,0)-MATCH(C7,table,0)),"")
A8: {=IF(ROW(7:7)>ROWS(table),"",INDEX(table,SMALL(IFERROR(MATCH(table,table,0),""),COUNTA(Global!A$3:A9))))} -> Subject 2 | D8: =IFERROR(IF(ISERROR(MATCH(C9,table,0)-MATCH(C8,table,0)),ROWS(table)-MATCH(C8,table,0)+1,MATCH(C9,table,0)-MATCH(C8,table,0)),"")
A9: {=IF(ROW(8:8)>ROWS(table),"",INDEX(table,SMALL(IFERROR(MATCH(table,table,0),""),COUNTA(Global!A$3:A10))))} -> Subject 2 | D9: =IFERROR(IF(ISERROR(MATCH(C10,table,0)-MATCH(C9,table,0)),ROWS(table)-MATCH(C9,table,0)+1,MATCH(C10,table,0)-MATCH(C9,table,0)),"")
A10: {=IF(ROW(9:9)>ROWS(table),"",INDEX(table,SMALL(IFERROR(MATCH(table,table,0),""),COUNTA(Global!A$3:A11))))} -> Subject 2 | D10: =IFERROR(IF(ISERROR(MATCH(C11,table,0)-MATCH(C10,table,0)),ROWS(table)-MATCH(C10,table,0)+1,MATCH(C11,table,0)-MATCH(C10,table,0)),"")
A11: {=IF(ROW(10:10)>ROWS(table),"",INDEX(table,SMALL(IFERROR(MATCH(table,table,0),""),COUNTA(Global!A$3:A12))))} -> Subject 3
A12: {=IF(ROW(11:11)>ROWS(table),"",INDEX(table,SMALL(IFERROR(MATCH(table,table,0),""),COUNTA(Global!A$3:A13))))} -> Subject 3
A13: {=IF(ROW(12:12)>ROWS(table),"",INDEX(table,SMALL(IFERROR(MATCH(table,table,0),""),COUNTA(Global!A$3:A14))))} -> Subject 3
A14: {=IF(ROW(13:13)>ROWS(table),"",INDEX(table,SMALL(IFERROR(MATCH(table,table,0),""),COUNTA(Global!A$3:A15))))} -> Subject 3
A15: {=IF(ROW(14:14)>ROWS(table),"",INDEX(table,SMALL(IFERROR(MATCH(table,table,0),""),COUNTA(Global!A$3:A16))))} -> Subject 3
A16: {=IF(ROW(15:15)>ROWS(table),"",INDEX(table,SMALL(IFERROR(MATCH(table,table,0),""),COUNTA(Global!A$3:A17))))} -> Subject 4
A17: {=IF(ROW(16:16)>ROWS(table),"",INDEX(table,SMALL(IFERROR(MATCH(table,table,0),""),COUNTA(Global!A$3:A18))))} -> Subject 4
A18: {=IF(ROW(17:17)>ROWS(table),"",INDEX(table,SMALL(IFERROR(MATCH(table,table,0),""),COUNTA(Global!A$3:A19))))} -> Subject 4
A19: {=IF(ROW(18:18)>ROWS(table),"",INDEX(table,SMALL(IFERROR(MATCH(table,table,0),""),COUNTA(Global!A$3:A20))))} -> Subject 4
A20: {=IF(ROW(19:19)>ROWS(table),"",INDEX(table,SMALL(IFERROR(MATCH(table,table,0),""),COUNTA(Global!A$3:A21))))} -> Subject 4
A21: {=IF(ROW(20:20)>ROWS(table),"",INDEX(table,SMALL(IFERROR(MATCH(table,table,0),""),COUNTA(Global!A$3:A22))))} -> Subject 4
A22: {=IF(ROW(21:21)>ROWS(table),"",INDEX(table,SMALL(IFERROR(MATCH(table,table,0),""),COUNTA(Global!A$3:A23))))} -> Subject 4
A23: {=IF(ROW(22:22)>ROWS(table),"",INDEX(table,SMALL(IFERROR(MATCH(table,table,0),""),COUNTA(Global!A$3:A24))))}
A24: {=IF(ROW(23:23)>ROWS(table),"",INDEX(table,SMALL(IFERROR(MATCH(table,table,0),""),COUNTA(Global!A$3:A25))))}
A25: {=IF(ROW(24:24)>ROWS(table),"",INDEX(table,SMALL(IFERROR(MATCH(table,table,0),""),COUNTA(Global!A$3:A26))))}
A26: {=IF(ROW(25:25)>ROWS(table),"",INDEX(table,SMALL(IFERROR(MATCH(table,table,0),""),COUNTA(Global!A$3:A27))))}
A27: {=IF(ROW(26:26)>ROWS(table),"",INDEX(table,SMALL(IFERROR(MATCH(table,table,0),""),COUNTA(Global!A$3:A28))))}
A28: {=IF(ROW(27:27)>ROWS(table),"",INDEX(table,SMALL(IFERROR(MATCH(table,table,0),""),COUNTA(Global!A$3:A29))))}
A29: {=IF(ROW(28:28)>ROWS(table),"",INDEX(table,SMALL(IFERROR(MATCH(table,table,0),""),COUNTA(Global!A$3:A30))))}
A30: {=IF(ROW(29:29)>ROWS(table),"",INDEX(table,SMALL(IFERROR(MATCH(table,table,0),""),COUNTA(Global!A$3:A31))))}
A31: {=IF(ROW(30:30)>ROWS(table),"",INDEX(table,SMALL(IFERROR(MATCH(table,table,0),""),COUNTA(Global!A$3:A32))))}
A32: {=IF(ROW(31:31)>ROWS(table),"",INDEX(table,SMALL(IFERROR(MATCH(table,table,0),""),COUNTA(Global!A$3:A33))))}
A33: {=IF(ROW(32:32)>ROWS(table),"",INDEX(table,SMALL(IFERROR(MATCH(table,table,0),""),COUNTA(Global!A$3:A34))))}
A34: {=IF(ROW(33:33)>ROWS(table),"",INDEX(table,SMALL(IFERROR(MATCH(table,table,0),""),COUNTA(Global!A$3:A35))))}
A35: {=IF(ROW(34:34)>ROWS(table),"",INDEX(table,SMALL(IFERROR(MATCH(table,table,0),""),COUNTA(Global!A$3:A36))))}
A36: {=IF(ROW(35:35)>ROWS(table),"",INDEX(table,SMALL(IFERROR(MATCH(table,table,0),""),COUNTA(Global!A$3:A37))))}
A37: {=IF(ROW(36:36)>ROWS(table),"",INDEX(table,SMALL(IFERROR(MATCH(table,table,0),""),COUNTA(Global!A$3:A38))))}
A38: {=IF(ROW(37:37)>ROWS(table),"",INDEX(table,SMALL(IFERROR(MATCH(table,table,0),""),COUNTA(Global!A$3:A39))))}
A39: {=IF(ROW(38:38)>ROWS(table),"",INDEX(table,SMALL(IFERROR(MATCH(table,table,0),""),COUNTA(Global!A$3:A40))))}
A40: {=IF(ROW(39:39)>ROWS(table),"",INDEX(table,SMALL(IFERROR(MATCH(table,table,0),""),COUNTA(Global!A$3:A41))))}
A41: {=IF(ROW(40:40)>ROWS(table),"",INDEX(table,SMALL(IFERROR(MATCH(table,table,0),""),COUNTA(Global!A$3:A42))))}
A42: {=IF(ROW(41:41)>ROWS(table),"",INDEX(table,SMALL(IFERROR(MATCH(table,table,0),""),COUNTA(Global!A$3:A43))))}
A43: {=IF(ROW(42:42)>ROWS(table),"",INDEX(table,SMALL(IFERROR(MATCH(table,table,0),""),COUNTA(Global!A$3:A44))))}
A44: {=IF(ROW(43:43)>ROWS(table),"",INDEX(table,SMALL(IFERROR(MATCH(table,table,0),""),COUNTA(Global!A$3:A45))))}
A45: {=IF(ROW(44:44)>ROWS(table),"",INDEX(table,SMALL(IFERROR(MATCH(table,table,0),""),COUNTA(Global!A$3:A46))))}
A46: {=IF(ROW(45:45)>ROWS(table),"",INDEX(table,SMALL(IFERROR(MATCH(table,table,0),""),COUNTA(Global!A$3:A47))))}
A47: {=IF(ROW(46:46)>ROWS(table),"",INDEX(table,SMALL(IFERROR(MATCH(table,table,0),""),COUNTA(Global!A$3:A48))))}
A48: {=IF(ROW(47:47)>ROWS(table),"",INDEX(table,SMALL(IFERROR(MATCH(table,table,0),""),COUNTA(Global!A$3:A49))))}
A49: {=IF(ROW(48:48)>ROWS(table),"",INDEX(table,SMALL(IFERROR(MATCH(table,table,0),""),COUNTA(Global!A$3:A50))))}
A50: {=IF(ROW(49:49)>ROWS(table),"",INDEX(table,SMALL(IFERROR(MATCH(table,table,0),""),COUNTA(Global!A$3:A51))))}
A51: {=IF(ROW(50:50)>ROWS(table),"",INDEX(table,SMALL(IFERROR(MATCH(table,table,0),""),COUNTA(Global!A$3:A52))))}
A52: {=IF(ROW(51:51)>ROWS(table),"",INDEX(table,SMALL(IFERROR(MATCH(table,table,0),""),COUNTA(Global!A$3:A53))))}
A53: {=IF(ROW(52:52)>ROWS(table),"",INDEX(table,SMALL(IFERROR(MATCH(table,table,0),""),COUNTA(Global!A$3:A54))))}
A54: {=IF(ROW(53:53)>ROWS(table),"",INDEX(table,SMALL(IFERROR(MATCH(table,table,0),""),COUNTA(Global!A$3:A55))))}
A55: {=IF(ROW(54:54)>ROWS(table),"",INDEX(table,SMALL(IFERROR(MATCH(table,table,0),""),COUNTA(Global!A$3:A56))))}
A56: {=IF(ROW(55:55)>ROWS(table),"",INDEX(table,SMALL(IFERROR(MATCH(table,table,0),""),COUNTA(Global!A$3:A57))))}
A57: {=IF(ROW(56:56)>ROWS(table),"",INDEX(table,SMALL(IFERROR(MATCH(table,table,0),""),COUNTA(Global!A$3:A58))))}
A58: {=IF(ROW(57:57)>ROWS(table),"",INDEX(table,SMALL(IFERROR(MATCH(table,table,0),""),COUNTA(Global!A$3:A59))))}
A59: {=IF(ROW(58:58)>ROWS(table),"",INDEX(table,SMALL(IFERROR(MATCH(table,table,0),""),COUNTA(Global!A$3:A60))))}
A60: {=IF(ROW(59:59)>ROWS(table),"",INDEX(table,SMALL(IFERROR(MATCH(table,table,0),""),COUNTA(Global!A$3:A61))))}
A61: {=IF(ROW(60:60)>ROWS(table),"",INDEX(table,SMALL(IFERROR(MATCH(table,table,0),""),COUNTA(Global!A$3:A62))))}
A62: {=IF(ROW(61:61)>ROWS(table),"",INDEX(table,SMALL(IFERROR(MATCH(table,table,0),""),COUNTA(Global!A$3:A63))))}
A63: {=IF(ROW(62:62)>ROWS(table),"",INDEX(table,SMALL(IFERROR(MATCH(table,table,0),""),COUNTA(Global!A$3:A64))))}
A64: {=IF(ROW(63:63)>ROWS(table),"",INDEX(table,SMALL(IFERROR(MATCH(table,table,0),""),COUNTA(Global!A$3:A65))))}
A65: {=IF(ROW(64:64)>ROWS(table),"",INDEX(table,SMALL(IFERROR(MATCH(table,table,0),""),COUNTA(Global!A$3:A66))))}
A66: {=IF(ROW(65:65)>ROWS(table),"",INDEX(table,SMALL(IFERROR(MATCH(table,table,0),""),COUNTA(Global!A$3:A67))))}
A67: {=IF(ROW(66:66)>ROWS(table),"",INDEX(table,SMALL(IFERROR(MATCH(table,table,0),""),COUNTA(Global!A$3:A68))))}
A68: {=IF(ROW(67:67)>ROWS(table),"",INDEX(table,SMALL(IFERROR(MATCH(table,table,0),""),COUNTA(Global!A$3:A69))))}
A69: {=IF(ROW(68:68)>ROWS(table),"",INDEX(table,SMALL(IFERROR(MATCH(table,table,0),""),COUNTA(Global!A$3:A70))))}
A70: {=IF(ROW(69:69)>ROWS(table),"",INDEX(table,SMALL(IFERROR(MATCH(table,table,0),""),COUNTA(Global!A$3:A71))))}
A71: {=IF(ROW(70:70)>ROWS(table),"",INDEX(table,SMALL(IFERROR(MATCH(table,table,0),""),COUNTA(Global!A$3:A72))))}
A72: {=IF(ROW(71:71)>ROWS(table),"",INDEX(table,SMALL(IFERROR(MATCH(table,table,0),""),COUNTA(Global!A$3:A73))))}
A73: {=IF(ROW(72:72)>ROWS(table),"",INDEX(table,SMALL(IFERROR(MATCH(table,table,0),""),COUNTA(Global!A$3:A74))))}
A74: {=IF(ROW(73:73)>ROWS(table),"",INDEX(table,SMALL(IFERROR(MATCH(table,table,0),""),COUNTA(Global!A$3:A75))))}
A75: {=IF(ROW(74:74)>ROWS(table),"",INDEX(table,SMALL(IFERROR(MATCH(table,table,0),""),COUNTA(Global!A$3:A76))))}
A76: {=IF(ROW(75:75)>ROWS(table),"",INDEX(table,SMALL(IFERROR(MATCH(table,table,0),""),COUNTA(Global!A$3:A77))))}
A77: {=IF(ROW(76:76)>ROWS(table),"",INDEX(table,SMALL(IFERROR(MATCH(table,table,0),""),COUNTA(Global!A$3:A78))))}
A78: {=IF(ROW(77:77)>ROWS(table),"",INDEX(table,SMALL(IFERROR(MATCH(table,table,0),""),COUNTA(Global!A$3:A79))))}
A79: {=IF(ROW(78:78)>ROWS(table),"",INDEX(table,SMALL(IFERROR(MATCH(table,table,0),""),COUNTA(Global!A$3:A80))))}
A80: {=IF(ROW(79:79)>ROWS(table),"",INDEX(table,SMALL(IFERROR(MATCH(table,table,0),""),COUNTA(Global!A$3:A81))))}
A81: {=IF(ROW(80:80)>ROWS(table),"",INDEX(table,SMALL(IFERROR(MATCH(table,table,0),""),COUNTA(Global!A$3:A82))))}
A82: {=IF(ROW(81:81)>ROWS(table),"",INDEX(table,SMALL(IFERROR(MATCH(table,table,0),""),COUNTA(Global!A$3:A83))))}
A83: {=IF(ROW(82:82)>ROWS(table),"",INDEX(table,SMALL(IFERROR(MATCH(table,table,0),""),COUNTA(Global!A$3:A84))))}
A84: {=IF(ROW(83:83)>ROWS(table),"",INDEX(table,SMALL(IFERROR(MATCH(table,table,0),""),COUNTA(Global!A$3:A85))))}
A85: {=IF(ROW(84:84)>ROWS(table),"",INDEX(table,SMALL(IFERROR(MATCH(table,table,0),""),COUNTA(Global!A$3:A86))))}
A86: {=IF(ROW(85:85)>ROWS(table),"",INDEX(table,SMALL(IFERROR(MATCH(table,table,0),""),COUNTA(Global!A$3:A87))))}
A87: {=IF(ROW(86:86)>ROWS(table),"",INDEX(table,SMALL(IFERROR(MATCH(table,table,0),""),COUNTA(Global!A$3:A88))))}
A88: {=IF(ROW(87:87)>ROWS(table),"",INDEX(table,SMALL(IFERROR(MATCH(table,table,0),""),COUNTA(Global!A$3:A89))))}
A89: {=IF(ROW(88:88)>ROWS(table),"",INDEX(table,SMALL(IFERROR(MATCH(table,table,0),""),COUNTA(Global!A$3:A90))))}
A90: {=IF(ROW(89:89)>ROWS(table),"",INDEX(table,SMALL(IFERROR(MATCH(table,table,0),""),COUNTA(Global!A$3:A91))))}
A91: {=IF(ROW(90:90)>ROWS(table),"",INDEX(table,SMALL(IFERROR(MATCH(table,table,0),""),COUNTA(Global!A$3:A92))))}
A92: {=IF(ROW(91:91)>ROWS(table),"",INDEX(table,SMALL(IFERROR(MATCH(table,table,0),""),COUNTA(Global!A$3:A93))))}
A93: {=IF(ROW(92:92)>ROWS(table),"",INDEX(table,SMALL(IFERROR(MATCH(table,table,0),""),COUNTA(Global!A$3:A94))))}
A94: {=IF(ROW(93:93)>ROWS(table),"",INDEX(table,SMALL(IFERROR(MATCH(table,table,0),""),COUNTA(Global!A$3:A95))))}
A95: {=IF(ROW(94:94)>ROWS(table),"",INDEX(table,SMALL(IFERROR(MATCH(table,table,0),""),COUNTA(Global!A$3:A96))))}
A96: {=IF(ROW(95:95)>ROWS(table),"",INDEX(table,SMALL(IFERROR(MATCH(table,table,0),""),COUNTA(Global!A$3:A97))))}
A97: {=IF(ROW(96:96)>ROWS(table),"",INDEX(table,SMALL(IFERROR(MATCH(table,table,0),""),COUNTA(Global!A$3:A98))))}
A98: {=IF(ROW(97:97)>ROWS(table),"",INDEX(table,SMALL(IFERROR(MATCH(table,table,0),""),COUNTA(Global!A$3:A99))))}
A99: {=IF(ROW(98:98)>ROWS(table),"",INDEX(table,SMALL(IFERROR(MATCH(table,table,0),""),COUNTA(Global!A$3:A100))))}
A100: {=IF(ROW(99:99)>ROWS(table),"",INDEX(table,SMALL(IFERROR(MATCH(table,table,0),""),COUNTA(Global!A$3:A101))))}
A101: {=IF(ROW(100:100)>ROWS(table),"",INDEX(table,SMALL(IFERROR(MATCH(table,table,0),""),COUNTA(Global!A$3:A102))))}
...
