Workbook

Sheet Données
A1: Nom | B1: Score
A2: Risque climatique | B2: -25 | C2: Environnement
A3: Emission de GES | B3: -100 | C3: Environnement
A4: Energie | B4: -40 | C4: Environnement
A5: Pollution | B5: 0 | C5: Environnement
A6: Utilisation de l'eau | B6: 0 | C6: Environnement
A7: Eutrophisation de l'eau | B7: 0 | C7: Environnement
A8: Impact sur les ressources aquatiques | B8: 0 | C8: Environnement
A9: Impact sur la biodiversité | B9: 0 | C9: Environnement
A10: Déforestation | B10: 0 | C10: Environnement
A11: Risques liés à la perte de biodiversité | B11: 0 | C11: Environnement
A12: Dépendance aux matières premières | B12: 0 | C12: Environnement
A13: Achats | B13: -50 | C13: Environnement
... A25: Protection des données / Continuité de service | B25: -30 | C25: Gouvernance

Sheet Tableau de bord
A1: Seuil | B1: -30
G2: {=IFERROR(INDEX(Données!A$2:A$25,SMALL(IF(Données!B$2:B$25<=B$1,ROW(Données!A$2:A$25)-1,""),ROW(A1))),"")} -> Emission de GES
A3: Nom avec score inférieur au seuil | G3: {=IFERROR(INDEX(Données!A$2:A$25,SMALL(IF(Données!B$2:B$25<=B$1,ROW(Données!A$2:A$25)-1,""),ROW(A2))),"")} -> Energie
A4: Environnement | B4: Social | C4: Gouvernance | G4: {=IFERROR(INDEX(Données!A$2:A$25,SMALL(IF(Données!B$2:B$25<=B$1,ROW(Données!A$2:A$25)-1,""),ROW(A3))),"")} -> Achats | I4: excel ne peux deviner si social ou….....
A5: {=IFERROR(INDEX(Données!$A$2:$A$25,SMALL(IF((Données!$B$2:$B$25<=$B$1)*(Données!$C$2:C$25=A$4),ROW(Données!$A$2:$A$25)-1,""),ROW($A1))),"")} -> Emission de GES | B5: {=IFERROR(INDEX(Données!$A$2:$A$25,SMALL(IF((Données!$B$2:$B$25<=$B$1)*(Données!$C$2:D$25=B$4),ROW(Données!$A$2:$A$25)-1,""),ROW($A1))),"")} -> Santé au travail | C5: {=IFERROR(INDEX(Données!$A$2:$A$25,SMALL(IF((Données!$B$2:$B$25<=$B$1)*(Données!$C$2:E$25=C$4),ROW(Données!$A$2:$A$25)-1,""),ROW($A1))),"")} -> Gouvernance, Gestion des risques, Contrôle interne | G5: {=IFERROR(INDEX(Données!A$2:A$25,SMALL(IF(Données!B$2:B$25<=B$1,ROW(Données!A$2:A$25)-1,""),ROW(A4))),"")} -> Santé au travail
A6: {=IFERROR(INDEX(Données!A$2:A$25,SMALL(IF((Données!$B$2:$B$25<=$B$1)*(Données!$C$2:C$25=A$4),ROW(Données!$A$2:$A$25)-1,""),ROW($A2))),"")} -> Energie | B6: {=IFERROR(INDEX(Données!$A$2:$A$25,SMALL(IF((Données!$B$2:$B$25<=$B$1)*(Données!$C$2:D$25=B$4),ROW(Données!$A$2:$A$25)-1,""),ROW($A2))),"")} -> Harcèlement | C6: {=IFERROR(INDEX(Données!$A$2:$A$25,SMALL(IF((Données!$B$2:$B$25<=$B$1)*(Données!$C$2:E$25=C$4),ROW(Données!$A$2:$A$25)-1,""),ROW($A2))),"")} -> Conduite des affaires | G6: {=IFERROR(INDEX(Données!A$2:A$25,SMALL(IF(Données!B$2:B$25<=B$1,ROW(Données!A$2:A$25)-1,""),ROW(A5))),"")} -> Harcèlement
A7: {=IFERROR(INDEX(Données!A$2:A$25,SMALL(IF((Données!$B$2:$B$25<=$B$1)*(Données!$C$2:C$25=A$4),ROW(Données!$A$2:$A$25)-1,""),ROW($A3))),"")} -> Achats | B7: {=IFERROR(INDEX(Données!$A$2:$A$25,SMALL(IF((Données!$B$2:$B$25<=$B$1)*(Données!$C$2:D$25=B$4),ROW(Données!$A$2:$A$25)-1,""),ROW($A3))),"")} -> Communautés affectées | C7: {=IFERROR(INDEX(Données!$A$2:$A$25,SMALL(IF((Données!$B$2:$B$25<=$B$1)*(Données!$C$2:E$25=C$4),ROW(Données!$A$2:$A$25)-1,""),ROW($A3))),"")} -> Protection des données / Continuité de service | G7: {=IFERROR(INDEX(Données!A$2:A$25,SMALL(IF(Données!B$2:B$25<=B$1,ROW(Données!A$2:A$25)-1,""),ROW(A6))),"")} -> Communautés affectées
A8: {=IFERROR(INDEX(Données!A$2:A$25,SMALL(IF((Données!$B$2:$B$25<=$B$1)*(Données!$C$2:C$25=A$4),ROW(Données!$A$2:$A$25)-1,""),ROW($A4))),"")} | B8: {=IFERROR(INDEX(Données!$A$2:$A$25,SMALL(IF((Données!$B$2:$B$25<=$B$1)*(Données!$C$2:D$25=B$4),ROW(Données!$A$2:$A$25)-1,""),ROW($A4))),"")} | C8: {=IFERROR(INDEX(Données!$A$2:$A$25,SMALL(IF((Données!$B$2:$B$25<=$B$1)*(Données!$C$2:E$25=C$4),ROW(Données!$A$2:$A$25)-1,""),ROW($A4))),"")} | G8: {=IFERROR(INDEX(Données!A$2:A$25,SMALL(IF(Données!B$2:B$25<=B$1,ROW(Données!A$2:A$25)-1,""),ROW(A7))),"")} -> Gouvernance, Gestion des risques, Contrôle interne
A9: {=IFERROR(INDEX(Données!A$2:A$25,SMALL(IF((Données!$B$2:$B$25<=$B$1)*(Données!$C$2:C$25=A$4),ROW(Données!$A$2:$A$25)-1,""),ROW($A5))),"")} | B9: {=IFERROR(INDEX(Données!$A$2:$A$25,SMALL(IF((Données!$B$2:$B$25<=$B$1)*(Données!$C$2:D$25=B$4),ROW(Données!$A$2:$A$25)-1,""),ROW($A5))),"")} | C9: {=IFERROR(INDEX(Données!$A$2:$A$25,SMALL(IF((Données!$B$2:$B$25<=$B$1)*(Données!$C$2:E$25=C$4),ROW(Données!$A$2:$A$25)-1,""),ROW($A5))),"")} | G9: {=IFERROR(INDEX(Données!A$2:A$25,SMALL(IF(Données!B$2:B$25<=B$1,ROW(Données!A$2:A$25)-1,""),ROW(A8))),"")} -> Conduite des affaires
A10: {=IFERROR(INDEX(Données!A$2:A$25,SMALL(IF((Données!$B$2:$B$25<=$B$1)*(Données!$C$2:C$25=A$4),ROW(Données!$A$2:$A$25)-1,""),ROW($A6))),"")} | B10: {=IFERROR(INDEX(Données!$A$2:$A$25,SMALL(IF((Données!$B$2:$B$25<=$B$1)*(Données!$C$2:D$25=B$4),ROW(Données!$A$2:$A$25)-1,""),ROW($A6))),"")} | C10: {=IFERROR(INDEX(Données!$A$2:$A$25,SMALL(IF((Données!$B$2:$B$25<=$B$1)*(Données!$C$2:E$25=C$4),ROW(Données!$A$2:$A$25)-1,""),ROW($A6))),"")} | G10: {=IFERROR(INDEX(Données!A$2:A$25,SMALL(IF(Données!B$2:B$25<=B$1,ROW(Données!A$2:A$25)-1,""),ROW(A9))),"")} -> Protection des données / Continuité de service
A11: {=IFERROR(INDEX(Données!A$2:A$25,SMALL(IF((Données!$B$2:$B$25<=$B$1)*(Données!$C$2:C$25=A$4),ROW(Données!$A$2:$A$25)-1,""),ROW($A7))),"")} | B11: {=IFERROR(INDEX(Données!$A$2:$A$25,SMALL(IF((Données!$B$2:$B$25<=$B$1)*(Données!$C$2:D$25=B$4),ROW(Données!$A$2:$A$25)-1,""),ROW($A7))),"")} | C11: {=IFERROR(INDEX(Données!$A$2:$A$25,SMALL(IF((Données!$B$2:$B$25<=$B$1)*(Données!$C$2:E$25=C$4),ROW(Données!$A$2:$A$25)-1,""),ROW($A7))),"")} | G11: {=IFERROR(INDEX(Données!A$2:A$25,SMALL(IF(Données!B$2:B$25<=B$1,ROW(Données!A$2:A$25)-1,""),ROW(A10))),"")}
A12: {=IFERROR(INDEX(Données!A$2:A$25,SMALL(IF((Données!$B$2:$B$25<=$B$1)*(Données!$C$2:C$25=A$4),ROW(Données!$A$2:$A$25)-1,""),ROW($A8))),"")} | B12: {=IFERROR(INDEX(Données!$A$2:$A$25,SMALL(IF((Données!$B$2:$B$25<=$B$1)*(Données!$C$2:D$25=B$4),ROW(Données!$A$2:$A$25)-1,""),ROW($A8))),"")} | C12: {=IFERROR(INDEX(Données!$A$2:$A$25,SMALL(IF((Données!$B$2:$B$25<=$B$1)*(Données!$C$2:E$25=C$4),ROW(Données!$A$2:$A$25)-1,""),ROW($A8))),"")} | G12: {=IFERROR(INDEX(Données!A$2:A$25,SMALL(IF(Données!B$2:B$25<=B$1,ROW(Données!A$2:A$25)-1,""),ROW(A11))),"")}
A13: {=IFERROR(INDEX(Données!A$2:A$25,SMALL(IF((Données!$B$2:$B$25<=$B$1)*(Données!$C$2:C$25=A$4),ROW(Données!$A$2:$A$25)-1,""),ROW($A9))),"")} | B13: {=IFERROR(INDEX(Données!$A$2:$A$25,SMALL(IF((Données!$B$2:$B$25<=$B$1)*(Données!$C$2:D$25=B$4),ROW(Données!$A$2:$A$25)-1,""),ROW($A9))),"")} | C13: {=IFERROR(INDEX(Données!$A$2:$A$25,SMALL(IF((Données!$B$2:$B$25<=$B$1)*(Données!$C$2:E$25=C$4),ROW(Données!$A$2:$A$25)-1,""),ROW($A9))),"")} | G13: {=IFERROR(INDEX(Données!A$2:A$25,SMALL(IF(Données!B$2:B$25<=B$1,ROW(Données!A$2:A$25)-1,""),ROW(A12))),"")}
A14: {=IFERROR(INDEX(Données!A$2:A$25,SMALL(IF((Données!$B$2:$B$25<=$B$1)*(Données!$C$2:C$25=A$4),ROW(Données!$A$2:$A$25)-1,""),ROW($A10))),"")} | B14: {=IFERROR(INDEX(Données!$A$2:$A$25,SMALL(IF((Données!$B$2:$B$25<=$B$1)*(Données!$C$2:D$25=B$4),ROW(Données!$A$2:$A$25)-1,""),ROW($A10))),"")} | C14: {=IFERROR(INDEX(Données!$A$2:$A$25,SMALL(IF((Données!$B$2:$B$25<=$B$1)*(Données!$C$2:E$25=C$4),ROW(Données!$A$2:$A$25)-1,""),ROW($A10))),"")} | G14: {=IFERROR(INDEX(Données!A$2:A$25,SMALL(IF(Données!B$2:B$25<=B$1,ROW(Données!A$2:A$25)-1,""),ROW(A13))),"")}
G15: {=IFERROR(INDEX(Données!A$2:A$25,SMALL(IF(Données!B$2:B$25<=B$1,ROW(Données!A$2:A$25)-1,""),ROW(A14))),"")}
B16: en ayant complété le tablo dans Données | G16: {=IFERROR(INDEX(Données!A$2:A$25,SMALL(IF(Données!B$2:B$25<=B$1,ROW(Données!A$2:A$25)-1,""),ROW(A15))),"")}
G17: {=IFERROR(INDEX(Données!A$2:A$25,SMALL(IF(Données!B$2:B$25<=B$1,ROW(Données!A$2:A$25)-1,""),ROW(A16))),"")}
G18: {=IFERROR(INDEX(Données!A$2:A$25,SMALL(IF(Données!B$2:B$25<=B$1,ROW(Données!A$2:A$25)-1,""),ROW(A17))),"")}
G19: {=IFERROR(INDEX(Données!A$2:A$25,SMALL(IF(Données!B$2:B$25<=B$1,ROW(Données!A$2:A$25)-1,""),ROW(A18))),"")}
